Workbook
Name BQ: #REF!
Name changwad: [1]d_Changwad!$A$2:$A$78
Name กิจกรรมการจัดบริการสาธารณะด้านการศึกษา: #REF!
Name กิจกรรมการจัดบริการสาธารณะด้านโครงสร้างพื้นฐาน: #REF!
Name กิจกรรมการจัดบริการสาธารณะด้านสังคม: #REF!
Name กิจกรรมการจัดบริการสาธารณะด้านสิ่งแวดล้อม: #REF!
Name กิจกรรมการจัดบริการสาธารณะด้านอื่น: #REF!
Name ครุภัณฑ์: #REF!
Name ที่ดินและสิ่งก่อสร้าง: #REF!

Sheet 3_1_10
A1: หน่วยรับงบประมาณ : …......
A3: เงินอุดหนุนทั่วไป
A4: รายการ : เงินอุดหนุนการบริหารสนามกีฬาถ่ายโอน
A6: 1. หลักการและเหตุผล : องค์กรปกครองส่วนท้องถิ่นได้รับโอนภารกิจการบริหารสนามกีฬาถ่ายโอน จำนวน 66 สนามกีฬา ประกอบด้วย อบจ. 50 แห่ง เทศบาล 15 แห่ง และอบต. 1 แห่ง ดังนั้น จึงต้องจัดสรรงบประมาณให้ อปท. ตามภารกิจอย่างต่อเนื่อง เพื่อบริหารสนามกีฬาเด็ก เยาวชน และประชาชน อย่างมีคุณภาพ
A7: 2. วัตถุประสงค์ 2.1 เพื่อให้เด็ก เยาวชน และประชาชนทั่วไปสามารถใช้บริการสนามกีฬาได้อย่างมีประสิทธิภาพ 2.2 เพื่อให้องค์กรปกครองส่วนท้องถิ่นมีศักยภาพในการบริหารสนามกีฬาถ่ายโอน
A8: 3. เป้าหมาย :
A9: =_xlfn.CONCAT(" สนามกีฬาถ่ายโอน จำนวน ",B19," แห่ง, บุคลากรประจำสนามกีฬา จำนวน ",B27," อัตรา") -> สนามกีฬาถ่ายโอน จำนวน 0 แห่ง, บุคลากรประจำสนามกีฬา จำนวน 0 อัตรา
A10: 4. หลักเกณฑ์การจัดสรร : 4.1 เกณฑ์ขนาดของสนามกีฬา 4.1.1 สนามกีฬาขนาดเล็ก โดยพิจารณาจาก จำนวนผู้มาใช้บริการเฉลี่ยต่ำกว่า 10,000 คนต่อเดือน วันละ 100 - 200 คน / จำนวนอาคารสถานที่ / จำนวนสนามกีฬาตั้งแต่ 1 - 2 แห่ง / จำนวนบุคลากรประจำสนามกีฬา ตั้งแต่ 1 - 5 คน 4.1.2 สนามกีฬาขนาดกลาง โดยพิจารณาจาก จำนวนผู้มาใช้บริการตั้งแต่ 10,000 - 12,000 คนต่อเดือน วันละ 200 - 300 คน / จำนวนอาคารสถานที่ / จำนวนสนามกีฬาตั้งแต่ 3 - 5 แห่ง / จำนวนบุคลากรประจำสนามกีฬา ตั้งแต่ 5 - 10 คน 4.1.3 สนามกีฬาขนาดใหญ่ โดยพิจารณาจาก จำนวนผู้มาใช้บริการเฉลี่ยตั้งแต่ 12,000 คนต่อเดือน วันละ 300 คน / จำนวนอาคารสถานที่ / จำนวนสนามกีฬาตั้งแต่ 6 แห่งขึ้นไป / จำนวนบุคลากรประจำสนามกีฬา ตั้งแต่ 10 คนขึ้นไป 4.2 เกณฑ์อัตราค่าใช้จ่ายงบดำเนินงานสนามกีฬา 4.2.1 ค่าสาธารณูปโภค (แห่ง / ปี) (1) สนามกีฬาขนาดเล็ก วงเงิน 144,000 บาท / ปี (2) สนามกีฬาขนาดกลาง วงเงิน 170,400 บาท / ปี (3) สนามกีฬาขนาดใหญ่ วงเงิน 216,000 บาท / ปี 4.2.2 ค่าปรับปรุงซ่อมแซมบำรุงรักษา (แห่ง / ปี) (1) สนามกีฬาขนาดเล็ก วงเงิน 900,000 บาท / ปี (2) สนามกีฬาขนาดกลาง วงเงิน 930,000 บาท / ปี (3) สนามกีฬาขนาดใหญ่ วงเงิน 950,000 บาท / ปี 4.2.3 ค่าพัฒนาบุคลากร : วงเงินแห่งละ 12,000 บาท / ปี (สำหรับ 2 คน คุณวุฒิ ป.ตรี) 4.3 เกณฑ์อัตราค่าจ้าง บุคลากรสนามกีฬา การจัดสรรงบประมาณสำหรับอัตราเงินเดือนและค่าจ้างพนักงาน แบ่งเป็น 3 คุณวุฒิ ได้แก่ วุฒิปริญญาตรี, วุฒิประกาศนียบัตรวิชาชีพ และไม่กำหนดวุฒิ ซึ่งบุคลากรบางส่วนถ่ายโอนมาจากการกีฬาแห่งประเทศไทย (กกท.) ตามความสมัครใจ เป็นวุฒิปริญญาตรี หรือวุฒิหลักสูตรประกอบวิชาชีพ (ปวช.) ซึ่งทุกสนามกีฬาต้องมีเจ้าหน้าที่ถ่ายโอน มาจาก กกท. เนื่องจากต้องการผู้มีความรู้เฉพาะทางดูแลสนามกีฬาแต่ละแห่ง ส่วนบุคลากรที่เหลือนั้นทางองค์กรปกครองส่วนท้องถิ่น เป็นผู้สรรหาเอง และสนามแต่ละแห่งนั้นควรมีวุฒิปริญญาตรีอย่างน้อย 2 คน โดยแยกตามประเภทการจัดสรรงบประมาณ ดังนี้ (1) พนักงานจ้างทั่วไป (ไม่กำหนดวุฒิ) เงินเดือนและค่าครองชีพ วงเงิน 11,000 บาท / คน / เดือน (2) พนักงานจ้างตามภารกิจ (วุฒิ ปวช.) เงินเดือนและค่าครองชีพ วงเงิน 12,400 บาท / คน / เดือน (3) พนักงานจ้างตามภารกิจ (วุฒิปริญญาตรี) เงินเดือนและค่าครองชีพ วงเงิน 15,000 บาท / คน / เดือน โดยเงินเดือนของพนักงานจ้างตามภารกิจสนามกีฬาถ่ายโอนจะไม่ทำการเลื่อนขั้นเงินเดือน ซึ่งหากบุคลากรสนามกีฬาอยู่ครบเกณฑ์ ที่สามารถเลื่อนขั้นเงินเดือนได้ ทางองค์กรปกครองส่วนท้องถิ่นสามารถเลื่อนขั้นเงินเดือนให้บุคคลดังกล่าวได้ แต่ต้องใช้เงินรายได้ ของท้องถิ่นนั้น ๆ สมทบเพิ่มเติม 4.4 เกณฑ์เงินประกันสังคม บุคลากรสนามกีฬา (สมทบให้ร้อยละ 5 ตามพระราชบัญญัติประกันสังคม พ.ศ. 2533 หมวด 2 เงินสมทบ มาตรา 46 ให้รัฐบาลสมทบให้ลูกจ้าง) (1) พนักงานจ้างทั่วไป (ไม่กำหนดวุฒิ) ค่าประกันสังคม วงเงิน 550 บาท / คน / เดือน (2) พนักงานจ้างตามภารกิจ (วุฒิ ปวช.) ค่าประกันสังคม วงเงิน 620 บาท / คน / เดือน (3) พนักงานจ้างตามภารกิจ (วุฒิปริญญาตรี) ค่าประกันสังคม วงเงิน 750 บาท / คน / เดือน
A12: 5. การคำนวณค่าใช้จ่าย :
A13: =_xlfn.CONCAT("1) งบดำเนินงานสนามกีฬา จำนวน ",B19," แห่ง ","ประมาณการคำของบประมาณรวม ",TEXT(G19,"#,##0")," บาท") -> 1) งบดำเนินงานสนามกีฬา จำนวน 0 แห่ง ประมาณการคำของบประมาณรวม 0 บาท
B14: (1) | C14: (2) | D14: (3) | E14: (4) | F14: (5) | G14: (6)=((2)x(3))+((1)x((4)+(5)))
A15: ขนาดสนามกีฬา | B15: จำนวนสนามกีฬา (แห่ง) | C15: จำนวนบุคลากร (อัตรา) (เฉพาะวุฒิปริญญาตรี ไม่เกิน 2 อัตรา/แห่ง) | D15: ค่าพัฒนาบุคลากร (บาท/อัตรา/ปี) (เฉพาะวุฒิปริญญาตรี ไม่เกิน 2 อัตรา/แห่ง) | E15: ค่าสาธารณูปโภค (บาท/แห่ง/ปี) | F15: ค่าปรับปรุงซ่อมแซมบำรุงรักษา (บาท/แห่ง/ปี) | G15: วงเงินรวม งบดำเนินงาน สนามกีฬา (บาท/ปี)
A16: ขนาดเล็ก | B16: 0 | C16: 0 | D16: 6000 | E16: 144000 | F16: 900000 | G16: =(B16*E16)+(B16*F16)+(C16*D16) -> 0
A17: ขนาดกลาง | B17: 0 | C17: 0 | D17: 6000 | E17: 170400 | F17: 930000 | G17: =(B17*E17)+(B17*F17)+(C17*D17) -> 0
A18: ขนาดใหญ่ | B18: 0 | C18: 0 | D18: 6000 | E18: 216000 | F18: 950000 | G18: =(B18*E18)+(B18*F18)+(C18*D18) -> 0
A19: รวม | B19: =SUM(B16:B18) -> 0 | C19: =SUM(C16:C18) -> 0 | G19: =SUM(G16:G18) -> 0
A20: =_xlfn.CONCAT("2) เงินเดือน/ค่าจ้าง บุคลากรสนามกีฬา"," จำนวน ",B27," อัตรา ","ประมาณการคำของบประมาณรวม ",TEXT(G27,"#,##0")," บาท") -> 2) เงินเดือน/ค่าจ้าง บุคลากรสนามกีฬา จำนวน 0 อัตรา ประมาณการคำของบประมาณรวม 0 บาท
A21: โปรดกรอกรายละเอียดในชีท "บุคลากรถ่ายโอน"
B22: (1) | C22: (2) | D22: (3) | E22: (4)=(2)+(3) | F22: (5) | G22: (6)=(4)x(5)
A23: พนักงานจ้าง | B23: อัตรา คนครอง (อัตรา) | C23: เงินเดือน ค่าครองชีพ (บาท/เดือน) | D23: ค่าประกันสังคม ร้อยละ 5 (บาท/เดือน) | E23: รวม เงินเดือน (บาท/เดือน) | F23: ระยะเวลา (เดือน) | G23: วงเงินรวม เงินเดือน/ค่าจ้าง บุคลากรกีฬา (บาท/ปี)
A24: พนักงานจ้างทั่วไป (ไม่กำหนดวุฒิ) | B24: =COUNTIF(บุคลากรถ่ายโอน!$C$7:$C$31,"พนักงานจ้างทั่วไป (ไม่กำหนดวุฒิ)") -> 0 | C24: =SUMIF(บุคลากรถ่ายโอน!$C$7:$C$31,"พนักงานจ้างทั่วไป (ไม่กำหนดวุฒิ)",บุคลากรถ่ายโอน!$F$7:$F$31) -> 0 | D24: =SUMIF(บุคลากรถ่ายโอน!$C$7:$C$31,"พนักงานจ้างทั่วไป (ไม่กำหนดวุฒิ)",บุคลากรถ่ายโอน!$G$7:$G$31) -> 0 | E24: =SUMIF(บุคลากรถ่ายโอน!$C$7:$C$31,"พนักงานจ้างทั่วไป (ไม่กำหนดวุฒิ)",บุคลากรถ่ายโอน!$H$7:$H$31) -> 0 | F24: 12 | G24: =SUMIF(บุคลากรถ่ายโอน!$C$7:$C$31,"พนักงานจ้างทั่วไป (ไม่กำหนดวุฒิ)",บุคลากรถ่ายโอน!$J$7:$J$31) -> 0
A25: พนักงานจ้าง ตามภารกิจ (วุฒิ ปวช.) | B25: =COUNTIF(บุคลากรถ่ายโอน!$C$7:$C$31,"พนักงานจ้างตามภารกิจ (วุฒิปวช.)") -> 0 | C25: =SUMIF(บุคลากรถ่ายโอน!$C$7:$C$31,"พนักงานจ้างตามภารกิจ (วุฒิปวช.)",บุคลากรถ่ายโอน!$F$7:$F$31) -> 0 | D25: =SUMIF(บุคลากรถ่ายโอน!$C$7:$C$31,"พนักงานจ้างตามภารกิจ (วุฒิปวช.)",บุคลากรถ่ายโอน!$G$7:$G$31) -> 0 | E25: =SUMIF(บุคลากรถ่ายโอน!$C$7:$C$31,"พนักงานจ้างตามภารกิจ (วุฒิปวช.)",บุคลากรถ่ายโอน!$H$7:$H$31) -> 0 | F25: 12 | G25: =SUMIF(บุคลากรถ่ายโอน!$C$7:$C$31,"พนักงานจ้างตามภารกิจ (วุฒิปวช.)",บุคลากรถ่ายโอน!$J$7:$J$31) -> 0
A26: พนักงานจ้าง ตามภารกิจ (วุฒิปริญญาตรี) | B26: =COUNTIF(บุคลากรถ่ายโอน!$C$7:$C$31,"พนักงานจ้างตามภารกิจ (วุฒิปริญญาตรี)") -> 0 | C26: =SUMIF(บุคลากรถ่ายโอน!$C$7:$C$31,"พนักงานจ้างตามภารกิจ (วุฒิปริญญาตรี)",บุคลากรถ่ายโอน!$F$7:$F$31) -> 0 | D26: =SUMIF(บุคลากรถ่ายโอน!$C$7:$C$31,"พนักงานจ้างตามภารกิจ (วุฒิปริญญาตรี)",บุคลากรถ่ายโอน!$G$7:$G$31) -> 0 | E26: =SUMIF(บุคลากรถ่ายโอน!$C$7:$C$31,"พนักงานจ้างตามภารกิจ (วุฒิปริญญาตรี)",บุคลากรถ่ายโอน!$H$7:$H$31) -> 0 | F26: 12 | G26: =SUMIF(บุคลากรถ่ายโอน!$C$7:$C$31,"พนักงานจ้างตามภารกิจ (วุฒิปริญญาตรี)",บุคลากรถ่ายโอน!$J$7:$J$31) -> 0
A27: รวม | B27: =SUM(B24:B26) -> 0 | G27: =ROUND(SUM(G24:G26),-2) -> 0
A28: ="สรุป เงินอุดหนุนการบริหารสนามกีฬาถ่ายโอน จำนวน "&B19&" แห่ง" -> สรุป เงินอุดหนุนการบริหารสนามกีฬาถ่ายโอน จำนวน 0 แห่ง | F28: วงเงินรวมทั้งสิ้น | G28: =TEXT(G27+G19,"#,##0")&" บาท" -> 0 บาท
A30: 6. ลักษณะการใช้งบประมาณ : เบิกจ่ายเป็นงบดำเนินงาน เพื่อเป็นค่าใช้จ่ายสำหรับการบริหารสนามกีฬา และค่าตอบแทนพนักงานจ้าง
A31: 7. ข้อมูลประกอบการพิจารณา : 7.1 รายชื่อสนามกีฬา และรายละเอียดที่ตั้งของสนามกีฬา 7.2 ข้อมูลบุคลากรถ่ายโอนประจำสนามกีฬา 7.3 ข้อมูลสถิติผู้ใช้บริการสนามกีฬา 2 ปี ย้อนหลัง
A32: สถิติผู้ใช้บริการสนามกีฬา
A33: ปีงบประมาณ | B33: จำนวน ผู้ใช้บริการ เฉลี่ย (คนต่อเดือน) | C33: จำนวน ผู้ใช้บริการ เฉลี่ย (คนต่อวัน) | D33: จำนวน อาคารสถานที่ (แห่ง) | E33: จำนวน สนามกีฬา (แห่ง) | F33: จำนวน บุคลากร ประจำสนามกีฬา (อัตรา) | G33: หมายเหตุ
A34: 2567
A35: 2568
A36: 2569 | G36: ต.ค. - พ.ย. 68

Sheet บุคลากรถ่ายโอน
A1: ='3_1_10'!A1 -> หน่วยรับงบประมาณ : …......
A2: ปีงบประมาณ พ.ศ. 2570
A3: เงินอุดหนุนการบริหารสนามกีฬาถ่ายโอน
A4: ="ประมาณการคำของบประมาณบุคลากรถ่ายโอน จำนวน "&TEXT(COUNT(J7:J31)-COUNTIF(J7:J31,0),"#,##0")&" อัตรา วงเงิน "&TEXT(ROUND(SUM(J7:J31),-2),"#,##0")&" บาท" -> ประมาณการคำของบประมาณบุคลากรถ่ายโอน จำนวน 0 อัตรา วงเงิน 0 บาท
A6: ลำดับที่ | B6: ชื่อ - นามสกุล | C6: ประเภท พนักงานจ้าง | D6: ตำแหน่ง | E6: กรณี เป็นบุคลากรอื่น ๆ กรุณาระบุตำแหน่ง | F6: เงินเดือน/ค่าจ้าง รวมค่าครองชีพ (บาท/เดือน) | G6: เงินกองทุนประกันสังคม ร้อยละ 5 (รายเดือน) (บาท/เดือน) | H6: วงเงินรวม (บาท/เดือน) | I6: ระยะเวลา (เดือน) | J6: วงเงินรวม (บาท/ปี) | K6: หมายเหตุ
A7: 1 | G7: =IF(F7*5%>750,750,F7*5%) -> 0 | H7: =(F7+G7) -> 0 | I7: 12 | J7: =H7*I7 -> 0
A8: 2 | G8: =IF(F8*5%>750,750,F8*5%) -> 0 | H8: =(F8+G8) -> 0 | I8: 12 | J8: =H8*I8 -> 0
A9: 3 | G9: =IF(F9*5%>750,750,F9*5%) -> 0 | H9: =(F9+G9) -> 0 | I9: 12 | J9: =H9*I9 -> 0
A10: 4 | G10: =IF(F10*5%>750,750,F10*5%) -> 0 | H10: =(F10+G10) -> 0 | I10: 12 | J10: =H10*I10 -> 0
A11: 5 | G11: =IF(F11*5%>750,750,F11*5%) -> 0 | H11: =(F11+G11) -> 0 | I11: 12 | J11: =H11*I11 -> 0
A12: 6 | G12: =IF(F12*5%>750,750,F12*5%) -> 0 | H12: =(F12+G12) -> 0 | I12: 12 | J12: =H12*I12 -> 0
A13: 7 | G13: =IF(F13*5%>750,750,F13*5%) -> 0 | H13: =(F13+G13) -> 0 | I13: 12 | J13: =H13*I13 -> 0
A14: 8 | G14: =IF(F14*5%>750,750,F14*5%) -> 0 | H14: =(F14+G14) -> 0 | I14: 12 | J14: =H14*I14 -> 0
A15: 9 | G15: =IF(F15*5%>750,750,F15*5%) -> 0 | H15: =(F15+G15) -> 0 | I15: 12 | J15: =H15*I15 -> 0
A16: 10 | G16: =IF(F16*5%>750,750,F16*5%) -> 0 | H16: =(F16+G16) -> 0 | I16: 12 | J16: =H16*I16 -> 0
A17: 11 | G17: =IF(F17*5%>750,750,F17*5%) -> 0 | H17: =(F17+G17) -> 0 | I17: 12 | J17: =H17*I17 -> 0
A18: 12 | G18: =IF(F18*5%>750,750,F18*5%) -> 0 | H18: =(F18+G18) -> 0 | I18: 12 | J18: =H18*I18 -> 0
... A31: 25 | G31: =IF(F31*5%>750,750,F31*5%) -> 0 | H31: =(F31+G31) -> 0 | I31: 12 | J31: =H31*I31 -> 0
