Workbook
Name \a: #REF!
Name \a: #REF!
Name \a: #REF!
Name \a: #REF!
Name \a: #REF!
Name \a: #REF!
Name \b: #REF!
Name \b: #REF!
Name \b: #REF!
Name \b: #REF!
Name \b: #REF!
Name \b: #REF!
Name \c: #REF!
Name \c: #REF!
Name \c: #REF!
Name \c: #REF!
Name \c: #REF!
Name \c: #REF!
Name \e: #REF!
Name \e: #REF!
Name \e: #REF!
Name \e: #REF!
Name \e: #REF!
Name \e: #REF!
Name \m: #REF!
Name \m: #REF!
Name \m: #REF!
Name \m: #REF!
Name \m: #REF!
Name \m: #REF!
Name \n: #REF!
Name \n: #REF!
Name \n: #REF!
Name \n: #REF!
Name \n: #REF!
Name \n: #REF!
Name \p: #REF!
Name \p: #REF!
Name \p: #REF!
Name \p: #REF!
Name \p: #REF!
Name \p: #REF!
Name \q: #REF!
Name \q: #REF!
Name \q: #REF!
Name \q: #REF!
Name \q: #REF!
Name \q: #REF!
Name \r: #REF!
Name \r: #REF!
Name \r: #REF!
Name \r: #REF!
Name \r: #REF!
Name \r: #REF!
Name \s: #REF!
Name \s: #REF!
Name \s: #REF!
Name \s: #REF!
Name \s: #REF!
Name \s: #REF!

Sheet 16.โรงเรียนกีฬา
A1: หน่วยรับงบประมาณ : .................
A2: เงินอุดหนุนทั่วไป
A3: รายการ เงินอุดหนุนสำหรับสนับสนุนสถานศึกษาสังกัดองค์กรปกครองส่วนท้องถิ่นที่มีการจัดการศึกษาลักษณะพิเศษ (โรงเรียนกีฬา)
A4: 1. หลักการและเหตุผล ด้วยระเบียบกระทรวงมหาดไทยว่าด้วยรายได้และการจ่ายเงินของสถานศึกษาสังกัดองค์กรปกครองส่วนท้องถิ่น พ.ศ. 2562 กำหนดให้ “สถานศึกษาที่มีการจัดการศึกษาลักษณะพิเศษ” หมายความว่า สถานศึกษาที่จัดการศึกษาขั้นพื้นฐาน ซึ่งจัดการศึกษาในหลักสูตรพัฒนาผู้เรียนสู่ความเป็นเลิศ เป็นหลักสูตรที่สถานศึกษาจัดทำขึ้นเพื่อพัฒนาผู้เรียนแต่ละบุคคลให้มีความเชี่ยวชาญตามความถนัดของตนโดยรายวิชาเพิ่มเติมมีลักษณะต่อเนื่องกันเป็นหลักสูตรหรือแผนการเรียนรู้ ได้แก่ หลักสูตรความเป็นเลิศทางด้านกีฬา ซึ่งอาจจัดการศึกษาได้ทั้งในรูปแบบนักเรียนประจำ หรือแบบนักเรียนไป-กลับ ตามความพร้อมขององค์กรปกครองส่วนท้องถิ่น โดยอัตราเงินอุดหนุนค่าใช้จ่ายเป็นไปตามหลักเกณฑ์ของมหาวิทยาลัยการกีฬาแห่งชาติ เพื่อสนับสนุนงบประมาณเงินอุดหนุนให้กับองค์กรปกครองส่วนท้องถิ่นที่มีสถานศึกษาที่มีการจัดการศึกษาลักษณะพิเศษ (โรงเรียนกีฬา) ตามประกาศกระทรวงมหาดไทย เพื่อใช้ในการบริหารการส่งเสริมศักยภาพผู้เรียนให้เป็นไปอย่างมีประสิทธิภาพ และเกิดประโยชน์สูงสุดกับผู้เรียน
A5: 2. วัตถุประสงค์ 2.1 เพื่อให้นักเรียนในสถานศึกษาที่มีกาจัดการศึกษาลักษณะพิเศษ (โรงเรียนกีฬา) สังกัดองค์กรปกครองส่วนท้องถิ่นได้รับความรู้อย่างถูกต้อง และได้พัฒนาทักษะ ความสามารถจนเกิดความเชี่ยวชาญตามความถนัดของตน 2.2 เพื่อส่งเสริมและสนับสนุนนักเรียนในสถานศึกษาที่มีการจัดการศึกษาลักษณะพิเศษ (โรงเรียนกีฬา) สังกัดองค์กรปกครองส่วนท้องถิ่นที่มีความสามารถพิเศษทางด้านการกีฬาในการพัฒนากีฬาเพื่อความเป็นเลิศ ของประเทศ และพัฒนานักกีฬาสู่ความเป็นเลิศเป็นตัวแทนของประเทศเข้าร่วมการแข่งขันในระดับชาติและนานาชาติ
A6: 3. เป้าหมาย 3.1 สถานศึกษาที่มีการจัดการศึกษาลักษณะพิเศษ (โรงเรียนกีฬา) สังกัดองค์กรปกครองส่วนท้องถิ่น ตามประกาศกระทรวงมหาดไทย จำนวน .......... แห่ง 3.2 นักเรียน จำนวน .......... คน (ใช้จำนวนนักเรียนภาคเรียนที่ 1/2570 ที่ได้จากการทำข้อมูลชั้นเคลื่อนแล้ว)
A7: 4. หลักเกณฑ์การจัดสรร ค่าใช้จ่ายสนับสนุนสถานศึกษาสังกัด อปท. ที่มีการจัดการศึกษาลักษณะพิเศษ (โรงเรียนกีฬา)
A8: 4.1 ค่าหนังสือเรียน (1) ประถมศึกษาปีที่ 4 - 6 (2) มัธยมศึกษาปีที่ 1 - 6 4.2 ค่าอุปกรณ์การเรียน (1) ประถมศึกษาปีที่ 4 - 6 (2) มัธยมศึกษาปีที่ 1 - 6 | B8: คนละ 600 บาท/ปี คนละ 900 บาท/ปี คนละ 1,650 บาท/ภาคเรียน คนละ 1,700 บาท/ภาคเรียน
A9: 4.3 ค่าเครื่องแบบนักเรียน (1) ประถมศึกษาปีที่ 4 - 6 (2) มัธยมศึกษาปีที่ 1 - 6 4.4 ค่ากิจกรรมพัฒนาคุณภาพผู้เรียน (1) ประถมศึกษาปีที่ 4 - 6 (2) มัธยมศึกษาปีที่ 1 - 6 | B9: คนละ 6,200 บาท/ปี คนละ 8,200 บาท/ปี คนละ 200 บาท/ภาคเรียน คนละ 350 บาท/ภาคเรียน
A10: 4.5 ค่าอาหารประจำวัน (รูปแบบการจัดการศึกษาแบบประจำ) (1) ประถมศึกษาปีที่ 4 - 6 (2) มัธยมศึกษาปีที่ 1 - 6 (รูปแบบการจัดการศึกษาแบบไป-กลับ) (1) ประถมศึกษาปีที่ 4 - 6 | B10: คนละ 120 บาท/คน/280 วัน คนละ 120 บาท/คน/280 วัน อัตราต่อหน่วยค่าอาหารกลางวัน จัดสรรให้ในอัตราตามขนาดของโรงเรียน จำนวน 200 วัน ดังนี้ โรงเรียนที่มีจำนวนนักเรียน 1 - 40 คน อัตรา 36 บาท/คน/วัน โรงเรียนที่มีจำนวนนักเรียน 41 - 100 คน อัตรา 27 บาท/คน/วัน โรงเรียนที่มีจำนวนนักเรียน 101 - 120 คน อัตรา 24 บาท/คน/วัน โรงเรียนที่มีนักเรียนตั้งแต่ 121 คนขึ้นไป อัตรา 22 บาท/คน/วัน อัตราต่อหน่วยค่าอาหารเสริม (นม) จัดสรรให้จำนวน 260 วัน ในอัตรา 7.83 บาท/คน/วัน
A11: 5. ลักษณะการใช้งบประมาณ เพื่อเป็นค่าใช้จ่ายในการจัดการศึกษาลักษณะพิเศษ (โรงเรียนกีฬา) ตั้งแต่ระดับชั้นประถมศึกษาปีที่ 4 - มัธยมศึกษาปีที่ 6 ที่ศึกษาอยู่ในหลักสูตรความเป็นเลิศทางด้านกีฬา ค่าหนังสือเรียน ค่าอุปกรณ์การเรียน ค่าเครื่องแบบนักเรียน ค่ากิจกรรมพัฒนาคุณภาพผู้เรียน และค่าอาหารประจำวัน
A12: 6. ข้อมูลประกอบการพิจารณา 6.1 แบบฟอร์มประมาณการนักเรียนและแผนการรับนักเรียน (ชั้นเคลื่อน) (แบบฟอร์ม 1) 6.2 แบบฟอร์มคำนวณประมาณการค่าใช้จ่าย (แบบฟอร์ม 2) 6.3 รายชื่อโรงเรียนและจำนวนนักเรียนแยกตามระดับชั้นเรียน (แบบฟอร์ม 3) 6.4 รายชื่อนักเรียนของโรงเรียนพร้อมข้อมูลประกอบ ณ พฤศจิกายน 2568 (แบบฟอร์ม 4) 6.5 แผนการรับเด็กนักเรียนล่วงหน้า 2 ปีการศึกษา (ภาคเรียนที่ 1/2569 และ 1/2570) 6.6 ผลการเบิกจ่ายปีงบประมาณ พ.ศ. 2566 - 2568 ขอข้อมูลเต็มปี 6.7 ผลการเบิกจ่ายปีงบประมาณ พ.ศ. 2569 ขอข้อมูล 2 เดือน (เดือน ต.ค. - พ.ย. 68)
A13: หมายเหตุ : กรอกข้อมูลเฉพาะช่องสีเหลือง

Sheet 16.1 แบบชั้นเคลื่อน
E1: แบบฟอร์ม 1
A2: แบบฟอร์มประมาณการนักเรียนและแผนการรับนักเรียน (ชั้นเคลื่อน)
A3: ประจำปีงบประมาณ พ.ศ. 2570
A4: ระดับชั้น | B4: งบประมาณปี 2569 | D4: งบประมาณปี 2570
B5: จำนวนนักเรียนรับจริง (ณ พฤศจิกายน 2568) | C5: ประมาณการนักเรียน | D5: ประมาณการนักเรียน | E5: ประมาณการนักเรียน
B6: ภาคเรียน 2/2568 | C6: ภาคเรียน 1/2569 | D6: ภาคเรียน 2/2569 | E6: ภาคเรียน 1/2570
B7: หน่วยนับ (คน) | C7: หน่วยนับ (คน) | D7: หน่วยนับ (คน) | E7: หน่วยนับ (คน)
A8: รูปแบบการจัดการศึกษาแบบประจำ
A9: ประถมศึกษาปีที่ 4 | D9: =C9 -> 0
A10: ประถมศึกษาปีที่ 5 | C10: =B9 -> 0 | D10: =C10 -> 0 | E10: =D9 -> 0
A11: ประถมศึกษาปีที่ 6 | C11: =B10 -> 0 | D11: =C11 -> 0 | E11: =D10 -> 0
A12: รวมระดับประถมศึกษา | B12: =SUM(B9:B11) -> 0 | C12: =SUM(C9:C11) -> 0 | D12: =SUM(D9:D11) -> 0 | E12: =SUM(E9:E11) -> 0
A13: มัธยมศึกษาปีที่ 1 | D13: =C13 -> 0
A14: มัธยมศึกษาปีที่ 2 | C14: =B13 -> 0 | D14: =C14 -> 0 | E14: =D13 -> 0
A15: มัธยมศึกษาปีที่ 3 | C15: =B14 -> 0 | D15: =C15 -> 0 | E15: =D14 -> 0
A16: รวมระดับมัธยมศึกษาตอนต้น | B16: =SUM(B13:B15) -> 0 | C16: =SUM(C13:C15) -> 0 | D16: =SUM(D13:D15) -> 0 | E16: =SUM(E13:E15) -> 0
A17: มัธยมศึกษาปีที่ 4 | D17: =C17 -> 0
A18: มัธยมศึกษาปีที่ 5 | C18: =B17 -> 0 | D18: =C18 -> 0 | E18: =D17 -> 0
A19: มัธยมศึกษาปีที่ 6 | C19: =B18 -> 0 | D19: =C19 -> 0 | E19: =D18 -> 0
A20: รวมระดับมัธยมศึกษาตอนปลาย | B20: =SUM(B17:B19) -> 0 | C20: =SUM(C17:C19) -> 0 | D20: =SUM(D17:D19) -> 0 | E20: =SUM(E17:E19) -> 0
A21: รวมทุกระดับชั้น | B21: =SUM(B12,B16,B20) -> 0 | C21: =SUM(C12,C16,C20) -> 0 | D21: =SUM(D12,D16,D20) -> 0 | E21: =SUM(E12,E16,E20) -> 0
A22: รูปแบบการจัดการศึกษาแบบไป-กลับ
A23: ประถมศึกษาปีที่ 4 | D23: =C23 -> 0
A24: ประถมศึกษาปีที่ 5 | C24: =B23 -> 0 | D24: =C24 -> 0 | E24: =D23 -> 0
A25: ประถมศึกษาปีที่ 6 | C25: =B24 -> 0 | D25: =C25 -> 0 | E25: =D24 -> 0
A26: รวมระดับประถมศึกษา | B26: =SUM(B23:B25) -> 0 | C26: =SUM(C23:C25) -> 0 | D26: =SUM(D23:D25) -> 0 | E26: =SUM(E23:E25) -> 0
A27: มัธยมศึกษาปีที่ 1 | D27: =C27 -> 0
A28: มัธยมศึกษาปีที่ 2 | C28: =B27 -> 0 | D28: =C28 -> 0 | E28: =D27 -> 0
A29: มัธยมศึกษาปีที่ 3 | C29: =B28 -> 0 | D29: =C29 -> 0 | E29: =D28 -> 0
A30: รวมระดับมัธยมศึกษาตอนต้น | B30: =SUM(B27:B29) -> 0 | C30: =SUM(C27:C29) -> 0 | D30: =SUM(D27:D29) -> 0 | E30: =SUM(E27:E29) -> 0
A31: มัธยมศึกษาปีที่ 4 | D31: =C31 -> 0
A32: มัธยมศึกษาปีที่ 5 | C32: =B31 -> 0 | D32: =C32 -> 0 | E32: =D31 -> 0
A33: มัธยมศึกษาปีที่ 6 | C33: =B32 -> 0 | D33: =C33 -> 0 | E33: =D32 -> 0
A34: รวมระดับมัธยมศึกษาตอนปลาย | B34: =SUM(B31:B33) -> 0 | C34: =SUM(C31:C33) -> 0 | D34: =SUM(D31:D33) -> 0 | E34: =SUM(E31:E33) -> 0
A35: รวมทุกระดับชั้น | B35: =SUM(B26,B30,B34) -> 0 | C35: =SUM(C26,C30,C34) -> 0 | D35: =SUM(D26,D30,D34) -> 0 | E35: =SUM(E26,E30,E34) -> 0
A36: รวมทั้งสิ้น | B36: =+B21+B35 -> 0 | C36: =+C21+C35 -> 0 | D36: =+D21+D35 -> 0 | E36: =+E21+E35 -> 0
A38: จำนวนนักเรียน (ขนาดสถานศึกษาตามอัตราอาหารกลางวัน)
A39: จำนวนโรงเรียน (แห่ง) | B39: นักเรียนหลักสูตรทั่วไป | C39: นักเรียนหลักสูตรกีฬา | D39: รวม
C40: =E36 -> 0 | D40: =SUM(B40+C40) -> 0
A41: รวมทั้งสิ้น | D41: =SUM(D40) -> 0
A43: หมายเหตุ :
A44: 1. ข้อมูลนักเรียนที่ใช้เป็นฐานในการคำนวณจะใช้นักเรียน ณ พฤศจิกายน 2568 2. นักเรียนในสถานศึกษาสังกัดองค์กรปกครองส่วนท้องถิ่นที่มีการจัดการศึกษาลักษณะพิเศษ (โรงเรียนกีฬา) รูปแบบการจัดการศึกษาแบบประจำ ชั้นประถมศึกษาปีที่ 4 - 6 ที่ได้รับเงินอุดหนุนสำหรับสนับสนุนสถานศึกษาสังกัดองค์กรปกครองส่วนท้องถิ่นที่มีการจัดการศึกษาลักษณะพิเศษ (โรงเรียนกีฬา) ค่าอาหารประจำวัน ไม่สามารถขอรับการจัดสรรรายการเงินอุดหนุนสำหรับสนับสนุนอาหารกลางวัน และอาหารเสริม (นม) ได้ 3. นักเรียนในสถานศึกษาสังกัดองค์กรปกครองส่วนท้องถิ่นที่มีการจัดการศึกษาลักษณะพิเศษ (โรงเรียนกีฬา) รูปแบบการจัดการศึกษาแบบประจำ และแบบไป-กลับ ชั้นประถมศึกษาปีที่ 4 - มัธยมศึกษาปีที่ 6 ที่ได้รับเงินอุดหนุนสำหรับสนับสนุนสถานศึกษาสังกัดองค์กรปกครองส่วนท้องถิ่นที่มีการจัดการศึกษาลักษณะพิเศษ (โรงเรียนกีฬา) ไม่สามารถขอรับเงินอุดหนุนสำหรับสนับสนุนค่าใช้จ่ายในการจัดการศึกษาตั้งแต่ระดับอนุบาลจนจบการศึกษาขั้นพื้นฐานได้

Sheet 16.2 แบบคำนวณ
A1: แบบฟอร์มคำนวณประมาณการค่าใช้จ่าย | J1: แบบฟอร์ม 2
A2: รายการ : เงินอุดหนุนสำหรับสนับสนุนสถานศึกษาสังกัด อปท. ที่มีการจัดการศึกษาลักษณะพิเศษ
A4: สรุปเงินอุดหนุนสำหรับสนับสนุนสถานศึกษาสังกัด อปท. ที่มีการจัดการศึกษาลักษณะพิเศษ | F4: เป้าหมาย (คน) | I4: งบประมาณ (บาท)
A5: 1) ค่าหนังสือเรียน | F5: =SUM(J23) -> 0 | I5: =K23 -> 0
A6: 2) ค่าอุปกรณ์การเรียน | F6: =SUM(J36) -> 0 | I6: =K36 -> 0
A7: 3) ค่าเครื่องแบบนักเรียน | F7: =SUM(J49) -> 0 | I7: =K49 -> 0
A8: 4) ค่ากิจกรรมพัฒนาคุณภาพผู้เรียน | F8: =SUM(J62) -> 0 | I8: =K62 -> 0
A9: 5) ค่าอาหารประจำวัน | F9: =+F11+F10 -> 0 | I9: =+I10+I11 -> 0
A10: 5.1 ระดับประถมศึกษา | F10: =SUM(F77,F90) -> 0 | I10: =+K77+K90 -> 0
A11: 5.2 ระดับมัธยมศึกษา | F11: =SUM(F81,F85) -> 0 | I11: =+K81+K85 -> 0
A12: 6) ค่าอาหารเสริม (นม) | F12: =+F14+F13 -> 0 | I12: =+I14+I13 -> 0
A13: 5.1 ระดับปฐมวัย
A14: 5.2 ระดับประถมศึกษา
A15: รวมทั้งสิ้น | F15: =J22 -> 0 | I15: =SUM(I5:K9) -> 0
D17: คำนวณปี 2570
A19: ที่ | B19: รายละเอียดค่าใช้จ่าย | C19: หน่วยนับ | D19: (1) | E19: (2) | F19: (3)=(1)x(2) | G19: (4) | H19: (5) | I19: (6)=(4)x(5) | J19: (7)=(4) | K19: (8)=(3)+(6)
D20: เทอม 2/2569 | G20: เทอม 1/2570 | J20: รวมทั้งสิ้น
D21: เป้าหมาย | E21: หน่วยละ | F21: งบประมาณ | G21: เป้าหมาย | H21: หน่วยละ | I21: งบประมาณ | J21: เป้าหมาย | K21: รวมงบประมาณ
A22: รวมทั้งสิ้น | D22: =SUM(D36) -> 0 | F22: =SUM(F23,F36,F49,F62,F76,F89) -> 0 | G22: =SUM(G36) -> 0 | I22: =SUM(I23,I36,I49,I62,I76,I89) -> 0 | J22: =+J23 -> 0 | K22: =+K23+K36+K49+K62+K76+K89 -> 0
A23: 1 | B23: ค่าหนังสือเรียน | C23: คน | G23: =SUM(G24,G28,G32) -> 0 | I23: =SUM(I24,I28,I32) -> 0 | J23: =SUM(J24,J28,J32) -> 0 | K23: =SUM(K24,K28,K32) -> 0
B24: 1.1 ประถมศึกษา | C24: คน | G24: =SUM(G25:G27) -> 0 | I24: =SUM(I25:I27) -> 0 | J24: =SUM(J25:J27) -> 0 | K24: =ROUNDUP(SUM(K25:K27),-2) -> 0
B25: (1) ป.4 | C25: คน | G25: ='16.1 แบบชั้นเคลื่อน'!E9+'16.1 แบบชั้นเคลื่อน'!E23 -> 0 | H25: 600 | I25: =G25*H25 -> 0 | J25: =G25 -> 0 | K25: =I25 -> 0
B26: (2) ป.5 | C26: คน | G26: ='16.1 แบบชั้นเคลื่อน'!E10+'16.1 แบบชั้นเคลื่อน'!E24 -> 0 | H26: 600 | I26: =G26*H26 -> 0 | J26: =G26 -> 0 | K26: =I26 -> 0
B27: (3) ป.6 | C27: คน | G27: ='16.1 แบบชั้นเคลื่อน'!E11+'16.1 แบบชั้นเคลื่อน'!E25 -> 0 | H27: 600 | I27: =G27*H27 -> 0 | J27: =G27 -> 0 | K27: =I27 -> 0
B28: 1.2 มัธยมศึกษาตอนต้น | C28: คน | G28: =SUM(G29:G31) -> 0 | I28: =SUM(I29:I31) -> 0 | J28: =SUM(J29:J31) -> 0 | K28: =ROUNDUP(SUM(K29:K31),-2) -> 0
B29: (1) ม.1 | C29: คน | G29: ='16.1 แบบชั้นเคลื่อน'!E13+'16.1 แบบชั้นเคลื่อน'!E27 -> 0 | H29: 900 | I29: =G29*H29 -> 0 | J29: =G29 -> 0 | K29: =I29 -> 0
B30: (2) ม.2 | C30: คน | G30: ='16.1 แบบชั้นเคลื่อน'!E14+'16.1 แบบชั้นเคลื่อน'!E28 -> 0 | H30: 900 | I30: =G30*H30 -> 0 | J30: =G30 -> 0 | K30: =I30 -> 0
B31: (3) ม.3 | C31: คน | G31: ='16.1 แบบชั้นเคลื่อน'!E15+'16.1 แบบชั้นเคลื่อน'!E29 -> 0 | H31: 900 | I31: =G31*H31 -> 0 | J31: =G31 -> 0 | K31: =I31 -> 0
B32: 1.3 มัธยมศึกษาตอนปลาย | C32: คน | G32: =SUM(G33:G35) -> 0 | I32: =SUM(I33:I35) -> 0 | J32: =SUM(J33:J35) -> 0 | K32: =ROUNDUP(SUM(K33:K35),-2) -> 0
B33: (1) ม.4 | C33: คน | G33: ='16.1 แบบชั้นเคลื่อน'!E17+'16.1 แบบชั้นเคลื่อน'!E31 -> 0 | H33: 900 | I33: =G33*H33 -> 0 | J33: =G33 -> 0 | K33: =I33 -> 0
B34: (2) ม.5 | C34: คน | G34: ='16.1 แบบชั้นเคลื่อน'!E18+'16.1 แบบชั้นเคลื่อน'!E32 -> 0 | H34: 900 | I34: =G34*H34 -> 0 | J34: =G34 -> 0 | K34: =I34 -> 0
B35: (3) ม.6 | C35: คน | G35: ='16.1 แบบชั้นเคลื่อน'!E19+'16.1 แบบชั้นเคลื่อน'!E33 -> 0 | H35: 900 | I35: =G35*H35 -> 0 | J35: =G35 -> 0 | K35: =I35 -> 0
A36: 2 | B36: ค่าอุปกรณ์การเรียน | C36: คน | D36: =SUM(D37,D41,D45) -> 0 | F36: =SUM(F37,F41,F45) -> 0 | G36: =SUM(G37,G41,G45) -> 0 | I36: =SUM(I37,I41,I45) -> 0 | J36: =SUM(J37,J41,J45) -> 0 | K36: =SUM(K37,K41,K45) -> 0
B37: 2.1 ประถมศึกษา | C37: คน | D37: =SUM(D38:D40) -> 0 | F37: =SUM(F38:F40) -> 0 | G37: =SUM(G38:G40) -> 0 | I37: =SUM(I38:I40) -> 0 | J37: =SUM(J38:J40) -> 0 | K37: =ROUNDUP(SUM(K38:K40),-2) -> 0
B38: (1) ป.4 | C38: คน | D38: ='16.1 แบบชั้นเคลื่อน'!D9+'16.1 แบบชั้นเคลื่อน'!D23 -> 0 | E38: 1650 | F38: =D38*E38 -> 0 | G38: ='16.1 แบบชั้นเคลื่อน'!E9+'16.1 แบบชั้นเคลื่อน'!E23 -> 0 | H38: 1650 | I38: =G38*H38 -> 0 | J38: =G38 -> 0 | K38: =F38+I38 -> 0
B39: (2) ป.5 | C39: คน | D39: ='16.1 แบบชั้นเคลื่อน'!D10+'16.1 แบบชั้นเคลื่อน'!D24 -> 0 | E39: 1650 | F39: =D39*E39 -> 0 | G39: ='16.1 แบบชั้นเคลื่อน'!E10+'16.1 แบบชั้นเคลื่อน'!E24 -> 0 | H39: 1650 | I39: =G39*H39 -> 0 | J39: =G39 -> 0 | K39: =F39+I39 -> 0
B40: (3) ป.6 | C40: คน | D40: ='16.1 แบบชั้นเคลื่อน'!D11+'16.1 แบบชั้นเคลื่อน'!D25 -> 0 | E40: 1650 | F40: =D40*E40 -> 0 | G40: ='16.1 แบบชั้นเคลื่อน'!E11+'16.1 แบบชั้นเคลื่อน'!E25 -> 0 | H40: 1650 | I40: =G40*H40 -> 0 | J40: =G40 -> 0 | K40: =F40+I40 -> 0
B41: 2.2 มัธยมศึกษาตอนต้น | C41: คน | D41: =SUM(D42:D44) -> 0 | F41: =SUM(F42:F44) -> 0 | G41: =SUM(G42:G44) -> 0 | I41: =SUM(I42:I44) -> 0 | J41: =SUM(J42:J44) -> 0 | K41: =ROUNDUP(SUM(K42:K44),-2) -> 0
B42: (1) ม.1 | C42: คน | D42: ='16.1 แบบชั้นเคลื่อน'!D13+'16.1 แบบชั้นเคลื่อน'!D27 -> 0 | E42: 1700 | F42: =D42*E42 -> 0 | G42: ='16.1 แบบชั้นเคลื่อน'!E13+'16.1 แบบชั้นเคลื่อน'!E27 -> 0 | H42: 1700 | I42: =G42*H42 -> 0 | J42: =G42 -> 0 | K42: =F42+I42 -> 0
B43: (2) ม.2 | C43: คน | D43: ='16.1 แบบชั้นเคลื่อน'!D14+'16.1 แบบชั้นเคลื่อน'!D28 -> 0 | E43: 1700 | F43: =D43*E43 -> 0 | G43: ='16.1 แบบชั้นเคลื่อน'!E14+'16.1 แบบชั้นเคลื่อน'!E28 -> 0 | H43: 1700 | I43: =G43*H43 -> 0 | J43: =G43 -> 0 | K43: =F43+I43 -> 0
B44: (3) ม.3 | C44: คน | D44: ='16.1 แบบชั้นเคลื่อน'!D15+'16.1 แบบชั้นเคลื่อน'!D29 -> 0 | E44: 1700 | F44: =D44*E44 -> 0 | G44: ='16.1 แบบชั้นเคลื่อน'!E15+'16.1 แบบชั้นเคลื่อน'!E29 -> 0 | H44: 1700 | I44: =G44*H44 -> 0 | J44: =G44 -> 0 | K44: =F44+I44 -> 0
B45: 2.3 มัธยมศึกษาตอนปลาย | C45: คน | D45: =SUM(D46:D48) -> 0 | F45: =SUM(F46:F48) -> 0 | G45: =SUM(G46:G48) -> 0 | I45: =SUM(I46:I48) -> 0 | J45: =SUM(J46:J48) -> 0 | K45: =ROUNDUP(SUM(K46:K48),-2) -> 0
B46: (1) ม.4 | C46: คน | D46: ='16.1 แบบชั้นเคลื่อน'!D17+'16.1 แบบชั้นเคลื่อน'!D31 -> 0 | E46: 1700 | F46: =D46*E46 -> 0 | G46: ='16.1 แบบชั้นเคลื่อน'!E17+'16.1 แบบชั้นเคลื่อน'!E31 -> 0 | H46: 1700 | I46: =G46*H46 -> 0 | J46: =G46 -> 0 | K46: =F46+I46 -> 0
B47: (2) ม.5 | C47: คน | D47: ='16.1 แบบชั้นเคลื่อน'!D18+'16.1 แบบชั้นเคลื่อน'!D32 -> 0 | E47: 1700 | F47: =D47*E47 -> 0 | G47: ='16.1 แบบชั้นเคลื่อน'!E18+'16.1 แบบชั้นเคลื่อน'!E32 -> 0 | H47: 1700 | I47: =G47*H47 -> 0 | J47: =G47 -> 0 | K47: =F47+I47 -> 0
B48: (3) ม.6 | C48: คน | D48: ='16.1 แบบชั้นเคลื่อน'!D19+'16.1 แบบชั้นเคลื่อน'!D33 -> 0 | E48: 1700 | F48: =D48*E48 -> 0 | G48: ='16.1 แบบชั้นเคลื่อน'!E19+'16.1 แบบชั้นเคลื่อน'!E33 -> 0 | H48: 1700 | I48: =G48*H48 -> 0 | J48: =G48 -> 0 | K48: =F48+I48 -> 0
A49: 3 | B49: ค่าเครื่องแบบนักเรียน | C49: คน | G49: =SUM(G50,G54,G58) -> 0 | I49: =SUM(I50,I54,I58) -> 0 | J49: =SUM(J50,J54,J58) -> 0 | K49: =SUM(K50,K54,K58) -> 0
B50: 3.1 ประถมศึกษา | C50: คน | G50: =SUM(G51:G53) -> 0 | I50: =SUM(I51:I53) -> 0 | J50: =SUM(J51:J53) -> 0 | K50: =ROUNDUP(SUM(K51:K53),-2) -> 0
B51: (1) ป.4 | C51: คน | G51: ='16.1 แบบชั้นเคลื่อน'!E9+'16.1 แบบชั้นเคลื่อน'!E23 -> 0 | H51: 6200 | I51: =G51*H51 -> 0 | J51: =G51 -> 0 | K51: =I51 -> 0
B52: (2) ป.5 | C52: คน | G52: ='16.1 แบบชั้นเคลื่อน'!E10+'16.1 แบบชั้นเคลื่อน'!E24 -> 0 | H52: 6200 | I52: =G52*H52 -> 0 | J52: =G52 -> 0 | K52: =I52 -> 0
B53: (3) ป.6 | C53: คน | G53: ='16.1 แบบชั้นเคลื่อน'!E11+'16.1 แบบชั้นเคลื่อน'!E25 -> 0 | H53: 6200 | I53: =G53*H53 -> 0 | J53: =G53 -> 0 | K53: =I53 -> 0
B54: 3.2 มัธยมศึกษาตอนต้น | C54: คน | G54: =SUM(G55:G57) -> 0 | I54: =SUM(I55:I57) -> 0 | J54: =SUM(J55:J57) -> 0 | K54: =ROUNDUP(SUM(K55:K57),-2) -> 0
B55: (1) ม.1 | C55: คน | G55: ='16.1 แบบชั้นเคลื่อน'!E13+'16.1 แบบชั้นเคลื่อน'!E27 -> 0 | H55: 8200 | I55: =G55*H55 -> 0 | J55: =G55 -> 0 | K55: =I55 -> 0
B56: (2) ม.2 | C56: คน | G56: ='16.1 แบบชั้นเคลื่อน'!E14+'16.1 แบบชั้นเคลื่อน'!E28 -> 0 | H56: 8200 | I56: =G56*H56 -> 0 | J56: =G56 -> 0 | K56: =I56 -> 0
B57: (3) ม.3 | C57: คน | G57: ='16.1 แบบชั้นเคลื่อน'!E15+'16.1 แบบชั้นเคลื่อน'!E29 -> 0 | H57: 8200 | I57: =G57*H57 -> 0 | J57: =G57 -> 0 | K57: =I57 -> 0
B58: 3.3 มัธยมศึกษาตอนปลาย | C58: คน | G58: =SUM(G59:G61) -> 0 | I58: =SUM(I59:I61) -> 0 | J58: =SUM(J59:J61) -> 0 | K58: =ROUNDUP(SUM(K59:K61),-2) -> 0
B59: (1) ม.4 | C59: คน | G59: ='16.1 แบบชั้นเคลื่อน'!E17+'16.1 แบบชั้นเคลื่อน'!E31 -> 0 | H59: 8200 | I59: =G59*H59 -> 0 | J59: =G59 -> 0 | K59: =I59 -> 0
B60: (2) ม.5 | C60: คน | G60: ='16.1 แบบชั้นเคลื่อน'!E18+'16.1 แบบชั้นเคลื่อน'!E32 -> 0 | H60: 8200 | I60: =G60*H60 -> 0 | J60: =G60 -> 0 | K60: =I60 -> 0
B61: (3) ม.6 | C61: คน | G61: ='16.1 แบบชั้นเคลื่อน'!E19+'16.1 แบบชั้นเคลื่อน'!E33 -> 0 | H61: 8200 | I61: =G61*H61 -> 0 | J61: =G61 -> 0 | K61: =I61 -> 0
A62: 4 | B62: ค่ากิจกรรมพัฒนา คุณภาพผู้เรียน | C62: คน | D62: =SUM(D63,D67,D71) -> 0 | F62: =SUM(F63,F67,F71) -> 0 | G62: =SUM(G63,G67,G71) -> 0 | I62: =SUM(I63,I67,I71) -> 0 | J62: =SUM(J63,J67,J71) -> 0 | K62: =SUM(K63,K67,K71) -> 0
B63: 4.1 ประถมศึกษา | C63: คน | D63: =SUM(D64:D66) -> 0 | F63: =SUM(F64:F66) -> 0 | G63: =SUM(G64:G66) -> 0 | I63: =SUM(I64:I66) -> 0 | J63: =SUM(J64:J66) -> 0 | K63: =ROUNDUP(SUM(K64:K66),-2) -> 0
B64: (1) ป.4 | C64: คน | D64: ='16.1 แบบชั้นเคลื่อน'!D9+'16.1 แบบชั้นเคลื่อน'!D23 -> 0 | E64: 200 | F64: =D64*E64 -> 0 | G64: ='16.1 แบบชั้นเคลื่อน'!E9+'16.1 แบบชั้นเคลื่อน'!E23 -> 0 | H64: 200 | I64: =G64*H64 -> 0 | J64: =G64 -> 0 | K64: =F64+I64 -> 0
B65: (2) ป.5 | C65: คน | D65: ='16.1 แบบชั้นเคลื่อน'!D10+'16.1 แบบชั้นเคลื่อน'!D24 -> 0 | E65: 200 | F65: =D65*E65 -> 0 | G65: ='16.1 แบบชั้นเคลื่อน'!E10+'16.1 แบบชั้นเคลื่อน'!E24 -> 0 | H65: 200 | I65: =G65*H65 -> 0 | J65: =G65 -> 0 | K65: =F65+I65 -> 0
B66: (3) ป.6 | C66: คน | D66: ='16.1 แบบชั้นเคลื่อน'!D11+'16.1 แบบชั้นเคลื่อน'!D25 -> 0 | E66: 200 | F66: =D66*E66 -> 0 | G66: ='16.1 แบบชั้นเคลื่อน'!E11+'16.1 แบบชั้นเคลื่อน'!E25 -> 0 | H66: 200 | I66: =G66*H66 -> 0 | J66: =G66 -> 0 | K66: =F66+I66 -> 0
B67: 4.2 มัธยมศึกษาตอนต้น | C67: คน | D67: =SUM(D68:D70) -> 0 | F67: =SUM(F68:F70) -> 0 | G67: =SUM(G68:G70) -> 0 | I67: =SUM(I68:I70) -> 0 | J67: =SUM(J68:J70) -> 0 | K67: =ROUNDUP(SUM(K68:K70),-2) -> 0
B68: (1) ม.1 | C68: คน | D68: ='16.1 แบบชั้นเคลื่อน'!D13+'16.1 แบบชั้นเคลื่อน'!D27 -> 0 | E68: 350 | F68: =D68*E68 -> 0 | G68: ='16.1 แบบชั้นเคลื่อน'!E13+'16.1 แบบชั้นเคลื่อน'!E27 -> 0 | H68: 350 | I68: =G68*H68 -> 0 | J68: =G68 -> 0 | K68: =F68+I68 -> 0
B69: (2) ม.2 | C69: คน | D69: ='16.1 แบบชั้นเคลื่อน'!D14+'16.1 แบบชั้นเคลื่อน'!D28 -> 0 | E69: 350 | F69: =D69*E69 -> 0 | G69: ='16.1 แบบชั้นเคลื่อน'!E14+'16.1 แบบชั้นเคลื่อน'!E28 -> 0 | H69: 350 | I69: =G69*H69 -> 0 | J69: =G69 -> 0 | K69: =F69+I69 -> 0
B70: (3) ม.3 | C70: คน | D70: ='16.1 แบบชั้นเคลื่อน'!D15+'16.1 แบบชั้นเคลื่อน'!D29 -> 0 | E70: 350 | F70: =D70*E70 -> 0 | G70: ='16.1 แบบชั้นเคลื่อน'!E15+'16.1 แบบชั้นเคลื่อน'!E29 -> 0 | H70: 350 | I70: =G70*H70 -> 0 | J70: =G70 -> 0 | K70: =F70+I70 -> 0
B71: 4.3 มัธยมศึกษาตอนปลาย | C71: คน | D71: =SUM(D72:D74) -> 0 | F71: =SUM(F72:F74) -> 0 | G71: =SUM(G72:G74) -> 0 | I71: =SUM(I72:I74) -> 0 | J71: =SUM(J72:J74) -> 0 | K71: =ROUNDUP(SUM(K72:K74),-2) -> 0
B72: (1) ม.4 | C72: คน | D72: ='16.1 แบบชั้นเคลื่อน'!D17+'16.1 แบบชั้นเคลื่อน'!D31 -> 0 | E72: 350 | F72: =D72*E72 -> 0 | G72: ='16.1 แบบชั้นเคลื่อน'!E17+'16.1 แบบชั้นเคลื่อน'!E31 -> 0 | H72: 350 | I72: =G72*H72 -> 0 | J72: =G72 -> 0 | K72: =F72+I72 -> 0
B73: (2) ม.5 | C73: คน | D73: ='16.1 แบบชั้นเคลื่อน'!D18+'16.1 แบบชั้นเคลื่อน'!D32 -> 0 | E73: 350 | F73: =D73*E73 -> 0 | G73: ='16.1 แบบชั้นเคลื่อน'!E18+'16.1 แบบชั้นเคลื่อน'!E32 -> 0 | H73: 350 | I73: =G73*H73 -> 0 | J73: =G73 -> 0 | K73: =F73+I73 -> 0
B74: (3) ม.6 | C74: คน | D74: ='16.1 แบบชั้นเคลื่อน'!D19+'16.1 แบบชั้นเคลื่อน'!D33 -> 0 | E74: 350 | F74: =D74*E74 -> 0 | G74: ='16.1 แบบชั้นเคลื่อน'!E19+'16.1 แบบชั้นเคลื่อน'!E33 -> 0 | H74: 350 | I74: =G74*H74 -> 0 | J74: =G74 -> 0 | K74: =F74+I74 -> 0
B75: รายละเอียดค่าใช้จ่าย | C75: หน่วยนับ | F75: เป้าหมาย (1) | G75: หน่วยละ (2) | H75: จำนวน (วัน) (3) | I75: งบประมาณ (4) = (1)x(2)x(3) | J75: เป้าหมาย (5)=(1) | K75: รวมงบประมาณ (6)=(4)
A76: 5 | B76: ค่าอาหารประจำวัน (รูปแบบการจัดการ ศึกษาแบบประจำ) | C76: คน | F76: =SUM(F77,F81,F85) -> 0 | I76: =SUM(I77,I81,I85) -> 0 | J76: =SUM(J77,J81,J85) -> 0 | K76: =SUM(K77,K81,K85) -> 0
B77: 5.1 ประถมศึกษา | C77: คน | F77: =SUM(F78:F80) -> 0 | I77: =SUM(I78:I80) -> 0 | J77: =SUM(J78:J80) -> 0 | K77: =ROUNDUP(SUM(K78:K80),-2) -> 0
B78: (1) ป.4 | C78: คน | F78: =+'16.1 แบบชั้นเคลื่อน'!E9 -> 0 | G78: 120 | H78: 280 | I78: =+F78*G78*H78 -> 0 | J78: =+F78 -> 0 | K78: =+I78 -> 0
B79: (2) ป.5 | C79: คน | F79: =+'16.1 แบบชั้นเคลื่อน'!E10 -> 0 | G79: 120 | H79: 280 | I79: =+F79*G79*H79 -> 0 | J79: =+F79 -> 0 | K79: =+I79 -> 0
B80: (3) ป.6 | C80: คน | F80: =+'16.1 แบบชั้นเคลื่อน'!E11 -> 0 | G80: 120 | H80: 280 | I80: =+F80*G80*H80 -> 0 | J80: =+F80 -> 0 | K80: =+I80 -> 0
B81: 5.2 มัธยมศึกษาตอนต้น | C81: คน | F81: =SUM(F82:F84) -> 0 | I81: =SUM(I82:I84) -> 0 | J81: =SUM(J82:J84) -> 0 | K81: =ROUNDUP(SUM(K82:K84),-2) -> 0
B82: (1) ม.1 | C82: คน | F82: =+'16.1 แบบชั้นเคลื่อน'!E13 -> 0 | G82: 120 | H82: 280 | I82: =+F82*G82*H82 -> 0 | J82: =+F82 -> 0 | K82: =+I82 -> 0
B83: (2) ม.2 | C83: คน | F83: =+'16.1 แบบชั้นเคลื่อน'!E14 -> 0 | G83: 120 | H83: 280 | I83: =+F83*G83*H83 -> 0 | J83: =+F83 -> 0 | K83: =+I83 -> 0
B84: (3) ม.3 | C84: คน | F84: =+'16.1 แบบชั้นเคลื่อน'!E15 -> 0 | G84: 120 | H84: 280 | I84: =+F84*G84*H84 -> 0 | J84: =+F84 -> 0 | K84: =+I84 -> 0
B85: 5.3 มัธยมศึกษาตอนปลาย | C85: คน | F85: =SUM(F86:F88) -> 0 | I85: =SUM(I86:I88) -> 0 | J85: =SUM(J86:J88) -> 0 | K85: =ROUNDUP(SUM(K86:K88),-2) -> 0
B86: (1) ม.4 | C86: คน | F86: =+'16.1 แบบชั้นเคลื่อน'!E17 -> 0 | G86: 120 | H86: 280 | I86: =+F86*G86*H86 -> 0 | J86: =+F86 -> 0 | K86: =+I86 -> 0
B87: (2) ม.5 | C87: คน | F87: =+'16.1 แบบชั้นเคลื่อน'!E18 -> 0 | G87: 120 | H87: 280 | I87: =+F87*G87*H87 -> 0 | J87: =+F87 -> 0 | K87: =+I87 -> 0
B88: (3) ม.6 | C88: คน | F88: =+'16.1 แบบชั้นเคลื่อน'!E19 -> 0 | G88: 120 | H88: 280 | I88: =+F88*G88*H88 -> 0 | J88: =+F88 -> 0 | K88: =+I88 -> 0
A89: 5 | B89: ค่าอาหารประจำวัน (รูปแบบการจัดการ ศึกษาแบบไป-กลับ) | C89: คน | F89: =+F90 -> 0 | I89: =+I90 -> 0 | J89: =+J90 -> 0 | K89: =+K90 -> 0
B90: 5.1 ประถมศึกษา | C90: คน | D90: =SUM(D92:D94) -> 0 | F90: =F95 -> 0 | I90: =I91+I95 -> 0 | J90: =J95 -> 0 | K90: =K91+K95 -> 0
B91: อาหารเสริม (นม) | C91: คน | F91: =SUM(F92:F94) -> 0 | I91: =SUM(I92:I94) -> 0 | J91: =SUM(J92:J94) -> 0 | K91: =ROUNDUP(SUM(K92:K94),-2) -> 0
B92: (1) ป.4 | C92: คน | F92: =+'16.1 แบบชั้นเคลื่อน'!E23 -> 0 | G92: 7.83 | H92: 260 | I92: =+F92*G92*H92 -> 0 | J92: =+F92 -> 0 | K92: =+I92 -> 0
B93: (2) ป.5 | C93: คน | F93: =+'16.1 แบบชั้นเคลื่อน'!E24 -> 0 | G93: 7.83 | H93: 260 | I93: =+F93*G93*H93 -> 0 | J93: =+F93 -> 0 | K93: =+I93 -> 0
B94: (3) ป.6 | C94: คน | F94: =+'16.1 แบบชั้นเคลื่อน'!E25 -> 0 | G94: 7.83 | H94: 260 | I94: =+F94*G94*H94 -> 0 | J94: =+F94 -> 0 | K94: =+I94 -> 0
B95: อาหารกลางวัน | C95: คน | D95: =SUM(D96:D98) -> 0 | F95: =SUM(F96:F98) -> 0 | I95: =SUM(I96:I98) -> 0 | J95: =SUM(J96:J98) -> 0 | K95: =ROUNDUP(SUM(K96:K98),-2) -> 0
B96: (1) ป.4 | C96: คน | F96: =+'16.1 แบบชั้นเคลื่อน'!E23 -> 0 | G96: =IF(H104>0,IF(H104<=40,36,IF(H104<=100,27,IF(H104<=120,24,IF(H104>=121,22)))),0) -> 0 | H96: 200 | I96: =+F96*G96*H96 -> 0 | J96: =+F96 -> 0 | K96: =+I96 -> 0
B97: (2) ป.5 | C97: คน | F97: =+'16.1 แบบชั้นเคลื่อน'!E24 -> 0 | G97: =IF(H104>0,IF(H104<=40,36,IF(H104<=100,27,IF(H104<=120,24,IF(H104>=121,22)))),0) -> 0 | H97: 200 | I97: =+F97*G97*H97 -> 0 | J97: =+F97 -> 0 | K97: =+I97 -> 0
B98: (3) ป.6 | C98: คน | F98: =+'16.1 แบบชั้นเคลื่อน'!E25 -> 0 | G98: =IF(H104>0,IF(H104<=40,36,IF(H104<=100,27,IF(H104<=120,24,IF(H104>=121,22)))),0) -> 0 | H98: 200 | I98: =+F98*G98*H98 -> 0 | J98: =+F98 -> 0 | K98: =+I98 -> 0
B101: ประเภทสถานศึกษา | E101: จำนวน (แห่ง) | F101: จำนวน นร. | I101: ราคาต่อหน่วย (บาท)
F102: นักเรียนหลักสูตรทั่วไป | G102: นร. กีฬา | H102: รวม | I102: ราคาอาหาร
I103: (มติ ครม.)
B104: สถานศึกษาขนาด 1-40 คน | E104: =+'16.1 แบบชั้นเคลื่อน'!A40 -> 0 | F104: =+'16.1 แบบชั้นเคลื่อน'!B40 -> 0 | G104: =+'16.1 แบบชั้นเคลื่อน'!C40 -> 0 | H104: =+F104+G104 -> 0 | I104: 36
B105: สถานศึกษาขนาด 41-100 คน | I105: 27
...

Sheet 16.3 โรงเรียน-นักเรียน
Q1: แบบฟอร์ม 3
A2: แบบฟอร์มจำนวนโรงเรียนและนักเรียนสถานศึกษาสังกัด อปท. ที่มีการจัดการศึกษาลักษณะพิเศษขององค์กรปกครองส่วนท้องถิ่น
A3: ชื่อหน่วยงาน........................................
A5: ลำดับ | B5: จังหวัด | C5: อำเภอ | D5: อปท | E5: ชื่อสถานศึกษา | F5: รูปแบบการศึกษา ประจำ/ไป-กลับ | G5: ประถมศึกษา | K5: มัธยมศึกษาตอนต้น | O5: มัธยมศึกษาตอนปลาย | S5: รวมทุกระดับ
G6: 4 | H6: 5 | I6: 6 | J6: รวม | K6: 1 | L6: 2 | M6: 3 | N6: รวม | O6: 4 | P6: 5 | Q6: 6 | R6: รวม
J11: =+G11+H11+I11 -> 0 | K11: 0 | L11: 0 | M11: 0 | N11: =K11+L11+M11 -> 0 | P11: 0 | Q11: 0 | R11: =O11+P11+Q11 -> 0 | S11: =+J11+N11+R11 -> 0
J12: =+G12+H12+I12 -> 0 | K12: 0 | L12: 0 | M12: 0 | N12: =K12+L12+M12 -> 0 | P12: 0 | Q12: 0 | R12: =O12+P12+Q12 -> 0 | S12: =+J12+N12+R12 -> 0
J13: =+G13+H13+I13 -> 0 | K13: 0 | L13: 0 | M13: 0 | N13: =K13+L13+M13 -> 0 | P13: 0 | Q13: 0 | R13: =O13+P13+Q13 -> 0 | S13: =+J13+N13+R13 -> 0
J14: =+G14+H14+I14 -> 0 | K14: 0 | L14: 0 | M14: 0 | N14: =K14+L14+M14 -> 0 | P14: 0 | Q14: 0 | R14: =O14+P14+Q14 -> 0 | S14: =+J14+N14+R14 -> 0
J15: =+G15+H15+I15 -> 0 | K15: 0 | L15: 0 | M15: 0 | N15: =K15+L15+M15 -> 0 | P15: 0 | Q15: 0 | R15: =O15+P15+Q15 -> 0 | S15: =+J15+N15+R15 -> 0
J16: =+G16+H16+I16 -> 0 | K16: 0 | L16: 0 | M16: 0 | N16: =K16+L16+M16 -> 0 | P16: 0 | Q16: 0 | R16: =O16+P16+Q16 -> 0 | S16: =+J16+N16+R16 -> 0
J17: =+G17+H17+I17 -> 0 | K17: 0 | L17: 0 | M17: 0 | N17: =K17+L17+M17 -> 0 | P17: 0 | Q17: 0 | R17: =O17+P17+Q17 -> 0 | S17: =+J17+N17+R17 -> 0
J18: =+G18+H18+I18 -> 0 | K18: 0 | L18: 0 | M18: 0 | N18: =K18+L18+M18 -> 0 | P18: 0 | Q18: 0 | R18: =O18+P18+Q18 -> 0 | S18: =+J18+N18+R18 -> 0
J19: =+G19+H19+I19 -> 0 | K19: 0 | L19: 0 | M19: 0 | N19: =K19+L19+M19 -> 0 | P19: 0 | Q19: 0 | R19: =O19+P19+Q19 -> 0 | S19: =+J19+N19+R19 -> 0
J20: =+G20+H20+I20 -> 0 | K20: 0 | L20: 0 | M20: 0 | N20: =K20+L20+M20 -> 0 | P20: 0 | Q20: 0 | R20: =O20+P20+Q20 -> 0 | S20: =+J20+N20+R20 -> 0
J21: =+G21+H21+I21 -> 0 | K21: 0 | L21: 0 | M21: 0 | N21: =K21+L21+M21 -> 0 | P21: 0 | Q21: 0 | R21: =O21+P21+Q21 -> 0 | S21: =+J21+N21+R21 -> 0
J22: =+G22+H22+I22 -> 0 | K22: 0 | L22: 0 | M22: 0 | N22: =K22+L22+M22 -> 0 | P22: 0 | Q22: 0 | R22: =O22+P22+Q22 -> 0 | S22: =+J22+N22+R22 -> 0
... J25: =+G25+H25+I25 -> 0 | K25: 0 | L25: 0 | M25: 0 | N25: =K25+L25+M25 -> 0 | P25: 0 | Q25: 0 | R25: =O25+P25+Q25 -> 0 | S25: =+J25+N25+R25 -> 0
A26: รวมทั้งสิ้น | G26: =SUM(G8:G25) -> 0 | H26: =SUM(H8:H25) -> 0 | I26: =SUM(I8:I25) -> 0 | J26: =SUM(J8:J25) -> 0 | K26: =SUM(K8:K25) -> 0 | L26: =SUM(L8:L25) -> 0 | M26: =SUM(M8:M25) -> 0 | N26: =SUM(N8:N25) -> 0 | ... S26: =SUM(S8:S25) -> 0
A27: ข้อมูล ณ พฤศจิกายน 2568
A28: หมายเหตุ : | C28: 1. ต้องเป็นสถานศึกษาที่มีการจัดการศึกษาลักษณะพิเศษ (โรงเรียนกีฬา) ตามประกาศกระทรวงมหาดไทย
C29: 2. ข้อมูลสถานศึกษาและจำนวนนักเรียนในสถานศึกษาสังกัดองค์กรปกครองส่วนท้องถิ่นที่มีการจัดการศึกษาลักษณะพิเศษ (โรงเรียนกีฬา)
C30: ตั้งแต่ระดับประถมศึกษาปีที่ 4 - มัธยมศึกษาปีที่ 6 ที่ศึกษาอยู่ในหลักสูตรความเป็นเลิศทางด้านกีฬา

Sheet 16.4 รายชื่อนักเรียน
H1: แบบฟอร์ม 4
A2: แบบฟอร์มรายชื่อนักเรียนของโรงเรียนสังกัดองค์กรปกครองส่วนท้องถิ่น
A4: องค์กรปกครองส่วนท้องถิ่น.................................................................
A6: ลำดับ | B6: ชื่อโรงเรียน | C6: เลขประจำตัวประชาชน | D6: สัญชาติ | E6: เพศ | F6: ชื่อ | G6: นามสกุล | H6: วัน/เดือน/ปีเกิด | I6: อายุ
