Workbook

Sheet การศึกษาชายแดนใต้
A1: หน่วยรับงบประมาณ : …………………… | I1: เทศบาลนครยะลา
A2: (เฉพาะพื้นที่ 5 จังหวัดชายแดนภาคใต้ (ยะลา ปัตตานี นราธิวาส สตูล และสงขลา))
A3: เงินอุดหนุนทั่วไป
A4: รายการ เงินอุดหนุนการจัดการศึกษาขององค์กรปกครองส่วนท้องถิ่นในพื้นที่จังหวัดชายแดนภาคใต้ (ค่าใช้จ่ายในการจัดกิจกรรม)
A6: 1. หลักการและเหตุผล กระทรวงมหาดไทยมีนโยบายให้กรมส่งเสริมการปกครองท้องถิ่นปรับการจัดการเรียนการสอนโรงเรียนสังกัดองค์กรปกครองส่วนท้องถิ่นในพื้นที่จังหวัดชายแดนภาคใต้ (ยะลา ปัตตานี นราธิวาส สตูล และสงขลา) เพื่อเป็นแนวทางที่จะทำให้นักเรียนไทยมุสลิมในจังหวัดชายแดนภาคใต้ได้มีโอกาสรับบริการทางการศึกษาจากภาครัฐได้อย่างครบถ้วนยิ่งขึ้น รวมทั้งได้รับความสะดวกในเรื่องการ ใช้อาคารสถานที่ อุปกรณ์การเรียนการสอน และสวัสดิการต่าง ๆ และเพื่อมิให้เกิดความแตกต่างระหว่างนักเรียนไทยพุทธและนักเรียนไทยมุสลิม จึงได้มีการปรับเพิ่มชั่วโมงการเรียนการสอนวิชาพุทธศาสนา และจัดการเรียนการสอนหลักสูตรพระปริยัติธรรมให้แก่นักเรียนไทยพุทธด้วย โดยได้เริ่มดำเนินการปรับการจัดการเรียนการสอน ในปีงบประมาณ 2549 ตั้งแต่ภาคเรียนที่ 2 ปีการศึกษา 2548 ต่อเนื่องมาจนถึงปัจจุบัน โดยได้ดำเนินการปรับรูปแบบการจัดการศึกษา ดังนี้ (1) ปรับหลักสูตรการศึกษาขั้นพื้นฐานตั้งแต่ระดับชั้นประถมศึกษา และมัธยมศึกษา โดยเพิ่มชั่วโมงการเรียนการสอนในส่วนวิชาสังคมศึกษา ศาสนาและวัฒนธรรม จาก 2 ชั่วโมง/สัปดาห์ เป็น 3 ชั่วโมง/สัปดาห์ โดยนักเรียนไทยมุสลิมเรียนวิชาอิสลามศึกษา นักเรียนไทยพุทธเรียนวิชาพุทธศาสนา (2) ส่งเสริมสนับสนุนและอำนวยความสะดวกในการจัดการเรียนการสอนหลักสูตรฟัรฎูอีน (หลักสูตรตาดีกา) เทียบเท่าหลักสูตรอิสลามศึกษาตอนต้น และหลักสูตรพระปริยัติธรรม โดยใช้สถานที่ของ องค์กรปกครองส่วนท้องถิ่นจัดการเรียนการสอน ระดับชั้น ป.1 - 6 (3) จัดการเรียนการสอนระดับชั้นมัธยมศึกษา (รูปแบบผสมผสาน) โดยให้มีการเรียนการสอนควบคู่ 2 หลักสูตร คือหลักสูตรการศึกษาขั้นพื้นฐาน และหลักสูตรอิสลามศึกษา (อิสลามศึกษาตอนกลาง/มุตะวัซซีเฎาะห์ (ม.1 - 3) และอิสลามศึกษาตอนปลาย /ซานาวียะห์ (ม.4 - 6)
A7: 2. วัตถุประสงค์ 2.1 เพื่อให้นักเรียนได้รับความรู้ทั้งสายสามัญและด้านศาสนาอย่างถูกต้องและมีมาตรฐาน นักเรียนไทยมุสลิม และไทยพุทธจะได้รับการพัฒนาความคิด จิตสำนึก และทัศนคติที่สามารถอยู่ร่วมกันในสังคมได้อย่างสันติสุขและมีความสมานฉันท์ 2.2 เพื่อให้เกิดความร่วมมือระหว่างสถานศึกษากับชุมชนในการร่วมกันให้ความรู้ทางด้านศาสนาแก่นักเรียน และเยาวชนในพื้นที่
A8: 3. เป้าหมาย สถานศึกษาในสังกัดองค์กรปกครองส่วนท้องถิ่นที่จัดการศึกษาในพื้นที่จังหวัดชายแดนภาคใต้ จำนวน ....6...... แห่ง นักเรียนจำนวน ....1,717...... คน
A9: 4. หลักเกณฑ์การจัดสรร จัดสรรอัตราตามระเบียบ ดังนี้ 4.1 ระเบียบกระทรวงการคลัง ว่าด้วยการเบิกจ่ายค่าใช้จ่ายในการบริหารงานของส่วนราชการ พ.ศ. 2553 4.2 ระเบียบกระทรวงการคลังว่าด้วยค่าใช้จ่ายในการฝึกอบรมของส่วนราชการ พ.ศ. 2545 4.3 อัตราต่อหน่วย จัดสรรให้ในอัตราตามขนาดของโรงเรียน ดังนี้ โรงเรียนที่มีจำนวนนักเรียน 1 - 40 คน อัตรา 36 บาท/คน/วัน โรงเรียนที่มีจำนวนนักเรียน 41 - 100 คน อัตรา 27 บาท/คน/วัน โรงเรียนที่มีจำนวนนักเรียน 101 - 120 คน อัตรา 24 บาท/คน/วัน โรงเรียนที่มีนักเรียนตั้งแต่ 121 คนขึ้นไป อัตรา 22 บาท/คน/วัน
B11: (1) | D11: (2) | E11: (3) | F11: (4)=(1)x(2)x(3)
A12: รายการ | B12: เป้าหมาย | D12: จำนวน (วัน) | E12: อัตราต่อหน่วย | F12: งบประมาณ
B13: จำนวน | C13: หน่วยนับ
A14: 1. ค่าอาหารกลางวัน | F14: =F15+F20 -> 0
A15: 1.1 หลักสูตรตาดีกา วันเสาร์ - อาทิตย์ | B15: =SUM(B16:B19) -> 0 | C15: คน | F15: =SUM(F16:F19) -> 0
A16: สถานศึกษาขนาด 1-40 คน | B16: =SUMIFS(จำนวนเด็ก!$E$8:$E$17,จำนวนเด็ก!$E$8:$E$17,"<=40") -> 0 | D16: 80 | E16: 36 | F16: =+B16*D16*E16 -> 0
A17: สถานศึกษาขนาด 41-100 คน | B17: =SUMIFS(จำนวนเด็ก!$E$8:$E$17,จำนวนเด็ก!$E$8:$E$17,">40",จำนวนเด็ก!$E$8:$E$17,"<=100") -> 0 | D17: 80 | E17: 27 | F17: =+B17*D17*E17 -> 0
A18: สถานศึกษาขนาด 101-120 คน | B18: =SUMIFS(จำนวนเด็ก!$E$8:$E$17,จำนวนเด็ก!$E$8:$E$17,">100",จำนวนเด็ก!$E$8:$E$17,"<=120") -> 0 | D18: 80 | E18: 24 | F18: =+B18*D18*E18 -> 0
A19: สถานศึกษาขนาด 121 คนขึ้นไป | B19: =SUMIFS(จำนวนเด็ก!$E$8:$E$17,จำนวนเด็ก!$E$8:$E$17,">120") -> 0 | D19: 80 | E19: 22 | F19: =+B19*D19*E19 -> 0
A20: 1.2 หลักสูตรผสมผสาน ม.1 - ม.6 | B20: =SUM(B21:B24) -> 0 | C20: คน | F20: =SUM(F21:F24) -> 0
A21: สถานศึกษาขนาด 1-40 คน | B21: =SUMIFS(จำนวนเด็ก!$H$8:$H$17,จำนวนเด็ก!$H$8:$H$17,"<=40") -> 0 | D21: 200 | E21: 36 | F21: =+B21*D21*E21 -> 0
A22: สถานศึกษาขนาด 41-100 คน | B22: =SUMIFS(จำนวนเด็ก!$H$8:$H$17,จำนวนเด็ก!$H$8:$H$17,">40",จำนวนเด็ก!$H$8:$H$17,"<=100") -> 0 | D22: 200 | E22: 27 | F22: =+B22*D22*E22 -> 0
A23: สถานศึกษาขนาด 101-120 คน | B23: =SUMIFS(จำนวนเด็ก!$H$8:$H$17,จำนวนเด็ก!$H$8:$H$17,">100",จำนวนเด็ก!$H$8:$H$17,"<=120") -> 0 | D23: 200 | E23: 24 | F23: =+B23*D23*E23 -> 0
A24: สถานศึกษาขนาด 121 คนขึ้นไป | B24: =SUMIFS(จำนวนเด็ก!$H$8:$H$17,จำนวนเด็ก!$H$8:$H$17,">120") -> 0 | D24: 200 | E24: 22 | F24: =+B24*D24*E24 -> 0
A25: 2. ค่าวัสดุรายหัว/แบบเรียน | B25: =SUM(B26) -> 0 | F25: =SUM(F26) -> 0
A26: - ค่าวัสดุรายหัว/แบบเรียน (หมายเหตุ : เป้าหมายของค่าวัสดุรายหัว/แบบเรียน ต้องเท่ากับเป้าหมายของหลักสูตรผสมผสาน ม.1 - ม.6) | B26: =B20 -> 0 | C26: คน | E26: 1000 | F26: =B26*E26 -> 0
A27: 3. ค่าใช้จ่ายในการพัฒนา/ปรับปรุงหลักสูตร และสื่อการเรียนการสอนฯ | F27: =SUM(F28:F30) -> 0
A28: - วิชาอิสลามศึกษาและวิชาพุทธศาสนา ในหลักสูตรการศึกษาขั้นพื้นฐาน | B28: =COUNTIF(จำนวนเด็ก!$J$8:$J$17,"มีหลักสูตร") -> 0 | C28: ร.ร. | E28: 150000 | F28: =B28*E28 -> 0
A29: - วิชาอิสลามศึกษา (มุตะวัซซีเฎาะห์) | B29: =COUNTIF(จำนวนเด็ก!$F$8:$F$17,">=1") -> 0 | C29: ร.ร. | E29: 150000 | F29: =B29*E29 -> 0
A30: - วิชาอิสลามศึกษา (ซานาวียะห์) | B30: =COUNTIF(จำนวนเด็ก!$G$8:$G$17,">=1") -> 0 | C30: ร.ร. | E30: 150000 | F30: =B30*E30 -> 0
A31: 4. ค่าใช้จ่ายในการจัดกิจกรรมส่งเสริม พุทธศาสนา | B31: =COUNTIF(จำนวนเด็ก!$K$8:$K$17,"มีกิจกรรม") -> 0 | C31: ร.ร. | E31: 300000 | F31: =B31*E31 -> 0
A32: 5. ค่าวัสดุส่งเสริมการเรียนรู้ | B32: =COUNTIF(จำนวนเด็ก!$J$8:$J$17,"มีหลักสูตร") -> 0 | C32: ร.ร. | E32: 20000 | F32: =B32*E32 -> 0
A33: 6. ค่าใช้จ่ายในการประชุมคณะทำงานฯ (เฉพาะเจ้าภาพ) | B33: =IF(จำนวนเด็ก!B3=I1,1,0) -> 1 | C33: อปท. | E33: 2000000 | F33: =B33*E33 -> 2000000
A34: รวมทั้งสิ้น | C34: โรงเรียน | F34: =ROUND(SUM(F14,F25,F27,F31,F32,F33),-2) -> 2000000
A35: 5. ลักษณะการใช้งบประมาณ ค่าใช้จ่าย เป็นลักษณะค่าตอบแทน ใช้สอย และวัสดุ เพื่อเป็นค่าใช้จ่ายในการอบรมหลักสูตรวิชาอิสลามศึกษา วิชาพุทธศาสนา และหลักสูตรผสมผสาน ที่เปิดเรียนในวันเสาร์ อาทิตย์
A36: 6. ข้อมูลประกอบการพิจารณา 6.1 บัญชีรายชื่อโรงเรียนในสังกัดองค์กรปครองส่วนท้องถิ่นในพื้นที่จังหวัดชายแดนภาคใต้ที่ขอรับการสนับสนุนงบประมาณ (แบบฟอร์มภาคใต้ 1) 6.2 รายละเอียดหลักสูตรที่จัดการเรียนการสอน และรายละเอียดค่าใช้จ่ายทุกรายการ 6.3 กรณีเป็นหน่วยงานเจ้าภาพในการจัดประชุมคณะทำงาน (อปท.) ให้แสดงหลักฐานประกอบ

Sheet จำนวนเด็ก
A1: เงินอุดหนุนสำหรับการจัดการศึกษาขององค์กรปกครองส่วนท้องถิ่นในพื้นที่ชายแดนภาคใต้
A2: ค่าอาหารกลางวันตาดีกา-ปริยัติธรรม-ผสมผสานฯ
B3: เทศบาลนครยะลา
A4: ลำดับ | B4: โรงเรียน | C4: จำนวนนักเรียน | I4: รวมจำนวน นักเรียนทั้งสิ้น | J4: วิชาอิสลามศึกษาและวิชาพุทธศาสนา ในหลักสูตรการศึกษาขั้นพื้นฐาน | K4: ค่าใช้จ่ายในการจัดกิจกรรมส่งเสริม พุทธศาสนา
C5: หลักสูตรชั้นประถมศึกษา | F5: หลักสูตรชั้นมัธยมศึกษา
C6: หลักสูตรฟัรฎูอีน (ตาดีกา) | D6: หลักสูตร พระปริยัติธรรม | E6: รวมจำนวนนักเรียน | F6: (อิสลามศึกษาตอนกลาง/ มุตะวัซซีเฎาะห์ (ม.1 - 3) | G6: อิสลามศึกษาตอนปลาย/ ซานาวียะห์ (ม.4 - 6) | H6: รวมจำนวนนักเรียน
A7: รวมทั้งสิ้น | C7: =SUM(C8:C17) -> 0 | D7: =SUM(D8:D17) -> 0 | E7: =SUM(C7:D7) -> 0 | F7: =SUM(F8:F17) -> 0 | G7: =SUM(G8:G17) -> 0 | H7: =SUM(F7:G7) -> 0 | I7: =SUM(H7,E7) -> 0
A8: 1 | B8: กรุณาเลือกโรงเรียน | C8: 0 | D8: 0 | E8: =SUM(C8:D8) -> 0 | F8: 0 | G8: 0 | H8: =SUM(F8:G8) -> 0 | I8: =SUM(H8,E8) -> 0 | J8: โปรดเลือก | K8: โปรดเลือก
A9: 2 | B9: กรุณาเลือกโรงเรียน | E9: =SUM(C9:D9) -> 0 | H9: =SUM(F9:G9) -> 0 | I9: =SUM(H9,E9) -> 0 | J9: โปรดเลือก | K9: โปรดเลือก
A10: 3 | B10: กรุณาเลือกโรงเรียน | E10: =SUM(C10:D10) -> 0 | H10: =SUM(F10:G10) -> 0 | I10: =SUM(H10,E10) -> 0 | J10: โปรดเลือก | K10: โปรดเลือก
A11: 4 | B11: กรุณาเลือกโรงเรียน | E11: =SUM(C11:D11) -> 0 | H11: =SUM(F11:G11) -> 0 | I11: =SUM(H11,E11) -> 0 | J11: โปรดเลือก | K11: โปรดเลือก
A12: 5 | B12: กรุณาเลือกโรงเรียน | E12: =SUM(C12:D12) -> 0 | H12: =SUM(F12:G12) -> 0 | I12: =SUM(H12,E12) -> 0 | J12: โปรดเลือก | K12: โปรดเลือก
A13: 6 | B13: กรุณาเลือกโรงเรียน | E13: =SUM(C13:D13) -> 0 | H13: =SUM(F13:G13) -> 0 | I13: =SUM(H13,E13) -> 0 | J13: โปรดเลือก | K13: โปรดเลือก
A14: 7 | B14: กรุณาเลือกโรงเรียน | E14: =SUM(C14:D14) -> 0 | H14: =SUM(F14:G14) -> 0 | I14: =SUM(H14,E14) -> 0 | J14: โปรดเลือก | K14: โปรดเลือก
A15: 8 | B15: กรุณาเลือกโรงเรียน | E15: =SUM(C15:D15) -> 0 | H15: =SUM(F15:G15) -> 0 | I15: =SUM(H15,E15) -> 0 | J15: โปรดเลือก | K15: โปรดเลือก
A16: 9 | B16: กรุณาเลือกโรงเรียน | E16: =SUM(C16:D16) -> 0 | H16: =SUM(F16:G16) -> 0 | I16: =SUM(H16,E16) -> 0 | J16: โปรดเลือก | K16: โปรดเลือก
A17: 10 | B17: กรุณาเลือกโรงเรียน | E17: =SUM(C17:D17) -> 0 | H17: =SUM(F17:G17) -> 0 | I17: =SUM(H17,E17) -> 0 | J17: โปรดเลือก | K17: โปรดเลือก

Sheet ศึกษาชายแดนใต้
A1: ผลการเบิกจ่ายงบประมาณปี พ.ศ. 2563-2565 (3ปี)
A2: เงินอุดหนุนการจัดการศึกษาขององค์กรปกครองส่วนท้องถิ่นในพื้นที่จังหวัดชายแดนใต้ (ค่าใช่จ่ายในการจัดกิจกรรม)
A3: งบประมาณปี | B3: งบประมาณที่ได้รับการจัดสรร | C3: ผลการเบิกจ่าย | D3: หมายเหตุ
A5: 2563
A6: 2564
A7: 2565
A8: 2566 (ตค.-พย.65)

Sheet ตย.การศึกษาชายแดนใต้
A1: หน่วยรับงบประมาณ : เทศบาลนครยะลา | I1: เทศบาลนครยะลา
A2: (เฉพาะพื้นที่ 5 จังหวัดชายแดนภาคใต้ (ยะลา ปัตตานี นราธิวาส สตูล และสงขลา))
A3: เงินอุดหนุนทั่วไป
A4: รายการ เงินอุดหนุนการจัดการศึกษาขององค์กรปกครองส่วนท้องถิ่นในพื้นที่จังหวัดชายแดนภาคใต้ (ค่าใช้จ่ายในการจัดกิจกรรม)
A6: 1. หลักการและเหตุผล กระทรวงมหาดไทยมีนโยบายให้กรมส่งเสริมการปกครองท้องถิ่นปรับการจัดการเรียนการสอนโรงเรียนสังกัดองค์กรปกครองส่วนท้องถิ่นในพื้นที่จังหวัดชายแดนภาคใต้ (ยะลา ปัตตานี นราธิวาส สตูล และสงขลา) เพื่อเป็นแนวทางที่จะทำให้นักเรียนไทยมุสลิมในจังหวัดชายแดนภาคใต้ได้มีโอกาสรับบริการทางการศึกษาจากภาครัฐได้อย่างครบถ้วนยิ่งขึ้น รวมทั้งได้รับความสะดวกในเรื่องการ ใช้อาคารสถานที่ อุปกรณ์การเรียนการสอน และสวัสดิการต่าง ๆ และเพื่อมิให้เกิดความแตกต่างระหว่างนักเรียนไทยพุทธและนักเรียนไทยมุสลิม จึงได้มีการปรับเพิ่มชั่วโมงการเรียนการสอนวิชาพุทธศาสนา และจัดการเรียนการสอนหลักสูตรพระปริยัติธรรมให้แก่นักเรียนไทยพุทธด้วย โดยได้เริ่มดำเนินการปรับการจัดการเรียนการสอน ในปีงบประมาณ 2549 ตั้งแต่ภาคเรียนที่ 2 ปีการศึกษา 2548 ต่อเนื่องมาจนถึงปัจจุบัน โดยได้ดำเนินการปรับรูปแบบการจัดการศึกษา ดังนี้ (1) ปรับหลักสูตรการศึกษาขั้นพื้นฐานตั้งแต่ระดับชั้นประถมศึกษา และมัธยมศึกษา โดยเพิ่มชั่วโมงการเรียนการสอนในส่วนวิชาสังคมศึกษา ศาสนาและวัฒนธรรม จาก 2 ชั่วโมง/สัปดาห์ เป็น 3 ชั่วโมง/สัปดาห์ โดยนักเรียนไทยมุสลิมเรียนวิชาอิสลามศึกษา นักเรียนไทยพุทธเรียนวิชาพุทธศาสนา (2) ส่งเสริมสนับสนุนและอำนวยความสะดวกในการจัดการเรียนการสอนหลักสูตรฟัรฎูอีน (หลักสูตรตาดีกา) เทียบเท่าหลักสูตรอิสลามศึกษาตอนต้น และหลักสูตรพระปริยัติธรรม โดยใช้สถานที่ของ องค์กรปกครองส่วนท้องถิ่นจัดการเรียนการสอนระดับชั้น ป.1 - 6 (3) จัดการเรียนการสอนระดับชั้นมัธยมศึกษา (รูปแบบผสมผสาน) โดยให้มีการเรียนการสอนควบคู่ 2 หลักสูตร คือหลักสูตรการศึกษาขั้นพื้นฐาน และหลักสูตรอิสลามศึกษา (อิสลามศึกษาตอนกลาง/มุตะวัซซีเฎาะห์ (ม.1 - 3) และอิสลามศึกษาตอนปลาย/ซานาวียะห์ (ม.4 - 6)
A7: 2. วัตถุประสงค์ 2.1 เพื่อให้นักเรียนได้รับความรู้ทั้งสายสามัญและด้านศาสนาอย่างถูกต้องและมีมาตรฐาน นักเรียนไทยมุสลิม และไทยพุทธจะได้รับการพัฒนาความคิด จิตสำนึก และทัศนคติที่สามารถอยู่ร่วมกันในสังคมได้อย่างสันติสุขและมีความสมานฉันท์ 2.2 เพื่อให้เกิดความร่วมมือระหว่างสถานศึกษากับชุมชนในการร่วมกันให้ความรู้ทางด้านศาสนาแก่นักเรียน และเยาวชนในพื้นที่
A8: 3. เป้าหมาย สถานศึกษาในสังกัดองค์กรปกครองส่วนท้องถิ่นที่จัดการศึกษาในพื้นที่จังหวัดชายแดนภาคใต้ จำนวน ....6...... แห่ง นักเรียนจำนวน ....1,717...... คน
A9: 4. หลักเกณฑ์การจัดสรร จัดสรรอัตราตามระเบียบ ดังนี้ 4.1 ระเบียบกระทรวงการคลัง ว่าด้วยการเบิกจ่ายค่าใช้จ่ายในการบริหารงานของส่วนราชการ พ.ศ. 2553 4.2 ระเบียบกระทรวงการคลังว่าด้วยค่าใช้จ่ายในการฝึกอบรมของส่วนราชการ พ.ศ. 2545 4.3 อัตราต่อหน่วย จัดสรรให้ในอัตราตามขนาดของโรงเรียน ดังนี้ โรงเรียนที่มีจำนวนนักเรียน 1 - 40 คน อัตรา 36 บาท/คน/วัน โรงเรียนที่มีจำนวนนักเรียน 41 - 100 คน อัตรา 27 บาท/คน/วัน โรงเรียนที่มีจำนวนนักเรียน 101 - 120 คน อัตรา 24 บาท/คน/วัน โรงเรียนที่มีนักเรียนตั้งแต่ 121 คนขึ้นไป อัตรา 22 บาท/คน/วัน
B11: (1) | D11: (2) | E11: (3) | F11: (4)=(1)x(2)x(3)
A12: รายการ | B12: เป้าหมาย | D12: จำนวน (วัน) | E12: อัตราต่อหน่วย | F12: งบประมาณ
B13: จำนวน | C13: หน่วยนับ
A14: 1. ค่าอาหารกลางวัน | F14: =F15+F20+F26 -> 2936400
A15: 1.1 หลักสูตรตาดีกา วันเสาร์ - อาทิตย์ | B15: =SUM(B16:B19) -> 470 | C15: คน | F15: =SUM(F16:F19) -> 846400
A16: สถานศึกษาขนาด 1-40 คน | B16: =SUMIFS(ตย.จำนวนเด็ก!$E$7:$E$16,ตย.จำนวนเด็ก!$E$7:$E$16,"<=40") -> 0 | D16: 80 | E16: 36 | F16: =+B16*D16*E16 -> 0
A17: สถานศึกษาขนาด 41-100 คน | B17: =SUMIFS(ตย.จำนวนเด็ก!$E$7:$E$16,ตย.จำนวนเด็ก!$E$7:$E$16,">40",ตย.จำนวนเด็ก!$E$7:$E$16,"<=100") -> 0 | D17: 80 | E17: 27 | F17: =+B17*D17*E17 -> 0
A18: สถานศึกษาขนาด 101-120 คน | B18: =SUMIFS(ตย.จำนวนเด็ก!$E$7:$E$16,ตย.จำนวนเด็ก!$E$7:$E$16,">100",ตย.จำนวนเด็ก!$E$7:$E$16,"<=120") -> 120 | D18: 80 | E18: 24 | F18: =+B18*D18*E18 -> 230400
A19: สถานศึกษาขนาด 121 คนขึ้นไป | B19: =SUMIFS(ตย.จำนวนเด็ก!$E$7:$E$16,ตย.จำนวนเด็ก!$E$7:$E$16,">120") -> 350 | D19: 80 | E19: 22 | F19: =+B19*D19*E19 -> 616000
A20: 1.2 หลักสูตรผสมผสาน ม.1 - ม.6 | B20: =SUM(B21:B24) -> 350 | C20: คน | F20: =SUM(F21:F24) -> 1740000
A21: สถานศึกษาขนาด 1-40 คน | B21: =SUMIFS(ตย.จำนวนเด็ก!$H$7:$H$16,ตย.จำนวนเด็ก!$H$7:$H$16,"<=40") -> 0 | D21: 200 | E21: 36 | F21: =+B21*D21*E21 -> 0
A22: สถานศึกษาขนาด 41-100 คน | B22: =SUMIFS(ตย.จำนวนเด็ก!$H$7:$H$16,ตย.จำนวนเด็ก!$H$7:$H$16,">40",ตย.จำนวนเด็ก!$H$7:$H$16,"<=100") -> 200 | D22: 200 | E22: 27 | F22: =+B22*D22*E22 -> 1080000
A23: สถานศึกษาขนาด 101-120 คน | B23: =SUMIFS(ตย.จำนวนเด็ก!$H$7:$H$16,ตย.จำนวนเด็ก!$H$7:$H$16,">100",ตย.จำนวนเด็ก!$H$7:$H$16,"<=120") -> 0 | D23: 200 | E23: 24 | F23: =+B23*D23*E23 -> 0
A24: สถานศึกษาขนาด 121 คนขึ้นไป | B24: =SUMIFS(ตย.จำนวนเด็ก!$H$7:$H$16,ตย.จำนวนเด็ก!$H$7:$H$16,">120") -> 150 | D24: 200 | E24: 22 | F24: =+B24*D24*E24 -> 660000
A25: 2. ค่าวัสดุรายหัว/แบบเรียน | B25: =SUM(B26) -> 350 | F25: =SUM(F26) -> 350000
A26: - ค่าวัสดุรายหัว/แบบเรียน (หมายเหตุ : เป้าหมายของค่าวัสดุรายหัว/แบบเรียน ต้องเท่ากับเป้าหมายของหลักสูตรผสมผสาน ม.1 - ม.6) | B26: =B20 -> 350 | C26: คน | E26: 1000 | F26: =B26*E26 -> 350000
A27: 3. ค่าใช้จ่ายในการพัฒนา/ปรับปรุงหลักสูตร และสื่อการเรียนการสอนฯ | F27: =SUM(F28:F30) -> 1200000
A28: - วิชาอิสลามศึกษาและวิชาพุทธศาสนา ในหลักสูตรการศึกษาขั้นพื้นฐาน | B28: =COUNTIF(ตย.จำนวนเด็ก!$J$7:$J$16,"มีหลักสูตร") -> 5 | C28: ร.ร. | E28: 150000 | F28: =B28*E28 -> 750000
A29: - วิชาอิสลามศึกษา (มุตะวัซซีเฎาะห์) | B29: =COUNTIF(ตย.จำนวนเด็ก!$F$7:$F$16,">=1") -> 2 | C29: ร.ร. | E29: 150000 | F29: =B29*E29 -> 300000
A30: - วิชาอิสลามศึกษา (ซานาวียะห์) | B30: =COUNTIF(ตย.จำนวนเด็ก!$G$7:$G$16,">=1") -> 1 | C30: ร.ร. | E30: 150000 | F30: =B30*E30 -> 150000
A31: 4. ค่าใช้จ่ายในการจัดกิจกรรมส่งเสริม พุทธศาสนา | B31: =COUNTIF(ตย.จำนวนเด็ก!$K$7:$K$16,"มีกิจกรรม") -> 5 | C31: ร.ร. | E31: 300000 | F31: =B31*E31 -> 1500000
A32: 5. ค่าวัสดุส่งเสริมการเรียนรู้ | B32: =COUNTIF(ตย.จำนวนเด็ก!$J$7:$J$16,"มีหลักสูตร") -> 5 | C32: ร.ร. | E32: 20000 | F32: =B32*E32 -> 100000
A33: 6. ค่าใช้จ่ายในการประชุมคณะทำงานฯ (เฉพาะเจ้าภาพ) | B33: =IF(ตย.จำนวนเด็ก!B3=I1,1,0) -> 1 | C33: อปท. | E33: 2000000 | F33: =B33*E33 -> 2000000
A34: รวมทั้งสิ้น | B34: =COUNTIF(จำนวนเด็ก!$B$8:$B$17,"*รร.*") -> 0 | C34: โรงเรียน | F34: =F33+F32+F31+F27+F14 -> 7736400
A35: 5. ลักษณะการใช้งบประมาณ ค่าใช้จ่าย เป็นลักษณะค่าตอบแทน ใช้สอย และวัสดุ เพื่อเป็นค่าใช้จ่ายในการอบรมหลักสูตรวิชาอิสลามศึกษา วิชาพุทธศาสนา และหลักสูตรผสมผสาน ที่เปิดเรียนในวันเสาร์ อาทิตย์
A36: 6. ข้อมูลประกอบการพิจารณา 6.1 บัญชีรายชื่อโรงเรียนในสังกัดองค์กรปครองส่วนท้องถิ่นในพื้นที่จังหวัดชายแดนภาคใต้ที่ขอรับการสนับสนุนงบประมาณ (แบบฟอร์มภาคใต้ 1) 6.2 รายละเอียดหลักสูตรที่จัดการเรียนการสอน และรายละเอียดค่าใช้จ่ายทุกรายการ 6.3 กรณีเป็นหน่วยงานเจ้าภาพในการจัดประชุมคณะทำงาน (อปท.) ให้แสดงหลักฐานประกอบ 6.4 ผลการเบิกจ่ายปีงบประมาณ พ.ศ. 2563 - พ.ศ. 2565 ขอข้อมูลเต็มปี และปีงบประมาณ พ.ศ. 2566 ขอข้อมูล 2 เดือน (เดือน ต.ค. - พ.ย. 65) 7.1 ผลการเบิกจ่ายปีงบประมาณ พ.ศ. 2563 - 2565 ขอข้อมูลเต็มปี 7.1.1 ผลการเบิกจ่ายปีงบประมาณ พ.ศ. 2563 = ... บาท 7.1.2 ผลการเบิกจ่ายปีงบประมาณ พ.ศ. 2564 = ... บาท 7.3 ผลการเบิกจ่ายปีงบประมาณ พ.ศ. 2566 ขอข้อมูล 2 เดือน (เดือน ต.ค. - พ.ย. 65) = - บาท
A37: หมายเหตุ : กรอกข้อมูลเฉพาะช่องสีเหลือง

Sheet ตย.จำนวนเด็ก
A1: เงินอุดหนุนสำหรับการจัดการศึกษาขององค์กรปกครองส่วนท้องถิ่นในพื้นที่ชายแดนภาคใต้
A2: ค่าอาหารกลางวันตาดีกา-ปริยัติธรรม-ผสมผสานฯ
B3: เทศบาลนครยะลา
A4: ลำดับ | B4: โรงเรียน | C4: จำนวนนักเรียน | I4: รวมจำนวน นักเรียนทั้งสิ้น | J4: วิชาอิสลามศึกษาและวิชาพุทธศาสนา ในหลักสูตรการศึกษาขั้นพื้นฐาน | K4: ค่าใช้จ่ายในการจัดกิจกรรมส่งเสริม พุทธศาสนา
C5: หลักสูตรฟัรฎูอีน (ตาดีกา) | D5: หลักสูตร พระปริยัติธรรม | E5: รวมจำนวนนักเรียน | F5: (อิสลามศึกษาตอนกลาง /มุตะวัซซีเฎาะห์ (ม.1 - 3) | G5: อิสลามศึกษาตอนปลาย/ ซานาวียะห์ (ม.4 - 6) | H5: รวมจำนวนนักเรียน
A6: รวมทั้งสิ้น | C6: =SUM(C7:C16) -> 320 | D6: =SUM(D7:D16) -> 150 | E6: =SUM(C6:D6) -> 470 | F6: =SUM(F7:F16) -> 250 | G6: =SUM(G7:G16) -> 100 | H6: =SUM(F6:G6) -> 350 | I6: =SUM(H6,E6) -> 820
A7: 1 | B7: รร.เทศบาล 1 บ้านสะเตง | C7: 120 | E7: =SUM(C7:D7) -> 120 | F7: 0 | H7: =SUM(F7:G7) -> 0 | I7: =SUM(H7,E7) -> 120 | J7: มีหลักสูตร | K7: มีกิจกรรม
A8: 2 | B8: รร.เทศบาล 2 บ้านมลายูบางกอก | C8: 0 | E8: =SUM(C8:D8) -> 0 | F8: 100 | G8: 0 | H8: =SUM(F8:G8) -> 100 | I8: =SUM(H8,E8) -> 100 | J8: มีหลักสูตร | K8: มีกิจกรรม
A9: 3 | B9: รร.เทศบาล 3 วัดพุทธภูมิ | D9: 150 | E9: =SUM(C9:D9) -> 150 | F9: 0 | G9: 0 | H9: =SUM(F9:G9) -> 0 | I9: =SUM(H9,E9) -> 150 | J9: มีหลักสูตร | K9: มีกิจกรรม
A10: 4 | B10: รร.เทศบาล 4 ธนวิถี | D10: 0 | E10: =SUM(C10:D10) -> 0 | F10: 0 | H10: =SUM(F10:G10) -> 0 | I10: =SUM(H10,E10) -> 0 | J10: มีหลักสูตร | K10: มีกิจกรรม
A11: 5 | B11: รร.เทศบาล 5 บ้านตลาดเก่า | C11: 200 | D11: 0 | E11: =SUM(C11:D11) -> 200 | F11: 150 | G11: 0 | H11: =SUM(F11:G11) -> 150 | I11: =SUM(H11,E11) -> 350 | J11: มีหลักสูตร | K11: มีกิจกรรม
A12: 6 | B12: รร.เทศบาล 6 วัดเมืองยะลา | E12: =SUM(C12:D12) -> 0 | G12: 100 | H12: =SUM(F12:G12) -> 100 | I12: =SUM(H12,E12) -> 100 | J12: โปรดเลือก | K12: โปรดเลือก
A13: 7 | B13: กรุณาเลือกโรงเรียน | E13: =SUM(C13:D13) -> 0 | H13: =SUM(F13:G13) -> 0 | I13: =SUM(H13,E13) -> 0 | J13: โปรดเลือก | K13: โปรดเลือก
A14: 8 | B14: กรุณาเลือกโรงเรียน | E14: =SUM(C14:D14) -> 0 | H14: =SUM(F14:G14) -> 0 | I14: =SUM(H14,E14) -> 0 | J14: โปรดเลือก | K14: โปรดเลือก
A15: 9 | B15: กรุณาเลือกโรงเรียน | E15: =SUM(C15:D15) -> 0 | H15: =SUM(F15:G15) -> 0 | I15: =SUM(H15,E15) -> 0 | J15: โปรดเลือก | K15: โปรดเลือก
A16: 10 | B16: กรุณาเลือกโรงเรียน | E16: =SUM(C16:D16) -> 0 | H16: =SUM(F16:G16) -> 0 | I16: =SUM(H16,E16) -> 0 | J16: โปรดเลือก | K16: โปรดเลือก

Sheet DATA
A1: เทศบาล | B1: เทศบาลตำบลคลองขุด | C1: เทศบาลนครยะลา | D1: เทศบาลเมืองตะลุบัน | E1: เทศบาลเมืองนราธิวาส | F1: เทศบาลเมืองเบตง | G1: เทศบาลเมืองปัตตานี | H1: เทศบาลเมืองสตูล | I1: เทศบาลเมืองสุไหงโก - ลก | J1: องค์การบริหารส่วนจังหวัดปัตตานี | K1: องค์การบริหารส่วนจังหวัดยะลา | L1: องค์การบริหารส่วนจังหวัดสตูล | M1: เทศบาลตำบลปริก | N1: เทศบาลตำบลพะตง | O1: เทศบาลนครสงขลา | P1: เทศบาลนครหาดใหญ่ | Q1: เทศบาลเมืองสะเดา | R1: องค์การบริหารส่วนจังหวัดสงขลา | S1: กรุณาเลือกเทศบาล
A2: เทศบาลตำบลคลองขุด | B2: รร.เทศบาล 1 (บ้านท่าจีน) | C2: รร.เทศบาล 1 บ้านสะเตง | D2: รร.เทศบาล 1 บ้านตะลุบัน | E2: รร.เทศบาล 1 ถนนภูผาภักดี | F2: รร.เทศบาล 1 บ้านกาแป๊ะ | G2: รร.เทศบาล 1 บ้านจะบังติกอ | H2: รร.เทศบาล 1 วัดสตูลสันตยาราม | I2: รร.เทศบาล 1 ราษฎรบำรุง | J2: รร.บ้านเขาตูม | K2: รร.ลำพะยาประชานุเคราะห์ | L2: รร.นิคมพัฒนาผัง 6 | M2: รร.เทศบาลตำบลปริก | N2: รร.เทศบาล 1 ชุมชนบ้านอุดมทอง | O2: รร.เทศบาล 1 ถนนนครนอก | P2: รร.เทศบาล 1 เอ็งเสียงสามัคคี | Q2: รร.เทศบาล 1 บ้านสะเดา | R2: รร.เกาะแต้วพิทยาสรรค์ | S2: กรุณาเลือกโรงเรียน
A3: เทศบาลนครยะลา | C3: รร.เทศบาล 2 บ้านมลายูบางกอก | D3: รร.เทศบาล 2 บ้านปากน้ำ (พิธานอุทิศ) | E3: รร.เทศบาล 2 บ้านบาเละฮิเล | F3: รร.เทศบาล 2 บ้านกาแป๊ะกอตอ | G3: รร.เทศบาล 2 วัดตานีนรสโมสร | H3: รร.เทศบาล 2 วัดชนาธิปเฉลิม | I3: รร.เทศบาล 2 บ้านตันหยงมะลิ | J3: รร.บ้านตะบิงตีงิ | O3: รร.เทศบาล 2 อ่อนอุทิศ | P3: รร.เทศบาล 2 บ้านหาดใหญ่ | Q3: รร.เทศบาล 2 บ้านสะเดา | R3: รร.อบจ.สงขลาพิทยานุสรณ์
A4: เทศบาลเมืองตะลุบัน | C4: รร.เทศบาล 3 วัดพุทธภูมิ | D4: รร.เทศบาล 3 บ้านปาตาตีมอ | E4: รร.เทศบาล 3 บ้านยะกัง | F4: รร.เทศบาล 3 บ้านกุนุงจนอง | G4: รร.เทศบาล 3 บ้านปากน้ำ | H4: รร.เทศบาล 3 บ้านหัวทาง | I4: รร.เทศบาล 3 วิมุกตายนวิทยา | O4: รร.เทศบาล 3 วัดศาลาหัวยาง | P4: รร.เทศบาล 3 โศภณพิทยาคุณานุสรณ์ | Q4: รร.เทศบาล 3 ชุมชนหมู่บ้านตัวอย่าง
A5: เทศบาลเมืองนราธิวาส | C5: รร.เทศบาล 4 ธนวิถี | D5: รร.เทศบาล 4 บ้านอุเมะ | E5: รร.เทศบาล 4 บ้านกำปงตาโก๊ะ | F5: รร.เทศบาล 4 บ้านกาแป๊ะฮูลู | G5: รร.เทศบาล 4 วัดนพวงศาราม | H5: รร.เทศบาล 4 บ้านศาลากันตง | I5: รร.เทศบาล 4 บ้านทรายทอง | O5: รร.เทศบาล 4 บ้านแหลมทราย | P5: รร.เทศบาล 4 วัดคลองเรียน
A6: เทศบาลเมืองเบตง | C6: รร.เทศบาล 5 บ้านตลาดเก่า | D6: รร.เทศบาล 5 บ้านกาหยี | E6: รร.เทศบาล 5 วัดประชาภิรมย์ | F6: รร.เทศบาล 5 ประชาสันติ์ | G6: รร.เทศบาล 5 เทศบาลเมืองปัตตานี | O6: รร.เทศบาล 5 วัดหัวป้อมนอก | P6: รร.เทศบาล 5 วัดหาดใหญ่
A7: เทศบาลเมืองปัตตานี | C7: รร.เทศบาล 6 วัดเมืองยะลา | D7: รร.เทศบาล 6 บ้านบางตาหยาด | E7: รร.เทศบาล 6 ถนนโคกเคียน | P7: รร.เทศบาล 6 (อนุบาลในฝัน)
A8: เทศบาลเมืองสตูล | C8: กรุณาเลือกโรงเรียน
A9: เทศบาลเมืองสุไหงโก_ลก
A10: องค์การบริหารส่วนจังหวัดปัตตานี
A11: องค์การบริหารส่วนจังหวัดยะลา
A12: องค์การบริหารส่วนจังหวัดสตูล
A13: เทศบาลตำบลปริก
A14: เทศบาลตำบลพะตง
A15: เทศบาลนครสงขลา
A16: เทศบาลนครหาดใหญ่
A17: เทศบาลเมืองสะเดา
A18: องค์การบริหารส่วนจังหวัดสงขลา
A19: กรุณาเลือกหน่วยงาน
A29: โปรดเลือก
... A35: ไม่มีกิจกรรม
