Workbook

Sheet สรุป
A1: หน่วยรับงบประมาณ : ........................
A2: เงินอุดหนุนทั่วไป
A3: รายการ : เงินอุดหนุนการจัดการศึกษาขององค์กรปกครองส่วนท้องถิ่นในพื้นที่จังหวัดชายแดนภาคใต้ (ค่าตอบแทน และสวัสดิการ)
A5: 1. หลักการและเหตุผล กระทรวงมหาดไทยมีนโยบายให้กรมส่งเสริมการปกครองท้องถิ่นปรับการจัดการเรียนการสอนโรงเรียนสังกัดองค์กรปกครอง ส่วนท้องถิ่นในพื้นที่จังหวัดชายแดนภาคใต้ (ยะลา ปัตตานี นราธิวาส สตูล และสงขลา) เพื่อเป็นแนวทางที่จะทำให้นักเรียนไทยมุสลิม ในจังหวัดชายแดนภาคใต้ได้มีโอกาสรับบริการทางการศึกษาจากภาครัฐได้อย่างครบถ้วนยิ่งขึ้น รวมทั้งได้รับความสะดวกในเรื่องการใช้อาคารสถานที่ อุปกรณ์การเรียนการสอน และสวัสดิการต่างๆ และเพื่อมิให้เกิดความแตกต่างระหว่างนักเรียนไทยพุทธและนักเรียนไทยมุสลิม จึงได้มีการปรับเพิ่มชั่วโมงการเรียนการสอนวิชาพุทธศาสนา และจัดการเรียนการสอนหลักสูตรพระปริยัติธรรมให้แก่นักเรียนไทยพุทธด้วย โดยได้เริ่มดำเนินการปรับการจัดการเรียนการสอน ตั้งแต่ปีงบประมาณ 2549 ในภาคเรียนที่ 2 ปีการศึกษา 2548 ต่อเนื่องมาจนถึงปัจจุบัน โดยได้ดำเนินการปรับรูปแบบการจัดการศึกษา ดังนี้
A6: (1) ปรับหลักสูตรการศึกษาขั้นพื้นฐานฯ ตั้งแต่ระดับชั้นประถมศึกษา และมัธยมศึกษา โดยเพิ่มชั่วโมงการเรียนการสอนวิชาสังคมศึกษา ศาสนาและวัฒนธรรม จาก 2 ชั่วโมง/สัปดาห์ เป็น 3 ชั่วโมง/สัปดาห์ โดยนักเรียนไทยมุสลิมเรียนวิชาอิสลามศึกษา นักเรียนไทยพุทธเรียนวิชาพุทธศาสนา (2) ส่งเสริมสนับสนุนและอำนวยความสะดวกในการจัดการเรียนการสอนหลักสูตรฟัรฎูอีน (หลักสูตรตาดีกา) เทียบเท่าหลักสูตรอิสลามศึกษาตอนต้น และหลักสูตรพระปริยัติธรรม โดยใช้สถานที่ของ องค์กรปกครองส่วนท้องถิ่นจัดการเรียนการสอนระดับชั้น ป.1-6 (3) จัดการเรียนการสอนระดับชั้นมัธยมศึกษา (รูปแบบผสมผสาน) โดยให้มีการเรียนการสอนควบคู่ 2 หลักสูตร คือ หลักสูตรการศึกษาขั้นพื้นฐาน และหลักสูตรอิสลามศึกษา อิสลามศึกษาตอนกลาง/ มุตะวัซซีเฎาะห์ (ม.1-3) และอิสลามศึกษาตอนปลาย/ซานาวียะห์(ม.4-6)
A7: 2. วัตถุประสงค์ 2.1 เพื่อให้นักเรียนได้รับความรู้ทั้งสายสามัญและด้านศาสนาอย่างถูกต้องและมีมาตรฐาน นักเรียนไทยมุสลิม และไทยพุทธจะได้รับการพัฒนาความคิด จิตสำนึก และทัศนคติที่สามารถอยู่ร่วมกันในสังคมได้อย่างสันติสุขและมีความสมานฉันท์ 2.2 เพื่อให้เกิดความร่วมมือระหว่างสถานศึกษากับชุมชนในการร่วมกันให้ความรู้ทางด้านศาสนาแก่นักเรียน และเยาวชนในพื้นที่
A8: 3. เป้าหมาย พนักงานจ้างตามภารกิจที่สังกัดโรงเรียนขององค์กรปกครองส่วนท้องถิ่นที่ปฏิบัติหน้าที่ในพื้นที่จังหวัดชายแดนภาคใต้ (ยะลา ปัตตานี นราธิวาส สตูล สงขลา) จำนวน 59 โรง โดยให้เฉพาะบุคลากรที่ปฏิบัติงานในโรงเรียนที่กรมส่งเสริมการปกครองท้องถิ่นพิจารณาอนุมัติแล้วว่าเป็นโรงเรียนที่มีการปรับปรุงหลักสูตรการเรียนการสอน
A9: 4. หลักเกณฑ์การจัดสรร เพื่อเป็นค่าตอบแทน เงินเพิ่มค่าครองชีพ และเงินสวัสดิการค่าตอบแทน เงินเพิ่มค่าครองชีพ และเงินสวัสดิการ ดังนี้
A10: (1) ค่าจ้างและเงินเลื่อนค่าตอบแทนพนักงานจ้างตามภารกิจตามผลการประเมินการปฏิบัติราชการ ตำแหน่งผู้ช่วยครูและวิทยากร (ปฏิบัติหน้าที่ครูสอนอิสลามศึกษา ครูสอนพุทธศาสนา ครูสอนพระปริยัติธรรมและครูผู้ปฏิบัติงานโภชนาการ) (2) ค่าจ้างพนักงานจ้างเหมาบริการรายเดือน (ปฏิบัติหน้าที่ครูสอนอิสลามศึกษา ครูสอนพุทธศาสนา และครูสอนพระปริยัติธรรม) (3) ค่าตอบแทนพนักงานจ้างรายชั่วโมง (ปฏิบัติหน้าที่ครูสอนอิสลามศึกษาและครูสอนพระปริยัติธรรม) (4) ค่าตอบแทนรายวันนักการภารโรง (เสาร์-อาทิตย์) (5) เงินประกันสังคมสำหรับพนักงานจ้างตามภารกิจ (6) ค่าตอบแทนพิเศษรายเดือนแก่เจ้าหน้าที่ผู้ปฏิบัติงานในจังหวัดชายแดนภาคใต้ขององค์กรปกครองส่วนท้องถิ่นตามมติ ครม. เมื่อวันที่ 11 พฤศจิกายน 2551 โดยปฏิบัติตามประกาศกระทรวงการคลัง ลงวันที่ 11 กันยายน 2560 เดือนละ 2,500 บาท/คน
A11: รายละเอียดค่าใช้จ่าย | B11: จำนวน (อัตตรา) (1) | C11: งบประมาณ (2) | D11: ระยะเวลา (3) | F11: งบประมาณทั้งสิ้น (4) = (1)×(2)×(4) | G11: หมายเหตุ
A12: 1. ค่าตอบแทนพนักงานจ้างตามภารกิจรายเดือน | B12: =SUM(B13:B16) -> 0 | F12: =(SUM(F13:F16)) -> 0
A13: ครูสอนอิสลามศึกษา | B13: =COUNTIFS(ข้อมูลประกอบ!$F$9:$F$108,สรุป!A13,ข้อมูลประกอบ!$G$9:$G$108,"*อัตราคนครอง*") -> 0 | C13: =SUMIFS(ข้อมูลประกอบ!$H$9:$H$108,ข้อมูลประกอบ!$F$9:$F$108,สรุป!A13,ข้อมูลประกอบ!$G$9:$G$108,"*อัตราคนครอง*") -> 0 | D13: 12 | E13: เดือน | F13: =C13*D13 -> 0
A14: ครูสอนพุทธศาสนา | B14: =COUNTIFS(ข้อมูลประกอบ!$F$9:$F$108,สรุป!A14,ข้อมูลประกอบ!$G$9:$G$108,"*อัตราคนครอง*") -> 0 | C14: =SUMIFS(ข้อมูลประกอบ!$H$9:$H$108,ข้อมูลประกอบ!$F$9:$F$108,สรุป!A14,ข้อมูลประกอบ!$G$9:$G$108,"*อัตราคนครอง*") -> 0 | D14: 12 | E14: เดือน | F14: =C14*D14 -> 0
A15: ครูสอนพระปริยัติธรรม | B15: =COUNTIFS(ข้อมูลประกอบ!$F$9:$F$108,สรุป!A15,ข้อมูลประกอบ!$G$9:$G$108,"*อัตราคนครอง*") -> 0 | C15: =SUMIFS(ข้อมูลประกอบ!$H$9:$H$108,ข้อมูลประกอบ!$F$9:$F$108,สรุป!A15,ข้อมูลประกอบ!$G$9:$G$108,"*อัตราคนครอง*") -> 0 | D15: 12 | E15: เดือน | F15: =C15*D15 -> 0
A16: ครูผู้ปฏิบัติงานโภชนาการ | B16: =COUNTIFS(ข้อมูลประกอบ!$F$9:$F$108,สรุป!A16,ข้อมูลประกอบ!$G$9:$G$108,"*อัตราคนครอง*") -> 0 | C16: =SUMIFS(ข้อมูลประกอบ!$H$9:$H$108,ข้อมูลประกอบ!$F$9:$F$108,สรุป!A16,ข้อมูลประกอบ!$G$9:$G$108,"*อัตราคนครอง*") -> 0 | D16: 12 | E16: เดือน | F16: =C16*D16 -> 0
A17: อัตราว่าง | B17: =COUNTIFS(ข้อมูลประกอบ!$G$9:$G$108,"*อัตราว่าง*",ข้อมูลประกอบ!$F$9:$F$108,"*ครู*") -> 0 | C17: =SUMIFS(ข้อมูลประกอบ!$H$9:$H$108,ข้อมูลประกอบ!$G$9:$G$108,"*อัตราว่าง*",ข้อมูลประกอบ!$F$9:$F$108,"*ครู*") -> 0 | D17: 12 | E17: เดือน | F17: =C17*D17 -> 0
A18: 2. เงินเลื่อนค่าตอบแทนพนักงานจ้างตามภารกิจตามผลการปฏิบัติราชการ (4%) | B18: =B19+B20+B21+B22 -> 0 | F18: =+F19+F20+F21+F22 -> 0
A19: ครูสอนอิสลามศึกษา | B19: =COUNTIF(ข้อมูลประกอบ!$F$9:$F$108,สรุป!A19) -> 0 | C19: =SUMIF(ข้อมูลประกอบ!$F$9:$F$108,สรุป!A19,ข้อมูลประกอบ!$I$9:$I$108) -> 0 | D19: 12 | E19: เดือน | F19: =C19*D19 -> 0
A20: ครูสอนพุทธศาสนา | B20: =COUNTIF(ข้อมูลประกอบ!$F$9:$F$108,สรุป!A20) -> 0 | C20: =SUMIF(ข้อมูลประกอบ!$F$9:$F$108,สรุป!A20,ข้อมูลประกอบ!$I$9:$I$108) -> 0 | D20: 12 | E20: เดือน | F20: =C20*D20 -> 0
A21: ครูสอนพระปริยัติธรรม | B21: =COUNTIF(ข้อมูลประกอบ!$F$9:$F$108,สรุป!A21) -> 0 | C21: =SUMIF(ข้อมูลประกอบ!$F$9:$F$108,สรุป!A21,ข้อมูลประกอบ!$I$9:$I$108) -> 0 | D21: 12 | E21: เดือน | F21: =C21*D21 -> 0
A22: ครูผู้ปฏิบัติงานโภชนาการ | B22: =COUNTIF(ข้อมูลประกอบ!$F$9:$F$108,สรุป!A22) -> 0 | C22: =SUMIF(ข้อมูลประกอบ!$F$9:$F$108,สรุป!A22,ข้อมูลประกอบ!$I$9:$I$108) -> 0 | D22: 12 | E22: เดือน | F22: =C22*D22 -> 0
A23: 3. ค่าจ้างพนักงานจ้างเหมาบริการรายเดือน | B23: =COUNTIFS(ข้อมูลประกอบ!$F$9:$F$108,สรุป!H23,ข้อมูลประกอบ!$G$9:$G$108,"*อัตราคนครอง*") -> 0 | C23: =SUMIFS(ข้อมูลประกอบ!$N$9:$N$108,ข้อมูลประกอบ!$G$9:$G$108,"*อัตราคนครอง*",ข้อมูลประกอบ!$F$9:$F$108,"*นัก*") -> 0 | D23: 12 | E23: เดือน | F23: =C23*D23 -> 0 | H23: พนักงานจ้างเหมาบริการ
A24: อัตราว่าง | B24: =COUNTIFS(ข้อมูลประกอบ!$G$9:$G$108,"*อัตราว่าง*",ข้อมูลประกอบ!$F$9:$F$108,"*นัก*") -> 0 | C24: =SUMIFS(ข้อมูลประกอบ!$N$9:$N$108,ข้อมูลประกอบ!$G$9:$G$108,"*อัตราว่าง*",ข้อมูลประกอบ!$F$9:$F$108,"*นัก*") -> 0 | D24: 12 | E24: เดือน | F24: =C24*D24 -> 0
A25: 4. ค่าตอบแทนพนักงานจ้างรายชั่วโมง (เสาร์-อาทิตย์ 8 ชั่วโมง/วัน) | B25: =COUNTIF(ข้อมูลประกอบ!$F$9:$F$108,สรุป!H25) -> 0 | C25: =SUMIF(ข้อมูลประกอบ!$F$9:$F$108,สรุป!H25,ข้อมูลประกอบ!$U$9:$U$108) -> 0 | D25: 80 | E25: วัน | F25: =C25 -> 0 | H25: พนักงานจ้าง
A26: 5. ค่าตอบแทนรายวันนักการภารโรง (เสาร์-อาทิตย์) | B26: =COUNTIF(ข้อมูลประกอบ!$F$9:$F$108,สรุป!H26) -> 0 | C26: =SUMIF(ข้อมูลประกอบ!$F$9:$F$108,สรุป!H26,ข้อมูลประกอบ!$X$9:$X$108) -> 0 | D26: 80 | E26: วัน | F26: =C26 -> 0 | H26: นักการภารโรง
A27: 6. เงินประกันสังคมสำหรับพนักงานจ้างตามภารกิจ (5%) | B27: =B12 -> 0 | C27: =ข้อมูลประกอบ!L7 -> 0 | D27: 12 | E27: เดือน | F27: =C27*D27 -> 0
A28: 7. ค่าตอบแทนพิเศษรายเดือนภาคใต้ | B28: =COUNTIF(ข้อมูลประกอบ!P9:P108,">1") -> 0 | C28: =SUMIF(ข้อมูลประกอบ!$P$9:$P$108,">1",ข้อมูลประกอบ!$P$9:$P$108) -> 0 | D28: 12 | E28: เดือน | F28: =C28*D28 -> 0
A29: รวมทั้งสิ้น | F29: =ROUND(SUM(F12,F18,F23,F25,F26,F27,F28),-2) -> 0
A30: 5. ลักษณะการใช้งบประมาณ เป็นค่าใช้จ่ายที่ต้องจ่ายตามสิทธิ โดยจ่ายเป็นอัตรารายหัวให้เฉพาะผู้ที่มีรายชื่อเป็นเจ้าหน้าที่ขององค์กรปกครองส่วนท้องถิ่นที่ปฏิบัติงานในพื้นที่จังหวัดชายแดนใต้
A31: 6. ข้อมูลประกอบการพิจารณา 1. ข้อมูลโรงเรียนที่ผ่านการปรับปรุงหลักสูตรการเรียนการสอน 2. ข้อมูลบุคลากรในสังกัดโรงเรียนที่ผ่านการปรับปรุงหลักสูตรการเรียนการสอน

Sheet ข้อมูลประกอบ
A1: บัญชีรายละเอียดการจัดสรรค่าตอบแทนพนักงานจ้างตามภารกิจตำแหน่งผู้ช่วยครูและวิทยากร
A2: (ปฏิบัติหน้าที่ครูสอนอิสลามศึกษา ครูสอนพุทธศาสนา ครูสอนพระปริยัติธรรม และครูผู้ปฏิบัติงานโภชนาการ)
A3: โครงการส่งเสริมสนับสนุนการแก้ไขปัญหาพัฒนาจังหวัดชายแดนภาคใต้ เงินอุดหนุนสำหรับสนับสนุนการจัดการศึกษา
A5: ลำดับที่ | B5: ชื่อ - นามสกุล | C5: เลขที่สัญญา | D5: วุฒิการศึกษา | E5: จังหวัด/อปท./โรงเรียน | F5: ตำแหน่ง | G5: อัตราคนครอง/อัตรว่าง | H5: ค่าตอบแทนพนักงานจ้างตามภารกิจ | N5: ค่าตอบแทนพนักงานจ้างเหมาบริการ | P5: เงินค่าตอบแทนพิเศษ ชายแดนใต้ (รายเดือน) | Q5: เงินค่าตอบแทนพิเศษ ชายแดนใต้ (รายปี) | R5: ค่าตอบแทนพนักงานจ้างรายชั่วโมง (เสาร์ - อาทิตย์ 8 ชั่วโมง/วัน) 200 บาท/ชั่วโมง | V5: ค่าตอบแทนรายวันนักการภารโรง (เสาร์ - อาทิตย์) 300 บาท/วัน | Y5: รวมทั้งสิ้น
H6: เงินเดือนพนักงาน ณ 1 ต.ค. 2568 (เงินเดือน) | I6: เลื่อนขั้น 4% | J6: รวมเงินเดือน + เลื่อนขั้น | L6: เงินกองทุนประกันสังคม ร้อยละ 5 (รายเดือน) | M6: รวมเงินเดือน พนักงานจ้างตามภารกิจ (รายปี) | N6: เงินเดือนพนักงาน จ้างเหมาบริการ (รายเดือน) | O6: รวมเงินเดือน พนักงาน (รายปี) | R6: จำนวนชั่วโมง | S6: จำนวนวัน ไม่เกิน 80 วัน | T6: ค่าตอบแทน พนักงานจ้างเหมาบริการ | U6: รวมเงินค่าตอบแทน พนักงานจ้าง | V6: จำนวนวัน ไม่เกิน 80 วัน | W6: นักการภารโรง | X6: รวมเงินค่าตอบแทน นักการภารโรง
A7: จังหวัดยะลา | H7: =SUM(H8) -> 0 | I7: =SUM(I8) -> 0 | J7: =SUM(J8) -> 0 | L7: =SUM(L8) -> 0 | M7: =SUM(M8) -> 0 | N7: =SUM(N8) -> 0 | O7: =SUM(O8) -> 0 | P7: =SUM(P8) -> 0 | Q7: =SUM(Q8) -> 0 | R7: =SUM(R8) -> 0 | S7: =SUM(S8) -> 0 | ... Y7: =SUM(Y8) -> 0
A8: เทศบาลนครยะลา | H8: =(SUM(H9:H90)) -> 0 | I8: =(SUM(I9:I90)) -> 0 | J8: =(SUM(J9:J90)) -> 0 | K8: =(SUM(K9:K90)) -> 0 | L8: =(SUM(L9:L90)) -> 0 | M8: =(SUM(M9:M90)) -> 0 | N8: =(SUM(N9:N90)) -> 0 | O8: =(SUM(O9:O90)) -> 0 | ... Q8: =(SUM(Q9:Q90)) -> 0 | U8: =(SUM(U9:U90)) -> 0 | X8: =(SUM(X9:X90)) -> 0 | Y8: =(SUM(Y9:Y90)) -> 0
A9: 1 | D9: โปรดเลือก | F9: กรุณาเลือกตำแหน่ง | G9: โปรดเลือก | I9: =H9*0.04 -> 0 | J9: =SUM(H9:I9) -> 0 | K9: =J9*0.05 -> 0 | L9: =IF(K9>=750,750,K9) -> 0 | M9: =SUM(J9+L9)*12 -> 0 | N9: =IF(F9=DATA!$A$1,DATA!$D$1,IF(ข้อมูลประกอบ!F9=DATA!$A$2,DATA!$D$2,IF(ข้อมูลประกอบ!F9=DATA!$A$3,DATA!$D$3,IF(ข้อมูลประกอบ!F9=DATA!$A$4,DATA!$D$4,IF(ข้อมูลประกอบ!F9=DATA!$A$5,DATA!$B$5,IF(ข้อมูลประกอบ!F9=DATA!$A$6,DATA!$D$6,IF(ข้อมูลประกอบ!F9=DATA!$A$7,DATA!$D$7,IF(ข้อมูลประกอบ!F9=DATA!$A$8,DATA!$D$8)))))))) -> 0 | O9: =N9*12 -> 0 | P9: =IF($F9=DATA!$A$1,DATA!$C$1,IF(ข้อมูลประกอบ!$F9=DATA!$A$2,DATA!$C$2,IF(ข้อมูลประกอบ!$F9=DATA!$A$3,DATA!$C$3,IF(ข้อมูลประกอบ!$F9=DATA!$A$4,DATA!$C$4,IF(ข้อมูลประกอบ!$F9=DATA!$A$5,DATA!$C$5,IF(ข้อมูลประกอบ!$F9=DATA!$A$6,DATA!$D$6,IF(ข้อมูลประกอบ!$F9=DATA!$A$7,DATA!$D$7,IF(ข้อมูลประกอบ!$F9=DATA!$A$8,DATA!$B$8)))))))) -> 0 | Q9: =P9*12 -> 0 | R9: =IF($F9=DATA!$A$1,DATA!$D$1,IF(ข้อมูลประกอบ!$F9=DATA!$A$2,DATA!$D$2,IF(ข้อมูลประกอบ!$F9=DATA!$A$3,DATA!$D$3,IF(ข้อมูลประกอบ!$F9=DATA!$A$4,DATA!$D$4,IF(ข้อมูลประกอบ!$F9=DATA!$A$5,DATA!$D$5,IF(ข้อมูลประกอบ!$F9=DATA!$A$6,DATA!$B$6,IF(ข้อมูลประกอบ!$F9=DATA!$A$7,DATA!$D$7,IF(ข้อมูลประกอบ!$F9=DATA!$A$8,DATA!$D$8)))))))) -> 0 | S9: =IF($F9=DATA!$A$1,DATA!$D$1,IF(ข้อมูลประกอบ!$F9=DATA!$A$2,DATA!$D$2,IF(ข้อมูลประกอบ!$F9=DATA!$A$3,DATA!$D$3,IF(ข้อมูลประกอบ!$F9=DATA!$A$4,DATA!$D$4,IF(ข้อมูลประกอบ!$F9=DATA!$A$5,DATA!$D$5,IF(ข้อมูลประกอบ!$F9=DATA!$A$6,DATA!$C$6,IF(ข้อมูลประกอบ!$F9=DATA!$A$7,DATA!$D$7,IF(ข้อมูลประกอบ!$F9=DATA!$A$8,DATA!$D$8)))))))) -> 0 | T9: =IF($F9=DATA!$A$1,DATA!$D$1,IF(ข้อมูลประกอบ!$F9=DATA!$A$2,DATA!$D$2,IF(ข้อมูลประกอบ!$F9=DATA!$A$3,DATA!$D$3,IF(ข้อมูลประกอบ!$F9=DATA!$A$4,DATA!$D$4,IF(ข้อมูลประกอบ!$F9=DATA!$A$5,DATA!$D$5,IF(ข้อมูลประกอบ!$F9=DATA!$A$6,DATA!$E$6,IF(ข้อมูลประกอบ!$F9=DATA!$A$7,DATA!$D$7,IF(ข้อมูลประกอบ!$F9=DATA!$A$8,DATA!$D$8)))))))) -> 0 | U9: =R9*S9*T9 -> 0 | V9: =IF($F9=DATA!$A$1,DATA!$D$1,IF(ข้อมูลประกอบ!$F9=DATA!$A$2,DATA!$D$2,IF(ข้อมูลประกอบ!$F9=DATA!$A$3,DATA!$D$3,IF(ข้อมูลประกอบ!$F9=DATA!$A$4,DATA!$D$4,IF(ข้อมูลประกอบ!$F9=DATA!$A$5,DATA!$D$5,IF(ข้อมูลประกอบ!$F9=DATA!$A$6,DATA!$D$6,IF(ข้อมูลประกอบ!$F9=DATA!$A$7,DATA!$B$7,IF(ข้อมูลประกอบ!$F9=DATA!$A$8,DATA!$D$8)))))))) -> 0 | W9: =IF($F9=DATA!$A$1,DATA!$D$1,IF(ข้อมูลประกอบ!$F9=DATA!$A$2,DATA!$D$2,IF(ข้อมูลประกอบ!$F9=DATA!$A$3,DATA!$D$3,IF(ข้อมูลประกอบ!$F9=DATA!$A$4,DATA!$D$4,IF(ข้อมูลประกอบ!$F9=DATA!$A$5,DATA!$D$5,IF(ข้อมูลประกอบ!$F9=DATA!$A$6,DATA!$D$6,IF(ข้อมูลประกอบ!$F9=DATA!$A$7,DATA!$C$7,IF(ข้อมูลประกอบ!$F9=DATA!$A$8,DATA!$D$8)))))))) -> 0 | X9: =V9*W9 -> 0 | Y9: =SUM(M9,O9,Q9,U9,X9) -> 0
A10: 2 | D10: โปรดเลือก | F10: กรุณาเลือกตำแหน่ง | G10: โปรดเลือก | H10: 0 | I10: =H10*0.04 -> 0 | J10: =SUM(H10:I10) -> 0 | K10: =J10*0.05 -> 0 | L10: =IF(K10>=750,750,K10) -> 0 | M10: =SUM(J10+L10)*12 -> 0 | N10: =IF(F10=DATA!$A$1,DATA!$D$1,IF(ข้อมูลประกอบ!F10=DATA!$A$2,DATA!$D$2,IF(ข้อมูลประกอบ!F10=DATA!$A$3,DATA!$D$3,IF(ข้อมูลประกอบ!F10=DATA!$A$4,DATA!$D$4,IF(ข้อมูลประกอบ!F10=DATA!$A$5,DATA!$B$5,IF(ข้อมูลประกอบ!F10=DATA!$A$6,DATA!$D$6,IF(ข้อมูลประกอบ!F10=DATA!$A$7,DATA!$D$7,IF(ข้อมูลประกอบ!F10=DATA!$A$8,DATA!$D$8)))))))) -> 0 | O10: =N10*12 -> 0 | P10: =IF(F10=DATA!$A$1,DATA!$C$1,IF(ข้อมูลประกอบ!F10=DATA!$A$2,DATA!$C$2,IF(ข้อมูลประกอบ!F10=DATA!$A$3,DATA!$C$3,IF(ข้อมูลประกอบ!F10=DATA!$A$4,DATA!$C$4,IF(ข้อมูลประกอบ!F10=DATA!$A$5,DATA!$C$5,IF(ข้อมูลประกอบ!F10=DATA!$A$6,DATA!$D$6,IF(ข้อมูลประกอบ!F10=DATA!$A$7,DATA!$D$7,IF(ข้อมูลประกอบ!F10=DATA!$A$8,DATA!$B$8)))))))) -> 0 | Q10: =P10*12 -> 0 | R10: =IF($F10=DATA!$A$1,DATA!$D$1,IF(ข้อมูลประกอบ!$F10=DATA!$A$2,DATA!$D$2,IF(ข้อมูลประกอบ!$F10=DATA!$A$3,DATA!$D$3,IF(ข้อมูลประกอบ!$F10=DATA!$A$4,DATA!$D$4,IF(ข้อมูลประกอบ!$F10=DATA!$A$5,DATA!$D$5,IF(ข้อมูลประกอบ!$F10=DATA!$A$6,DATA!$B$6,IF(ข้อมูลประกอบ!$F10=DATA!$A$7,DATA!$D$7,IF(ข้อมูลประกอบ!$F10=DATA!$A$8,DATA!$D$8)))))))) -> 0 | S10: =IF($F10=DATA!$A$1,DATA!$D$1,IF(ข้อมูลประกอบ!$F10=DATA!$A$2,DATA!$D$2,IF(ข้อมูลประกอบ!$F10=DATA!$A$3,DATA!$D$3,IF(ข้อมูลประกอบ!$F10=DATA!$A$4,DATA!$D$4,IF(ข้อมูลประกอบ!$F10=DATA!$A$5,DATA!$D$5,IF(ข้อมูลประกอบ!$F10=DATA!$A$6,DATA!$C$6,IF(ข้อมูลประกอบ!$F10=DATA!$A$7,DATA!$D$7,IF(ข้อมูลประกอบ!$F10=DATA!$A$8,DATA!$D$8)))))))) -> 0 | T10: =IF($F10=DATA!$A$1,DATA!$D$1,IF(ข้อมูลประกอบ!$F10=DATA!$A$2,DATA!$D$2,IF(ข้อมูลประกอบ!$F10=DATA!$A$3,DATA!$D$3,IF(ข้อมูลประกอบ!$F10=DATA!$A$4,DATA!$D$4,IF(ข้อมูลประกอบ!$F10=DATA!$A$5,DATA!$D$5,IF(ข้อมูลประกอบ!$F10=DATA!$A$6,DATA!$E$6,IF(ข้อมูลประกอบ!$F10=DATA!$A$7,DATA!$D$7,IF(ข้อมูลประกอบ!$F10=DATA!$A$8,DATA!$D$8)))))))) -> 0 | U10: =R10*S10*T10 -> 0 | V10: =IF($F10=DATA!$A$1,DATA!$D$1,IF(ข้อมูลประกอบ!$F10=DATA!$A$2,DATA!$D$2,IF(ข้อมูลประกอบ!$F10=DATA!$A$3,DATA!$D$3,IF(ข้อมูลประกอบ!$F10=DATA!$A$4,DATA!$D$4,IF(ข้อมูลประกอบ!$F10=DATA!$A$5,DATA!$D$5,IF(ข้อมูลประกอบ!$F10=DATA!$A$6,DATA!$D$6,IF(ข้อมูลประกอบ!$F10=DATA!$A$7,DATA!$B$7,IF(ข้อมูลประกอบ!$F10=DATA!$A$8,DATA!$D$8)))))))) -> 0 | W10: =IF($F10=DATA!$A$1,DATA!$D$1,IF(ข้อมูลประกอบ!$F10=DATA!$A$2,DATA!$D$2,IF(ข้อมูลประกอบ!$F10=DATA!$A$3,DATA!$D$3,IF(ข้อมูลประกอบ!$F10=DATA!$A$4,DATA!$D$4,IF(ข้อมูลประกอบ!$F10=DATA!$A$5,DATA!$D$5,IF(ข้อมูลประกอบ!$F10=DATA!$A$6,DATA!$D$6,IF(ข้อมูลประกอบ!$F10=DATA!$A$7,DATA!$C$7,IF(ข้อมูลประกอบ!$F10=DATA!$A$8,DATA!$D$8)))))))) -> 0 | X10: =V10*W10 -> 0 | Y10: =SUM(M10,O10,Q10,U10,X10) -> 0
A11: 3 | D11: โปรดเลือก | F11: กรุณาเลือกตำแหน่ง | G11: โปรดเลือก | H11: 0 | I11: =H11*0.04 -> 0 | J11: =SUM(H11:I11) -> 0 | K11: =J11*0.05 -> 0 | L11: =IF(K11>=750,750,K11) -> 0 | M11: =SUM(J11+L11)*12 -> 0 | N11: =IF(F11=DATA!$A$1,DATA!$D$1,IF(ข้อมูลประกอบ!F11=DATA!$A$2,DATA!$D$2,IF(ข้อมูลประกอบ!F11=DATA!$A$3,DATA!$D$3,IF(ข้อมูลประกอบ!F11=DATA!$A$4,DATA!$D$4,IF(ข้อมูลประกอบ!F11=DATA!$A$5,DATA!$B$5,IF(ข้อมูลประกอบ!F11=DATA!$A$6,DATA!$D$6,IF(ข้อมูลประกอบ!F11=DATA!$A$7,DATA!$D$7,IF(ข้อมูลประกอบ!F11=DATA!$A$8,DATA!$D$8)))))))) -> 0 | O11: =N11*12 -> 0 | P11: =IF(F11=DATA!$A$1,DATA!$C$1,IF(ข้อมูลประกอบ!F11=DATA!$A$2,DATA!$C$2,IF(ข้อมูลประกอบ!F11=DATA!$A$3,DATA!$C$3,IF(ข้อมูลประกอบ!F11=DATA!$A$4,DATA!$C$4,IF(ข้อมูลประกอบ!F11=DATA!$A$5,DATA!$C$5,IF(ข้อมูลประกอบ!F11=DATA!$A$6,DATA!$D$6,IF(ข้อมูลประกอบ!F11=DATA!$A$7,DATA!$D$7,IF(ข้อมูลประกอบ!F11=DATA!$A$8,DATA!$B$8)))))))) -> 0 | Q11: =P11*12 -> 0 | R11: =IF($F11=DATA!$A$1,DATA!$D$1,IF(ข้อมูลประกอบ!$F11=DATA!$A$2,DATA!$D$2,IF(ข้อมูลประกอบ!$F11=DATA!$A$3,DATA!$D$3,IF(ข้อมูลประกอบ!$F11=DATA!$A$4,DATA!$D$4,IF(ข้อมูลประกอบ!$F11=DATA!$A$5,DATA!$D$5,IF(ข้อมูลประกอบ!$F11=DATA!$A$6,DATA!$B$6,IF(ข้อมูลประกอบ!$F11=DATA!$A$7,DATA!$D$7,IF(ข้อมูลประกอบ!$F11=DATA!$A$8,DATA!$D$8)))))))) -> 0 | S11: =IF($F11=DATA!$A$1,DATA!$D$1,IF(ข้อมูลประกอบ!$F11=DATA!$A$2,DATA!$D$2,IF(ข้อมูลประกอบ!$F11=DATA!$A$3,DATA!$D$3,IF(ข้อมูลประกอบ!$F11=DATA!$A$4,DATA!$D$4,IF(ข้อมูลประกอบ!$F11=DATA!$A$5,DATA!$D$5,IF(ข้อมูลประกอบ!$F11=DATA!$A$6,DATA!$C$6,IF(ข้อมูลประกอบ!$F11=DATA!$A$7,DATA!$D$7,IF(ข้อมูลประกอบ!$F11=DATA!$A$8,DATA!$D$8)))))))) -> 0 | T11: =IF($F11=DATA!$A$1,DATA!$D$1,IF(ข้อมูลประกอบ!$F11=DATA!$A$2,DATA!$D$2,IF(ข้อมูลประกอบ!$F11=DATA!$A$3,DATA!$D$3,IF(ข้อมูลประกอบ!$F11=DATA!$A$4,DATA!$D$4,IF(ข้อมูลประกอบ!$F11=DATA!$A$5,DATA!$D$5,IF(ข้อมูลประกอบ!$F11=DATA!$A$6,DATA!$E$6,IF(ข้อมูลประกอบ!$F11=DATA!$A$7,DATA!$D$7,IF(ข้อมูลประกอบ!$F11=DATA!$A$8,DATA!$D$8)))))))) -> 0 | U11: =R11*S11*T11 -> 0 | V11: =IF($F11=DATA!$A$1,DATA!$D$1,IF(ข้อมูลประกอบ!$F11=DATA!$A$2,DATA!$D$2,IF(ข้อมูลประกอบ!$F11=DATA!$A$3,DATA!$D$3,IF(ข้อมูลประกอบ!$F11=DATA!$A$4,DATA!$D$4,IF(ข้อมูลประกอบ!$F11=DATA!$A$5,DATA!$D$5,IF(ข้อมูลประกอบ!$F11=DATA!$A$6,DATA!$D$6,IF(ข้อมูลประกอบ!$F11=DATA!$A$7,DATA!$B$7,IF(ข้อมูลประกอบ!$F11=DATA!$A$8,DATA!$D$8)))))))) -> 0 | W11: =IF($F11=DATA!$A$1,DATA!$D$1,IF(ข้อมูลประกอบ!$F11=DATA!$A$2,DATA!$D$2,IF(ข้อมูลประกอบ!$F11=DATA!$A$3,DATA!$D$3,IF(ข้อมูลประกอบ!$F11=DATA!$A$4,DATA!$D$4,IF(ข้อมูลประกอบ!$F11=DATA!$A$5,DATA!$D$5,IF(ข้อมูลประกอบ!$F11=DATA!$A$6,DATA!$D$6,IF(ข้อมูลประกอบ!$F11=DATA!$A$7,DATA!$C$7,IF(ข้อมูลประกอบ!$F11=DATA!$A$8,DATA!$D$8)))))))) -> 0 | X11: =V11*W11 -> 0 | Y11: =SUM(M11,O11,Q11,U11,X11) -> 0
A12: 4 | D12: โปรดเลือก | F12: กรุณาเลือกตำแหน่ง | G12: โปรดเลือก | H12: 0 | I12: =H12*0.04 -> 0 | J12: =SUM(H12:I12) -> 0 | K12: =J12*0.05 -> 0 | L12: =IF(K12>=750,750,K12) -> 0 | M12: =SUM(J12+L12)*12 -> 0 | N12: =IF(F12=DATA!$A$1,DATA!$D$1,IF(ข้อมูลประกอบ!F12=DATA!$A$2,DATA!$D$2,IF(ข้อมูลประกอบ!F12=DATA!$A$3,DATA!$D$3,IF(ข้อมูลประกอบ!F12=DATA!$A$4,DATA!$D$4,IF(ข้อมูลประกอบ!F12=DATA!$A$5,DATA!$B$5,IF(ข้อมูลประกอบ!F12=DATA!$A$6,DATA!$D$6,IF(ข้อมูลประกอบ!F12=DATA!$A$7,DATA!$D$7,IF(ข้อมูลประกอบ!F12=DATA!$A$8,DATA!$D$8)))))))) -> 0 | O12: =N12*12 -> 0 | P12: =IF(F12=DATA!$A$1,DATA!$C$1,IF(ข้อมูลประกอบ!F12=DATA!$A$2,DATA!$C$2,IF(ข้อมูลประกอบ!F12=DATA!$A$3,DATA!$C$3,IF(ข้อมูลประกอบ!F12=DATA!$A$4,DATA!$C$4,IF(ข้อมูลประกอบ!F12=DATA!$A$5,DATA!$C$5,IF(ข้อมูลประกอบ!F12=DATA!$A$6,DATA!$D$6,IF(ข้อมูลประกอบ!F12=DATA!$A$7,DATA!$D$7,IF(ข้อมูลประกอบ!F12=DATA!$A$8,DATA!$B$8)))))))) -> 0 | Q12: =P12*12 -> 0 | R12: =IF($F12=DATA!$A$1,DATA!$D$1,IF(ข้อมูลประกอบ!$F12=DATA!$A$2,DATA!$D$2,IF(ข้อมูลประกอบ!$F12=DATA!$A$3,DATA!$D$3,IF(ข้อมูลประกอบ!$F12=DATA!$A$4,DATA!$D$4,IF(ข้อมูลประกอบ!$F12=DATA!$A$5,DATA!$D$5,IF(ข้อมูลประกอบ!$F12=DATA!$A$6,DATA!$B$6,IF(ข้อมูลประกอบ!$F12=DATA!$A$7,DATA!$D$7,IF(ข้อมูลประกอบ!$F12=DATA!$A$8,DATA!$D$8)))))))) -> 0 | S12: =IF($F12=DATA!$A$1,DATA!$D$1,IF(ข้อมูลประกอบ!$F12=DATA!$A$2,DATA!$D$2,IF(ข้อมูลประกอบ!$F12=DATA!$A$3,DATA!$D$3,IF(ข้อมูลประกอบ!$F12=DATA!$A$4,DATA!$D$4,IF(ข้อมูลประกอบ!$F12=DATA!$A$5,DATA!$D$5,IF(ข้อมูลประกอบ!$F12=DATA!$A$6,DATA!$C$6,IF(ข้อมูลประกอบ!$F12=DATA!$A$7,DATA!$D$7,IF(ข้อมูลประกอบ!$F12=DATA!$A$8,DATA!$D$8)))))))) -> 0 | T12: =IF($F12=DATA!$A$1,DATA!$D$1,IF(ข้อมูลประกอบ!$F12=DATA!$A$2,DATA!$D$2,IF(ข้อมูลประกอบ!$F12=DATA!$A$3,DATA!$D$3,IF(ข้อมูลประกอบ!$F12=DATA!$A$4,DATA!$D$4,IF(ข้อมูลประกอบ!$F12=DATA!$A$5,DATA!$D$5,IF(ข้อมูลประกอบ!$F12=DATA!$A$6,DATA!$E$6,IF(ข้อมูลประกอบ!$F12=DATA!$A$7,DATA!$D$7,IF(ข้อมูลประกอบ!$F12=DATA!$A$8,DATA!$D$8)))))))) -> 0 | U12: =R12*S12*T12 -> 0 | V12: =IF($F12=DATA!$A$1,DATA!$D$1,IF(ข้อมูลประกอบ!$F12=DATA!$A$2,DATA!$D$2,IF(ข้อมูลประกอบ!$F12=DATA!$A$3,DATA!$D$3,IF(ข้อมูลประกอบ!$F12=DATA!$A$4,DATA!$D$4,IF(ข้อมูลประกอบ!$F12=DATA!$A$5,DATA!$D$5,IF(ข้อมูลประกอบ!$F12=DATA!$A$6,DATA!$D$6,IF(ข้อมูลประกอบ!$F12=DATA!$A$7,DATA!$B$7,IF(ข้อมูลประกอบ!$F12=DATA!$A$8,DATA!$D$8)))))))) -> 0 | W12: =IF($F12=DATA!$A$1,DATA!$D$1,IF(ข้อมูลประกอบ!$F12=DATA!$A$2,DATA!$D$2,IF(ข้อมูลประกอบ!$F12=DATA!$A$3,DATA!$D$3,IF(ข้อมูลประกอบ!$F12=DATA!$A$4,DATA!$D$4,IF(ข้อมูลประกอบ!$F12=DATA!$A$5,DATA!$D$5,IF(ข้อมูลประกอบ!$F12=DATA!$A$6,DATA!$D$6,IF(ข้อมูลประกอบ!$F12=DATA!$A$7,DATA!$C$7,IF(ข้อมูลประกอบ!$F12=DATA!$A$8,DATA!$D$8)))))))) -> 0 | X12: =V12*W12 -> 0 | Y12: =SUM(M12,O12,Q12,U12,X12) -> 0
A13: 5 | D13: โปรดเลือก | F13: กรุณาเลือกตำแหน่ง | G13: โปรดเลือก | H13: 0 | I13: =H13*0.04 -> 0 | J13: =SUM(H13:I13) -> 0 | K13: =J13*0.05 -> 0 | L13: =IF(K13>=750,750,K13) -> 0 | M13: =SUM(J13+L13)*12 -> 0 | N13: =IF(F13=DATA!$A$1,DATA!$D$1,IF(ข้อมูลประกอบ!F13=DATA!$A$2,DATA!$D$2,IF(ข้อมูลประกอบ!F13=DATA!$A$3,DATA!$D$3,IF(ข้อมูลประกอบ!F13=DATA!$A$4,DATA!$D$4,IF(ข้อมูลประกอบ!F13=DATA!$A$5,DATA!$B$5,IF(ข้อมูลประกอบ!F13=DATA!$A$6,DATA!$D$6,IF(ข้อมูลประกอบ!F13=DATA!$A$7,DATA!$D$7,IF(ข้อมูลประกอบ!F13=DATA!$A$8,DATA!$D$8)))))))) -> 0 | O13: =N13*12 -> 0 | P13: =IF(F13=DATA!$A$1,DATA!$C$1,IF(ข้อมูลประกอบ!F13=DATA!$A$2,DATA!$C$2,IF(ข้อมูลประกอบ!F13=DATA!$A$3,DATA!$C$3,IF(ข้อมูลประกอบ!F13=DATA!$A$4,DATA!$C$4,IF(ข้อมูลประกอบ!F13=DATA!$A$5,DATA!$C$5,IF(ข้อมูลประกอบ!F13=DATA!$A$6,DATA!$D$6,IF(ข้อมูลประกอบ!F13=DATA!$A$7,DATA!$D$7,IF(ข้อมูลประกอบ!F13=DATA!$A$8,DATA!$B$8)))))))) -> 0 | Q13: =P13*12 -> 0 | R13: =IF($F13=DATA!$A$1,DATA!$D$1,IF(ข้อมูลประกอบ!$F13=DATA!$A$2,DATA!$D$2,IF(ข้อมูลประกอบ!$F13=DATA!$A$3,DATA!$D$3,IF(ข้อมูลประกอบ!$F13=DATA!$A$4,DATA!$D$4,IF(ข้อมูลประกอบ!$F13=DATA!$A$5,DATA!$D$5,IF(ข้อมูลประกอบ!$F13=DATA!$A$6,DATA!$B$6,IF(ข้อมูลประกอบ!$F13=DATA!$A$7,DATA!$D$7,IF(ข้อมูลประกอบ!$F13=DATA!$A$8,DATA!$D$8)))))))) -> 0 | S13: =IF($F13=DATA!$A$1,DATA!$D$1,IF(ข้อมูลประกอบ!$F13=DATA!$A$2,DATA!$D$2,IF(ข้อมูลประกอบ!$F13=DATA!$A$3,DATA!$D$3,IF(ข้อมูลประกอบ!$F13=DATA!$A$4,DATA!$D$4,IF(ข้อมูลประกอบ!$F13=DATA!$A$5,DATA!$D$5,IF(ข้อมูลประกอบ!$F13=DATA!$A$6,DATA!$C$6,IF(ข้อมูลประกอบ!$F13=DATA!$A$7,DATA!$D$7,IF(ข้อมูลประกอบ!$F13=DATA!$A$8,DATA!$D$8)))))))) -> 0 | T13: =IF($F13=DATA!$A$1,DATA!$D$1,IF(ข้อมูลประกอบ!$F13=DATA!$A$2,DATA!$D$2,IF(ข้อมูลประกอบ!$F13=DATA!$A$3,DATA!$D$3,IF(ข้อมูลประกอบ!$F13=DATA!$A$4,DATA!$D$4,IF(ข้อมูลประกอบ!$F13=DATA!$A$5,DATA!$D$5,IF(ข้อมูลประกอบ!$F13=DATA!$A$6,DATA!$E$6,IF(ข้อมูลประกอบ!$F13=DATA!$A$7,DATA!$D$7,IF(ข้อมูลประกอบ!$F13=DATA!$A$8,DATA!$D$8)))))))) -> 0 | U13: =R13*S13*T13 -> 0 | V13: =IF($F13=DATA!$A$1,DATA!$D$1,IF(ข้อมูลประกอบ!$F13=DATA!$A$2,DATA!$D$2,IF(ข้อมูลประกอบ!$F13=DATA!$A$3,DATA!$D$3,IF(ข้อมูลประกอบ!$F13=DATA!$A$4,DATA!$D$4,IF(ข้อมูลประกอบ!$F13=DATA!$A$5,DATA!$D$5,IF(ข้อมูลประกอบ!$F13=DATA!$A$6,DATA!$D$6,IF(ข้อมูลประกอบ!$F13=DATA!$A$7,DATA!$B$7,IF(ข้อมูลประกอบ!$F13=DATA!$A$8,DATA!$D$8)))))))) -> 0 | W13: =IF($F13=DATA!$A$1,DATA!$D$1,IF(ข้อมูลประกอบ!$F13=DATA!$A$2,DATA!$D$2,IF(ข้อมูลประกอบ!$F13=DATA!$A$3,DATA!$D$3,IF(ข้อมูลประกอบ!$F13=DATA!$A$4,DATA!$D$4,IF(ข้อมูลประกอบ!$F13=DATA!$A$5,DATA!$D$5,IF(ข้อมูลประกอบ!$F13=DATA!$A$6,DATA!$D$6,IF(ข้อมูลประกอบ!$F13=DATA!$A$7,DATA!$C$7,IF(ข้อมูลประกอบ!$F13=DATA!$A$8,DATA!$D$8)))))))) -> 0 | X13: =V13*W13 -> 0 | Y13: =SUM(M13,O13,Q13,U13,X13) -> 0
A14: 6 | D14: โปรดเลือก | F14: กรุณาเลือกตำแหน่ง | G14: โปรดเลือก | H14: 0 | I14: =H14*0.04 -> 0 | J14: =SUM(H14:I14) -> 0 | K14: =J14*0.05 -> 0 | L14: =IF(K14>=750,750,K14) -> 0 | M14: =SUM(J14+L14)*12 -> 0 | N14: =IF(F14=DATA!$A$1,DATA!$D$1,IF(ข้อมูลประกอบ!F14=DATA!$A$2,DATA!$D$2,IF(ข้อมูลประกอบ!F14=DATA!$A$3,DATA!$D$3,IF(ข้อมูลประกอบ!F14=DATA!$A$4,DATA!$D$4,IF(ข้อมูลประกอบ!F14=DATA!$A$5,DATA!$B$5,IF(ข้อมูลประกอบ!F14=DATA!$A$6,DATA!$D$6,IF(ข้อมูลประกอบ!F14=DATA!$A$7,DATA!$D$7,IF(ข้อมูลประกอบ!F14=DATA!$A$8,DATA!$D$8)))))))) -> 0 | O14: =N14*12 -> 0 | P14: =IF(F14=DATA!$A$1,DATA!$C$1,IF(ข้อมูลประกอบ!F14=DATA!$A$2,DATA!$C$2,IF(ข้อมูลประกอบ!F14=DATA!$A$3,DATA!$C$3,IF(ข้อมูลประกอบ!F14=DATA!$A$4,DATA!$C$4,IF(ข้อมูลประกอบ!F14=DATA!$A$5,DATA!$C$5,IF(ข้อมูลประกอบ!F14=DATA!$A$6,DATA!$D$6,IF(ข้อมูลประกอบ!F14=DATA!$A$7,DATA!$D$7,IF(ข้อมูลประกอบ!F14=DATA!$A$8,DATA!$B$8)))))))) -> 0 | Q14: =P14*12 -> 0 | R14: =IF($F14=DATA!$A$1,DATA!$D$1,IF(ข้อมูลประกอบ!$F14=DATA!$A$2,DATA!$D$2,IF(ข้อมูลประกอบ!$F14=DATA!$A$3,DATA!$D$3,IF(ข้อมูลประกอบ!$F14=DATA!$A$4,DATA!$D$4,IF(ข้อมูลประกอบ!$F14=DATA!$A$5,DATA!$D$5,IF(ข้อมูลประกอบ!$F14=DATA!$A$6,DATA!$B$6,IF(ข้อมูลประกอบ!$F14=DATA!$A$7,DATA!$D$7,IF(ข้อมูลประกอบ!$F14=DATA!$A$8,DATA!$D$8)))))))) -> 0 | S14: =IF($F14=DATA!$A$1,DATA!$D$1,IF(ข้อมูลประกอบ!$F14=DATA!$A$2,DATA!$D$2,IF(ข้อมูลประกอบ!$F14=DATA!$A$3,DATA!$D$3,IF(ข้อมูลประกอบ!$F14=DATA!$A$4,DATA!$D$4,IF(ข้อมูลประกอบ!$F14=DATA!$A$5,DATA!$D$5,IF(ข้อมูลประกอบ!$F14=DATA!$A$6,DATA!$C$6,IF(ข้อมูลประกอบ!$F14=DATA!$A$7,DATA!$D$7,IF(ข้อมูลประกอบ!$F14=DATA!$A$8,DATA!$D$8)))))))) -> 0 | T14: =IF($F14=DATA!$A$1,DATA!$D$1,IF(ข้อมูลประกอบ!$F14=DATA!$A$2,DATA!$D$2,IF(ข้อมูลประกอบ!$F14=DATA!$A$3,DATA!$D$3,IF(ข้อมูลประกอบ!$F14=DATA!$A$4,DATA!$D$4,IF(ข้อมูลประกอบ!$F14=DATA!$A$5,DATA!$D$5,IF(ข้อมูลประกอบ!$F14=DATA!$A$6,DATA!$E$6,IF(ข้อมูลประกอบ!$F14=DATA!$A$7,DATA!$D$7,IF(ข้อมูลประกอบ!$F14=DATA!$A$8,DATA!$D$8)))))))) -> 0 | U14: =R14*S14*T14 -> 0 | V14: =IF($F14=DATA!$A$1,DATA!$D$1,IF(ข้อมูลประกอบ!$F14=DATA!$A$2,DATA!$D$2,IF(ข้อมูลประกอบ!$F14=DATA!$A$3,DATA!$D$3,IF(ข้อมูลประกอบ!$F14=DATA!$A$4,DATA!$D$4,IF(ข้อมูลประกอบ!$F14=DATA!$A$5,DATA!$D$5,IF(ข้อมูลประกอบ!$F14=DATA!$A$6,DATA!$D$6,IF(ข้อมูลประกอบ!$F14=DATA!$A$7,DATA!$B$7,IF(ข้อมูลประกอบ!$F14=DATA!$A$8,DATA!$D$8)))))))) -> 0 | W14: =IF($F14=DATA!$A$1,DATA!$D$1,IF(ข้อมูลประกอบ!$F14=DATA!$A$2,DATA!$D$2,IF(ข้อมูลประกอบ!$F14=DATA!$A$3,DATA!$D$3,IF(ข้อมูลประกอบ!$F14=DATA!$A$4,DATA!$D$4,IF(ข้อมูลประกอบ!$F14=DATA!$A$5,DATA!$D$5,IF(ข้อมูลประกอบ!$F14=DATA!$A$6,DATA!$D$6,IF(ข้อมูลประกอบ!$F14=DATA!$A$7,DATA!$C$7,IF(ข้อมูลประกอบ!$F14=DATA!$A$8,DATA!$D$8)))))))) -> 0 | X14: =V14*W14 -> 0 | Y14: =SUM(M14,O14,Q14,U14,X14) -> 0
A15: 7 | D15: โปรดเลือก | F15: กรุณาเลือกตำแหน่ง | G15: โปรดเลือก | H15: 0 | I15: =H15*0.04 -> 0 | J15: =SUM(H15:I15) -> 0 | K15: =J15*0.05 -> 0 | L15: =IF(K15>=750,750,K15) -> 0 | M15: =SUM(J15+L15)*12 -> 0 | N15: 0 | O15: =N15*12 -> 0 | P15: =IF(F15=DATA!$A$1,DATA!$C$1,IF(ข้อมูลประกอบ!F15=DATA!$A$2,DATA!$C$2,IF(ข้อมูลประกอบ!F15=DATA!$A$3,DATA!$C$3,IF(ข้อมูลประกอบ!F15=DATA!$A$4,DATA!$C$4,IF(ข้อมูลประกอบ!F15=DATA!$A$5,DATA!$C$5,IF(ข้อมูลประกอบ!F15=DATA!$A$6,DATA!$D$6,IF(ข้อมูลประกอบ!F15=DATA!$A$7,DATA!$D$7,IF(ข้อมูลประกอบ!F15=DATA!$A$8,DATA!$B$8)))))))) -> 0 | Q15: =P15*12 -> 0 | R15: =IF($F15=DATA!$A$1,DATA!$D$1,IF(ข้อมูลประกอบ!$F15=DATA!$A$2,DATA!$D$2,IF(ข้อมูลประกอบ!$F15=DATA!$A$3,DATA!$D$3,IF(ข้อมูลประกอบ!$F15=DATA!$A$4,DATA!$D$4,IF(ข้อมูลประกอบ!$F15=DATA!$A$5,DATA!$D$5,IF(ข้อมูลประกอบ!$F15=DATA!$A$6,DATA!$B$6,IF(ข้อมูลประกอบ!$F15=DATA!$A$7,DATA!$D$7,IF(ข้อมูลประกอบ!$F15=DATA!$A$8,DATA!$D$8)))))))) -> 0 | S15: =IF($F15=DATA!$A$1,DATA!$D$1,IF(ข้อมูลประกอบ!$F15=DATA!$A$2,DATA!$D$2,IF(ข้อมูลประกอบ!$F15=DATA!$A$3,DATA!$D$3,IF(ข้อมูลประกอบ!$F15=DATA!$A$4,DATA!$D$4,IF(ข้อมูลประกอบ!$F15=DATA!$A$5,DATA!$D$5,IF(ข้อมูลประกอบ!$F15=DATA!$A$6,DATA!$C$6,IF(ข้อมูลประกอบ!$F15=DATA!$A$7,DATA!$D$7,IF(ข้อมูลประกอบ!$F15=DATA!$A$8,DATA!$D$8)))))))) -> 0 | T15: =IF($F15=DATA!$A$1,DATA!$D$1,IF(ข้อมูลประกอบ!$F15=DATA!$A$2,DATA!$D$2,IF(ข้อมูลประกอบ!$F15=DATA!$A$3,DATA!$D$3,IF(ข้อมูลประกอบ!$F15=DATA!$A$4,DATA!$D$4,IF(ข้อมูลประกอบ!$F15=DATA!$A$5,DATA!$D$5,IF(ข้อมูลประกอบ!$F15=DATA!$A$6,DATA!$E$6,IF(ข้อมูลประกอบ!$F15=DATA!$A$7,DATA!$D$7,IF(ข้อมูลประกอบ!$F15=DATA!$A$8,DATA!$D$8)))))))) -> 0 | U15: =R15*S15*T15 -> 0 | V15: =IF($F15=DATA!$A$1,DATA!$D$1,IF(ข้อมูลประกอบ!$F15=DATA!$A$2,DATA!$D$2,IF(ข้อมูลประกอบ!$F15=DATA!$A$3,DATA!$D$3,IF(ข้อมูลประกอบ!$F15=DATA!$A$4,DATA!$D$4,IF(ข้อมูลประกอบ!$F15=DATA!$A$5,DATA!$D$5,IF(ข้อมูลประกอบ!$F15=DATA!$A$6,DATA!$D$6,IF(ข้อมูลประกอบ!$F15=DATA!$A$7,DATA!$B$7,IF(ข้อมูลประกอบ!$F15=DATA!$A$8,DATA!$D$8)))))))) -> 0 | W15: =IF($F15=DATA!$A$1,DATA!$D$1,IF(ข้อมูลประกอบ!$F15=DATA!$A$2,DATA!$D$2,IF(ข้อมูลประกอบ!$F15=DATA!$A$3,DATA!$D$3,IF(ข้อมูลประกอบ!$F15=DATA!$A$4,DATA!$D$4,IF(ข้อมูลประกอบ!$F15=DATA!$A$5,DATA!$D$5,IF(ข้อมูลประกอบ!$F15=DATA!$A$6,DATA!$D$6,IF(ข้อมูลประกอบ!$F15=DATA!$A$7,DATA!$C$7,IF(ข้อมูลประกอบ!$F15=DATA!$A$8,DATA!$D$8)))))))) -> 0 | X15: =V15*W15 -> 0 | Y15: =SUM(M15,O15,Q15,U15,X15) -> 0
A16: 8 | D16: โปรดเลือก | F16: กรุณาเลือกตำแหน่ง | G16: โปรดเลือก | H16: 0 | I16: =H16*0.04 -> 0 | J16: =SUM(H16:I16) -> 0 | K16: =J16*0.05 -> 0 | L16: =IF(K16>=750,750,K16) -> 0 | M16: =SUM(J16+L16)*12 -> 0 | N16: =IF(F16=DATA!$A$1,DATA!$D$1,IF(ข้อมูลประกอบ!F16=DATA!$A$2,DATA!$D$2,IF(ข้อมูลประกอบ!F16=DATA!$A$3,DATA!$D$3,IF(ข้อมูลประกอบ!F16=DATA!$A$4,DATA!$D$4,IF(ข้อมูลประกอบ!F16=DATA!$A$5,DATA!$B$5,IF(ข้อมูลประกอบ!F16=DATA!$A$6,DATA!$D$6,IF(ข้อมูลประกอบ!F16=DATA!$A$7,DATA!$D$7,IF(ข้อมูลประกอบ!F16=DATA!$A$8,DATA!$D$8)))))))) -> 0 | O16: =N16*12 -> 0 | P16: =IF(F16=DATA!$A$1,DATA!$C$1,IF(ข้อมูลประกอบ!F16=DATA!$A$2,DATA!$C$2,IF(ข้อมูลประกอบ!F16=DATA!$A$3,DATA!$C$3,IF(ข้อมูลประกอบ!F16=DATA!$A$4,DATA!$C$4,IF(ข้อมูลประกอบ!F16=DATA!$A$5,DATA!$C$5,IF(ข้อมูลประกอบ!F16=DATA!$A$6,DATA!$D$6,IF(ข้อมูลประกอบ!F16=DATA!$A$7,DATA!$D$7,IF(ข้อมูลประกอบ!F16=DATA!$A$8,DATA!$B$8)))))))) -> 0 | Q16: =P16*12 -> 0 | R16: =IF($F16=DATA!$A$1,DATA!$D$1,IF(ข้อมูลประกอบ!$F16=DATA!$A$2,DATA!$D$2,IF(ข้อมูลประกอบ!$F16=DATA!$A$3,DATA!$D$3,IF(ข้อมูลประกอบ!$F16=DATA!$A$4,DATA!$D$4,IF(ข้อมูลประกอบ!$F16=DATA!$A$5,DATA!$D$5,IF(ข้อมูลประกอบ!$F16=DATA!$A$6,DATA!$B$6,IF(ข้อมูลประกอบ!$F16=DATA!$A$7,DATA!$D$7,IF(ข้อมูลประกอบ!$F16=DATA!$A$8,DATA!$D$8)))))))) -> 0 | S16: =IF($F16=DATA!$A$1,DATA!$D$1,IF(ข้อมูลประกอบ!$F16=DATA!$A$2,DATA!$D$2,IF(ข้อมูลประกอบ!$F16=DATA!$A$3,DATA!$D$3,IF(ข้อมูลประกอบ!$F16=DATA!$A$4,DATA!$D$4,IF(ข้อมูลประกอบ!$F16=DATA!$A$5,DATA!$D$5,IF(ข้อมูลประกอบ!$F16=DATA!$A$6,DATA!$C$6,IF(ข้อมูลประกอบ!$F16=DATA!$A$7,DATA!$D$7,IF(ข้อมูลประกอบ!$F16=DATA!$A$8,DATA!$D$8)))))))) -> 0 | T16: =IF($F16=DATA!$A$1,DATA!$D$1,IF(ข้อมูลประกอบ!$F16=DATA!$A$2,DATA!$D$2,IF(ข้อมูลประกอบ!$F16=DATA!$A$3,DATA!$D$3,IF(ข้อมูลประกอบ!$F16=DATA!$A$4,DATA!$D$4,IF(ข้อมูลประกอบ!$F16=DATA!$A$5,DATA!$D$5,IF(ข้อมูลประกอบ!$F16=DATA!$A$6,DATA!$E$6,IF(ข้อมูลประกอบ!$F16=DATA!$A$7,DATA!$D$7,IF(ข้อมูลประกอบ!$F16=DATA!$A$8,DATA!$D$8)))))))) -> 0 | U16: =R16*S16*T16 -> 0 | V16: =IF($F16=DATA!$A$1,DATA!$D$1,IF(ข้อมูลประกอบ!$F16=DATA!$A$2,DATA!$D$2,IF(ข้อมูลประกอบ!$F16=DATA!$A$3,DATA!$D$3,IF(ข้อมูลประกอบ!$F16=DATA!$A$4,DATA!$D$4,IF(ข้อมูลประกอบ!$F16=DATA!$A$5,DATA!$D$5,IF(ข้อมูลประกอบ!$F16=DATA!$A$6,DATA!$D$6,IF(ข้อมูลประกอบ!$F16=DATA!$A$7,DATA!$B$7,IF(ข้อมูลประกอบ!$F16=DATA!$A$8,DATA!$D$8)))))))) -> 0 | W16: =IF($F16=DATA!$A$1,DATA!$D$1,IF(ข้อมูลประกอบ!$F16=DATA!$A$2,DATA!$D$2,IF(ข้อมูลประกอบ!$F16=DATA!$A$3,DATA!$D$3,IF(ข้อมูลประกอบ!$F16=DATA!$A$4,DATA!$D$4,IF(ข้อมูลประกอบ!$F16=DATA!$A$5,DATA!$D$5,IF(ข้อมูลประกอบ!$F16=DATA!$A$6,DATA!$D$6,IF(ข้อมูลประกอบ!$F16=DATA!$A$7,DATA!$C$7,IF(ข้อมูลประกอบ!$F16=DATA!$A$8,DATA!$D$8)))))))) -> 0 | X16: =V16*W16 -> 0 | Y16: =SUM(M16,O16,Q16,U16,X16) -> 0
A17: 9 | D17: โปรดเลือก | F17: กรุณาเลือกตำแหน่ง | G17: โปรดเลือก | H17: 0 | I17: =H17*0.04 -> 0 | J17: =SUM(H17:I17) -> 0 | K17: =J17*0.05 -> 0 | L17: =IF(K17>=750,750,K17) -> 0 | M17: =SUM(J17+L17)*12 -> 0 | N17: =IF(F17=DATA!$A$1,DATA!$D$1,IF(ข้อมูลประกอบ!F17=DATA!$A$2,DATA!$D$2,IF(ข้อมูลประกอบ!F17=DATA!$A$3,DATA!$D$3,IF(ข้อมูลประกอบ!F17=DATA!$A$4,DATA!$D$4,IF(ข้อมูลประกอบ!F17=DATA!$A$5,DATA!$B$5,IF(ข้อมูลประกอบ!F17=DATA!$A$6,DATA!$D$6,IF(ข้อมูลประกอบ!F17=DATA!$A$7,DATA!$D$7,IF(ข้อมูลประกอบ!F17=DATA!$A$8,DATA!$D$8)))))))) -> 0 | O17: =N17*12 -> 0 | P17: =IF(F17=DATA!$A$1,DATA!$C$1,IF(ข้อมูลประกอบ!F17=DATA!$A$2,DATA!$C$2,IF(ข้อมูลประกอบ!F17=DATA!$A$3,DATA!$C$3,IF(ข้อมูลประกอบ!F17=DATA!$A$4,DATA!$C$4,IF(ข้อมูลประกอบ!F17=DATA!$A$5,DATA!$C$5,IF(ข้อมูลประกอบ!F17=DATA!$A$6,DATA!$D$6,IF(ข้อมูลประกอบ!F17=DATA!$A$7,DATA!$D$7,IF(ข้อมูลประกอบ!F17=DATA!$A$8,DATA!$B$8)))))))) -> 0 | Q17: =P17*12 -> 0 | R17: =IF($F17=DATA!$A$1,DATA!$D$1,IF(ข้อมูลประกอบ!$F17=DATA!$A$2,DATA!$D$2,IF(ข้อมูลประกอบ!$F17=DATA!$A$3,DATA!$D$3,IF(ข้อมูลประกอบ!$F17=DATA!$A$4,DATA!$D$4,IF(ข้อมูลประกอบ!$F17=DATA!$A$5,DATA!$D$5,IF(ข้อมูลประกอบ!$F17=DATA!$A$6,DATA!$B$6,IF(ข้อมูลประกอบ!$F17=DATA!$A$7,DATA!$D$7,IF(ข้อมูลประกอบ!$F17=DATA!$A$8,DATA!$D$8)))))))) -> 0 | S17: =IF($F17=DATA!$A$1,DATA!$D$1,IF(ข้อมูลประกอบ!$F17=DATA!$A$2,DATA!$D$2,IF(ข้อมูลประกอบ!$F17=DATA!$A$3,DATA!$D$3,IF(ข้อมูลประกอบ!$F17=DATA!$A$4,DATA!$D$4,IF(ข้อมูลประกอบ!$F17=DATA!$A$5,DATA!$D$5,IF(ข้อมูลประกอบ!$F17=DATA!$A$6,DATA!$C$6,IF(ข้อมูลประกอบ!$F17=DATA!$A$7,DATA!$D$7,IF(ข้อมูลประกอบ!$F17=DATA!$A$8,DATA!$D$8)))))))) -> 0 | T17: =IF($F17=DATA!$A$1,DATA!$D$1,IF(ข้อมูลประกอบ!$F17=DATA!$A$2,DATA!$D$2,IF(ข้อมูลประกอบ!$F17=DATA!$A$3,DATA!$D$3,IF(ข้อมูลประกอบ!$F17=DATA!$A$4,DATA!$D$4,IF(ข้อมูลประกอบ!$F17=DATA!$A$5,DATA!$D$5,IF(ข้อมูลประกอบ!$F17=DATA!$A$6,DATA!$E$6,IF(ข้อมูลประกอบ!$F17=DATA!$A$7,DATA!$D$7,IF(ข้อมูลประกอบ!$F17=DATA!$A$8,DATA!$D$8)))))))) -> 0 | U17: =R17*S17*T17 -> 0 | V17: =IF($F17=DATA!$A$1,DATA!$D$1,IF(ข้อมูลประกอบ!$F17=DATA!$A$2,DATA!$D$2,IF(ข้อมูลประกอบ!$F17=DATA!$A$3,DATA!$D$3,IF(ข้อมูลประกอบ!$F17=DATA!$A$4,DATA!$D$4,IF(ข้อมูลประกอบ!$F17=DATA!$A$5,DATA!$D$5,IF(ข้อมูลประกอบ!$F17=DATA!$A$6,DATA!$D$6,IF(ข้อมูลประกอบ!$F17=DATA!$A$7,DATA!$B$7,IF(ข้อมูลประกอบ!$F17=DATA!$A$8,DATA!$D$8)))))))) -> 0 | W17: =IF($F17=DATA!$A$1,DATA!$D$1,IF(ข้อมูลประกอบ!$F17=DATA!$A$2,DATA!$D$2,IF(ข้อมูลประกอบ!$F17=DATA!$A$3,DATA!$D$3,IF(ข้อมูลประกอบ!$F17=DATA!$A$4,DATA!$D$4,IF(ข้อมูลประกอบ!$F17=DATA!$A$5,DATA!$D$5,IF(ข้อมูลประกอบ!$F17=DATA!$A$6,DATA!$D$6,IF(ข้อมูลประกอบ!$F17=DATA!$A$7,DATA!$C$7,IF(ข้อมูลประกอบ!$F17=DATA!$A$8,DATA!$D$8)))))))) -> 0 | X17: =V17*W17 -> 0 | Y17: =SUM(M17,O17,Q17,U17,X17) -> 0
A18: 10 | D18: โปรดเลือก | F18: กรุณาเลือกตำแหน่ง | G18: โปรดเลือก | H18: 0 | I18: =H18*0.04 -> 0 | J18: =SUM(H18:I18) -> 0 | K18: =J18*0.05 -> 0 | L18: =IF(K18>=750,750,K18) -> 0 | M18: =SUM(J18+L18)*12 -> 0 | N18: =IF(F18=DATA!$A$1,DATA!$D$1,IF(ข้อมูลประกอบ!F18=DATA!$A$2,DATA!$D$2,IF(ข้อมูลประกอบ!F18=DATA!$A$3,DATA!$D$3,IF(ข้อมูลประกอบ!F18=DATA!$A$4,DATA!$D$4,IF(ข้อมูลประกอบ!F18=DATA!$A$5,DATA!$B$5,IF(ข้อมูลประกอบ!F18=DATA!$A$6,DATA!$D$6,IF(ข้อมูลประกอบ!F18=DATA!$A$7,DATA!$D$7,IF(ข้อมูลประกอบ!F18=DATA!$A$8,DATA!$D$8)))))))) -> 0 | O18: =N18*12 -> 0 | P18: =IF(F18=DATA!$A$1,DATA!$C$1,IF(ข้อมูลประกอบ!F18=DATA!$A$2,DATA!$C$2,IF(ข้อมูลประกอบ!F18=DATA!$A$3,DATA!$C$3,IF(ข้อมูลประกอบ!F18=DATA!$A$4,DATA!$C$4,IF(ข้อมูลประกอบ!F18=DATA!$A$5,DATA!$C$5,IF(ข้อมูลประกอบ!F18=DATA!$A$6,DATA!$D$6,IF(ข้อมูลประกอบ!F18=DATA!$A$7,DATA!$D$7,IF(ข้อมูลประกอบ!F18=DATA!$A$8,DATA!$B$8)))))))) -> 0 | Q18: =P18*12 -> 0 | R18: =IF($F18=DATA!$A$1,DATA!$D$1,IF(ข้อมูลประกอบ!$F18=DATA!$A$2,DATA!$D$2,IF(ข้อมูลประกอบ!$F18=DATA!$A$3,DATA!$D$3,IF(ข้อมูลประกอบ!$F18=DATA!$A$4,DATA!$D$4,IF(ข้อมูลประกอบ!$F18=DATA!$A$5,DATA!$D$5,IF(ข้อมูลประกอบ!$F18=DATA!$A$6,DATA!$B$6,IF(ข้อมูลประกอบ!$F18=DATA!$A$7,DATA!$D$7,IF(ข้อมูลประกอบ!$F18=DATA!$A$8,DATA!$D$8)))))))) -> 0 | S18: =IF($F18=DATA!$A$1,DATA!$D$1,IF(ข้อมูลประกอบ!$F18=DATA!$A$2,DATA!$D$2,IF(ข้อมูลประกอบ!$F18=DATA!$A$3,DATA!$D$3,IF(ข้อมูลประกอบ!$F18=DATA!$A$4,DATA!$D$4,IF(ข้อมูลประกอบ!$F18=DATA!$A$5,DATA!$D$5,IF(ข้อมูลประกอบ!$F18=DATA!$A$6,DATA!$C$6,IF(ข้อมูลประกอบ!$F18=DATA!$A$7,DATA!$D$7,IF(ข้อมูลประกอบ!$F18=DATA!$A$8,DATA!$D$8)))))))) -> 0 | T18: =IF($F18=DATA!$A$1,DATA!$D$1,IF(ข้อมูลประกอบ!$F18=DATA!$A$2,DATA!$D$2,IF(ข้อมูลประกอบ!$F18=DATA!$A$3,DATA!$D$3,IF(ข้อมูลประกอบ!$F18=DATA!$A$4,DATA!$D$4,IF(ข้อมูลประกอบ!$F18=DATA!$A$5,DATA!$D$5,IF(ข้อมูลประกอบ!$F18=DATA!$A$6,DATA!$E$6,IF(ข้อมูลประกอบ!$F18=DATA!$A$7,DATA!$D$7,IF(ข้อมูลประกอบ!$F18=DATA!$A$8,DATA!$D$8)))))))) -> 0 | U18: =R18*S18*T18 -> 0 | V18: =IF($F18=DATA!$A$1,DATA!$D$1,IF(ข้อมูลประกอบ!$F18=DATA!$A$2,DATA!$D$2,IF(ข้อมูลประกอบ!$F18=DATA!$A$3,DATA!$D$3,IF(ข้อมูลประกอบ!$F18=DATA!$A$4,DATA!$D$4,IF(ข้อมูลประกอบ!$F18=DATA!$A$5,DATA!$D$5,IF(ข้อมูลประกอบ!$F18=DATA!$A$6,DATA!$D$6,IF(ข้อมูลประกอบ!$F18=DATA!$A$7,DATA!$B$7,IF(ข้อมูลประกอบ!$F18=DATA!$A$8,DATA!$D$8)))))))) -> 0 | W18: =IF($F18=DATA!$A$1,DATA!$D$1,IF(ข้อมูลประกอบ!$F18=DATA!$A$2,DATA!$D$2,IF(ข้อมูลประกอบ!$F18=DATA!$A$3,DATA!$D$3,IF(ข้อมูลประกอบ!$F18=DATA!$A$4,DATA!$D$4,IF(ข้อมูลประกอบ!$F18=DATA!$A$5,DATA!$D$5,IF(ข้อมูลประกอบ!$F18=DATA!$A$6,DATA!$D$6,IF(ข้อมูลประกอบ!$F18=DATA!$A$7,DATA!$C$7,IF(ข้อมูลประกอบ!$F18=DATA!$A$8,DATA!$D$8)))))))) -> 0 | X18: =V18*W18 -> 0 | Y18: =SUM(M18,O18,Q18,U18,X18) -> 0
A19: 11 | D19: โปรดเลือก | F19: กรุณาเลือกตำแหน่ง | G19: โปรดเลือก | H19: 0 | I19: =H19*0.04 -> 0 | J19: =SUM(H19:I19) -> 0 | K19: =J19*0.05 -> 0 | L19: =IF(K19>=750,750,K19) -> 0 | M19: =SUM(J19+L19)*12 -> 0 | N19: =IF(F19=DATA!$A$1,DATA!$D$1,IF(ข้อมูลประกอบ!F19=DATA!$A$2,DATA!$D$2,IF(ข้อมูลประกอบ!F19=DATA!$A$3,DATA!$D$3,IF(ข้อมูลประกอบ!F19=DATA!$A$4,DATA!$D$4,IF(ข้อมูลประกอบ!F19=DATA!$A$5,DATA!$B$5,IF(ข้อมูลประกอบ!F19=DATA!$A$6,DATA!$D$6,IF(ข้อมูลประกอบ!F19=DATA!$A$7,DATA!$D$7,IF(ข้อมูลประกอบ!F19=DATA!$A$8,DATA!$D$8)))))))) -> 0 | O19: =N19*12 -> 0 | P19: =IF(F19=DATA!$A$1,DATA!$C$1,IF(ข้อมูลประกอบ!F19=DATA!$A$2,DATA!$C$2,IF(ข้อมูลประกอบ!F19=DATA!$A$3,DATA!$C$3,IF(ข้อมูลประกอบ!F19=DATA!$A$4,DATA!$C$4,IF(ข้อมูลประกอบ!F19=DATA!$A$5,DATA!$C$5,IF(ข้อมูลประกอบ!F19=DATA!$A$6,DATA!$D$6,IF(ข้อมูลประกอบ!F19=DATA!$A$7,DATA!$D$7,IF(ข้อมูลประกอบ!F19=DATA!$A$8,DATA!$B$8)))))))) -> 0 | Q19: =P19*12 -> 0 | R19: =IF($F19=DATA!$A$1,DATA!$D$1,IF(ข้อมูลประกอบ!$F19=DATA!$A$2,DATA!$D$2,IF(ข้อมูลประกอบ!$F19=DATA!$A$3,DATA!$D$3,IF(ข้อมูลประกอบ!$F19=DATA!$A$4,DATA!$D$4,IF(ข้อมูลประกอบ!$F19=DATA!$A$5,DATA!$D$5,IF(ข้อมูลประกอบ!$F19=DATA!$A$6,DATA!$B$6,IF(ข้อมูลประกอบ!$F19=DATA!$A$7,DATA!$D$7,IF(ข้อมูลประกอบ!$F19=DATA!$A$8,DATA!$D$8)))))))) -> 0 | S19: =IF($F19=DATA!$A$1,DATA!$D$1,IF(ข้อมูลประกอบ!$F19=DATA!$A$2,DATA!$D$2,IF(ข้อมูลประกอบ!$F19=DATA!$A$3,DATA!$D$3,IF(ข้อมูลประกอบ!$F19=DATA!$A$4,DATA!$D$4,IF(ข้อมูลประกอบ!$F19=DATA!$A$5,DATA!$D$5,IF(ข้อมูลประกอบ!$F19=DATA!$A$6,DATA!$C$6,IF(ข้อมูลประกอบ!$F19=DATA!$A$7,DATA!$D$7,IF(ข้อมูลประกอบ!$F19=DATA!$A$8,DATA!$D$8)))))))) -> 0 | T19: =IF($F19=DATA!$A$1,DATA!$D$1,IF(ข้อมูลประกอบ!$F19=DATA!$A$2,DATA!$D$2,IF(ข้อมูลประกอบ!$F19=DATA!$A$3,DATA!$D$3,IF(ข้อมูลประกอบ!$F19=DATA!$A$4,DATA!$D$4,IF(ข้อมูลประกอบ!$F19=DATA!$A$5,DATA!$D$5,IF(ข้อมูลประกอบ!$F19=DATA!$A$6,DATA!$E$6,IF(ข้อมูลประกอบ!$F19=DATA!$A$7,DATA!$D$7,IF(ข้อมูลประกอบ!$F19=DATA!$A$8,DATA!$D$8)))))))) -> 0 | U19: =R19*S19*T19 -> 0 | V19: =IF($F19=DATA!$A$1,DATA!$D$1,IF(ข้อมูลประกอบ!$F19=DATA!$A$2,DATA!$D$2,IF(ข้อมูลประกอบ!$F19=DATA!$A$3,DATA!$D$3,IF(ข้อมูลประกอบ!$F19=DATA!$A$4,DATA!$D$4,IF(ข้อมูลประกอบ!$F19=DATA!$A$5,DATA!$D$5,IF(ข้อมูลประกอบ!$F19=DATA!$A$6,DATA!$D$6,IF(ข้อมูลประกอบ!$F19=DATA!$A$7,DATA!$B$7,IF(ข้อมูลประกอบ!$F19=DATA!$A$8,DATA!$D$8)))))))) -> 0 | W19: =IF($F19=DATA!$A$1,DATA!$D$1,IF(ข้อมูลประกอบ!$F19=DATA!$A$2,DATA!$D$2,IF(ข้อมูลประกอบ!$F19=DATA!$A$3,DATA!$D$3,IF(ข้อมูลประกอบ!$F19=DATA!$A$4,DATA!$D$4,IF(ข้อมูลประกอบ!$F19=DATA!$A$5,DATA!$D$5,IF(ข้อมูลประกอบ!$F19=DATA!$A$6,DATA!$D$6,IF(ข้อมูลประกอบ!$F19=DATA!$A$7,DATA!$C$7,IF(ข้อมูลประกอบ!$F19=DATA!$A$8,DATA!$D$8)))))))) -> 0 | X19: =V19*W19 -> 0 | Y19: =SUM(M19,O19,Q19,U19,X19) -> 0
A20: 12 | D20: โปรดเลือก | F20: กรุณาเลือกตำแหน่ง | G20: โปรดเลือก | H20: 0 | I20: =H20*0.04 -> 0 | J20: =SUM(H20:I20) -> 0 | K20: =J20*0.05 -> 0 | L20: =IF(K20>=750,750,K20) -> 0 | M20: =SUM(J20+L20)*12 -> 0 | N20: =IF(F20=DATA!$A$1,DATA!$D$1,IF(ข้อมูลประกอบ!F20=DATA!$A$2,DATA!$D$2,IF(ข้อมูลประกอบ!F20=DATA!$A$3,DATA!$D$3,IF(ข้อมูลประกอบ!F20=DATA!$A$4,DATA!$D$4,IF(ข้อมูลประกอบ!F20=DATA!$A$5,DATA!$B$5,IF(ข้อมูลประกอบ!F20=DATA!$A$6,DATA!$D$6,IF(ข้อมูลประกอบ!F20=DATA!$A$7,DATA!$D$7,IF(ข้อมูลประกอบ!F20=DATA!$A$8,DATA!$D$8)))))))) -> 0 | O20: =N20*12 -> 0 | P20: =IF(F20=DATA!$A$1,DATA!$C$1,IF(ข้อมูลประกอบ!F20=DATA!$A$2,DATA!$C$2,IF(ข้อมูลประกอบ!F20=DATA!$A$3,DATA!$C$3,IF(ข้อมูลประกอบ!F20=DATA!$A$4,DATA!$C$4,IF(ข้อมูลประกอบ!F20=DATA!$A$5,DATA!$C$5,IF(ข้อมูลประกอบ!F20=DATA!$A$6,DATA!$D$6,IF(ข้อมูลประกอบ!F20=DATA!$A$7,DATA!$D$7,IF(ข้อมูลประกอบ!F20=DATA!$A$8,DATA!$B$8)))))))) -> 0 | Q20: =P20*12 -> 0 | R20: =IF($F20=DATA!$A$1,DATA!$D$1,IF(ข้อมูลประกอบ!$F20=DATA!$A$2,DATA!$D$2,IF(ข้อมูลประกอบ!$F20=DATA!$A$3,DATA!$D$3,IF(ข้อมูลประกอบ!$F20=DATA!$A$4,DATA!$D$4,IF(ข้อมูลประกอบ!$F20=DATA!$A$5,DATA!$D$5,IF(ข้อมูลประกอบ!$F20=DATA!$A$6,DATA!$B$6,IF(ข้อมูลประกอบ!$F20=DATA!$A$7,DATA!$D$7,IF(ข้อมูลประกอบ!$F20=DATA!$A$8,DATA!$D$8)))))))) -> 0 | S20: =IF($F20=DATA!$A$1,DATA!$D$1,IF(ข้อมูลประกอบ!$F20=DATA!$A$2,DATA!$D$2,IF(ข้อมูลประกอบ!$F20=DATA!$A$3,DATA!$D$3,IF(ข้อมูลประกอบ!$F20=DATA!$A$4,DATA!$D$4,IF(ข้อมูลประกอบ!$F20=DATA!$A$5,DATA!$D$5,IF(ข้อมูลประกอบ!$F20=DATA!$A$6,DATA!$C$6,IF(ข้อมูลประกอบ!$F20=DATA!$A$7,DATA!$D$7,IF(ข้อมูลประกอบ!$F20=DATA!$A$8,DATA!$D$8)))))))) -> 0 | T20: =IF($F20=DATA!$A$1,DATA!$D$1,IF(ข้อมูลประกอบ!$F20=DATA!$A$2,DATA!$D$2,IF(ข้อมูลประกอบ!$F20=DATA!$A$3,DATA!$D$3,IF(ข้อมูลประกอบ!$F20=DATA!$A$4,DATA!$D$4,IF(ข้อมูลประกอบ!$F20=DATA!$A$5,DATA!$D$5,IF(ข้อมูลประกอบ!$F20=DATA!$A$6,DATA!$E$6,IF(ข้อมูลประกอบ!$F20=DATA!$A$7,DATA!$D$7,IF(ข้อมูลประกอบ!$F20=DATA!$A$8,DATA!$D$8)))))))) -> 0 | U20: =R20*S20*T20 -> 0 | V20: =IF($F20=DATA!$A$1,DATA!$D$1,IF(ข้อมูลประกอบ!$F20=DATA!$A$2,DATA!$D$2,IF(ข้อมูลประกอบ!$F20=DATA!$A$3,DATA!$D$3,IF(ข้อมูลประกอบ!$F20=DATA!$A$4,DATA!$D$4,IF(ข้อมูลประกอบ!$F20=DATA!$A$5,DATA!$D$5,IF(ข้อมูลประกอบ!$F20=DATA!$A$6,DATA!$D$6,IF(ข้อมูลประกอบ!$F20=DATA!$A$7,DATA!$B$7,IF(ข้อมูลประกอบ!$F20=DATA!$A$8,DATA!$D$8)))))))) -> 0 | W20: =IF($F20=DATA!$A$1,DATA!$D$1,IF(ข้อมูลประกอบ!$F20=DATA!$A$2,DATA!$D$2,IF(ข้อมูลประกอบ!$F20=DATA!$A$3,DATA!$D$3,IF(ข้อมูลประกอบ!$F20=DATA!$A$4,DATA!$D$4,IF(ข้อมูลประกอบ!$F20=DATA!$A$5,DATA!$D$5,IF(ข้อมูลประกอบ!$F20=DATA!$A$6,DATA!$D$6,IF(ข้อมูลประกอบ!$F20=DATA!$A$7,DATA!$C$7,IF(ข้อมูลประกอบ!$F20=DATA!$A$8,DATA!$D$8)))))))) -> 0 | X20: =V20*W20 -> 0 | Y20: =SUM(M20,O20,Q20,U20,X20) -> 0
A21: 13 | D21: โปรดเลือก | F21: กรุณาเลือกตำแหน่ง | G21: โปรดเลือก | H21: 0 | I21: =H21*0.04 -> 0 | J21: =SUM(H21:I21) -> 0 | K21: =J21*0.05 -> 0 | L21: =IF(K21>=750,750,K21) -> 0 | M21: =SUM(J21+L21)*12 -> 0 | N21: =IF(F21=DATA!$A$1,DATA!$D$1,IF(ข้อมูลประกอบ!F21=DATA!$A$2,DATA!$D$2,IF(ข้อมูลประกอบ!F21=DATA!$A$3,DATA!$D$3,IF(ข้อมูลประกอบ!F21=DATA!$A$4,DATA!$D$4,IF(ข้อมูลประกอบ!F21=DATA!$A$5,DATA!$B$5,IF(ข้อมูลประกอบ!F21=DATA!$A$6,DATA!$D$6,IF(ข้อมูลประกอบ!F21=DATA!$A$7,DATA!$D$7,IF(ข้อมูลประกอบ!F21=DATA!$A$8,DATA!$D$8)))))))) -> 0 | O21: =N21*12 -> 0 | P21: =IF(F21=DATA!$A$1,DATA!$C$1,IF(ข้อมูลประกอบ!F21=DATA!$A$2,DATA!$C$2,IF(ข้อมูลประกอบ!F21=DATA!$A$3,DATA!$C$3,IF(ข้อมูลประกอบ!F21=DATA!$A$4,DATA!$C$4,IF(ข้อมูลประกอบ!F21=DATA!$A$5,DATA!$C$5,IF(ข้อมูลประกอบ!F21=DATA!$A$6,DATA!$D$6,IF(ข้อมูลประกอบ!F21=DATA!$A$7,DATA!$D$7,IF(ข้อมูลประกอบ!F21=DATA!$A$8,DATA!$B$8)))))))) -> 0 | Q21: =P21*12 -> 0 | R21: =IF($F21=DATA!$A$1,DATA!$D$1,IF(ข้อมูลประกอบ!$F21=DATA!$A$2,DATA!$D$2,IF(ข้อมูลประกอบ!$F21=DATA!$A$3,DATA!$D$3,IF(ข้อมูลประกอบ!$F21=DATA!$A$4,DATA!$D$4,IF(ข้อมูลประกอบ!$F21=DATA!$A$5,DATA!$D$5,IF(ข้อมูลประกอบ!$F21=DATA!$A$6,DATA!$B$6,IF(ข้อมูลประกอบ!$F21=DATA!$A$7,DATA!$D$7,IF(ข้อมูลประกอบ!$F21=DATA!$A$8,DATA!$D$8)))))))) -> 0 | S21: =IF($F21=DATA!$A$1,DATA!$D$1,IF(ข้อมูลประกอบ!$F21=DATA!$A$2,DATA!$D$2,IF(ข้อมูลประกอบ!$F21=DATA!$A$3,DATA!$D$3,IF(ข้อมูลประกอบ!$F21=DATA!$A$4,DATA!$D$4,IF(ข้อมูลประกอบ!$F21=DATA!$A$5,DATA!$D$5,IF(ข้อมูลประกอบ!$F21=DATA!$A$6,DATA!$C$6,IF(ข้อมูลประกอบ!$F21=DATA!$A$7,DATA!$D$7,IF(ข้อมูลประกอบ!$F21=DATA!$A$8,DATA!$D$8)))))))) -> 0 | T21: =IF($F21=DATA!$A$1,DATA!$D$1,IF(ข้อมูลประกอบ!$F21=DATA!$A$2,DATA!$D$2,IF(ข้อมูลประกอบ!$F21=DATA!$A$3,DATA!$D$3,IF(ข้อมูลประกอบ!$F21=DATA!$A$4,DATA!$D$4,IF(ข้อมูลประกอบ!$F21=DATA!$A$5,DATA!$D$5,IF(ข้อมูลประกอบ!$F21=DATA!$A$6,DATA!$E$6,IF(ข้อมูลประกอบ!$F21=DATA!$A$7,DATA!$D$7,IF(ข้อมูลประกอบ!$F21=DATA!$A$8,DATA!$D$8)))))))) -> 0 | U21: =R21*S21*T21 -> 0 | V21: =IF($F21=DATA!$A$1,DATA!$D$1,IF(ข้อมูลประกอบ!$F21=DATA!$A$2,DATA!$D$2,IF(ข้อมูลประกอบ!$F21=DATA!$A$3,DATA!$D$3,IF(ข้อมูลประกอบ!$F21=DATA!$A$4,DATA!$D$4,IF(ข้อมูลประกอบ!$F21=DATA!$A$5,DATA!$D$5,IF(ข้อมูลประกอบ!$F21=DATA!$A$6,DATA!$D$6,IF(ข้อมูลประกอบ!$F21=DATA!$A$7,DATA!$B$7,IF(ข้อมูลประกอบ!$F21=DATA!$A$8,DATA!$D$8)))))))) -> 0 | W21: =IF($F21=DATA!$A$1,DATA!$D$1,IF(ข้อมูลประกอบ!$F21=DATA!$A$2,DATA!$D$2,IF(ข้อมูลประกอบ!$F21=DATA!$A$3,DATA!$D$3,IF(ข้อมูลประกอบ!$F21=DATA!$A$4,DATA!$D$4,IF(ข้อมูลประกอบ!$F21=DATA!$A$5,DATA!$D$5,IF(ข้อมูลประกอบ!$F21=DATA!$A$6,DATA!$D$6,IF(ข้อมูลประกอบ!$F21=DATA!$A$7,DATA!$C$7,IF(ข้อมูลประกอบ!$F21=DATA!$A$8,DATA!$D$8)))))))) -> 0 | X21: =V21*W21 -> 0 | Y21: =SUM(M21,O21,Q21,U21,X21) -> 0
A22: 14 | D22: โปรดเลือก | F22: กรุณาเลือกตำแหน่ง | G22: โปรดเลือก | H22: 0 | I22: =H22*0.04 -> 0 | J22: =SUM(H22:I22) -> 0 | K22: =J22*0.05 -> 0 | L22: =IF(K22>=750,750,K22) -> 0 | M22: =SUM(J22+L22)*12 -> 0 | N22: =IF(F22=DATA!$A$1,DATA!$D$1,IF(ข้อมูลประกอบ!F22=DATA!$A$2,DATA!$D$2,IF(ข้อมูลประกอบ!F22=DATA!$A$3,DATA!$D$3,IF(ข้อมูลประกอบ!F22=DATA!$A$4,DATA!$D$4,IF(ข้อมูลประกอบ!F22=DATA!$A$5,DATA!$B$5,IF(ข้อมูลประกอบ!F22=DATA!$A$6,DATA!$D$6,IF(ข้อมูลประกอบ!F22=DATA!$A$7,DATA!$D$7,IF(ข้อมูลประกอบ!F22=DATA!$A$8,DATA!$D$8)))))))) -> 0 | O22: =N22*12 -> 0 | P22: =IF(F22=DATA!$A$1,DATA!$C$1,IF(ข้อมูลประกอบ!F22=DATA!$A$2,DATA!$C$2,IF(ข้อมูลประกอบ!F22=DATA!$A$3,DATA!$C$3,IF(ข้อมูลประกอบ!F22=DATA!$A$4,DATA!$C$4,IF(ข้อมูลประกอบ!F22=DATA!$A$5,DATA!$C$5,IF(ข้อมูลประกอบ!F22=DATA!$A$6,DATA!$D$6,IF(ข้อมูลประกอบ!F22=DATA!$A$7,DATA!$D$7,IF(ข้อมูลประกอบ!F22=DATA!$A$8,DATA!$B$8)))))))) -> 0 | Q22: =P22*12 -> 0 | R22: =IF($F22=DATA!$A$1,DATA!$D$1,IF(ข้อมูลประกอบ!$F22=DATA!$A$2,DATA!$D$2,IF(ข้อมูลประกอบ!$F22=DATA!$A$3,DATA!$D$3,IF(ข้อมูลประกอบ!$F22=DATA!$A$4,DATA!$D$4,IF(ข้อมูลประกอบ!$F22=DATA!$A$5,DATA!$D$5,IF(ข้อมูลประกอบ!$F22=DATA!$A$6,DATA!$B$6,IF(ข้อมูลประกอบ!$F22=DATA!$A$7,DATA!$D$7,IF(ข้อมูลประกอบ!$F22=DATA!$A$8,DATA!$D$8)))))))) -> 0 | S22: =IF($F22=DATA!$A$1,DATA!$D$1,IF(ข้อมูลประกอบ!$F22=DATA!$A$2,DATA!$D$2,IF(ข้อมูลประกอบ!$F22=DATA!$A$3,DATA!$D$3,IF(ข้อมูลประกอบ!$F22=DATA!$A$4,DATA!$D$4,IF(ข้อมูลประกอบ!$F22=DATA!$A$5,DATA!$D$5,IF(ข้อมูลประกอบ!$F22=DATA!$A$6,DATA!$C$6,IF(ข้อมูลประกอบ!$F22=DATA!$A$7,DATA!$D$7,IF(ข้อมูลประกอบ!$F22=DATA!$A$8,DATA!$D$8)))))))) -> 0 | T22: =IF($F22=DATA!$A$1,DATA!$D$1,IF(ข้อมูลประกอบ!$F22=DATA!$A$2,DATA!$D$2,IF(ข้อมูลประกอบ!$F22=DATA!$A$3,DATA!$D$3,IF(ข้อมูลประกอบ!$F22=DATA!$A$4,DATA!$D$4,IF(ข้อมูลประกอบ!$F22=DATA!$A$5,DATA!$D$5,IF(ข้อมูลประกอบ!$F22=DATA!$A$6,DATA!$E$6,IF(ข้อมูลประกอบ!$F22=DATA!$A$7,DATA!$D$7,IF(ข้อมูลประกอบ!$F22=DATA!$A$8,DATA!$D$8)))))))) -> 0 | U22: =R22*S22*T22 -> 0 | V22: =IF($F22=DATA!$A$1,DATA!$D$1,IF(ข้อมูลประกอบ!$F22=DATA!$A$2,DATA!$D$2,IF(ข้อมูลประกอบ!$F22=DATA!$A$3,DATA!$D$3,IF(ข้อมูลประกอบ!$F22=DATA!$A$4,DATA!$D$4,IF(ข้อมูลประกอบ!$F22=DATA!$A$5,DATA!$D$5,IF(ข้อมูลประกอบ!$F22=DATA!$A$6,DATA!$D$6,IF(ข้อมูลประกอบ!$F22=DATA!$A$7,DATA!$B$7,IF(ข้อมูลประกอบ!$F22=DATA!$A$8,DATA!$D$8)))))))) -> 0 | W22: =IF($F22=DATA!$A$1,DATA!$D$1,IF(ข้อมูลประกอบ!$F22=DATA!$A$2,DATA!$D$2,IF(ข้อมูลประกอบ!$F22=DATA!$A$3,DATA!$D$3,IF(ข้อมูลประกอบ!$F22=DATA!$A$4,DATA!$D$4,IF(ข้อมูลประกอบ!$F22=DATA!$A$5,DATA!$D$5,IF(ข้อมูลประกอบ!$F22=DATA!$A$6,DATA!$D$6,IF(ข้อมูลประกอบ!$F22=DATA!$A$7,DATA!$C$7,IF(ข้อมูลประกอบ!$F22=DATA!$A$8,DATA!$D$8)))))))) -> 0 | X22: =V22*W22 -> 0 | Y22: =SUM(M22,O22,Q22,U22,X22) -> 0
A23: 15 | D23: โปรดเลือก | F23: กรุณาเลือกตำแหน่ง | G23: โปรดเลือก | H23: 0 | I23: =H23*0.04 -> 0 | J23: =SUM(H23:I23) -> 0 | K23: =J23*0.05 -> 0 | L23: =IF(K23>=750,750,K23) -> 0 | M23: =SUM(J23+L23)*12 -> 0 | N23: =IF(F23=DATA!$A$1,DATA!$D$1,IF(ข้อมูลประกอบ!F23=DATA!$A$2,DATA!$D$2,IF(ข้อมูลประกอบ!F23=DATA!$A$3,DATA!$D$3,IF(ข้อมูลประกอบ!F23=DATA!$A$4,DATA!$D$4,IF(ข้อมูลประกอบ!F23=DATA!$A$5,DATA!$B$5,IF(ข้อมูลประกอบ!F23=DATA!$A$6,DATA!$D$6,IF(ข้อมูลประกอบ!F23=DATA!$A$7,DATA!$D$7,IF(ข้อมูลประกอบ!F23=DATA!$A$8,DATA!$D$8)))))))) -> 0 | O23: =N23*12 -> 0 | P23: =IF(F23=DATA!$A$1,DATA!$C$1,IF(ข้อมูลประกอบ!F23=DATA!$A$2,DATA!$C$2,IF(ข้อมูลประกอบ!F23=DATA!$A$3,DATA!$C$3,IF(ข้อมูลประกอบ!F23=DATA!$A$4,DATA!$C$4,IF(ข้อมูลประกอบ!F23=DATA!$A$5,DATA!$C$5,IF(ข้อมูลประกอบ!F23=DATA!$A$6,DATA!$D$6,IF(ข้อมูลประกอบ!F23=DATA!$A$7,DATA!$D$7,IF(ข้อมูลประกอบ!F23=DATA!$A$8,DATA!$B$8)))))))) -> 0 | Q23: =P23*12 -> 0 | R23: =IF($F23=DATA!$A$1,DATA!$D$1,IF(ข้อมูลประกอบ!$F23=DATA!$A$2,DATA!$D$2,IF(ข้อมูลประกอบ!$F23=DATA!$A$3,DATA!$D$3,IF(ข้อมูลประกอบ!$F23=DATA!$A$4,DATA!$D$4,IF(ข้อมูลประกอบ!$F23=DATA!$A$5,DATA!$D$5,IF(ข้อมูลประกอบ!$F23=DATA!$A$6,DATA!$B$6,IF(ข้อมูลประกอบ!$F23=DATA!$A$7,DATA!$D$7,IF(ข้อมูลประกอบ!$F23=DATA!$A$8,DATA!$D$8)))))))) -> 0 | S23: =IF($F23=DATA!$A$1,DATA!$D$1,IF(ข้อมูลประกอบ!$F23=DATA!$A$2,DATA!$D$2,IF(ข้อมูลประกอบ!$F23=DATA!$A$3,DATA!$D$3,IF(ข้อมูลประกอบ!$F23=DATA!$A$4,DATA!$D$4,IF(ข้อมูลประกอบ!$F23=DATA!$A$5,DATA!$D$5,IF(ข้อมูลประกอบ!$F23=DATA!$A$6,DATA!$C$6,IF(ข้อมูลประกอบ!$F23=DATA!$A$7,DATA!$D$7,IF(ข้อมูลประกอบ!$F23=DATA!$A$8,DATA!$D$8)))))))) -> 0 | T23: =IF($F23=DATA!$A$1,DATA!$D$1,IF(ข้อมูลประกอบ!$F23=DATA!$A$2,DATA!$D$2,IF(ข้อมูลประกอบ!$F23=DATA!$A$3,DATA!$D$3,IF(ข้อมูลประกอบ!$F23=DATA!$A$4,DATA!$D$4,IF(ข้อมูลประกอบ!$F23=DATA!$A$5,DATA!$D$5,IF(ข้อมูลประกอบ!$F23=DATA!$A$6,DATA!$E$6,IF(ข้อมูลประกอบ!$F23=DATA!$A$7,DATA!$D$7,IF(ข้อมูลประกอบ!$F23=DATA!$A$8,DATA!$D$8)))))))) -> 0 | U23: =R23*S23*T23 -> 0 | V23: =IF($F23=DATA!$A$1,DATA!$D$1,IF(ข้อมูลประกอบ!$F23=DATA!$A$2,DATA!$D$2,IF(ข้อมูลประกอบ!$F23=DATA!$A$3,DATA!$D$3,IF(ข้อมูลประกอบ!$F23=DATA!$A$4,DATA!$D$4,IF(ข้อมูลประกอบ!$F23=DATA!$A$5,DATA!$D$5,IF(ข้อมูลประกอบ!$F23=DATA!$A$6,DATA!$D$6,IF(ข้อมูลประกอบ!$F23=DATA!$A$7,DATA!$B$7,IF(ข้อมูลประกอบ!$F23=DATA!$A$8,DATA!$D$8)))))))) -> 0 | W23: =IF($F23=DATA!$A$1,DATA!$D$1,IF(ข้อมูลประกอบ!$F23=DATA!$A$2,DATA!$D$2,IF(ข้อมูลประกอบ!$F23=DATA!$A$3,DATA!$D$3,IF(ข้อมูลประกอบ!$F23=DATA!$A$4,DATA!$D$4,IF(ข้อมูลประกอบ!$F23=DATA!$A$5,DATA!$D$5,IF(ข้อมูลประกอบ!$F23=DATA!$A$6,DATA!$D$6,IF(ข้อมูลประกอบ!$F23=DATA!$A$7,DATA!$C$7,IF(ข้อมูลประกอบ!$F23=DATA!$A$8,DATA!$D$8)))))))) -> 0 | X23: =V23*W23 -> 0 | Y23: =SUM(M23,O23,Q23,U23,X23) -> 0
A24: 16 | D24: โปรดเลือก | F24: กรุณาเลือกตำแหน่ง | G24: โปรดเลือก | H24: 0 | I24: =H24*0.04 -> 0 | J24: =SUM(H24:I24) -> 0 | K24: =J24*0.05 -> 0 | L24: =IF(K24>=750,750,K24) -> 0 | M24: =SUM(J24+L24)*12 -> 0 | N24: =IF(F24=DATA!$A$1,DATA!$D$1,IF(ข้อมูลประกอบ!F24=DATA!$A$2,DATA!$D$2,IF(ข้อมูลประกอบ!F24=DATA!$A$3,DATA!$D$3,IF(ข้อมูลประกอบ!F24=DATA!$A$4,DATA!$D$4,IF(ข้อมูลประกอบ!F24=DATA!$A$5,DATA!$B$5,IF(ข้อมูลประกอบ!F24=DATA!$A$6,DATA!$D$6,IF(ข้อมูลประกอบ!F24=DATA!$A$7,DATA!$D$7,IF(ข้อมูลประกอบ!F24=DATA!$A$8,DATA!$D$8)))))))) -> 0 | O24: =N24*12 -> 0 | P24: =IF(F24=DATA!$A$1,DATA!$C$1,IF(ข้อมูลประกอบ!F24=DATA!$A$2,DATA!$C$2,IF(ข้อมูลประกอบ!F24=DATA!$A$3,DATA!$C$3,IF(ข้อมูลประกอบ!F24=DATA!$A$4,DATA!$C$4,IF(ข้อมูลประกอบ!F24=DATA!$A$5,DATA!$C$5,IF(ข้อมูลประกอบ!F24=DATA!$A$6,DATA!$D$6,IF(ข้อมูลประกอบ!F24=DATA!$A$7,DATA!$D$7,IF(ข้อมูลประกอบ!F24=DATA!$A$8,DATA!$B$8)))))))) -> 0 | Q24: =P24*12 -> 0 | R24: =IF($F24=DATA!$A$1,DATA!$D$1,IF(ข้อมูลประกอบ!$F24=DATA!$A$2,DATA!$D$2,IF(ข้อมูลประกอบ!$F24=DATA!$A$3,DATA!$D$3,IF(ข้อมูลประกอบ!$F24=DATA!$A$4,DATA!$D$4,IF(ข้อมูลประกอบ!$F24=DATA!$A$5,DATA!$D$5,IF(ข้อมูลประกอบ!$F24=DATA!$A$6,DATA!$B$6,IF(ข้อมูลประกอบ!$F24=DATA!$A$7,DATA!$D$7,IF(ข้อมูลประกอบ!$F24=DATA!$A$8,DATA!$D$8)))))))) -> 0 | S24: =IF($F24=DATA!$A$1,DATA!$D$1,IF(ข้อมูลประกอบ!$F24=DATA!$A$2,DATA!$D$2,IF(ข้อมูลประกอบ!$F24=DATA!$A$3,DATA!$D$3,IF(ข้อมูลประกอบ!$F24=DATA!$A$4,DATA!$D$4,IF(ข้อมูลประกอบ!$F24=DATA!$A$5,DATA!$D$5,IF(ข้อมูลประกอบ!$F24=DATA!$A$6,DATA!$C$6,IF(ข้อมูลประกอบ!$F24=DATA!$A$7,DATA!$D$7,IF(ข้อมูลประกอบ!$F24=DATA!$A$8,DATA!$D$8)))))))) -> 0 | T24: =IF($F24=DATA!$A$1,DATA!$D$1,IF(ข้อมูลประกอบ!$F24=DATA!$A$2,DATA!$D$2,IF(ข้อมูลประกอบ!$F24=DATA!$A$3,DATA!$D$3,IF(ข้อมูลประกอบ!$F24=DATA!$A$4,DATA!$D$4,IF(ข้อมูลประกอบ!$F24=DATA!$A$5,DATA!$D$5,IF(ข้อมูลประกอบ!$F24=DATA!$A$6,DATA!$E$6,IF(ข้อมูลประกอบ!$F24=DATA!$A$7,DATA!$D$7,IF(ข้อมูลประกอบ!$F24=DATA!$A$8,DATA!$D$8)))))))) -> 0 | U24: =R24*S24*T24 -> 0 | V24: =IF($F24=DATA!$A$1,DATA!$D$1,IF(ข้อมูลประกอบ!$F24=DATA!$A$2,DATA!$D$2,IF(ข้อมูลประกอบ!$F24=DATA!$A$3,DATA!$D$3,IF(ข้อมูลประกอบ!$F24=DATA!$A$4,DATA!$D$4,IF(ข้อมูลประกอบ!$F24=DATA!$A$5,DATA!$D$5,IF(ข้อมูลประกอบ!$F24=DATA!$A$6,DATA!$D$6,IF(ข้อมูลประกอบ!$F24=DATA!$A$7,DATA!$B$7,IF(ข้อมูลประกอบ!$F24=DATA!$A$8,DATA!$D$8)))))))) -> 0 | W24: =IF($F24=DATA!$A$1,DATA!$D$1,IF(ข้อมูลประกอบ!$F24=DATA!$A$2,DATA!$D$2,IF(ข้อมูลประกอบ!$F24=DATA!$A$3,DATA!$D$3,IF(ข้อมูลประกอบ!$F24=DATA!$A$4,DATA!$D$4,IF(ข้อมูลประกอบ!$F24=DATA!$A$5,DATA!$D$5,IF(ข้อมูลประกอบ!$F24=DATA!$A$6,DATA!$D$6,IF(ข้อมูลประกอบ!$F24=DATA!$A$7,DATA!$C$7,IF(ข้อมูลประกอบ!$F24=DATA!$A$8,DATA!$D$8)))))))) -> 0 | X24: =V24*W24 -> 0 | Y24: =SUM(M24,O24,Q24,U24,X24) -> 0
A25: 17 | D25: โปรดเลือก | F25: กรุณาเลือกตำแหน่ง | G25: โปรดเลือก | H25: 0 | I25: =H25*0.04 -> 0 | J25: =SUM(H25:I25) -> 0 | K25: =J25*0.05 -> 0 | L25: =IF(K25>=750,750,K25) -> 0 | M25: =SUM(J25+L25)*12 -> 0 | N25: =IF(F25=DATA!$A$1,DATA!$D$1,IF(ข้อมูลประกอบ!F25=DATA!$A$2,DATA!$D$2,IF(ข้อมูลประกอบ!F25=DATA!$A$3,DATA!$D$3,IF(ข้อมูลประกอบ!F25=DATA!$A$4,DATA!$D$4,IF(ข้อมูลประกอบ!F25=DATA!$A$5,DATA!$B$5,IF(ข้อมูลประกอบ!F25=DATA!$A$6,DATA!$D$6,IF(ข้อมูลประกอบ!F25=DATA!$A$7,DATA!$D$7,IF(ข้อมูลประกอบ!F25=DATA!$A$8,DATA!$D$8)))))))) -> 0 | O25: =N25*12 -> 0 | P25: =IF(F25=DATA!$A$1,DATA!$C$1,IF(ข้อมูลประกอบ!F25=DATA!$A$2,DATA!$C$2,IF(ข้อมูลประกอบ!F25=DATA!$A$3,DATA!$C$3,IF(ข้อมูลประกอบ!F25=DATA!$A$4,DATA!$C$4,IF(ข้อมูลประกอบ!F25=DATA!$A$5,DATA!$C$5,IF(ข้อมูลประกอบ!F25=DATA!$A$6,DATA!$D$6,IF(ข้อมูลประกอบ!F25=DATA!$A$7,DATA!$D$7,IF(ข้อมูลประกอบ!F25=DATA!$A$8,DATA!$B$8)))))))) -> 0 | Q25: =P25*12 -> 0 | R25: =IF($F25=DATA!$A$1,DATA!$D$1,IF(ข้อมูลประกอบ!$F25=DATA!$A$2,DATA!$D$2,IF(ข้อมูลประกอบ!$F25=DATA!$A$3,DATA!$D$3,IF(ข้อมูลประกอบ!$F25=DATA!$A$4,DATA!$D$4,IF(ข้อมูลประกอบ!$F25=DATA!$A$5,DATA!$D$5,IF(ข้อมูลประกอบ!$F25=DATA!$A$6,DATA!$B$6,IF(ข้อมูลประกอบ!$F25=DATA!$A$7,DATA!$D$7,IF(ข้อมูลประกอบ!$F25=DATA!$A$8,DATA!$D$8)))))))) -> 0 | S25: =IF($F25=DATA!$A$1,DATA!$D$1,IF(ข้อมูลประกอบ!$F25=DATA!$A$2,DATA!$D$2,IF(ข้อมูลประกอบ!$F25=DATA!$A$3,DATA!$D$3,IF(ข้อมูลประกอบ!$F25=DATA!$A$4,DATA!$D$4,IF(ข้อมูลประกอบ!$F25=DATA!$A$5,DATA!$D$5,IF(ข้อมูลประกอบ!$F25=DATA!$A$6,DATA!$C$6,IF(ข้อมูลประกอบ!$F25=DATA!$A$7,DATA!$D$7,IF(ข้อมูลประกอบ!$F25=DATA!$A$8,DATA!$D$8)))))))) -> 0 | T25: =IF($F25=DATA!$A$1,DATA!$D$1,IF(ข้อมูลประกอบ!$F25=DATA!$A$2,DATA!$D$2,IF(ข้อมูลประกอบ!$F25=DATA!$A$3,DATA!$D$3,IF(ข้อมูลประกอบ!$F25=DATA!$A$4,DATA!$D$4,IF(ข้อมูลประกอบ!$F25=DATA!$A$5,DATA!$D$5,IF(ข้อมูลประกอบ!$F25=DATA!$A$6,DATA!$E$6,IF(ข้อมูลประกอบ!$F25=DATA!$A$7,DATA!$D$7,IF(ข้อมูลประกอบ!$F25=DATA!$A$8,DATA!$D$8)))))))) -> 0 | U25: =R25*S25*T25 -> 0 | V25: =IF($F25=DATA!$A$1,DATA!$D$1,IF(ข้อมูลประกอบ!$F25=DATA!$A$2,DATA!$D$2,IF(ข้อมูลประกอบ!$F25=DATA!$A$3,DATA!$D$3,IF(ข้อมูลประกอบ!$F25=DATA!$A$4,DATA!$D$4,IF(ข้อมูลประกอบ!$F25=DATA!$A$5,DATA!$D$5,IF(ข้อมูลประกอบ!$F25=DATA!$A$6,DATA!$D$6,IF(ข้อมูลประกอบ!$F25=DATA!$A$7,DATA!$B$7,IF(ข้อมูลประกอบ!$F25=DATA!$A$8,DATA!$D$8)))))))) -> 0 | W25: =IF($F25=DATA!$A$1,DATA!$D$1,IF(ข้อมูลประกอบ!$F25=DATA!$A$2,DATA!$D$2,IF(ข้อมูลประกอบ!$F25=DATA!$A$3,DATA!$D$3,IF(ข้อมูลประกอบ!$F25=DATA!$A$4,DATA!$D$4,IF(ข้อมูลประกอบ!$F25=DATA!$A$5,DATA!$D$5,IF(ข้อมูลประกอบ!$F25=DATA!$A$6,DATA!$D$6,IF(ข้อมูลประกอบ!$F25=DATA!$A$7,DATA!$C$7,IF(ข้อมูลประกอบ!$F25=DATA!$A$8,DATA!$D$8)))))))) -> 0 | X25: =V25*W25 -> 0 | Y25: =SUM(M25,O25,Q25,U25,X25) -> 0
A26: 18 | D26: โปรดเลือก | F26: กรุณาเลือกตำแหน่ง | G26: โปรดเลือก | H26: 0 | I26: =H26*0.04 -> 0 | J26: =SUM(H26:I26) -> 0 | K26: =J26*0.05 -> 0 | L26: =IF(K26>=750,750,K26) -> 0 | M26: =SUM(J26+L26)*12 -> 0 | N26: =IF(F26=DATA!$A$1,DATA!$D$1,IF(ข้อมูลประกอบ!F26=DATA!$A$2,DATA!$D$2,IF(ข้อมูลประกอบ!F26=DATA!$A$3,DATA!$D$3,IF(ข้อมูลประกอบ!F26=DATA!$A$4,DATA!$D$4,IF(ข้อมูลประกอบ!F26=DATA!$A$5,DATA!$B$5,IF(ข้อมูลประกอบ!F26=DATA!$A$6,DATA!$D$6,IF(ข้อมูลประกอบ!F26=DATA!$A$7,DATA!$D$7,IF(ข้อมูลประกอบ!F26=DATA!$A$8,DATA!$D$8)))))))) -> 0 | O26: =N26*12 -> 0 | P26: =IF(F26=DATA!$A$1,DATA!$C$1,IF(ข้อมูลประกอบ!F26=DATA!$A$2,DATA!$C$2,IF(ข้อมูลประกอบ!F26=DATA!$A$3,DATA!$C$3,IF(ข้อมูลประกอบ!F26=DATA!$A$4,DATA!$C$4,IF(ข้อมูลประกอบ!F26=DATA!$A$5,DATA!$C$5,IF(ข้อมูลประกอบ!F26=DATA!$A$6,DATA!$D$6,IF(ข้อมูลประกอบ!F26=DATA!$A$7,DATA!$D$7,IF(ข้อมูลประกอบ!F26=DATA!$A$8,DATA!$B$8)))))))) -> 0 | Q26: =P26*12 -> 0 | R26: =IF($F26=DATA!$A$1,DATA!$D$1,IF(ข้อมูลประกอบ!$F26=DATA!$A$2,DATA!$D$2,IF(ข้อมูลประกอบ!$F26=DATA!$A$3,DATA!$D$3,IF(ข้อมูลประกอบ!$F26=DATA!$A$4,DATA!$D$4,IF(ข้อมูลประกอบ!$F26=DATA!$A$5,DATA!$D$5,IF(ข้อมูลประกอบ!$F26=DATA!$A$6,DATA!$B$6,IF(ข้อมูลประกอบ!$F26=DATA!$A$7,DATA!$D$7,IF(ข้อมูลประกอบ!$F26=DATA!$A$8,DATA!$D$8)))))))) -> 0 | S26: =IF($F26=DATA!$A$1,DATA!$D$1,IF(ข้อมูลประกอบ!$F26=DATA!$A$2,DATA!$D$2,IF(ข้อมูลประกอบ!$F26=DATA!$A$3,DATA!$D$3,IF(ข้อมูลประกอบ!$F26=DATA!$A$4,DATA!$D$4,IF(ข้อมูลประกอบ!$F26=DATA!$A$5,DATA!$D$5,IF(ข้อมูลประกอบ!$F26=DATA!$A$6,DATA!$C$6,IF(ข้อมูลประกอบ!$F26=DATA!$A$7,DATA!$D$7,IF(ข้อมูลประกอบ!$F26=DATA!$A$8,DATA!$D$8)))))))) -> 0 | T26: =IF($F26=DATA!$A$1,DATA!$D$1,IF(ข้อมูลประกอบ!$F26=DATA!$A$2,DATA!$D$2,IF(ข้อมูลประกอบ!$F26=DATA!$A$3,DATA!$D$3,IF(ข้อมูลประกอบ!$F26=DATA!$A$4,DATA!$D$4,IF(ข้อมูลประกอบ!$F26=DATA!$A$5,DATA!$D$5,IF(ข้อมูลประกอบ!$F26=DATA!$A$6,DATA!$E$6,IF(ข้อมูลประกอบ!$F26=DATA!$A$7,DATA!$D$7,IF(ข้อมูลประกอบ!$F26=DATA!$A$8,DATA!$D$8)))))))) -> 0 | U26: =R26*S26*T26 -> 0 | V26: =IF($F26=DATA!$A$1,DATA!$D$1,IF(ข้อมูลประกอบ!$F26=DATA!$A$2,DATA!$D$2,IF(ข้อมูลประกอบ!$F26=DATA!$A$3,DATA!$D$3,IF(ข้อมูลประกอบ!$F26=DATA!$A$4,DATA!$D$4,IF(ข้อมูลประกอบ!$F26=DATA!$A$5,DATA!$D$5,IF(ข้อมูลประกอบ!$F26=DATA!$A$6,DATA!$D$6,IF(ข้อมูลประกอบ!$F26=DATA!$A$7,DATA!$B$7,IF(ข้อมูลประกอบ!$F26=DATA!$A$8,DATA!$D$8)))))))) -> 0 | W26: =IF($F26=DATA!$A$1,DATA!$D$1,IF(ข้อมูลประกอบ!$F26=DATA!$A$2,DATA!$D$2,IF(ข้อมูลประกอบ!$F26=DATA!$A$3,DATA!$D$3,IF(ข้อมูลประกอบ!$F26=DATA!$A$4,DATA!$D$4,IF(ข้อมูลประกอบ!$F26=DATA!$A$5,DATA!$D$5,IF(ข้อมูลประกอบ!$F26=DATA!$A$6,DATA!$D$6,IF(ข้อมูลประกอบ!$F26=DATA!$A$7,DATA!$C$7,IF(ข้อมูลประกอบ!$F26=DATA!$A$8,DATA!$D$8)))))))) -> 0 | X26: =V26*W26 -> 0 | Y26: =SUM(M26,O26,Q26,U26,X26) -> 0
A27: 19 | D27: โปรดเลือก | F27: กรุณาเลือกตำแหน่ง | G27: โปรดเลือก | H27: 0 | I27: =H27*0.04 -> 0 | J27: =SUM(H27:I27) -> 0 | K27: =J27*0.05 -> 0 | L27: =IF(K27>=750,750,K27) -> 0 | M27: =SUM(J27+L27)*12 -> 0 | N27: =IF(F27=DATA!$A$1,DATA!$D$1,IF(ข้อมูลประกอบ!F27=DATA!$A$2,DATA!$D$2,IF(ข้อมูลประกอบ!F27=DATA!$A$3,DATA!$D$3,IF(ข้อมูลประกอบ!F27=DATA!$A$4,DATA!$D$4,IF(ข้อมูลประกอบ!F27=DATA!$A$5,DATA!$B$5,IF(ข้อมูลประกอบ!F27=DATA!$A$6,DATA!$D$6,IF(ข้อมูลประกอบ!F27=DATA!$A$7,DATA!$D$7,IF(ข้อมูลประกอบ!F27=DATA!$A$8,DATA!$D$8)))))))) -> 0 | O27: =N27*12 -> 0 | P27: =IF(F27=DATA!$A$1,DATA!$C$1,IF(ข้อมูลประกอบ!F27=DATA!$A$2,DATA!$C$2,IF(ข้อมูลประกอบ!F27=DATA!$A$3,DATA!$C$3,IF(ข้อมูลประกอบ!F27=DATA!$A$4,DATA!$C$4,IF(ข้อมูลประกอบ!F27=DATA!$A$5,DATA!$C$5,IF(ข้อมูลประกอบ!F27=DATA!$A$6,DATA!$D$6,IF(ข้อมูลประกอบ!F27=DATA!$A$7,DATA!$D$7,IF(ข้อมูลประกอบ!F27=DATA!$A$8,DATA!$B$8)))))))) -> 0 | Q27: =P27*12 -> 0 | R27: =IF($F27=DATA!$A$1,DATA!$D$1,IF(ข้อมูลประกอบ!$F27=DATA!$A$2,DATA!$D$2,IF(ข้อมูลประกอบ!$F27=DATA!$A$3,DATA!$D$3,IF(ข้อมูลประกอบ!$F27=DATA!$A$4,DATA!$D$4,IF(ข้อมูลประกอบ!$F27=DATA!$A$5,DATA!$D$5,IF(ข้อมูลประกอบ!$F27=DATA!$A$6,DATA!$B$6,IF(ข้อมูลประกอบ!$F27=DATA!$A$7,DATA!$D$7,IF(ข้อมูลประกอบ!$F27=DATA!$A$8,DATA!$D$8)))))))) -> 0 | S27: =IF($F27=DATA!$A$1,DATA!$D$1,IF(ข้อมูลประกอบ!$F27=DATA!$A$2,DATA!$D$2,IF(ข้อมูลประกอบ!$F27=DATA!$A$3,DATA!$D$3,IF(ข้อมูลประกอบ!$F27=DATA!$A$4,DATA!$D$4,IF(ข้อมูลประกอบ!$F27=DATA!$A$5,DATA!$D$5,IF(ข้อมูลประกอบ!$F27=DATA!$A$6,DATA!$C$6,IF(ข้อมูลประกอบ!$F27=DATA!$A$7,DATA!$D$7,IF(ข้อมูลประกอบ!$F27=DATA!$A$8,DATA!$D$8)))))))) -> 0 | T27: =IF($F27=DATA!$A$1,DATA!$D$1,IF(ข้อมูลประกอบ!$F27=DATA!$A$2,DATA!$D$2,IF(ข้อมูลประกอบ!$F27=DATA!$A$3,DATA!$D$3,IF(ข้อมูลประกอบ!$F27=DATA!$A$4,DATA!$D$4,IF(ข้อมูลประกอบ!$F27=DATA!$A$5,DATA!$D$5,IF(ข้อมูลประกอบ!$F27=DATA!$A$6,DATA!$E$6,IF(ข้อมูลประกอบ!$F27=DATA!$A$7,DATA!$D$7,IF(ข้อมูลประกอบ!$F27=DATA!$A$8,DATA!$D$8)))))))) -> 0 | U27: =R27*S27*T27 -> 0 | V27: =IF($F27=DATA!$A$1,DATA!$D$1,IF(ข้อมูลประกอบ!$F27=DATA!$A$2,DATA!$D$2,IF(ข้อมูลประกอบ!$F27=DATA!$A$3,DATA!$D$3,IF(ข้อมูลประกอบ!$F27=DATA!$A$4,DATA!$D$4,IF(ข้อมูลประกอบ!$F27=DATA!$A$5,DATA!$D$5,IF(ข้อมูลประกอบ!$F27=DATA!$A$6,DATA!$D$6,IF(ข้อมูลประกอบ!$F27=DATA!$A$7,DATA!$B$7,IF(ข้อมูลประกอบ!$F27=DATA!$A$8,DATA!$D$8)))))))) -> 0 | W27: =IF($F27=DATA!$A$1,DATA!$D$1,IF(ข้อมูลประกอบ!$F27=DATA!$A$2,DATA!$D$2,IF(ข้อมูลประกอบ!$F27=DATA!$A$3,DATA!$D$3,IF(ข้อมูลประกอบ!$F27=DATA!$A$4,DATA!$D$4,IF(ข้อมูลประกอบ!$F27=DATA!$A$5,DATA!$D$5,IF(ข้อมูลประกอบ!$F27=DATA!$A$6,DATA!$D$6,IF(ข้อมูลประกอบ!$F27=DATA!$A$7,DATA!$C$7,IF(ข้อมูลประกอบ!$F27=DATA!$A$8,DATA!$D$8)))))))) -> 0 | X27: =V27*W27 -> 0 | Y27: =SUM(M27,O27,Q27,U27,X27) -> 0
