Workbook

Sheet สรุป
A1: หน่วยรับงบประมาณ : ........................
A2: เงินอุดหนุนทั่วไป
A3: รายการ : เงินอุดหนุนการจัดการศึกษาขององค์กรปกครองส่วนท้องถิ่นในพื้นที่จังหวัดชายแดนภาคใต้ (ค่าตอบแทน และสวัสดิการ)
A5: 1. หลักการและเหตุผล กระทรวงมหาดไทยมีนโยบายให้กรมส่งเสริมการปกครองท้องถิ่นปรับการจัดการเรียนการสอนโรงเรียนสังกัดองค์กรปกครอง ส่วนท้องถิ่นในพื้นที่จังหวัดชายแดนภาคใต้ (ยะลา ปัตตานี นราธิวาส สตูล และสงขลา) เพื่อเป็นแนวทางที่จะทำให้นักเรียนไทยมุสลิม ในจังหวัดชายแดนภาคใต้ได้มีโอกาสรับบริการทางการศึกษาจากภาครัฐได้อย่างครบถ้วนยิ่งขึ้น รวมทั้งได้รับความสะดวกในเรื่องการใช้อาคารสถานที่ อุปกรณ์การเรียนการสอน และสวัสดิการต่างๆ และเพื่อมิให้เกิดความแตกต่างระหว่างนักเรียนไทยพุทธและนักเรียนไทยมุสลิม จึงได้มีการปรับเพิ่มชั่วโมงการเรียนการสอนวิชาพุทธศาสนา และจัดการเรียนการสอนหลักสูตรพระปริยัติธรรมให้แก่นักเรียนไทยพุทธด้วย โดยได้เริ่มดำเนินการปรับการจัดการเรียนการสอน ตั้งแต่ปีงบประมาณ 2549 ในภาคเรียนที่ 2 ปีการศึกษา 2548 ต่อเนื่องมาจนถึงปัจจุบัน โดยได้ดำเนินการปรับรูปแบบการจัดการศึกษา ดังนี้
A6: (1) ปรับหลักสูตรการศึกษาขั้นพื้นฐานฯ ตั้งแต่ระดับชั้นประถมศึกษา และมัธยมศึกษา โดยเพิ่มชั่วโมงการเรียนการสอนวิชาสังคมศึกษา ศาสนาและวัฒนธรรม จาก 2 ชั่วโมง/สัปดาห์ เป็น 3 ชั่วโมง/สัปดาห์ โดยนักเรียนไทยมุสลิมเรียนวิชาอิสลามศึกษา นักเรียนไทยพุทธเรียนวิชาพุทธศาสนา (2) ส่งเสริมสนับสนุนและอำนวยความสะดวกในการจัดการเรียนการสอนหลักสูตรฟัรฎูอีน (หลักสูตรตาดีกา) เทียบเท่าหลักสูตรอิสลามศึกษาตอนต้น และหลักสูตรพระปริยัติธรรม โดยใช้สถานที่ของ องค์กรปกครองส่วนท้องถิ่นจัดการเรียนการสอนระดับชั้น ป.1-6 (3) จัดการเรียนการสอนระดับชั้นมัธยมศึกษา (รูปแบบผสมผสาน) โดยให้มีการเรียนการสอนควบคู่ 2 หลักสูตร คือ หลักสูตรการศึกษาขั้นพื้นฐาน และหลักสูตรอิสลามศึกษา อิสลามศึกษาตอนกลาง/ มุตะวัซซีเฎาะห์ (ม.1-3) และอิสลามศึกษาตอนปลาย/ซานาวียะห์(ม.4-6)
A7: 2. วัตถุประสงค์ 2.1 เพื่อให้นักเรียนได้รับความรู้ทั้งสายสามัญและด้านศาสนาอย่างถูกต้องและมีมาตรฐาน นักเรียนไทยมุสลิม และไทยพุทธจะได้รับการพัฒนาความคิด จิตสำนึก และทัศนคติที่สามารถอยู่ร่วมกันในสังคมได้อย่างสันติสุขและมีความสมานฉันท์ 2.2 เพื่อให้เกิดความร่วมมือระหว่างสถานศึกษากับชุมชนในการร่วมกันให้ความรู้ทางด้านศาสนาแก่นักเรียน และเยาวชนในพื้นที่
A8: 3. เป้าหมาย พนักงานจ้างตามภารกิจที่สังกัดโรงเรียนขององค์กรปกครองส่วนท้องถิ่นที่ปฏิบัติหน้าที่ในพื้นที่จังหวัดชายแดนภาคใต้ (ยะลา ปัตตานี นราธิวาส สตูล สงขลา) จำนวน 59 โรง โดยให้เฉพาะบุคลากรที่ปฏิบัติงานในโรงเรียนที่กรมส่งเสริมการปกครองท้องถิ่นพิจารณาอนุมัติแล้วว่าเป็นโรงเรียนที่มีการปรับปรุงหลักสูตรการเรียนการสอน
A9: 4. หลักเกณฑ์การจัดสรร เพื่อเป็นค่าตอบแทน เงินเพิ่มค่าครองชีพ และเงินสวัสดิการค่าตอบแทน เงินเพิ่มค่าครองชีพ และเงินสวัสดิการ ดังนี้
A10: (1) ค่าจ้างและเงินเลื่อนค่าตอบแทนพนักงานจ้างตามภารกิจตามผลการประเมินการปฏิบัติราชการ ตำแหน่งผู้ช่วยครูและวิทยากร (ปฏิบัติหน้าที่ครูสอนอิสลามศึกษา ครูสอนพุทธศาสนา ครูสอนพระปริยัติธรรมและครูผู้ปฏิบัติงานโภชนาการ) (2) ค่าจ้างพนักงานจ้างเหมาบริการรายเดือน (ปฏิบัติหน้าที่ครูสอนอิสลามศึกษา ครูสอนพุทธศาสนา และครูสอนพระปริยัติธรรม) (3) ค่าตอบแทนพนักงานจ้างรายชั่วโมง (ปฏิบัติหน้าที่ครูสอนอิสลามศึกษาและครูสอนพระปริยัติธรรม) (4) ค่าตอบแทนรายวันนักการภารโรง (เสาร์-อาทิตย์) (5) เงินประกันสังคมสำหรับพนักงานจ้างตามภารกิจ (6) ค่าตอบแทนพิเศษรายเดือนแก่เจ้าหน้าที่ผู้ปฏิบัติงานในจังหวัดชายแดนภาคใต้ขององค์กรปกครองส่วนท้องถิ่นตามมติ ครม. เมื่อวันที่ 11 พฤศจิกายน 2551 โดยปฏิบัติตามประกาศกระทรวงการคลัง ลงวันที่ 11 กันยายน 2560 เดือนละ 2,500 บาท/คน
A11: รายละเอียดค่าใช้จ่าย | B11: จำนวน (อัตตรา) (1) | C11: งบประมาณ (2) | D11: ระยะเวลา (3) | F11: งบประมาณทั้งสิ้น (4) = (1)×(2)×(4) | G11: หมายเหตุ
A12: 1. ค่าตอบแทนพนักงานจ้างตามภารกิจรายเดือน | B12: =SUM(B13:B16) -> 0 | F12: =(SUM(F13:F16)) -> 0
A13: ครูสอนอิสลามศึกษา | B13: =COUNTIFS(ข้อมูลประกอบ!$F$9:$F$108,สรุป!A13,ข้อมูลประกอบ!$G$9:$G$108,"*อัตราคนครอง*") -> 0 | C13: =SUMIFS(ข้อมูลประกอบ!$H$9:$H$108,ข้อมูลประกอบ!$F$9:$F$108,สรุป!A13,ข้อมูลประกอบ!$G$9:$G$108,"*อัตราคนครอง*") -> 0 | D13: 12 | E13: เดือน | F13: =C13*D13 -> 0
A14: ครูสอนพุทธศาสนา | B14: =COUNTIFS(ข้อมูลประกอบ!$F$9:$F$108,สรุป!A14,ข้อมูลประกอบ!$G$9:$G$108,"*อัตราคนครอง*") -> 0 | C14: =SUMIFS(ข้อมูลประกอบ!$H$9:$H$108,ข้อมูลประกอบ!$F$9:$F$108,สรุป!A14,ข้อมูลประกอบ!$G$9:$G$108,"*อัตราคนครอง*") -> 0 | D14: 12 | E14: เดือน | F14: =C14*D14 -> 0
A15: ครูสอนพระปริยัติธรรม | B15: =COUNTIFS(ข้อมูลประกอบ!$F$9:$F$108,สรุป!A15,ข้อมูลประกอบ!$G$9:$G$108,"*อัตราคนครอง*") -> 0 | C15: =SUMIFS(ข้อมูลประกอบ!$H$9:$H$108,ข้อมูลประกอบ!$F$9:$F$108,สรุป!A15,ข้อมูลประกอบ!$G$9:$G$108,"*อัตราคนครอง*") -> 0 | D15: 12 | E15: เดือน | F15: =C15*D15 -> 0
A16: ครูผู้ปฏิบัติงานโภชนาการ | B16: =COUNTIFS(ข้อมูลประกอบ!$F$9:$F$108,สรุป!A16,ข้อมูลประกอบ!$G$9:$G$108,"*อัตราคนครอง*") -> 0 | C16: =SUMIFS(ข้อมูลประกอบ!$H$9:$H$108,ข้อมูลประกอบ!$F$9:$F$108,สรุป!A16,ข้อมูลประกอบ!$G$9:$G$108,"*อัตราคนครอง*") -> 0 | D16: 12 | E16: เดือน | F16: =C16*D16 -> 0
A17: อัตราว่าง | B17: =COUNTIFS(ข้อมูลประกอบ!$G$9:$G$108,"*อัตราว่าง*",ข้อมูลประกอบ!$F$9:$F$108,"*ครู*") -> 0 | C17: =SUMIFS(ข้อมูลประกอบ!$H$9:$H$108,ข้อมูลประกอบ!$G$9:$G$108,"*อัตราว่าง*",ข้อมูลประกอบ!$F$9:$F$108,"*ครู*") -> 0 | D17: 12 | E17: เดือน | F17: =C17*D17 -> 0
A18: 2. เงินเลื่อนค่าตอบแทนพนักงานจ้างตามภารกิจตามผลการปฏิบัติราชการ (4%) | B18: =B19+B20+B21+B22 -> 0 | F18: =+F19+F20+F21+F22 -> 0
A19: ครูสอนอิสลามศึกษา | B19: =COUNTIF(ข้อมูลประกอบ!$F$9:$F$108,สรุป!A19) -> 0 | C19: =SUMIF(ข้อมูลประกอบ!$F$9:$F$108,สรุป!A19,ข้อมูลประกอบ!$I$9:$I$108) -> 0 | D19: 12 | E19: เดือน | F19: =C19*D19 -> 0
A20: ครูสอนพุทธศาสนา | B20: =COUNTIF(ข้อมูลประกอบ!$F$9:$F$108,สรุป!A20) -> 0 | C20: =SUMIF(ข้อมูลประกอบ!$F$9:$F$108,สรุป!A20,ข้อมูลประกอบ!$I$9:$I$108) -> 0 | D20: 12 | E20: เดือน | F20: =C20*D20 -> 0
A21: ครูสอนพระปริยัติธรรม | B21: =COUNTIF(ข้อมูลประกอบ!$F$9:$F$108,สรุป!A21) -> 0 | C21: =SUMIF(ข้อมูลประกอบ!$F$9:$F$108,สรุป!A21,ข้อมูลประกอบ!$I$9:$I$108) -> 0 | D21: 12 | E21: เดือน | F21: =C21*D21 -> 0
A22: ครูผู้ปฏิบัติงานโภชนาการ | B22: =COUNTIF(ข้อมูลประกอบ!$F$9:$F$108,สรุป!A22) -> 0 | C22: =SUMIF(ข้อมูลประกอบ!$F$9:$F$108,สรุป!A22,ข้อมูลประกอบ!$I$9:$I$108) -> 0 | D22: 12 | E22: เดือน | F22: =C22*D22 -> 0
A23: 3. ค่าจ้างพนักงานจ้างเหมาบริการรายเดือน | B23: =COUNTIFS(ข้อมูลประกอบ!$F$9:$F$108,สรุป!H23,ข้อมูลประกอบ!$G$9:$G$108,"*อัตราคนครอง*") -> 0 | C23: =SUMIFS(ข้อมูลประกอบ!$N$9:$N$108,ข้อมูลประกอบ!$G$9:$G$108,"*อัตราคนครอง*",ข้อมูลประกอบ!$F$9:$F$108,"*นัก*") -> 0 | D23: 12 | E23: เดือน | F23: =C23*D23 -> 0 | H23: พนักงานจ้างเหมาบริการ
A24: อัตราว่าง | B24: =COUNTIFS(ข้อมูลประกอบ!$G$9:$G$108,"*อัตราว่าง*",ข้อมูลประกอบ!$F$9:$F$108,"*นัก*") -> 0 | C24: =SUMIFS(ข้อมูลประกอบ!$N$9:$N$108,ข้อมูลประกอบ!$G$9:$G$108,"*อัตราว่าง*",ข้อมูลประกอบ!$F$9:$F$108,"*นัก*") -> 0 | D24: 12 | E24: เดือน | F24: =C24*D24 -> 0
A25: 4. ค่าตอบแทนพนักงานจ้างรายชั่วโมง (เสาร์-อาทิตย์ 8 ชั่วโมง/วัน) | B25: =COUNTIF(ข้อมูลประกอบ!$F$9:$F$108,สรุป!H25) -> 0 | C25: =SUMIF(ข้อมูลประกอบ!$F$9:$F$108,สรุป!H25,ข้อมูลประกอบ!$U$9:$U$108) -> 0 | D25: 80 | E25: วัน | F25: =C25 -> 0 | H25: พนักงานจ้าง
A26: 5. ค่าตอบแทนรายวันนักการภารโรง (เสาร์-อาทิตย์) | B26: =COUNTIF(ข้อมูลประกอบ!$F$9:$F$108,สรุป!H26) -> 0 | C26: =SUMIF(ข้อมูลประกอบ!$F$9:$F$108,สรุป!H26,ข้อมูลประกอบ!$X$9:$X$108) -> 0 | D26: 80 | E26: วัน | F26: =C26 -> 0 | H26: นักการภารโรง
A27: 6. เงินประกันสังคมสำหรับพนักงานจ้างตามภารกิจ (5%) | B27: =B12 -> 0 | C27: =ข้อมูลประกอบ!L7 -> 0 | D27: 12 | E27: เดือน | F27: =C27*D27 -> 0
A28: 7. ค่าตอบแทนพิเศษรายเดือนภาคใต้ | B28: =COUNTIF(ข้อมูลประกอบ!P9:P108,">1") -> 0 | C28: =SUMIF(ข้อมูลประกอบ!$P$9:$P$108,">1",ข้อมูลประกอบ!$P$9:$P$108) -> 0 | D28: 12 | E28: เดือน | F28: =C28*D28 -> 0
A29: รวมทั้งสิ้น | F29: =ROUND(SUM(F12,F18,F23,F25,F26,F27,F28),-2) -> 0
A30: 5. ลักษณะการใช้งบประมาณ เป็นค่าใช้จ่ายที่ต้องจ่ายตามสิทธิ โดยจ่ายเป็นอัตรารายหัวให้เฉพาะผู้ที่มีรายชื่อเป็นเจ้าหน้าที่ขององค์กรปกครองส่วนท้องถิ่นที่ปฏิบัติงานในพื้นที่จังหวัดชายแดนใต้
A31: 6. ข้อมูลประกอบการพิจารณา 1. ข้อมูลโรงเรียนที่ผ่านการปรับปรุงหลักสูตรการเรียนการสอน 2. ข้อมูลบุคลากรในสังกัดโรงเรียนที่ผ่านการปรับปรุงหลักสูตรการเรียนการสอน

Sheet ข้อมูลประกอบ
A1: บัญชีรายละเอียดการจัดสรรค่าตอบแทนพนักงานจ้างตามภารกิจตำแหน่งผู้ช่วยครูและวิทยากร
A2: (ปฏิบัติหน้าที่ครูสอนอิสลามศึกษา ครูสอนพุทธศาสนา ครูสอนพระปริยัติธรรม และครูผู้ปฏิบัติงานโภชนาการ)
A3: โครงการส่งเสริมสนับสนุนการแก้ไขปัญหาพัฒนาจังหวัดชายแดนภาคใต้ เงินอุดหนุนสำหรับสนับสนุนการจัดการศึกษา
A5: ลำดับที่ | B5: ชื่อ - นามสกุล | C5: เลขที่สัญญา | D5: วุฒิการศึกษา | E5: จังหวัด/อปท./โรงเรียน | F5: ตำแหน่ง | G5: อัตราคนครอง/อัตรว่าง | H5: ค่าตอบแทนพนักงานจ้างตามภารกิจ | N5: ค่าตอบแทนพนักงานจ้างเหมาบริการ | P5: เงินค่าตอบแทนพิเศษ ชายแดนใต้ (รายเดือน) | Q5: เงินค่าตอบแทนพิเศษ ชายแดนใต้ (รายปี) | R5: ค่าตอบแทนพนักงานจ้างรายชั่วโมง (เสาร์ - อาทิตย์ 8 ชั่วโมง/วัน) 200 บาท/ชั่วโมง | V5: ค่าตอบแทนรายวันนักการภารโรง (เสาร์ - อาทิตย์) 300 บาท/วัน | Y5: รวมทั้งสิ้น
H6: เงินเดือนพนักงาน ณ 1 ต.ค. 2568 (เงินเดือน) | I6: เลื่อนขั้น 4% | J6: รวมเงินเดือน + เลื่อนขั้น | L6: เงินกองทุนประกันสังคม ร้อยละ 5 (รายเดือน) | M6: รวมเงินเดือน พนักงานจ้างตามภารกิจ (รายปี) | N6: เงินเดือนพนักงาน จ้างเหมาบริการ (รายเดือน) | O6: รวมเงินเดือน พนักงาน (รายปี) | R6: จำนวนชั่วโมง | S6: จำนวนวัน ไม่เกิน 80 วัน | T6: ค่าตอบแทน พนักงานจ้างเหมาบริการ | U6: รวมเงินค่าตอบแทน พนักงานจ้าง | V6: จำนวนวัน ไม่เกิน 80 วัน | W6: นักการภารโรง | X6: รวมเงินค่าตอบแทน นักการภารโรง
A7: จังหวัดยะลา | H7: =SUM(H8) -> 0 | I7: =SUM(I8) -> 0 | J7: =SUM(J8) -> 0 | L7: =SUM(L8) -> 0 | M7: =SUM(M8) -> 0 | N7: =SUM(N8) -> 0 | O7: =SUM(O8) -> 0 | P7: =SUM(P8) -> 0 | Q7: =SUM(Q8) -> 0 | R7: =SUM(R8) -> 0 | S7: =SUM(S8) -> 0 | ... Y7: =SUM(Y8) -> 0
A8: เทศบาลนครยะลา | H8: =(SUM(H9:H90)) -> 0 | I8: =(SUM(I9:I90)) -> 0 | J8: =(SUM(J9:J90)) -> 0 | K8: =(SUM(K9:K90)) -> 0 | L8: =(SUM(L9:L90)) -> 0 | M8: =(SUM(M9:M90)) -> 0 | N8: =(SUM(N9:N90)) -> 0 | O8: =(SUM(O9:O90)) -> 0 | ... Q8: =(SUM(Q9:Q90)) -> 0 | U8: =(SUM(U9:U90)) -> 0 | X8: =(SUM(X9:X90)) -> 0 | Y8: =(SUM(Y9:Y90)) -> 0
A9: 1 | D9: โปรดเลือก | F9: กรุณาเลือกตำแหน่ง | G9: โปรดเลือก | I9: =H9*0.04 -> 0 | J9: =SUM(H9:I9) -> 0 | K9: =J9*0.05 -> 0 | L9: =IF(K9>=750,750,K9) -> 0 | M9: =SUM(J9+L9)*12 -> 0 | N9: =IF(F9=DATA!$A$1,DATA!$D$1,IF(ข้อมูลประกอบ!F9=DATA!$A$2,DATA!$D$2,IF(ข้อมูลประกอบ!F9=DATA!$A$3,DATA!$D$3,IF(ข้อมูลประกอบ!F9=DATA!$A$4,DATA!$D$4,IF(ข้อมูลประกอบ!F9=DATA!$A$5,DATA!$B$5,IF(ข้อมูลประกอบ!F9=DATA!$A$6,DATA!$D$6,IF(ข้อมูลประกอบ!F9=DATA!$A$7,DATA!$D$7,IF(ข้อมูลประกอบ!F9=DATA!$A$8,DATA!$D$8)))))))) -> 0 | O9: =N9*12 -> 0 | P9: =IF($F9=DATA!$A$1,DATA!$C$1,IF(ข้อมูลประกอบ!$F9=DATA!$A$2,DATA!$C$2,IF(ข้อมูลประกอบ!$F9=DATA!$A$3,DATA!$C$3,IF(ข้อมูลประกอบ!$F9=DATA!$A$4,DATA!$C$4,IF(ข้อมูลประกอบ!$F9=DATA!$A$5,DATA!$C$5,IF(ข้อมูลประกอบ!$F9=DATA!$A$6,DATA!$D$6,IF(ข้อมูลประกอบ!$F9=DATA!$A$7,DATA!$D$7,IF(ข้อมูลประกอบ!$F9=DATA!$A$8,DATA!$B$8)))))))) -> 0 | Q9: =P9*12 -> 0 | R9: =IF($F9=DATA!$A$1,DATA!$D$1,IF(ข้อมูลประกอบ!$F9=DATA!$A$2,DATA!$D$2,IF(ข้อมูลประกอบ!$F9=DATA!$A$3,DATA!$D$3,IF(ข้อมูลประกอบ!$F9=DATA!$A$4,DATA!$D$4,IF(ข้อมูลประกอบ!$F9=DATA!$A$5,DATA!$D$5,IF(ข้อมูลประกอบ!$F9=DATA!$A$6,DATA!$B$6,IF(ข้อมูลประกอบ!$F9=DATA!$A$7,DATA!$D$7,IF(ข้อมูลประกอบ!$F9=DATA!$A$8,DATA!$D$8)))))))) -> 0 | S9: =IF($F9=DATA!$A$1,DATA!$D$1,IF(ข้อมูลประกอบ!$F9=DATA!$A$2,DATA!$D$2,IF(ข้อมูลประกอบ!$F9=DATA!$A$3,DATA!$D$3,IF(ข้อมูลประกอบ!$F9=DATA!$A$4,DATA!$D$4,IF(ข้อมูลประกอบ!$F9=DATA!$A$5,DATA!$D$5,IF(ข้อมูลประกอบ!$F9=DATA!$A$6,DATA!$C$6,IF(ข้อมูลประกอบ!$F9=DATA!$A$7,DATA!$D$7,IF(ข้อมูลประกอบ!$F9=DATA!$A$8,DATA!$D$8)))))))) -> 0 | T9: =IF($F9=DATA!$A$1,DATA!$D$1,IF(ข้อมูลประกอบ!$F9=DATA!$A$2,DATA!$D$2,IF(ข้อมูลประกอบ!$F9=DATA!$A$3,DATA!$D$3,IF(ข้อมูลประกอบ!$F9=DATA!$A$4,DATA!$D$4,IF(ข้อมูลประกอบ!$F9=DATA!$A$5,DATA!$D$5,IF(ข้อมูลประกอบ!$F9=DATA!$A$6,DATA!$E$6,IF(ข้อมูลประกอบ!$F9=DATA!$A$7,DATA!$D$7,IF(ข้อมูลประกอบ!$F9=DATA!$A$8,DATA!$D$8)))))))) -> 0 | U9: =R9*S9*T9 -> 0 | V9: =IF($F9=DATA!$A$1,DATA!$D$1,IF(ข้อมูลประกอบ!$F9=DATA!$A$2,DATA!$D$2,IF(ข้อมูลประกอบ!$F9=DATA!$A$3,DATA!$D$3,IF(ข้อมูลประกอบ!$F9=DATA!$A$4,DATA!$D$4,IF(ข้อมูลประกอบ!$F9=DATA!$A$5,DATA!$D$5,IF(ข้อมูลประกอบ!$F9=DATA!$A$6,DATA!$D$6,IF(ข้อมูลประกอบ!$F9=DATA!$A$7,DATA!$B$7,IF(ข้อมูลประกอบ!$F9=DATA!$A$8,DATA!$D$8)))))))) -> 0 | W9: =IF($F9=DATA!$A$1,DATA!$D$1,IF(ข้อมูลประกอบ!$F9=DATA!$A$2,DATA!$D$2,IF(ข้อมูลประกอบ!$F9=DATA!$A$3,DATA!$D$3,IF(ข้อมูลประกอบ!$F9=DATA!$A$4,DATA!$D$4,IF(ข้อมูลประกอบ!$F9=DATA!$A$5,DATA!$D$5,IF(ข้อมูลประกอบ!$F9=DATA!$A$6,DATA!$D$6,IF(ข้อมูลประกอบ!$F9=DATA!$A$7,DATA!$C$7,IF(ข้อมูลประกอบ!$F9=DATA!$A$8,DATA!$D$8)))))))) -> 0 | X9: =V9*W9 -> 0 | Y9: =SUM(M9,O9,Q9,U9,X9) -> 0
A10: 2 | D10: โปรดเลือก | F10: กรุณาเลือกตำแหน่ง | G10: โปรดเลือก | H10: 0 | I10: =H10*0.04 -> 0 | J10: =SUM(H10:I10) -> 0 | K10: =J10*0.05 -> 0 | L10: =IF(K10>=750,750,K10) -> 0 | M10: =SUM(J10+L10)*12 -> 0 | N10: =IF(F10=DATA!$A$1,DATA!$D$1,IF(ข้อมูลประกอบ!F10=DATA!$A$2,DATA!$D$2,IF(ข้อมูลประกอบ!F10=DATA!$A$3,DATA!$D$3,IF(ข้อมูลประกอบ!F10=DATA!$A$4,DATA!$D$4,IF(ข้อมูลประกอบ!F10=DATA!$A$5,DATA!$B$5,IF(ข้อมูลประกอบ!F10=DATA!$A$6,DATA!$D$6,IF(ข้อมูลประกอบ!F10=DATA!$A$7,DATA!$D$7,IF(ข้อมูลประกอบ!F10=DATA!$A$8,DATA!$D$8)))))))) -> 0 | O10: =N10*12 -> 0 | P10: =IF(F10=DATA!$A$1,DATA!$C$1,IF(ข้อมูลประกอบ!F10=DATA!$A$2,DATA!$C$2,IF(ข้อมูลประกอบ!F10=DATA!$A$3,DATA!$C$3,IF(ข้อมูลประกอบ!F10=DATA!$A$4,DATA!$C$4,IF(ข้อมูลประกอบ!F10=DATA!$A$5,DATA!$C$5,IF(ข้อมูลประกอบ!F10=DATA!$A$6,DATA!$D$6,IF(ข้อมูลประกอบ!F10=DATA!$A$7,DATA!$D$7,IF(ข้อมูลประกอบ!F10=DATA!$A$8,DATA!$B$8)))))))) -> 0 | Q10: =P10*12 -> 0 | R10: =IF($F10=DATA!$A$1,DATA!$D$1,IF(ข้อมูลประกอบ!$F10=DATA!$A$2,DATA!$D$2,IF(ข้อมูลประกอบ!$F10=DATA!$A$3,DATA!$D$3,IF(ข้อมูลประกอบ!$F10=DATA!$A$4,DATA!$D$4,IF(ข้อมูลประกอบ!$F10=DATA!$A$5,DATA!$D$5,IF(ข้อมูลประกอบ!$F10=DATA!$A$6,DATA!$B$6,IF(ข้อมูลประกอบ!$F10=DATA!$A$7,DATA!$D$7,IF(ข้อมูลประกอบ!$F10=DATA!$A$8,DATA!$D$8)))))))) -> 0 | S10: =IF($F10=DATA!$A$1,DATA!$D$1,IF(ข้อมูลประกอบ!$F10=DATA!$A$2,DATA!$D$2,IF(ข้อมูลประกอบ!$F10=DATA!$A$3,DATA!$D$3,IF(ข้อมูลประกอบ!$F10=DATA!$A$4,DATA!$D$4,IF(ข้อมูลประกอบ!$F10=DATA!$A$5,DATA!$D$5,IF(ข้อมูลประกอบ!$F10=DATA!$A$6,DATA!$C$6,IF(ข้อมูลประกอบ!$F10=DATA!$A$7,DATA!$D$7,IF(ข้อมูลประกอบ!$F10=DATA!$A$8,DATA!$D$8)))))))) -> 0 | T10: =IF($F10=DATA!$A$1,DATA!$D$1,IF(ข้อมูลประกอบ!$F10=DATA!$A$2,DATA!$D$2,IF(ข้อมูลประกอบ!$F10=DATA!$A$3,DATA!$D$3,IF(ข้อมูลประกอบ!$F10=DATA!$A$4,DATA!$D$4,IF(ข้อมูลประกอบ!$F10=DATA!$A$5,DATA!$D$5,IF(ข้อมูลประกอบ!$F10=DATA!$A$6,DATA!$E$6,IF(ข้อมูลประกอบ!$F10=DATA!$A$7,DATA!$D$7,IF(ข้อมูลประกอบ!$F10=DATA!$A$8,DATA!$D$8)))))))) -> 0 | U10: =R10*S10*T10 -> 0 | V10: =IF($F10=DATA!$A$1,DATA!$D$1,IF(ข้อมูลประกอบ!$F10=DATA!$A$2,DATA!$D$2,IF(ข้อมูลประกอบ!$F10=DATA!$A$3,DATA!$D$3,IF(ข้อมูลประกอบ!$F10=DATA!$A$4,DATA!$D$4,IF(ข้อมูลประกอบ!$F10=DATA!$A$5,DATA!$D$5,IF(ข้อมูลประกอบ!$F10=DATA!$A$6,DATA!$D$6,IF(ข้อมูลประกอบ!$F10=DATA!$A$7,DATA!$B$7,IF(ข้อมูลประกอบ!$F10=DATA!$A$8,DATA!$D$8)))))))) -> 0 | W10: =IF($F10=DATA!$A$1,DATA!$D$1,IF(ข้อมูลประกอบ!$F10=DATA!$A$2,DATA!$D$2,IF(ข้อมูลประกอบ!$F10=DATA!$A$3,DATA!$D$3,IF(ข้อมูลประกอบ!$F10=DATA!$A$4,DATA!$D$4,IF(ข้อมูลประกอบ!$F10=DATA!$A$5,DATA!$D$5,IF(ข้อมูลประกอบ!$F10=DATA!$A$6,DATA!$D$6,IF(ข้อมูลประกอบ!$F10=DATA!$A$7,DATA!$C$7,IF(ข้อมูลประกอบ!$F10=DATA!$A$8,DATA!$D$8)))))))) -> 0 | X10: =V10*W10 -> 0 | Y10: =SUM(M10,O10,Q10,U10,X10) -> 0
A11: 3 | D11: โปรดเลือก | F11: กรุณาเลือกตำแหน่ง | G11: โปรดเลือก | H11: 0 | I11: =H11*0.04 -> 0 | J11: =SUM(H11:I11) -> 0 | K11: =J11*0.05 -> 0 | L11: =IF(K11>=750,750,K11) -> 0 | M11: =SUM(J11+L11)*12 -> 0 | N11: =IF(F11=DATA!$A$1,DATA!$D$1,IF(ข้อมูลประกอบ!F11=DATA!$A$2,DATA!$D$2,IF(ข้อมูลประกอบ!F11=DATA!$A$3,DATA!$D$3,IF(ข้อมูลประกอบ!F11=DATA!$A$4,DATA!$D$4,IF(ข้อมูลประกอบ!F11=DATA!$A$5,DATA!$B$5,IF(ข้อมูลประกอบ!F11=DATA!$A$6,DATA!$D$6,IF(ข้อมูลประกอบ!F11=DATA!$A$7,DATA!$D$7,IF(ข้อมูลประกอบ!F11=DATA!$A$8,DATA!$D$8)))))))) -> 0 | O11: =N11*12 -> 0 | P11: =IF(F11=DATA!$A$1,DATA!$C$1,IF(ข้อมูลประกอบ!F11=DATA!$A$2,DATA!$C$2,IF(ข้อมูลประกอบ!F11=DATA!$A$3,DATA!$C$3,IF(ข้อมูลประกอบ!F11=DATA!$A$4,DATA!$C$4,IF(ข้อมูลประกอบ!F11=DATA!$A$5,DATA!$C$5,IF(ข้อมูลประกอบ!F11=DATA!$A$6,DATA!$D$6,IF(ข้อมูลประกอบ!F11=DATA!$A$7,DATA!$D$7,IF(ข้อมูลประกอบ!F11=DATA!$A$8,DATA!$B$8)))))))) -> 0 | Q11: =P11*12 -> 0 | R11: =IF($F11=DATA!$A$1,DATA!$D$1,IF(ข้อมูลประกอบ!$F11=DATA!$A$2,DATA!$D$2,IF(ข้อมูลประกอบ!$F11=DATA!$A$3,DATA!$D$3,IF(ข้อมูลประกอบ!$F11=DATA!$A$4,DATA!$D$4,IF(ข้อมูลประกอบ!$F11=DATA!$A$5,DATA!$D$5,IF(ข้อมูลประกอบ!$F11=DATA!$A$6,DATA!$B$6,IF(ข้อมูลประกอบ!$F11=DATA!$A$7,DATA!$D$7,IF(ข้อมูลประกอบ!$F11=DATA!$A$8,DATA!$D$8)))))))) -> 0 | S11: =IF($F11=DATA!$A$1,DATA!$D$1,IF(ข้อมูลประกอบ!$F11=DATA!$A$2,DATA!$D$2,IF(ข้อมูลประกอบ!$F11=DATA!$A$3,DATA!$D$3,IF(ข้อมูลประกอบ!$F11=DATA!$A$4,DATA!$D$4,IF(ข้อมูลประกอบ!$F11=DATA!$A$5,DATA!$D$5,IF(ข้อมูลประกอบ!$F11=DATA!$A$6,DATA!$C$6,IF(ข้อมูลประกอบ!$F11=DATA!$A$7,DATA!$D$7,IF(ข้อมูลประกอบ!$F11=DATA!$A$8,DATA!$D$8)))))))) -> 0 | T11: =IF($F11=DATA!$A$1,DATA!$D$1,IF(ข้อมูลประกอบ!$F11=DATA!$A$2,DATA!$D$2,IF(ข้อมูลประกอบ!$F11=DATA!$A$3,DATA!$D$3,IF(ข้อมูลประกอบ!$F11=DATA!$A$4,DATA!$D$4,IF(ข้อมูลประกอบ!$F11=DATA!$A$5,DATA!$D$5,IF(ข้อมูลประกอบ!$F11=DATA!$A$6,DATA!$E$6,IF(ข้อมูลประกอบ!$F11=DATA!$A$7,DATA!$D$7,IF(ข้อมูลประกอบ!$F11=DATA!$A$8,DATA!$D$8)))))))) -> 0 | U11: =R11*S11*T11 -> 0 | V11: =IF($F11=DATA!$A$1,DATA!$D$1,IF(ข้อมูลประกอบ!$F11=DATA!$A$2,DATA!$D$2,IF(ข้อมูลประกอบ!$F11=DATA!$A$3,DATA!$D$3,IF(ข้อมูลประกอบ!$F11=DATA!$A$4,DATA!$D$4,IF(ข้อมูลประกอบ!$F11=DATA!$A$5,DATA!$D$5,IF(ข้อมูลประกอบ!$F11=DATA!$A$6,DATA!$D$6,IF(ข้อมูลประกอบ!$F11=DATA!$A$7,DATA!$B$7,IF(ข้อมูลประกอบ!$F11=DATA!$A$8,DATA!$D$8)))))))) -> 0 | W11: =IF($F11=DATA!$A$1,DATA!$D$1,IF(ข้อมูลประกอบ!$F11=DATA!$A$2,DATA!$D$2,IF(ข้อมูลประกอบ!$F11=DATA!$A$3,DATA!$D$3,IF(ข้อมูลประกอบ!$F11=DATA!$A$4,DATA!$D$4,IF(ข้อมูลประกอบ!$F11=DATA!$A$5,DATA!$D$5,IF(ข้อมูลประกอบ!$F11=DATA!$A$6,DATA!$D$6,IF(ข้อมูลประกอบ!$F11=DATA!$A$7,DATA!$C$7,IF(ข้อมูลประกอบ!$F11=DATA!$A$8,DATA!$D$8)))))))) -> 0 | X11: =V11*W11 -> 0 | Y11: =SUM(M11,O11,Q11,U11,X11) -> 0
A12: 4 | D12: โปรดเลือก | F12: กรุณาเลือกตำแหน่ง | G12: โปรดเลือก | H12: 0 | I12: =H12*0.04 -> 0 | J12: =SUM(H12:I12) -> 0 | K12: =J12*0.05 -> 0 | L12: =IF(K12>=750,750,K12) -> 0 | M12: =SUM(J12+L12)*12 -> 0 | N12: =IF(F12=DATA!$A$1,DATA!$D$1,IF(ข้อมูลประกอบ!F12=DATA!$A$2,DATA!$D$2,IF(ข้อมูลประกอบ!F12=DATA!$A$3,DATA!$D$3,IF(ข้อมูลประกอบ!F12=DATA!$A$4,DATA!$D$4,IF(ข้อมูลประกอบ!F12=DATA!$A$5,DATA!$B$5,IF(ข้อมูลประกอบ!F12=DATA!$A$6,DATA!$D$6,IF(ข้อมูลประกอบ!F12=DATA!$A$7,DATA!$D$7,IF(ข้อมูลประกอบ!F12=DATA!$A$8,DATA!$D$8)))))))) -> 0 | O12: =N12*12 -> 0 | P12: =IF(F12=DATA!$A$1,DATA!$C$1,IF(ข้อมูลประกอบ!F12=DATA!$A$2,DATA!$C$2,IF(ข้อมูลประกอบ!F12=DATA!$A$3,DATA!$C$3,IF(ข้อมูลประกอบ!F12=DATA!$A$4,DATA!$C$4,IF(ข้อมูลประกอบ!F12=DATA!$A$5,DATA!$C$5,IF(ข้อมูลประกอบ!F12=DATA!$A$6,DATA!$D$6,IF(ข้อมูลประกอบ!F12=DATA!$A$7,DATA!$D$7,IF(ข้อมูลประกอบ!F12=DATA!$A$8,DATA!$B$8)))))))) -> 0 | Q12: =P12*12 -> 0 | R12: =IF($F12=DATA!$A$1,DATA!$D$1,IF(ข้อมูลประกอบ!$F12=DATA!$A$2,DATA!$D$2,IF(ข้อมูลประกอบ!$F12=DATA!$A$3,DATA!$D$3,IF(ข้อมูลประกอบ!$F12=DATA!$A$4,DATA!$D$4,IF(ข้อมูลประกอบ!$F12=DATA!$A$5,DATA!$D$5,IF(ข้อมูลประกอบ!$F12=DATA!$A$6,DATA!$B$6,IF(ข้อมูลประกอบ!$F12=DATA!$A$7,DATA!$D$7,IF(ข้อมูลประกอบ!$F12=DATA!$A$8,DATA!$D$8)))))))) -> 0 | S12: =IF($F12=DATA!$A$1,DATA!$D$1,IF(ข้อมูลประกอบ!$F12=DATA!$A$2,DATA!$D$2,IF(ข้อมูลประกอบ!$F12=DATA!$A$3,DATA!$D$3,IF(ข้อมูลประกอบ!$F12=DATA!$A$4,DATA!$D$4,IF(ข้อมูลประกอบ!$F12=DATA!$A$5,DATA!$D$5,IF(ข้อมูลประกอบ!$F12=DATA!$A$6,DATA!$C$6,IF(ข้อมูลประกอบ!$F12=DATA!$A$7,DATA!$D$7,IF(ข้อมูลประกอบ!$F12=DATA!$A$8,DATA!$D$8)))))))) -> 0 | T12: =IF($F12=DATA!$A$1,DATA!$D$1,IF(ข้อมูลประกอบ!$F12=DATA!$A$2,DATA!$D$2,IF(ข้อมูลประกอบ!$F12=DATA!$A$3,DATA!$D$3,IF(ข้อมูลประกอบ!$F12=DATA!$A$4,DATA!$D$4,IF(ข้อมูลประกอบ!$F12=DATA!$A$5,DATA!$D$5,IF(ข้อมูลประกอบ!$F12=DATA!$A$6,DATA!$E$6,IF(ข้อมูลประกอบ!$F12=DATA!$A$7,DATA!$D$7,IF(ข้อมูลประกอบ!$F12=DATA!$A$8,DATA!$D$8)))))))) -> 0 | U12: =R12*S12*T12 -> 0 | V12: =IF($F12=DATA!$A$1,DATA!$D$1,IF(ข้อมูลประกอบ!$F12=DATA!$A$2,DATA!$D$2,IF(ข้อมูลประกอบ!$F12=DATA!$A$3,DATA!$D$3,IF(ข้อมูลประกอบ!$F12=DATA!$A$4,DATA!$D$4,IF(ข้อมูลประกอบ!$F12=DATA!$A$5,DATA!$D$5,IF(ข้อมูลประกอบ!$F12=DATA!$A$6,DATA!$D$6,IF(ข้อมูลประกอบ!$F12=DATA!$A$7,DATA!$B$7,IF(ข้อมูลประกอบ!$F12=DATA!$A$8,DATA!$D$8)))))))) -> 0 | W12: =IF($F12=DATA!$A$1,DATA!$D$1,IF(ข้อมูลประกอบ!$F12=DATA!$A$2,DATA!$D$2,IF(ข้อมูลประกอบ!$F12=DATA!$A$3,DATA!$D$3,IF(ข้อมูลประกอบ!$F12=DATA!$A$4,DATA!$D$4,IF(ข้อมูลประกอบ!$F12=DATA!$A$5,DATA!$D$5,IF(ข้อมูลประกอบ!$F12=DATA!$A$6,DATA!$D$6,IF(ข้อมูลประกอบ!$F12=DATA!$A$7,DATA!$C$7,IF(ข้อมูลประกอบ!$F12=DATA!$A$8,DATA!$D$8)))))))) -> 0 | X12: =V12*W12 -> 0 | Y12: =SUM(M12,O12,Q12,U12,X12) -> 0
A13: 5 | D13: โปรดเลือก | F13: กรุณาเลือกตำแหน่ง | G13: โปรดเลือก | H13: 0 | I13: =H13*0.04 -> 0 | J13: =SUM(H13:I13) -> 0 | K13: =J13*0.05 -> 0 | L13: =IF(K13>=750,750,K13) -> 0 | M13: =SUM(J13+L13)*12 -> 0 | N13: =IF(F13=DATA!$A$1,DATA!$D$1,IF(ข้อมูลประกอบ!F13=DATA!$A$2,DATA!$D$2,IF(ข้อมูลประกอบ!F13=DATA!$A$3,DATA!$D$3,IF(ข้อมูลประกอบ!F13=DATA!$A$4,DATA!$D$4,IF(ข้อมูลประกอบ!F13=DATA!$A$5,DATA!$B$5,IF(ข้อมูลประกอบ!F13=DATA!$A$6,DATA!$D$6,IF(ข้อมูลประกอบ!F13=DATA!$A$7,DATA!$D$7,IF(ข้อมูลประกอบ!F13=DATA!$A$8,DATA!$D$8)))))))) -> 0 | O13: =N13*12 -> 0 | P13: =IF(F13=DATA!$A$1,DATA!$C$1,IF(ข้อมูลประกอบ!F13=DATA!$A$2,DATA!$C$2,IF(ข้อมูลประกอบ!F13=DATA!$A$3,DATA!$C$3,IF(ข้อมูลประกอบ!F13=DATA!$A$4,DATA!$C$4,IF(ข้อมูลประกอบ!F13=DATA!$A$5,DATA!$C$5,IF(ข้อมูลประกอบ!F13=DATA!$A$6,DATA!$D$6,IF(ข้อมูลประกอบ!F13=DATA!$A$7,DATA!$D$7,IF(ข้อมูลประกอบ!F13=DATA!$A$8,DATA!$B$8)))))))) -> 0 | Q13: =P13*12 -> 0 | R13: =IF($F13=DATA!$A$1,DATA!$D$1,IF(ข้อมูลประกอบ!$F13=DATA!$A$2,DATA!$D$2,IF(ข้อมูลประกอบ!$F13=DATA!$A$3,DATA!$D$3,IF(ข้อมูลประกอบ!$F13=DATA!$A$4,DATA!$D$4,IF(ข้อมูลประกอบ!$F13=DATA!$A$5,DATA!$D$5,IF(ข้อมูลประกอบ!$F13=DATA!$A$6,DATA!$B$6,IF(ข้อมูลประกอบ!$F13=DATA!$A$7,DATA!$D$7,IF(ข้อมูลประกอบ!$F13=DATA!$A$8,DATA!$D$8)))))))) -> 0 | S13: =IF($F13=DATA!$A$1,DATA!$D$1,IF(ข้อมูลประกอบ!$F13=DATA!$A$2,DATA!$D$2,IF(ข้อมูลประกอบ!$F13=DATA!$A$3,DATA!$D$3,IF(ข้อมูลประกอบ!$F13=DATA!$A$4,DATA!$D$4,IF(ข้อมูลประกอบ!$F13=DATA!$A$5,DATA!$D$5,IF(ข้อมูลประกอบ!$F13=DATA!$A$6,DATA!$C$6,IF(ข้อมูลประกอบ!$F13=DATA!$A$7,DATA!$D$7,IF(ข้อมูลประกอบ!$F13=DATA!$A$8,DATA!$D$8)))))))) -> 0 | T13: =IF($F13=DATA!$A$1,DATA!$D$1,IF(ข้อมูลประกอบ!$F13=DATA!$A$2,DATA!$D$2,IF(ข้อมูลประกอบ!$F13=DATA!$A$3,DATA!$D$3,IF(ข้อมูลประกอบ!$F13=DATA!$A$4,DATA!$D$4,IF(ข้อมูลประกอบ!$F13=DATA!$A$5,DATA!$D$5,IF(ข้อมูลประกอบ!$F13=DATA!$A$6,DATA!$E$6,IF(ข้อมูลประกอบ!$F13=DATA!$A$7,DATA!$D$7,IF(ข้อมูลประกอบ!$F13=DATA!$A$8,DATA!$D$8)))))))) -> 0 | U13: =R13*S13*T13 -> 0 | V13: =IF($F13=DATA!$A$1,DATA!$D$1,IF(ข้อมูลประกอบ!$F13=DATA!$A$2,DATA!$D$2,IF(ข้อมูลประกอบ!$F13=DATA!$A$3,DATA!$D$3,IF(ข้อมูลประกอบ!$F13=DATA!$A$4,DATA!$D$4,IF(ข้อมูลประกอบ!$F13=DATA!$A$5,DATA!$D$5,IF(ข้อมูลประกอบ!$F13=DATA!$A$6,DATA!$D$6,IF(ข้อมูลประกอบ!$F13=DATA!$A$7,DATA!$B$7,IF(ข้อมูลประกอบ!$F13=DATA!$A$8,DATA!$D$8)))))))) -> 0 | W13: =IF($F13=DATA!$A$1,DATA!$D$1,IF(ข้อมูลประกอบ!$F13=DATA!$A$2,DATA!$D$2,IF(ข้อมูลประกอบ!$F13=DATA!$A$3,DATA!$D$3,IF(ข้อมูลประกอบ!$F13=DATA!$A$4,DATA!$D$4,IF(ข้อมูลประกอบ!$F13=DATA!$A$5,DATA!$D$5,IF(ข้อมูลประกอบ!$F13=DATA!$A$6,DATA!$D$6,IF(ข้อมูลประกอบ!$F13=DATA!$A$7,DATA!$C$7,IF(ข้อมูลประกอบ!$F13=DATA!$A$8,DATA!$D$8)))))))) -> 0 | X13: =V13*W13 -> 0 | Y13: =SUM(M13,O13,Q13,U13,X13) -> 0
A14: 6 | D14: โปรดเลือก | F14: กรุณาเลือกตำแหน่ง | G14: โปรดเลือก | H14: 0 | I14: =H14*0.04 -> 0 | J14: =SUM(H14:I14) -> 0 | K14: =J14*0.05 -> 0 | L14: =IF(K14>=750,750,K14) -> 0 | M14: =SUM(J14+L14)*12 -> 0 | N14: =IF(F14=DATA!$A$1,DATA!$D$1,IF(ข้อมูลประกอบ!F14=DATA!$A$2,DATA!$D$2,IF(ข้อมูลประกอบ!F14=DATA!$A$3,DATA!$D$3,IF(ข้อมูลประกอบ!F14=DATA!$A$4,DATA!$D$4,IF(ข้อมูลประกอบ!F14=DATA!$A$5,DATA!$B$5,IF(ข้อมูลประกอบ!F14=DATA!$A$6,DATA!$D$6,IF(ข้อมูลประกอบ!F14=DATA!$A$7,DATA!$D$7,IF(ข้อมูลประกอบ!F14=DATA!$A$8,DATA!$D$8)))))))) -> 0 | O14: =N14*12 -> 0 | P14: =IF(F14=DATA!$A$1,DATA!$C$1,IF(ข้อมูลประกอบ!F14=DATA!$A$2,DATA!$C$2,IF(ข้อมูลประกอบ!F14=DATA!$A$3,DATA!$C$3,IF(ข้อมูลประกอบ!F14=DATA!$A$4,DATA!$C$4,IF(ข้อมูลประกอบ!F14=DATA!$A$5,DATA!$C$5,IF(ข้อมูลประกอบ!F14=DATA!$A$6,DATA!$D$6,IF(ข้อมูลประกอบ!F14=DATA!$A$7,DATA!$D$7,IF(ข้อมูลประกอบ!F14=DATA!$A$8,DATA!$B$8)))))))) -> 0 | Q14: =P14*12 -> 0 | R14: =IF($F14=DATA!$A$1,DATA!$D$1,IF(ข้อมูลประกอบ!$F14=DATA!$A$2,DATA!$D$2,IF(ข้อมูลประกอบ!$F14=DATA!$A$3,DATA!$D$3,IF(ข้อมูลประกอบ!$F14=DATA!$A$4,DATA!$D$4,IF(ข้อมูลประกอบ!$F14=DATA!$A$5,DATA!$D$5,IF(ข้อมูลประกอบ!$F14=DATA!$A$6,DATA!$B$6,IF(ข้อมูลประกอบ!$F14=DATA!$A$7,DATA!$D$7,IF(ข้อมูลประกอบ!$F14=DATA!$A$8,DATA!$D$8)))))))) -> 0 | S14: =IF($F14=DATA!$A$1,DATA!$D$1,IF(ข้อมูลประกอบ!$F14=DATA!$A$2,DATA!$D$2,IF(ข้อมูลประกอบ!$F14=DATA!$A$3,DATA!$D$3,IF(ข้อมูลประกอบ!$F14=DATA!$A$4,DATA!$D$4,IF(ข้อมูลประกอบ!$F14=DATA!$A$5,DATA!$D$5,IF(ข้อมูลประกอบ!$F14=DATA!$A$6,DATA!$C$6,IF(ข้อมูลประกอบ!$F14=DATA!$A$7,DATA!$D$7,IF(ข้อมูลประกอบ!$F14=DATA!$A$8,DATA!$D$8)))))))) -> 0 | T14: =IF($F14=DATA!$A$1,DATA!$D$1,IF(ข้อมูลประกอบ!$F14=DATA!$A$2,DATA!$D$2,IF(ข้อมูลประกอบ!$F14=DATA!$A$3,DATA!$D$3,IF(ข้อมูลประกอบ!$F14=DATA!$A$4,DATA!$D$4,IF(ข้อมูลประกอบ!$F14=DATA!$A$5,DATA!$D$5,IF(ข้อมูลประกอบ!$F14=DATA!$A$6,DATA!$E$6,IF(ข้อมูลประกอบ!$F14=DATA!$A$7,DATA!$D$7,IF(ข้อมูลประกอบ!$F14=DATA!$A$8,DATA!$D$8)))))))) -> 0 | U14: =R14*S14*T14 -> 0 | V14: =IF($F14=DATA!$A$1,DATA!$D$1,IF(ข้อมูลประกอบ!$F14=DATA!$A$2,DATA!$D$2,IF(ข้อมูลประกอบ!$F14=DATA!$A$3,DATA!$D$3,IF(ข้อมูลประกอบ!$F14=DATA!$A$4,DATA!$D$4,IF(ข้อมูลประกอบ!$F14=DATA!$A$5,DATA!$D$5,IF(ข้อมูลประกอบ!$F14=DATA!$A$6,DATA!$D$6,IF(ข้อมูลประกอบ!$F14=DATA!$A$7,DATA!$B$7,IF(ข้อมูลประกอบ!$F14=DATA!$A$8,DATA!$D$8)))))))) -> 0 | W14: =IF($F14=DATA!$A$1,DATA!$D$1,IF(ข้อมูลประกอบ!$F14=DATA!$A$2,DATA!$D$2,IF(ข้อมูลประกอบ!$F14=DATA!$A$3,DATA!$D$3,IF(ข้อมูลประกอบ!$F14=DATA!$A$4,DATA!$D$4,IF(ข้อมูลประกอบ!$F14=DATA!$A$5,DATA!$D$5,IF(ข้อมูลประกอบ!$F14=DATA!$A$6,DATA!$D$6,IF(ข้อมูลประกอบ!$F14=DATA!$A$7,DATA!$C$7,IF(ข้อมูลประกอบ!$F14=DATA!$A$8,DATA!$D$8)))))))) -> 0 | X14: =V14*W14 -> 0 | Y14: =SUM(M14,O14,Q14,U14,X14) -> 0
A15: 7 | D15: โปรดเลือก | F15: กรุณาเลือกตำแหน่ง | G15: โปรดเลือก | H15: 0 | I15: =H15*0.04 -> 0 | J15: =SUM(H15:I15) -> 0 | K15: =J15*0.05 -> 0 | L15: =IF(K15>=750,750,K15) -> 0 | M15: =SUM(J15+L15)*12 -> 0 | N15: 0 | O15: =N15*12 -> 0 | P15: =IF(F15=DATA!$A$1,DATA!$C$1,IF(ข้อมูลประกอบ!F15=DATA!$A$2,DATA!$C$2,IF(ข้อมูลประกอบ!F15=DATA!$A$3,DATA!$C$3,IF(ข้อมูลประกอบ!F15=DATA!$A$4,DATA!$C$4,IF(ข้อมูลประกอบ!F15=DATA!$A$5,DATA!$C$5,IF(ข้อมูลประกอบ!F15=DATA!$A$6,DATA!$D$6,IF(ข้อมูลประกอบ!F15=DATA!$A$7,DATA!$D$7,IF(ข้อมูลประกอบ!F15=DATA!$A$8,DATA!$B$8)))))))) -> 0 | Q15: =P15*12 -> 0 | R15: =IF($F15=DATA!$A$1,DATA!$D$1,IF(ข้อมูลประกอบ!$F15=DATA!$A$2,DATA!$D$2,IF(ข้อมูลประกอบ!$F15=DATA!$A$3,DATA!$D$3,IF(ข้อมูลประกอบ!$F15=DATA!$A$4,DATA!$D$4,IF(ข้อมูลประกอบ!$F15=DATA!$A$5,DATA!$D$5,IF(ข้อมูลประกอบ!$F15=DATA!$A$6,DATA!$B$6,IF(ข้อมูลประกอบ!$F15=DATA!$A$7,DATA!$D$7,IF(ข้อมูลประกอบ!$F15=DATA!$A$8,DATA!$D$8)))))))) -> 0 | S15: =IF($F15=DATA!$A$1,DATA!$D$1,IF(ข้อมูลประกอบ!$F15=DATA!$A$2,DATA!$D$2,IF(ข้อมูลประกอบ!$F15=DATA!$A$3,DATA!$D$3,IF(ข้อมูลประกอบ!$F15=DATA!$A$4,DATA!$D$4,IF(ข้อมูลประกอบ!$F15=DATA!$A$5,DATA!$D$5,IF(ข้อมูลประกอบ!$F15=DATA!$A$6,DATA!$C$6,IF(ข้อมูลประกอบ!$F15=DATA!$A$7,DATA!$D$7,IF(ข้อมูลประกอบ!$F15=DATA!$A$8,DATA!$D$8)))))))) -> 0 | T15: =IF($F15=DATA!$A$1,DATA!$D$1,IF(ข้อมูลประกอบ!$F15=DATA!$A$2,DATA!$D$2,IF(ข้อมูลประกอบ!$F15=DATA!$A$3,DATA!$D$3,IF(ข้อมูลประกอบ!$F15=DATA!$A$4,DATA!$D$4,IF(ข้อมูลประกอบ!$F15=DATA!$A$5,DATA!$D$5,IF(ข้อมูลประกอบ!$F15=DATA!$A$6,DATA!$E$6,IF(ข้อมูลประกอบ!$F15=DATA!$A$7,DATA!$D$7,IF(ข้อมูลประกอบ!$F15=DATA!$A$8,DATA!$D$8)))))))) -> 0 | U15: =R15*S15*T15 -> 0 | V15: =IF($F15=DATA!$A$1,DATA!$D$1,IF(ข้อมูลประกอบ!$F15=DATA!$A$2,DATA!$D$2,IF(ข้อมูลประกอบ!$F15=DATA!$A$3,DATA!$D$3,IF(ข้อมูลประกอบ!$F15=DATA!$A$4,DATA!$D$4,IF(ข้อมูลประกอบ!$F15=DATA!$A$5,DATA!$D$5,IF(ข้อมูลประกอบ!$F15=DATA!$A$6,DATA!$D$6,IF(ข้อมูลประกอบ!$F15=DATA!$A$7,DATA!$B$7,IF(ข้อมูลประกอบ!$F15=DATA!$A$8,DATA!$D$8)))))))) -> 0 | W15: =IF($F15=DATA!$A$1,DATA!$D$1,IF(ข้อมูลประกอบ!$F15=DATA!$A$2,DATA!$D$2,IF(ข้อมูลประกอบ!$F15=DATA!$A$3,DATA!$D$3,IF(ข้อมูลประกอบ!$F15=DATA!$A$4,DATA!$D$4,IF(ข้อมูลประกอบ!$F15=DATA!$A$5,DATA!$D$5,IF(ข้อมูลประกอบ!$F15=DATA!$A$6,DATA!$D$6,IF(ข้อมูลประกอบ!$F15=DATA!$A$7,DATA!$C$7,IF(ข้อมูลประกอบ!$F15=DATA!$A$8,DATA!$D$8)))))))) -> 0 | X15: =V15*W15 -> 0 | Y15: =SUM(M15,O15,Q15,U15,X15) -> 0
A16: 8 | D16: โปรดเลือก | F16: กรุณาเลือกตำแหน่ง | G16: โปรดเลือก | H16: 0 | I16: =H16*0.04 -> 0 | J16: =SUM(H16:I16) -> 0 | K16: =J16*0.05 -> 0 | L16: =IF(K16>=750,750,K16) -> 0 | M16: =SUM(J16+L16)*12 -> 0 | N16: =IF(F16=DATA!$A$1,DATA!$D$1,IF(ข้อมูลประกอบ!F16=DATA!$A$2,DATA!$D$2,IF(ข้อมูลประกอบ!F16=DATA!$A$3,DATA!$D$3,IF(ข้อมูลประกอบ!F16=DATA!$A$4,DATA!$D$4,IF(ข้อมูลประกอบ!F16=DATA!$A$5,DATA!$B$5,IF(ข้อมูลประกอบ!F16=DATA!$A$6,DATA!$D$6,IF(ข้อมูลประกอบ!F16=DATA!$A$7,DATA!$D$7,IF(ข้อมูลประกอบ!F16=DATA!$A$8,DATA!$D$8)))))))) -> 0 | O16: =N16*12 -> 0 | P16: =IF(F16=DATA!$A$1,DATA!$C$1,IF(ข้อมูลประกอบ!F16=DATA!$A$2,DATA!$C$2,IF(ข้อมูลประกอบ!F16=DATA!$A$3,DATA!$C$3,IF(ข้อมูลประกอบ!F16=DATA!$A$4,DATA!$C$4,IF(ข้อมูลประกอบ!F16=DATA!$A$5,DATA!$C$5,IF(ข้อมูลประกอบ!F16=DATA!$A$6,DATA!$D$6,IF(ข้อมูลประกอบ!F16=DATA!$A$7,DATA!$D$7,IF(ข้อมูลประกอบ!F16=DATA!$A$8,DATA!$B$8)))))))) -> 0 | Q16: =P16*12 -> 0 | R16: =IF($F16=DATA!$A$1,DATA!$D$1,IF(ข้อมูลประกอบ!$F16=DATA!$A$2,DATA!$D$2,IF(ข้อมูลประกอบ!$F16=DATA!$A$3,DATA!$D$3,IF(ข้อมูลประกอบ!$F16=DATA!$A$4,DATA!$D$4,IF(ข้อมูลประกอบ!$F16=DATA!$A$5,DATA!$D$5,IF(ข้อมูลประกอบ!$F16=DATA!$A$6,DATA!$B$6,IF(ข้อมูลประกอบ!$F16=DATA!$A$7,DATA!$D$7,IF(ข้อมูลประกอบ!$F16=DATA!$A$8,DATA!$D$8)))))))) -> 0 | S16: =IF($F16=DATA!$A$1,DATA!$D$1,IF(ข้อมูลประกอบ!$F16=DATA!$A$2,DATA!$D$2,IF(ข้อมูลประกอบ!$F16=DATA!$A$3,DATA!$D$3,IF(ข้อมูลประกอบ!$F16=DATA!$A$4,DATA!$D$4,IF(ข้อมูลประกอบ!$F16=DATA!$A$5,DATA!$D$5,IF(ข้อมูลประกอบ!$F16=DATA!$A$6,DATA!$C$6,IF(ข้อมูลประกอบ!$F16=DATA!$A$7,DATA!$D$7,IF(ข้อมูลประกอบ!$F16=DATA!$A$8,DATA!$D$8)))))))) -> 0 | T16: =IF($F16=DATA!$A$1,DATA!$D$1,IF(ข้อมูลประกอบ!$F16=DATA!$A$2,DATA!$D$2,IF(ข้อมูลประกอบ!$F16=DATA!$A$3,DATA!$D$3,IF(ข้อมูลประกอบ!$F16=DATA!$A$4,DATA!$D$4,IF(ข้อมูลประกอบ!$F16=DATA!$A$5,DATA!$D$5,IF(ข้อมูลประกอบ!$F16=DATA!$A$6,DATA!$E$6,IF(ข้อมูลประกอบ!$F16=DATA!$A$7,DATA!$D$7,IF(ข้อมูลประกอบ!$F16=DATA!$A$8,DATA!$D$8)))))))) -> 0 | U16: =R16*S16*T16 -> 0 | V16: =IF($F16=DATA!$A$1,DATA!$D$1,IF(ข้อมูลประกอบ!$F16=DATA!$A$2,DATA!$D$2,IF(ข้อมูลประกอบ!$F16=DATA!$A$3,DATA!$D$3,IF(ข้อมูลประกอบ!$F16=DATA!$A$4,DATA!$D$4,IF(ข้อมูลประกอบ!$F16=DATA!$A$5,DATA!$D$5,IF(ข้อมูลประกอบ!$F16=DATA!$A$6,DATA!$D$6,IF(ข้อมูลประกอบ!$F16=DATA!$A$7,DATA!$B$7,IF(ข้อมูลประกอบ!$F16=DATA!$A$8,DATA!$D$8)))))))) -> 0 | W16: =IF($F16=DATA!$A$1,DATA!$D$1,IF(ข้อมูลประกอบ!$F16=DATA!$A$2,DATA!$D$2,IF(ข้อมูลประกอบ!$F16=DATA!$A$3,DATA!$D$3,IF(ข้อมูลประกอบ!$F16=DATA!$A$4,DATA!$D$4,IF(ข้อมูลประกอบ!$F16=DATA!$A$5,DATA!$D$5,IF(ข้อมูลประกอบ!$F16=DATA!$A$6,DATA!$D$6,IF(ข้อมูลประกอบ!$F16=DATA!$A$7,DATA!$C$7,IF(ข้อมูลประกอบ!$F16=DATA!$A$8,DATA!$D$8)))))))) -> 0 | X16: =V16*W16 -> 0 | Y16: =SUM(M16,O16,Q16,U16,X16) -> 0
A17: 9 | D17: โปรดเลือก | F17: กรุณาเลือกตำแหน่ง | G17: โปรดเลือก | H17: 0 | I17: =H17*0.04 -> 0 | J17: =SUM(H17:I17) -> 0 | K17: =J17*0.05 -> 0 | L17: =IF(K17>=750,750,K17) -> 0 | M17: =SUM(J17+L17)*12 -> 0 | N17: =IF(F17=DATA!$A$1,DATA!$D$1,IF(ข้อมูลประกอบ!F17=DATA!$A$2,DATA!$D$2,IF(ข้อมูลประกอบ!F17=DATA!$A$3,DATA!$D$3,IF(ข้อมูลประกอบ!F17=DATA!$A$4,DATA!$D$4,IF(ข้อมูลประกอบ!F17=DATA!$A$5,DATA!$B$5,IF(ข้อมูลประกอบ!F17=DATA!$A$6,DATA!$D$6,IF(ข้อมูลประกอบ!F17=DATA!$A$7,DATA!$D$7,IF(ข้อมูลประกอบ!F17=DATA!$A$8,DATA!$D$8)))))))) -> 0 | O17: =N17*12 -> 0 | P17: =IF(F17=DATA!$A$1,DATA!$C$1,IF(ข้อมูลประกอบ!F17=DATA!$A$2,DATA!$C$2,IF(ข้อมูลประกอบ!F17=DATA!$A$3,DATA!$C$3,IF(ข้อมูลประกอบ!F17=DATA!$A$4,DATA!$C$4,IF(ข้อมูลประกอบ!F17=DATA!$A$5,DATA!$C$5,IF(ข้อมูลประกอบ!F17=DATA!$A$6,DATA!$D$6,IF(ข้อมูลประกอบ!F17=DATA!$A$7,DATA!$D$7,IF(ข้อมูลประกอบ!F17=DATA!$A$8,DATA!$B$8)))))))) -> 0 | Q17: =P17*12 -> 0 | R17: =IF($F17=DATA!$A$1,DATA!$D$1,IF(ข้อมูลประกอบ!$F17=DATA!$A$2,DATA!$D$2,IF(ข้อมูลประกอบ!$F17=DATA!$A$3,DATA!$D$3,IF(ข้อมูลประกอบ!$F17=DATA!$A$4,DATA!$D$4,IF(ข้อมูลประกอบ!$F17=DATA!$A$5,DATA!$D$5,IF(ข้อมูลประกอบ!$F17=DATA!$A$6,DATA!$B$6,IF(ข้อมูลประกอบ!$F17=DATA!$A$7,DATA!$D$7,IF(ข้อมูลประกอบ!$F17=DATA!$A$8,DATA!$D$8)))))))) -> 0 | S17: =IF($F17=DATA!$A$1,DATA!$D$1,IF(ข้อมูลประกอบ!$F17=DATA!$A$2,DATA!$D$2,IF(ข้อมูลประกอบ!$F17=DATA!$A$3,DATA!$D$3,IF(ข้อมูลประกอบ!$F17=DATA!$A$4,DATA!$D$4,IF(ข้อมูลประกอบ!$F17=DATA!$A$5,DATA!$D$5,IF(ข้อมูลประกอบ!$F17=DATA!$A$6,DATA!$C$6,IF(ข้อมูลประกอบ!$F17=DATA!$A$7,DATA!$D$7,IF(ข้อมูลประกอบ!$F17=DATA!$A$8,DATA!$D$8)))))))) -> 0 | T17: =IF($F17=DATA!$A$1,DATA!$D$1,IF(ข้อมูลประกอบ!$F17=DATA!$A$2,DATA!$D$2,IF(ข้อมูลประกอบ!$F17=DATA!$A$3,DATA!$D$3,IF(ข้อมูลประกอบ!$F17=DATA!$A$4,DATA!$D$4,IF(ข้อมูลประกอบ!$F17=DATA!$A$5,DATA!$D$5,IF(ข้อมูลประกอบ!$F17=DATA!$A$6,DATA!$E$6,IF(ข้อมูลประกอบ!$F17=DATA!$A$7,DATA!$D$7,IF(ข้อมูลประกอบ!$F17=DATA!$A$8,DATA!$D$8)))))))) -> 0 | U17: =R17*S17*T17 -> 0 | V17: =IF($F17=DATA!$A$1,DATA!$D$1,IF(ข้อมูลประกอบ!$F17=DATA!$A$2,DATA!$D$2,IF(ข้อมูลประกอบ!$F17=DATA!$A$3,DATA!$D$3,IF(ข้อมูลประกอบ!$F17=DATA!$A$4,DATA!$D$4,IF(ข้อมูลประกอบ!$F17=DATA!$A$5,DATA!$D$5,IF(ข้อมูลประกอบ!$F17=DATA!$A$6,DATA!$D$6,IF(ข้อมูลประกอบ!$F17=DATA!$A$7,DATA!$B$7,IF(ข้อมูลประกอบ!$F17=DATA!$A$8,DATA!$D$8)))))))) -> 0 | W17: =IF($F17=DATA!$A$1,DATA!$D$1,IF(ข้อมูลประกอบ!$F17=DATA!$A$2,DATA!$D$2,IF(ข้อมูลประกอบ!$F17=DATA!$A$3,DATA!$D$3,IF(ข้อมูลประกอบ!$F17=DATA!$A$4,DATA!$D$4,IF(ข้อมูลประกอบ!$F17=DATA!$A$5,DATA!$D$5,IF(ข้อมูลประกอบ!$F17=DATA!$A$6,DATA!$D$6,IF(ข้อมูลประกอบ!$F17=DATA!$A$7,DATA!$C$7,IF(ข้อมูลประกอบ!$F17=DATA!$A$8,DATA!$D$8)))))))) -> 0 | X17: =V17*W17 -> 0 | Y17: =SUM(M17,O17,Q17,U17,X17) -> 0
A18: 10 | D18: โปรดเลือก | F18: กรุณาเลือกตำแหน่ง | G18: โปรดเลือก | H18: 0 | I18: =H18*0.04 -> 0 | J18: =SUM(H18:I18) -> 0 | K18: =J18*0.05 -> 0 | L18: =IF(K18>=750,750,K18) -> 0 | M18: =SUM(J18+L18)*12 -> 0 | N18: =IF(F18=DATA!$A$1,DATA!$D$1,IF(ข้อมูลประกอบ!F18=DATA!$A$2,DATA!$D$2,IF(ข้อมูลประกอบ!F18=DATA!$A$3,DATA!$D$3,IF(ข้อมูลประกอบ!F18=DATA!$A$4,DATA!$D$4,IF(ข้อมูลประกอบ!F18=DATA!$A$5,DATA!$B$5,IF(ข้อมูลประกอบ!F18=DATA!$A$6,DATA!$D$6,IF(ข้อมูลประกอบ!F18=DATA!$A$7,DATA!$D$7,IF(ข้อมูลประกอบ!F18=DATA!$A$8,DATA!$D$8)))))))) -> 0 | O18: =N18*12 -> 0 | P18: =IF(F18=DATA!$A$1,DATA!$C$1,IF(ข้อมูลประกอบ!F18=DATA!$A$2,DATA!$C$2,IF(ข้อมูลประกอบ!F18=DATA!$A$3,DATA!$C$3,IF(ข้อมูลประกอบ!F18=DATA!$A$4,DATA!$C$4,IF(ข้อมูลประกอบ!F18=DATA!$A$5,DATA!$C$5,IF(ข้อมูลประกอบ!F18=DATA!$A$6,DATA!$D$6,IF(ข้อมูลประกอบ!F18=DATA!$A$7,DATA!$D$7,IF(ข้อมูลประกอบ!F18=DATA!$A$8,DATA!$B$8)))))))) -> 0 | Q18: =P18*12 -> 0 | R18: =IF($F18=DATA!$A$1,DATA!$D$1,IF(ข้อมูลประกอบ!$F18=DATA!$A$2,DATA!$D$2,IF(ข้อมูลประกอบ!$F18=DATA!$A$3,DATA!$D$3,IF(ข้อมูลประกอบ!$F18=DATA!$A$4,DATA!$D$4,IF(ข้อมูลประกอบ!$F18=DATA!$A$5,DATA!$D$5,IF(ข้อมูลประกอบ!$F18=DATA!$A$6,DATA!$B$6,IF(ข้อมูลประกอบ!$F18=DATA!$A$7,DATA!$D$7,IF(ข้อมูลประกอบ!$F18=DATA!$A$8,DATA!$D$8)))))))) -> 0 | S18: =IF($F18=DATA!$A$1,DATA!$D$1,IF(ข้อมูลประกอบ!$F18=DATA!$A$2,DATA!$D$2,IF(ข้อมูลประกอบ!$F18=DATA!$A$3,DATA!$D$3,IF(ข้อมูลประกอบ!$F18=DATA!$A$4,DATA!$D$4,IF(ข้อมูลประกอบ!$F18=DATA!$A$5,DATA!$D$5,IF(ข้อมูลประกอบ!$F18=DATA!$A$6,DATA!$C$6,IF(ข้อมูลประกอบ!$F18=DATA!$A$7,DATA!$D$7,IF(ข้อมูลประกอบ!$F18=DATA!$A$8,DATA!$D$8)))))))) -> 0 | T18: =IF($F18=DATA!$A$1,DATA!$D$1,IF(ข้อมูลประกอบ!$F18=DATA!$A$2,DATA!$D$2,IF(ข้อมูลประกอบ!$F18=DATA!$A$3,DATA!$D$3,IF(ข้อมูลประกอบ!$F18=DATA!$A$4,DATA!$D$4,IF(ข้อมูลประกอบ!$F18=DATA!$A$5,DATA!$D$5,IF(ข้อมูลประกอบ!$F18=DATA!$A$6,DATA!$E$6,IF(ข้อมูลประกอบ!$F18=DATA!$A$7,DATA!$D$7,IF(ข้อมูลประกอบ!$F18=DATA!$A$8,DATA!$D$8)))))))) -> 0 | U18: =R18*S18*T18 -> 0 | V18: =IF($F18=DATA!$A$1,DATA!$D$1,IF(ข้อมูลประกอบ!$F18=DATA!$A$2,DATA!$D$2,IF(ข้อมูลประกอบ!$F18=DATA!$A$3,DATA!$D$3,IF(ข้อมูลประกอบ!$F18=DATA!$A$4,DATA!$D$4,IF(ข้อมูลประกอบ!$F18=DATA!$A$5,DATA!$D$5,IF(ข้อมูลประกอบ!$F18=DATA!$A$6,DATA!$D$6,IF(ข้อมูลประกอบ!$F18=DATA!$A$7,DATA!$B$7,IF(ข้อมูลประกอบ!$F18=DATA!$A$8,DATA!$D$8)))))))) -> 0 | W18: =IF($F18=DATA!$A$1,DATA!$D$1,IF(ข้อมูลประกอบ!$F18=DATA!$A$2,DATA!$D$2,IF(ข้อมูลประกอบ!$F18=DATA!$A$3,DATA!$D$3,IF(ข้อมูลประกอบ!$F18=DATA!$A$4,DATA!$D$4,IF(ข้อมูลประกอบ!$F18=DATA!$A$5,DATA!$D$5,IF(ข้อมูลประกอบ!$F18=DATA!$A$6,DATA!$D$6,IF(ข้อมูลประกอบ!$F18=DATA!$A$7,DATA!$C$7,IF(ข้อมูลประกอบ!$F18=DATA!$A$8,DATA!$D$8)))))))) -> 0 | X18: =V18*W18 -> 0 | Y18: =SUM(M18,O18,Q18,U18,X18) -> 0
A19: 11 | D19: โปรดเลือก | F19: กรุณาเลือกตำแหน่ง | G19: โปรดเลือก | H19: 0 | I19: =H19*0.04 -> 0 | J19: =SUM(H19:I19) -> 0 | K19: =J19*0.05 -> 0 | L19: =IF(K19>=750,750,K19) -> 0 | M19: =SUM(J19+L19)*12 -> 0 | N19: =IF(F19=DATA!$A$1,DATA!$D$1,IF(ข้อมูลประกอบ!F19=DATA!$A$2,DATA!$D$2,IF(ข้อมูลประกอบ!F19=DATA!$A$3,DATA!$D$3,IF(ข้อมูลประกอบ!F19=DATA!$A$4,DATA!$D$4,IF(ข้อมูลประกอบ!F19=DATA!$A$5,DATA!$B$5,IF(ข้อมูลประกอบ!F19=DATA!$A$6,DATA!$D$6,IF(ข้อมูลประกอบ!F19=DATA!$A$7,DATA!$D$7,IF(ข้อมูลประกอบ!F19=DATA!$A$8,DATA!$D$8)))))))) -> 0 | O19: =N19*12 -> 0 | P19: =IF(F19=DATA!$A$1,DATA!$C$1,IF(ข้อมูลประกอบ!F19=DATA!$A$2,DATA!$C$2,IF(ข้อมูลประกอบ!F19=DATA!$A$3,DATA!$C$3,IF(ข้อมูลประกอบ!F19=DATA!$A$4,DATA!$C$4,IF(ข้อมูลประกอบ!F19=DATA!$A$5,DATA!$C$5,IF(ข้อมูลประกอบ!F19=DATA!$A$6,DATA!$D$6,IF(ข้อมูลประกอบ!F19=DATA!$A$7,DATA!$D$7,IF(ข้อมูลประกอบ!F19=DATA!$A$8,DATA!$B$8)))))))) -> 0 | Q19: =P19*12 -> 0 | R19: =IF($F19=DATA!$A$1,DATA!$D$1,IF(ข้อมูลประกอบ!$F19=DATA!$A$2,DATA!$D$2,IF(ข้อมูลประกอบ!$F19=DATA!$A$3,DATA!$D$3,IF(ข้อมูลประกอบ!$F19=DATA!$A$4,DATA!$D$4,IF(ข้อมูลประกอบ!$F19=DATA!$A$5,DATA!$D$5,IF(ข้อมูลประกอบ!$F19=DATA!$A$6,DATA!$B$6,IF(ข้อมูลประกอบ!$F19=DATA!$A$7,DATA!$D$7,IF(ข้อมูลประกอบ!$F19=DATA!$A$8,DATA!$D$8)))))))) -> 0 | S19: =IF($F19=DATA!$A$1,DATA!$D$1,IF(ข้อมูลประกอบ!$F19=DATA!$A$2,DATA!$D$2,IF(ข้อมูลประกอบ!$F19=DATA!$A$3,DATA!$D$3,IF(ข้อมูลประกอบ!$F19=DATA!$A$4,DATA!$D$4,IF(ข้อมูลประกอบ!$F19=DATA!$A$5,DATA!$D$5,IF(ข้อมูลประกอบ!$F19=DATA!$A$6,DATA!$C$6,IF(ข้อมูลประกอบ!$F19=DATA!$A$7,DATA!$D$7,IF(ข้อมูลประกอบ!$F19=DATA!$A$8,DATA!$D$8)))))))) -> 0 | T19: =IF($F19=DATA!$A$1,DATA!$D$1,IF(ข้อมูลประกอบ!$F19=DATA!$A$2,DATA!$D$2,IF(ข้อมูลประกอบ!$F19=DATA!$A$3,DATA!$D$3,IF(ข้อมูลประกอบ!$F19=DATA!$A$4,DATA!$D$4,IF(ข้อมูลประกอบ!$F19=DATA!$A$5,DATA!$D$5,IF(ข้อมูลประกอบ!$F19=DATA!$A$6,DATA!$E$6,IF(ข้อมูลประกอบ!$F19=DATA!$A$7,DATA!$D$7,IF(ข้อมูลประกอบ!$F19=DATA!$A$8,DATA!$D$8)))))))) -> 0 | U19: =R19*S19*T19 -> 0 | V19: =IF($F19=DATA!$A$1,DATA!$D$1,IF(ข้อมูลประกอบ!$F19=DATA!$A$2,DATA!$D$2,IF(ข้อมูลประกอบ!$F19=DATA!$A$3,DATA!$D$3,IF(ข้อมูลประกอบ!$F19=DATA!$A$4,DATA!$D$4,IF(ข้อมูลประกอบ!$F19=DATA!$A$5,DATA!$D$5,IF(ข้อมูลประกอบ!$F19=DATA!$A$6,DATA!$D$6,IF(ข้อมูลประกอบ!$F19=DATA!$A$7,DATA!$B$7,IF(ข้อมูลประกอบ!$F19=DATA!$A$8,DATA!$D$8)))))))) -> 0 | W19: =IF($F19=DATA!$A$1,DATA!$D$1,IF(ข้อมูลประกอบ!$F19=DATA!$A$2,DATA!$D$2,IF(ข้อมูลประกอบ!$F19=DATA!$A$3,DATA!$D$3,IF(ข้อมูลประกอบ!$F19=DATA!$A$4,DATA!$D$4,IF(ข้อมูลประกอบ!$F19=DATA!$A$5,DATA!$D$5,IF(ข้อมูลประกอบ!$F19=DATA!$A$6,DATA!$D$6,IF(ข้อมูลประกอบ!$F19=DATA!$A$7,DATA!$C$7,IF(ข้อมูลประกอบ!$F19=DATA!$A$8,DATA!$D$8)))))))) -> 0 | X19: =V19*W19 -> 0 | Y19: =SUM(M19,O19,Q19,U19,X19) -> 0
A20: 12 | D20: โปรดเลือก | F20: กรุณาเลือกตำแหน่ง | G20: โปรดเลือก | H20: 0 | I20: =H20*0.04 -> 0 | J20: =SUM(H20:I20) -> 0 | K20: =J20*0.05 -> 0 | L20: =IF(K20>=750,750,K20) -> 0 | M20: =SUM(J20+L20)*12 -> 0 | N20: =IF(F20=DATA!$A$1,DATA!$D$1,IF(ข้อมูลประกอบ!F20=DATA!$A$2,DATA!$D$2,IF(ข้อมูลประกอบ!F20=DATA!$A$3,DATA!$D$3,IF(ข้อมูลประกอบ!F20=DATA!$A$4,DATA!$D$4,IF(ข้อมูลประกอบ!F20=DATA!$A$5,DATA!$B$5,IF(ข้อมูลประกอบ!F20=DATA!$A$6,DATA!$D$6,IF(ข้อมูลประกอบ!F20=DATA!$A$7,DATA!$D$7,IF(ข้อมูลประกอบ!F20=DATA!$A$8,DATA!$D$8)))))))) -> 0 | O20: =N20*12 -> 0 | P20: =IF(F20=DATA!$A$1,DATA!$C$1,IF(ข้อมูลประกอบ!F20=DATA!$A$2,DATA!$C$2,IF(ข้อมูลประกอบ!F20=DATA!$A$3,DATA!$C$3,IF(ข้อมูลประกอบ!F20=DATA!$A$4,DATA!$C$4,IF(ข้อมูลประกอบ!F20=DATA!$A$5,DATA!$C$5,IF(ข้อมูลประกอบ!F20=DATA!$A$6,DATA!$D$6,IF(ข้อมูลประกอบ!F20=DATA!$A$7,DATA!$D$7,IF(ข้อมูลประกอบ!F20=DATA!$A$8,DATA!$B$8)))))))) -> 0 | Q20: =P20*12 -> 0 | R20: =IF($F20=DATA!$A$1,DATA!$D$1,IF(ข้อมูลประกอบ!$F20=DATA!$A$2,DATA!$D$2,IF(ข้อมูลประกอบ!$F20=DATA!$A$3,DATA!$D$3,IF(ข้อมูลประกอบ!$F20=DATA!$A$4,DATA!$D$4,IF(ข้อมูลประกอบ!$F20=DATA!$A$5,DATA!$D$5,IF(ข้อมูลประกอบ!$F20=DATA!$A$6,DATA!$B$6,IF(ข้อมูลประกอบ!$F20=DATA!$A$7,DATA!$D$7,IF(ข้อมูลประกอบ!$F20=DATA!$A$8,DATA!$D$8)))))))) -> 0 | S20: =IF($F20=DATA!$A$1,DATA!$D$1,IF(ข้อมูลประกอบ!$F20=DATA!$A$2,DATA!$D$2,IF(ข้อมูลประกอบ!$F20=DATA!$A$3,DATA!$D$3,IF(ข้อมูลประกอบ!$F20=DATA!$A$4,DATA!$D$4,IF(ข้อมูลประกอบ!$F20=DATA!$A$5,DATA!$D$5,IF(ข้อมูลประกอบ!$F20=DATA!$A$6,DATA!$C$6,IF(ข้อมูลประกอบ!$F20=DATA!$A$7,DATA!$D$7,IF(ข้อมูลประกอบ!$F20=DATA!$A$8,DATA!$D$8)))))))) -> 0 | T20: =IF($F20=DATA!$A$1,DATA!$D$1,IF(ข้อมูลประกอบ!$F20=DATA!$A$2,DATA!$D$2,IF(ข้อมูลประกอบ!$F20=DATA!$A$3,DATA!$D$3,IF(ข้อมูลประกอบ!$F20=DATA!$A$4,DATA!$D$4,IF(ข้อมูลประกอบ!$F20=DATA!$A$5,DATA!$D$5,IF(ข้อมูลประกอบ!$F20=DATA!$A$6,DATA!$E$6,IF(ข้อมูลประกอบ!$F20=DATA!$A$7,DATA!$D$7,IF(ข้อมูลประกอบ!$F20=DATA!$A$8,DATA!$D$8)))))))) -> 0 | U20: =R20*S20*T20 -> 0 | V20: =IF($F20=DATA!$A$1,DATA!$D$1,IF(ข้อมูลประกอบ!$F20=DATA!$A$2,DATA!$D$2,IF(ข้อมูลประกอบ!$F20=DATA!$A$3,DATA!$D$3,IF(ข้อมูลประกอบ!$F20=DATA!$A$4,DATA!$D$4,IF(ข้อมูลประกอบ!$F20=DATA!$A$5,DATA!$D$5,IF(ข้อมูลประกอบ!$F20=DATA!$A$6,DATA!$D$6,IF(ข้อมูลประกอบ!$F20=DATA!$A$7,DATA!$B$7,IF(ข้อมูลประกอบ!$F20=DATA!$A$8,DATA!$D$8)))))))) -> 0 | W20: =IF($F20=DATA!$A$1,DATA!$D$1,IF(ข้อมูลประกอบ!$F20=DATA!$A$2,DATA!$D$2,IF(ข้อมูลประกอบ!$F20=DATA!$A$3,DATA!$D$3,IF(ข้อมูลประกอบ!$F20=DATA!$A$4,DATA!$D$4,IF(ข้อมูลประกอบ!$F20=DATA!$A$5,DATA!$D$5,IF(ข้อมูลประกอบ!$F20=DATA!$A$6,DATA!$D$6,IF(ข้อมูลประกอบ!$F20=DATA!$A$7,DATA!$C$7,IF(ข้อมูลประกอบ!$F20=DATA!$A$8,DATA!$D$8)))))))) -> 0 | X20: =V20*W20 -> 0 | Y20: =SUM(M20,O20,Q20,U20,X20) -> 0
A21: 13 | D21: โปรดเลือก | F21: กรุณาเลือกตำแหน่ง | G21: โปรดเลือก | H21: 0 | I21: =H21*0.04 -> 0 | J21: =SUM(H21:I21) -> 0 | K21: =J21*0.05 -> 0 | L21: =IF(K21>=750,750,K21) -> 0 | M21: =SUM(J21+L21)*12 -> 0 | N21: =IF(F21=DATA!$A$1,DATA!$D$1,IF(ข้อมูลประกอบ!F21=DATA!$A$2,DATA!$D$2,IF(ข้อมูลประกอบ!F21=DATA!$A$3,DATA!$D$3,IF(ข้อมูลประกอบ!F21=DATA!$A$4,DATA!$D$4,IF(ข้อมูลประกอบ!F21=DATA!$A$5,DATA!$B$5,IF(ข้อมูลประกอบ!F21=DATA!$A$6,DATA!$D$6,IF(ข้อมูลประกอบ!F21=DATA!$A$7,DATA!$D$7,IF(ข้อมูลประกอบ!F21=DATA!$A$8,DATA!$D$8)))))))) -> 0 | O21: =N21*12 -> 0 | P21: =IF(F21=DATA!$A$1,DATA!$C$1,IF(ข้อมูลประกอบ!F21=DATA!$A$2,DATA!$C$2,IF(ข้อมูลประกอบ!F21=DATA!$A$3,DATA!$C$3,IF(ข้อมูลประกอบ!F21=DATA!$A$4,DATA!$C$4,IF(ข้อมูลประกอบ!F21=DATA!$A$5,DATA!$C$5,IF(ข้อมูลประกอบ!F21=DATA!$A$6,DATA!$D$6,IF(ข้อมูลประกอบ!F21=DATA!$A$7,DATA!$D$7,IF(ข้อมูลประกอบ!F21=DATA!$A$8,DATA!$B$8)))))))) -> 0 | Q21: =P21*12 -> 0 | R21: =IF($F21=DATA!$A$1,DATA!$D$1,IF(ข้อมูลประกอบ!$F21=DATA!$A$2,DATA!$D$2,IF(ข้อมูลประกอบ!$F21=DATA!$A$3,DATA!$D$3,IF(ข้อมูลประกอบ!$F21=DATA!$A$4,DATA!$D$4,IF(ข้อมูลประกอบ!$F21=DATA!$A$5,DATA!$D$5,IF(ข้อมูลประกอบ!$F21=DATA!$A$6,DATA!$B$6,IF(ข้อมูลประกอบ!$F21=DATA!$A$7,DATA!$D$7,IF(ข้อมูลประกอบ!$F21=DATA!$A$8,DATA!$D$8)))))))) -> 0 | S21: =IF($F21=DATA!$A$1,DATA!$D$1,IF(ข้อมูลประกอบ!$F21=DATA!$A$2,DATA!$D$2,IF(ข้อมูลประกอบ!$F21=DATA!$A$3,DATA!$D$3,IF(ข้อมูลประกอบ!$F21=DATA!$A$4,DATA!$D$4,IF(ข้อมูลประกอบ!$F21=DATA!$A$5,DATA!$D$5,IF(ข้อมูลประกอบ!$F21=DATA!$A$6,DATA!$C$6,IF(ข้อมูลประกอบ!$F21=DATA!$A$7,DATA!$D$7,IF(ข้อมูลประกอบ!$F21=DATA!$A$8,DATA!$D$8)))))))) -> 0 | T21: =IF($F21=DATA!$A$1,DATA!$D$1,IF(ข้อมูลประกอบ!$F21=DATA!$A$2,DATA!$D$2,IF(ข้อมูลประกอบ!$F21=DATA!$A$3,DATA!$D$3,IF(ข้อมูลประกอบ!$F21=DATA!$A$4,DATA!$D$4,IF(ข้อมูลประกอบ!$F21=DATA!$A$5,DATA!$D$5,IF(ข้อมูลประกอบ!$F21=DATA!$A$6,DATA!$E$6,IF(ข้อมูลประกอบ!$F21=DATA!$A$7,DATA!$D$7,IF(ข้อมูลประกอบ!$F21=DATA!$A$8,DATA!$D$8)))))))) -> 0 | U21: =R21*S21*T21 -> 0 | V21: =IF($F21=DATA!$A$1,DATA!$D$1,IF(ข้อมูลประกอบ!$F21=DATA!$A$2,DATA!$D$2,IF(ข้อมูลประกอบ!$F21=DATA!$A$3,DATA!$D$3,IF(ข้อมูลประกอบ!$F21=DATA!$A$4,DATA!$D$4,IF(ข้อมูลประกอบ!$F21=DATA!$A$5,DATA!$D$5,IF(ข้อมูลประกอบ!$F21=DATA!$A$6,DATA!$D$6,IF(ข้อมูลประกอบ!$F21=DATA!$A$7,DATA!$B$7,IF(ข้อมูลประกอบ!$F21=DATA!$A$8,DATA!$D$8)))))))) -> 0 | W21: =IF($F21=DATA!$A$1,DATA!$D$1,IF(ข้อมูลประกอบ!$F21=DATA!$A$2,DATA!$D$2,IF(ข้อมูลประกอบ!$F21=DATA!$A$3,DATA!$D$3,IF(ข้อมูลประกอบ!$F21=DATA!$A$4,DATA!$D$4,IF(ข้อมูลประกอบ!$F21=DATA!$A$5,DATA!$D$5,IF(ข้อมูลประกอบ!$F21=DATA!$A$6,DATA!$D$6,IF(ข้อมูลประกอบ!$F21=DATA!$A$7,DATA!$C$7,IF(ข้อมูลประกอบ!$F21=DATA!$A$8,DATA!$D$8)))))))) -> 0 | X21: =V21*W21 -> 0 | Y21: =SUM(M21,O21,Q21,U21,X21) -> 0
A22: 14 | D22: โปรดเลือก | F22: กรุณาเลือกตำแหน่ง | G22: โปรดเลือก | H22: 0 | I22: =H22*0.04 -> 0 | J22: =SUM(H22:I22) -> 0 | K22: =J22*0.05 -> 0 | L22: =IF(K22>=750,750,K22) -> 0 | M22: =SUM(J22+L22)*12 -> 0 | N22: =IF(F22=DATA!$A$1,DATA!$D$1,IF(ข้อมูลประกอบ!F22=DATA!$A$2,DATA!$D$2,IF(ข้อมูลประกอบ!F22=DATA!$A$3,DATA!$D$3,IF(ข้อมูลประกอบ!F22=DATA!$A$4,DATA!$D$4,IF(ข้อมูลประกอบ!F22=DATA!$A$5,DATA!$B$5,IF(ข้อมูลประกอบ!F22=DATA!$A$6,DATA!$D$6,IF(ข้อมูลประกอบ!F22=DATA!$A$7,DATA!$D$7,IF(ข้อมูลประกอบ!F22=DATA!$A$8,DATA!$D$8)))))))) -> 0 | O22: =N22*12 -> 0 | P22: =IF(F22=DATA!$A$1,DATA!$C$1,IF(ข้อมูลประกอบ!F22=DATA!$A$2,DATA!$C$2,IF(ข้อมูลประกอบ!F22=DATA!$A$3,DATA!$C$3,IF(ข้อมูลประกอบ!F22=DATA!$A$4,DATA!$C$4,IF(ข้อมูลประกอบ!F22=DATA!$A$5,DATA!$C$5,IF(ข้อมูลประกอบ!F22=DATA!$A$6,DATA!$D$6,IF(ข้อมูลประกอบ!F22=DATA!$A$7,DATA!$D$7,IF(ข้อมูลประกอบ!F22=DATA!$A$8,DATA!$B$8)))))))) -> 0 | Q22: =P22*12 -> 0 | R22: =IF($F22=DATA!$A$1,DATA!$D$1,IF(ข้อมูลประกอบ!$F22=DATA!$A$2,DATA!$D$2,IF(ข้อมูลประกอบ!$F22=DATA!$A$3,DATA!$D$3,IF(ข้อมูลประกอบ!$F22=DATA!$A$4,DATA!$D$4,IF(ข้อมูลประกอบ!$F22=DATA!$A$5,DATA!$D$5,IF(ข้อมูลประกอบ!$F22=DATA!$A$6,DATA!$B$6,IF(ข้อมูลประกอบ!$F22=DATA!$A$7,DATA!$D$7,IF(ข้อมูลประกอบ!$F22=DATA!$A$8,DATA!$D$8)))))))) -> 0 | S22: =IF($F22=DATA!$A$1,DATA!$D$1,IF(ข้อมูลประกอบ!$F22=DATA!$A$2,DATA!$D$2,IF(ข้อมูลประกอบ!$F22=DATA!$A$3,DATA!$D$3,IF(ข้อมูลประกอบ!$F22=DATA!$A$4,DATA!$D$4,IF(ข้อมูลประกอบ!$F22=DATA!$A$5,DATA!$D$5,IF(ข้อมูลประกอบ!$F22=DATA!$A$6,DATA!$C$6,IF(ข้อมูลประกอบ!$F22=DATA!$A$7,DATA!$D$7,IF(ข้อมูลประกอบ!$F22=DATA!$A$8,DATA!$D$8)))))))) -> 0 | T22: =IF($F22=DATA!$A$1,DATA!$D$1,IF(ข้อมูลประกอบ!$F22=DATA!$A$2,DATA!$D$2,IF(ข้อมูลประกอบ!$F22=DATA!$A$3,DATA!$D$3,IF(ข้อมูลประกอบ!$F22=DATA!$A$4,DATA!$D$4,IF(ข้อมูลประกอบ!$F22=DATA!$A$5,DATA!$D$5,IF(ข้อมูลประกอบ!$F22=DATA!$A$6,DATA!$E$6,IF(ข้อมูลประกอบ!$F22=DATA!$A$7,DATA!$D$7,IF(ข้อมูลประกอบ!$F22=DATA!$A$8,DATA!$D$8)))))))) -> 0 | U22: =R22*S22*T22 -> 0 | V22: =IF($F22=DATA!$A$1,DATA!$D$1,IF(ข้อมูลประกอบ!$F22=DATA!$A$2,DATA!$D$2,IF(ข้อมูลประกอบ!$F22=DATA!$A$3,DATA!$D$3,IF(ข้อมูลประกอบ!$F22=DATA!$A$4,DATA!$D$4,IF(ข้อมูลประกอบ!$F22=DATA!$A$5,DATA!$D$5,IF(ข้อมูลประกอบ!$F22=DATA!$A$6,DATA!$D$6,IF(ข้อมูลประกอบ!$F22=DATA!$A$7,DATA!$B$7,IF(ข้อมูลประกอบ!$F22=DATA!$A$8,DATA!$D$8)))))))) -> 0 | W22: =IF($F22=DATA!$A$1,DATA!$D$1,IF(ข้อมูลประกอบ!$F22=DATA!$A$2,DATA!$D$2,IF(ข้อมูลประกอบ!$F22=DATA!$A$3,DATA!$D$3,IF(ข้อมูลประกอบ!$F22=DATA!$A$4,DATA!$D$4,IF(ข้อมูลประกอบ!$F22=DATA!$A$5,DATA!$D$5,IF(ข้อมูลประกอบ!$F22=DATA!$A$6,DATA!$D$6,IF(ข้อมูลประกอบ!$F22=DATA!$A$7,DATA!$C$7,IF(ข้อมูลประกอบ!$F22=DATA!$A$8,DATA!$D$8)))))))) -> 0 | X22: =V22*W22 -> 0 | Y22: =SUM(M22,O22,Q22,U22,X22) -> 0
A23: 15 | D23: โปรดเลือก | F23: กรุณาเลือกตำแหน่ง | G23: โปรดเลือก | H23: 0 | I23: =H23*0.04 -> 0 | J23: =SUM(H23:I23) -> 0 | K23: =J23*0.05 -> 0 | L23: =IF(K23>=750,750,K23) -> 0 | M23: =SUM(J23+L23)*12 -> 0 | N23: =IF(F23=DATA!$A$1,DATA!$D$1,IF(ข้อมูลประกอบ!F23=DATA!$A$2,DATA!$D$2,IF(ข้อมูลประกอบ!F23=DATA!$A$3,DATA!$D$3,IF(ข้อมูลประกอบ!F23=DATA!$A$4,DATA!$D$4,IF(ข้อมูลประกอบ!F23=DATA!$A$5,DATA!$B$5,IF(ข้อมูลประกอบ!F23=DATA!$A$6,DATA!$D$6,IF(ข้อมูลประกอบ!F23=DATA!$A$7,DATA!$D$7,IF(ข้อมูลประกอบ!F23=DATA!$A$8,DATA!$D$8)))))))) -> 0 | O23: =N23*12 -> 0 | P23: =IF(F23=DATA!$A$1,DATA!$C$1,IF(ข้อมูลประกอบ!F23=DATA!$A$2,DATA!$C$2,IF(ข้อมูลประกอบ!F23=DATA!$A$3,DATA!$C$3,IF(ข้อมูลประกอบ!F23=DATA!$A$4,DATA!$C$4,IF(ข้อมูลประกอบ!F23=DATA!$A$5,DATA!$C$5,IF(ข้อมูลประกอบ!F23=DATA!$A$6,DATA!$D$6,IF(ข้อมูลประกอบ!F23=DATA!$A$7,DATA!$D$7,IF(ข้อมูลประกอบ!F23=DATA!$A$8,DATA!$B$8)))))))) -> 0 | Q23: =P23*12 -> 0 | R23: =IF($F23=DATA!$A$1,DATA!$D$1,IF(ข้อมูลประกอบ!$F23=DATA!$A$2,DATA!$D$2,IF(ข้อมูลประกอบ!$F23=DATA!$A$3,DATA!$D$3,IF(ข้อมูลประกอบ!$F23=DATA!$A$4,DATA!$D$4,IF(ข้อมูลประกอบ!$F23=DATA!$A$5,DATA!$D$5,IF(ข้อมูลประกอบ!$F23=DATA!$A$6,DATA!$B$6,IF(ข้อมูลประกอบ!$F23=DATA!$A$7,DATA!$D$7,IF(ข้อมูลประกอบ!$F23=DATA!$A$8,DATA!$D$8)))))))) -> 0 | S23: =IF($F23=DATA!$A$1,DATA!$D$1,IF(ข้อมูลประกอบ!$F23=DATA!$A$2,DATA!$D$2,IF(ข้อมูลประกอบ!$F23=DATA!$A$3,DATA!$D$3,IF(ข้อมูลประกอบ!$F23=DATA!$A$4,DATA!$D$4,IF(ข้อมูลประกอบ!$F23=DATA!$A$5,DATA!$D$5,IF(ข้อมูลประกอบ!$F23=DATA!$A$6,DATA!$C$6,IF(ข้อมูลประกอบ!$F23=DATA!$A$7,DATA!$D$7,IF(ข้อมูลประกอบ!$F23=DATA!$A$8,DATA!$D$8)))))))) -> 0 | T23: =IF($F23=DATA!$A$1,DATA!$D$1,IF(ข้อมูลประกอบ!$F23=DATA!$A$2,DATA!$D$2,IF(ข้อมูลประกอบ!$F23=DATA!$A$3,DATA!$D$3,IF(ข้อมูลประกอบ!$F23=DATA!$A$4,DATA!$D$4,IF(ข้อมูลประกอบ!$F23=DATA!$A$5,DATA!$D$5,IF(ข้อมูลประกอบ!$F23=DATA!$A$6,DATA!$E$6,IF(ข้อมูลประกอบ!$F23=DATA!$A$7,DATA!$D$7,IF(ข้อมูลประกอบ!$F23=DATA!$A$8,DATA!$D$8)))))))) -> 0 | U23: =R23*S23*T23 -> 0 | V23: =IF($F23=DATA!$A$1,DATA!$D$1,IF(ข้อมูลประกอบ!$F23=DATA!$A$2,DATA!$D$2,IF(ข้อมูลประกอบ!$F23=DATA!$A$3,DATA!$D$3,IF(ข้อมูลประกอบ!$F23=DATA!$A$4,DATA!$D$4,IF(ข้อมูลประกอบ!$F23=DATA!$A$5,DATA!$D$5,IF(ข้อมูลประกอบ!$F23=DATA!$A$6,DATA!$D$6,IF(ข้อมูลประกอบ!$F23=DATA!$A$7,DATA!$B$7,IF(ข้อมูลประกอบ!$F23=DATA!$A$8,DATA!$D$8)))))))) -> 0 | W23: =IF($F23=DATA!$A$1,DATA!$D$1,IF(ข้อมูลประกอบ!$F23=DATA!$A$2,DATA!$D$2,IF(ข้อมูลประกอบ!$F23=DATA!$A$3,DATA!$D$3,IF(ข้อมูลประกอบ!$F23=DATA!$A$4,DATA!$D$4,IF(ข้อมูลประกอบ!$F23=DATA!$A$5,DATA!$D$5,IF(ข้อมูลประกอบ!$F23=DATA!$A$6,DATA!$D$6,IF(ข้อมูลประกอบ!$F23=DATA!$A$7,DATA!$C$7,IF(ข้อมูลประกอบ!$F23=DATA!$A$8,DATA!$D$8)))))))) -> 0 | X23: =V23*W23 -> 0 | Y23: =SUM(M23,O23,Q23,U23,X23) -> 0
A24: 16 | D24: โปรดเลือก | F24: กรุณาเลือกตำแหน่ง | G24: โปรดเลือก | H24: 0 | I24: =H24*0.04 -> 0 | J24: =SUM(H24:I24) -> 0 | K24: =J24*0.05 -> 0 | L24: =IF(K24>=750,750,K24) -> 0 | M24: =SUM(J24+L24)*12 -> 0 | N24: =IF(F24=DATA!$A$1,DATA!$D$1,IF(ข้อมูลประกอบ!F24=DATA!$A$2,DATA!$D$2,IF(ข้อมูลประกอบ!F24=DATA!$A$3,DATA!$D$3,IF(ข้อมูลประกอบ!F24=DATA!$A$4,DATA!$D$4,IF(ข้อมูลประกอบ!F24=DATA!$A$5,DATA!$B$5,IF(ข้อมูลประกอบ!F24=DATA!$A$6,DATA!$D$6,IF(ข้อมูลประกอบ!F24=DATA!$A$7,DATA!$D$7,IF(ข้อมูลประกอบ!F24=DATA!$A$8,DATA!$D$8)))))))) -> 0 | O24: =N24*12 -> 0 | P24: =IF(F24=DATA!$A$1,DATA!$C$1,IF(ข้อมูลประกอบ!F24=DATA!$A$2,DATA!$C$2,IF(ข้อมูลประกอบ!F24=DATA!$A$3,DATA!$C$3,IF(ข้อมูลประกอบ!F24=DATA!$A$4,DATA!$C$4,IF(ข้อมูลประกอบ!F24=DATA!$A$5,DATA!$C$5,IF(ข้อมูลประกอบ!F24=DATA!$A$6,DATA!$D$6,IF(ข้อมูลประกอบ!F24=DATA!$A$7,DATA!$D$7,IF(ข้อมูลประกอบ!F24=DATA!$A$8,DATA!$B$8)))))))) -> 0 | Q24: =P24*12 -> 0 | R24: =IF($F24=DATA!$A$1,DATA!$D$1,IF(ข้อมูลประกอบ!$F24=DATA!$A$2,DATA!$D$2,IF(ข้อมูลประกอบ!$F24=DATA!$A$3,DATA!$D$3,IF(ข้อมูลประกอบ!$F24=DATA!$A$4,DATA!$D$4,IF(ข้อมูลประกอบ!$F24=DATA!$A$5,DATA!$D$5,IF(ข้อมูลประกอบ!$F24=DATA!$A$6,DATA!$B$6,IF(ข้อมูลประกอบ!$F24=DATA!$A$7,DATA!$D$7,IF(ข้อมูลประกอบ!$F24=DATA!$A$8,DATA!$D$8)))))))) -> 0 | S24: =IF($F24=DATA!$A$1,DATA!$D$1,IF(ข้อมูลประกอบ!$F24=DATA!$A$2,DATA!$D$2,IF(ข้อมูลประกอบ!$F24=DATA!$A$3,DATA!$D$3,IF(ข้อมูลประกอบ!$F24=DATA!$A$4,DATA!$D$4,IF(ข้อมูลประกอบ!$F24=DATA!$A$5,DATA!$D$5,IF(ข้อมูลประกอบ!$F24=DATA!$A$6,DATA!$C$6,IF(ข้อมูลประกอบ!$F24=DATA!$A$7,DATA!$D$7,IF(ข้อมูลประกอบ!$F24=DATA!$A$8,DATA!$D$8)))))))) -> 0 | T24: =IF($F24=DATA!$A$1,DATA!$D$1,IF(ข้อมูลประกอบ!$F24=DATA!$A$2,DATA!$D$2,IF(ข้อมูลประกอบ!$F24=DATA!$A$3,DATA!$D$3,IF(ข้อมูลประกอบ!$F24=DATA!$A$4,DATA!$D$4,IF(ข้อมูลประกอบ!$F24=DATA!$A$5,DATA!$D$5,IF(ข้อมูลประกอบ!$F24=DATA!$A$6,DATA!$E$6,IF(ข้อมูลประกอบ!$F24=DATA!$A$7,DATA!$D$7,IF(ข้อมูลประกอบ!$F24=DATA!$A$8,DATA!$D$8)))))))) -> 0 | U24: =R24*S24*T24 -> 0 | V24: =IF($F24=DATA!$A$1,DATA!$D$1,IF(ข้อมูลประกอบ!$F24=DATA!$A$2,DATA!$D$2,IF(ข้อมูลประกอบ!$F24=DATA!$A$3,DATA!$D$3,IF(ข้อมูลประกอบ!$F24=DATA!$A$4,DATA!$D$4,IF(ข้อมูลประกอบ!$F24=DATA!$A$5,DATA!$D$5,IF(ข้อมูลประกอบ!$F24=DATA!$A$6,DATA!$D$6,IF(ข้อมูลประกอบ!$F24=DATA!$A$7,DATA!$B$7,IF(ข้อมูลประกอบ!$F24=DATA!$A$8,DATA!$D$8)))))))) -> 0 | W24: =IF($F24=DATA!$A$1,DATA!$D$1,IF(ข้อมูลประกอบ!$F24=DATA!$A$2,DATA!$D$2,IF(ข้อมูลประกอบ!$F24=DATA!$A$3,DATA!$D$3,IF(ข้อมูลประกอบ!$F24=DATA!$A$4,DATA!$D$4,IF(ข้อมูลประกอบ!$F24=DATA!$A$5,DATA!$D$5,IF(ข้อมูลประกอบ!$F24=DATA!$A$6,DATA!$D$6,IF(ข้อมูลประกอบ!$F24=DATA!$A$7,DATA!$C$7,IF(ข้อมูลประกอบ!$F24=DATA!$A$8,DATA!$D$8)))))))) -> 0 | X24: =V24*W24 -> 0 | Y24: =SUM(M24,O24,Q24,U24,X24) -> 0
A25: 17 | D25: โปรดเลือก | F25: กรุณาเลือกตำแหน่ง | G25: โปรดเลือก | H25: 0 | I25: =H25*0.04 -> 0 | J25: =SUM(H25:I25) -> 0 | K25: =J25*0.05 -> 0 | L25: =IF(K25>=750,750,K25) -> 0 | M25: =SUM(J25+L25)*12 -> 0 | N25: =IF(F25=DATA!$A$1,DATA!$D$1,IF(ข้อมูลประกอบ!F25=DATA!$A$2,DATA!$D$2,IF(ข้อมูลประกอบ!F25=DATA!$A$3,DATA!$D$3,IF(ข้อมูลประกอบ!F25=DATA!$A$4,DATA!$D$4,IF(ข้อมูลประกอบ!F25=DATA!$A$5,DATA!$B$5,IF(ข้อมูลประกอบ!F25=DATA!$A$6,DATA!$D$6,IF(ข้อมูลประกอบ!F25=DATA!$A$7,DATA!$D$7,IF(ข้อมูลประกอบ!F25=DATA!$A$8,DATA!$D$8)))))))) -> 0 | O25: =N25*12 -> 0 | P25: =IF(F25=DATA!$A$1,DATA!$C$1,IF(ข้อมูลประกอบ!F25=DATA!$A$2,DATA!$C$2,IF(ข้อมูลประกอบ!F25=DATA!$A$3,DATA!$C$3,IF(ข้อมูลประกอบ!F25=DATA!$A$4,DATA!$C$4,IF(ข้อมูลประกอบ!F25=DATA!$A$5,DATA!$C$5,IF(ข้อมูลประกอบ!F25=DATA!$A$6,DATA!$D$6,IF(ข้อมูลประกอบ!F25=DATA!$A$7,DATA!$D$7,IF(ข้อมูลประกอบ!F25=DATA!$A$8,DATA!$B$8)))))))) -> 0 | Q25: =P25*12 -> 0 | R25: =IF($F25=DATA!$A$1,DATA!$D$1,IF(ข้อมูลประกอบ!$F25=DATA!$A$2,DATA!$D$2,IF(ข้อมูลประกอบ!$F25=DATA!$A$3,DATA!$D$3,IF(ข้อมูลประกอบ!$F25=DATA!$A$4,DATA!$D$4,IF(ข้อมูลประกอบ!$F25=DATA!$A$5,DATA!$D$5,IF(ข้อมูลประกอบ!$F25=DATA!$A$6,DATA!$B$6,IF(ข้อมูลประกอบ!$F25=DATA!$A$7,DATA!$D$7,IF(ข้อมูลประกอบ!$F25=DATA!$A$8,DATA!$D$8)))))))) -> 0 | S25: =IF($F25=DATA!$A$1,DATA!$D$1,IF(ข้อมูลประกอบ!$F25=DATA!$A$2,DATA!$D$2,IF(ข้อมูลประกอบ!$F25=DATA!$A$3,DATA!$D$3,IF(ข้อมูลประกอบ!$F25=DATA!$A$4,DATA!$D$4,IF(ข้อมูลประกอบ!$F25=DATA!$A$5,DATA!$D$5,IF(ข้อมูลประกอบ!$F25=DATA!$A$6,DATA!$C$6,IF(ข้อมูลประกอบ!$F25=DATA!$A$7,DATA!$D$7,IF(ข้อมูลประกอบ!$F25=DATA!$A$8,DATA!$D$8)))))))) -> 0 | T25: =IF($F25=DATA!$A$1,DATA!$D$1,IF(ข้อมูลประกอบ!$F25=DATA!$A$2,DATA!$D$2,IF(ข้อมูลประกอบ!$F25=DATA!$A$3,DATA!$D$3,IF(ข้อมูลประกอบ!$F25=DATA!$A$4,DATA!$D$4,IF(ข้อมูลประกอบ!$F25=DATA!$A$5,DATA!$D$5,IF(ข้อมูลประกอบ!$F25=DATA!$A$6,DATA!$E$6,IF(ข้อมูลประกอบ!$F25=DATA!$A$7,DATA!$D$7,IF(ข้อมูลประกอบ!$F25=DATA!$A$8,DATA!$D$8)))))))) -> 0 | U25: =R25*S25*T25 -> 0 | V25: =IF($F25=DATA!$A$1,DATA!$D$1,IF(ข้อมูลประกอบ!$F25=DATA!$A$2,DATA!$D$2,IF(ข้อมูลประกอบ!$F25=DATA!$A$3,DATA!$D$3,IF(ข้อมูลประกอบ!$F25=DATA!$A$4,DATA!$D$4,IF(ข้อมูลประกอบ!$F25=DATA!$A$5,DATA!$D$5,IF(ข้อมูลประกอบ!$F25=DATA!$A$6,DATA!$D$6,IF(ข้อมูลประกอบ!$F25=DATA!$A$7,DATA!$B$7,IF(ข้อมูลประกอบ!$F25=DATA!$A$8,DATA!$D$8)))))))) -> 0 | W25: =IF($F25=DATA!$A$1,DATA!$D$1,IF(ข้อมูลประกอบ!$F25=DATA!$A$2,DATA!$D$2,IF(ข้อมูลประกอบ!$F25=DATA!$A$3,DATA!$D$3,IF(ข้อมูลประกอบ!$F25=DATA!$A$4,DATA!$D$4,IF(ข้อมูลประกอบ!$F25=DATA!$A$5,DATA!$D$5,IF(ข้อมูลประกอบ!$F25=DATA!$A$6,DATA!$D$6,IF(ข้อมูลประกอบ!$F25=DATA!$A$7,DATA!$C$7,IF(ข้อมูลประกอบ!$F25=DATA!$A$8,DATA!$D$8)))))))) -> 0 | X25: =V25*W25 -> 0 | Y25: =SUM(M25,O25,Q25,U25,X25) -> 0
A26: 18 | D26: โปรดเลือก | F26: กรุณาเลือกตำแหน่ง | G26: โปรดเลือก | H26: 0 | I26: =H26*0.04 -> 0 | J26: =SUM(H26:I26) -> 0 | K26: =J26*0.05 -> 0 | L26: =IF(K26>=750,750,K26) -> 0 | M26: =SUM(J26+L26)*12 -> 0 | N26: =IF(F26=DATA!$A$1,DATA!$D$1,IF(ข้อมูลประกอบ!F26=DATA!$A$2,DATA!$D$2,IF(ข้อมูลประกอบ!F26=DATA!$A$3,DATA!$D$3,IF(ข้อมูลประกอบ!F26=DATA!$A$4,DATA!$D$4,IF(ข้อมูลประกอบ!F26=DATA!$A$5,DATA!$B$5,IF(ข้อมูลประกอบ!F26=DATA!$A$6,DATA!$D$6,IF(ข้อมูลประกอบ!F26=DATA!$A$7,DATA!$D$7,IF(ข้อมูลประกอบ!F26=DATA!$A$8,DATA!$D$8)))))))) -> 0 | O26: =N26*12 -> 0 | P26: =IF(F26=DATA!$A$1,DATA!$C$1,IF(ข้อมูลประกอบ!F26=DATA!$A$2,DATA!$C$2,IF(ข้อมูลประกอบ!F26=DATA!$A$3,DATA!$C$3,IF(ข้อมูลประกอบ!F26=DATA!$A$4,DATA!$C$4,IF(ข้อมูลประกอบ!F26=DATA!$A$5,DATA!$C$5,IF(ข้อมูลประกอบ!F26=DATA!$A$6,DATA!$D$6,IF(ข้อมูลประกอบ!F26=DATA!$A$7,DATA!$D$7,IF(ข้อมูลประกอบ!F26=DATA!$A$8,DATA!$B$8)))))))) -> 0 | Q26: =P26*12 -> 0 | R26: =IF($F26=DATA!$A$1,DATA!$D$1,IF(ข้อมูลประกอบ!$F26=DATA!$A$2,DATA!$D$2,IF(ข้อมูลประกอบ!$F26=DATA!$A$3,DATA!$D$3,IF(ข้อมูลประกอบ!$F26=DATA!$A$4,DATA!$D$4,IF(ข้อมูลประกอบ!$F26=DATA!$A$5,DATA!$D$5,IF(ข้อมูลประกอบ!$F26=DATA!$A$6,DATA!$B$6,IF(ข้อมูลประกอบ!$F26=DATA!$A$7,DATA!$D$7,IF(ข้อมูลประกอบ!$F26=DATA!$A$8,DATA!$D$8)))))))) -> 0 | S26: =IF($F26=DATA!$A$1,DATA!$D$1,IF(ข้อมูลประกอบ!$F26=DATA!$A$2,DATA!$D$2,IF(ข้อมูลประกอบ!$F26=DATA!$A$3,DATA!$D$3,IF(ข้อมูลประกอบ!$F26=DATA!$A$4,DATA!$D$4,IF(ข้อมูลประกอบ!$F26=DATA!$A$5,DATA!$D$5,IF(ข้อมูลประกอบ!$F26=DATA!$A$6,DATA!$C$6,IF(ข้อมูลประกอบ!$F26=DATA!$A$7,DATA!$D$7,IF(ข้อมูลประกอบ!$F26=DATA!$A$8,DATA!$D$8)))))))) -> 0 | T26: =IF($F26=DATA!$A$1,DATA!$D$1,IF(ข้อมูลประกอบ!$F26=DATA!$A$2,DATA!$D$2,IF(ข้อมูลประกอบ!$F26=DATA!$A$3,DATA!$D$3,IF(ข้อมูลประกอบ!$F26=DATA!$A$4,DATA!$D$4,IF(ข้อมูลประกอบ!$F26=DATA!$A$5,DATA!$D$5,IF(ข้อมูลประกอบ!$F26=DATA!$A$6,DATA!$E$6,IF(ข้อมูลประกอบ!$F26=DATA!$A$7,DATA!$D$7,IF(ข้อมูลประกอบ!$F26=DATA!$A$8,DATA!$D$8)))))))) -> 0 | U26: =R26*S26*T26 -> 0 | V26: =IF($F26=DATA!$A$1,DATA!$D$1,IF(ข้อมูลประกอบ!$F26=DATA!$A$2,DATA!$D$2,IF(ข้อมูลประกอบ!$F26=DATA!$A$3,DATA!$D$3,IF(ข้อมูลประกอบ!$F26=DATA!$A$4,DATA!$D$4,IF(ข้อมูลประกอบ!$F26=DATA!$A$5,DATA!$D$5,IF(ข้อมูลประกอบ!$F26=DATA!$A$6,DATA!$D$6,IF(ข้อมูลประกอบ!$F26=DATA!$A$7,DATA!$B$7,IF(ข้อมูลประกอบ!$F26=DATA!$A$8,DATA!$D$8)))))))) -> 0 | W26: =IF($F26=DATA!$A$1,DATA!$D$1,IF(ข้อมูลประกอบ!$F26=DATA!$A$2,DATA!$D$2,IF(ข้อมูลประกอบ!$F26=DATA!$A$3,DATA!$D$3,IF(ข้อมูลประกอบ!$F26=DATA!$A$4,DATA!$D$4,IF(ข้อมูลประกอบ!$F26=DATA!$A$5,DATA!$D$5,IF(ข้อมูลประกอบ!$F26=DATA!$A$6,DATA!$D$6,IF(ข้อมูลประกอบ!$F26=DATA!$A$7,DATA!$C$7,IF(ข้อมูลประกอบ!$F26=DATA!$A$8,DATA!$D$8)))))))) -> 0 | X26: =V26*W26 -> 0 | Y26: =SUM(M26,O26,Q26,U26,X26) -> 0
A27: 19 | D27: โปรดเลือก | F27: กรุณาเลือกตำแหน่ง | G27: โปรดเลือก | H27: 0 | I27: =H27*0.04 -> 0 | J27: =SUM(H27:I27) -> 0 | K27: =J27*0.05 -> 0 | L27: =IF(K27>=750,750,K27) -> 0 | M27: =SUM(J27+L27)*12 -> 0 | N27: =IF(F27=DATA!$A$1,DATA!$D$1,IF(ข้อมูลประกอบ!F27=DATA!$A$2,DATA!$D$2,IF(ข้อมูลประกอบ!F27=DATA!$A$3,DATA!$D$3,IF(ข้อมูลประกอบ!F27=DATA!$A$4,DATA!$D$4,IF(ข้อมูลประกอบ!F27=DATA!$A$5,DATA!$B$5,IF(ข้อมูลประกอบ!F27=DATA!$A$6,DATA!$D$6,IF(ข้อมูลประกอบ!F27=DATA!$A$7,DATA!$D$7,IF(ข้อมูลประกอบ!F27=DATA!$A$8,DATA!$D$8)))))))) -> 0 | O27: =N27*12 -> 0 | P27: =IF(F27=DATA!$A$1,DATA!$C$1,IF(ข้อมูลประกอบ!F27=DATA!$A$2,DATA!$C$2,IF(ข้อมูลประกอบ!F27=DATA!$A$3,DATA!$C$3,IF(ข้อมูลประกอบ!F27=DATA!$A$4,DATA!$C$4,IF(ข้อมูลประกอบ!F27=DATA!$A$5,DATA!$C$5,IF(ข้อมูลประกอบ!F27=DATA!$A$6,DATA!$D$6,IF(ข้อมูลประกอบ!F27=DATA!$A$7,DATA!$D$7,IF(ข้อมูลประกอบ!F27=DATA!$A$8,DATA!$B$8)))))))) -> 0 | Q27: =P27*12 -> 0 | R27: =IF($F27=DATA!$A$1,DATA!$D$1,IF(ข้อมูลประกอบ!$F27=DATA!$A$2,DATA!$D$2,IF(ข้อมูลประกอบ!$F27=DATA!$A$3,DATA!$D$3,IF(ข้อมูลประกอบ!$F27=DATA!$A$4,DATA!$D$4,IF(ข้อมูลประกอบ!$F27=DATA!$A$5,DATA!$D$5,IF(ข้อมูลประกอบ!$F27=DATA!$A$6,DATA!$B$6,IF(ข้อมูลประกอบ!$F27=DATA!$A$7,DATA!$D$7,IF(ข้อมูลประกอบ!$F27=DATA!$A$8,DATA!$D$8)))))))) -> 0 | S27: =IF($F27=DATA!$A$1,DATA!$D$1,IF(ข้อมูลประกอบ!$F27=DATA!$A$2,DATA!$D$2,IF(ข้อมูลประกอบ!$F27=DATA!$A$3,DATA!$D$3,IF(ข้อมูลประกอบ!$F27=DATA!$A$4,DATA!$D$4,IF(ข้อมูลประกอบ!$F27=DATA!$A$5,DATA!$D$5,IF(ข้อมูลประกอบ!$F27=DATA!$A$6,DATA!$C$6,IF(ข้อมูลประกอบ!$F27=DATA!$A$7,DATA!$D$7,IF(ข้อมูลประกอบ!$F27=DATA!$A$8,DATA!$D$8)))))))) -> 0 | T27: =IF($F27=DATA!$A$1,DATA!$D$1,IF(ข้อมูลประกอบ!$F27=DATA!$A$2,DATA!$D$2,IF(ข้อมูลประกอบ!$F27=DATA!$A$3,DATA!$D$3,IF(ข้อมูลประกอบ!$F27=DATA!$A$4,DATA!$D$4,IF(ข้อมูลประกอบ!$F27=DATA!$A$5,DATA!$D$5,IF(ข้อมูลประกอบ!$F27=DATA!$A$6,DATA!$E$6,IF(ข้อมูลประกอบ!$F27=DATA!$A$7,DATA!$D$7,IF(ข้อมูลประกอบ!$F27=DATA!$A$8,DATA!$D$8)))))))) -> 0 | U27: =R27*S27*T27 -> 0 | V27: =IF($F27=DATA!$A$1,DATA!$D$1,IF(ข้อมูลประกอบ!$F27=DATA!$A$2,DATA!$D$2,IF(ข้อมูลประกอบ!$F27=DATA!$A$3,DATA!$D$3,IF(ข้อมูลประกอบ!$F27=DATA!$A$4,DATA!$D$4,IF(ข้อมูลประกอบ!$F27=DATA!$A$5,DATA!$D$5,IF(ข้อมูลประกอบ!$F27=DATA!$A$6,DATA!$D$6,IF(ข้อมูลประกอบ!$F27=DATA!$A$7,DATA!$B$7,IF(ข้อมูลประกอบ!$F27=DATA!$A$8,DATA!$D$8)))))))) -> 0 | W27: =IF($F27=DATA!$A$1,DATA!$D$1,IF(ข้อมูลประกอบ!$F27=DATA!$A$2,DATA!$D$2,IF(ข้อมูลประกอบ!$F27=DATA!$A$3,DATA!$D$3,IF(ข้อมูลประกอบ!$F27=DATA!$A$4,DATA!$D$4,IF(ข้อมูลประกอบ!$F27=DATA!$A$5,DATA!$D$5,IF(ข้อมูลประกอบ!$F27=DATA!$A$6,DATA!$D$6,IF(ข้อมูลประกอบ!$F27=DATA!$A$7,DATA!$C$7,IF(ข้อมูลประกอบ!$F27=DATA!$A$8,DATA!$D$8)))))))) -> 0 | X27: =V27*W27 -> 0 | Y27: =SUM(M27,O27,Q27,U27,X27) -> 0
... A108: 100 | D108: โปรดเลือก | F108: กรุณาเลือกตำแหน่ง | G108: โปรดเลือก | H108: 0 | I108: =H108*0.04 -> 0 | J108: =SUM(H108:I108) -> 0 | K108: =J108*0.05 -> 0 | L108: =IF(K108>=750,750,K108) -> 0 | M108: =SUM(J108+L108)*12 -> 0 | N108: =IF(F108=DATA!$A$1,DATA!$D$1,IF(ข้อมูลประกอบ!F108=DATA!$A$2,DATA!$D$2,IF(ข้อมูลประกอบ!F108=DATA!$A$3,DATA!$D$3,IF(ข้อมูลประกอบ!F108=DATA!$A$4,DATA!$D$4,IF(ข้อมูลประกอบ!F108=DATA!$A$5,DATA!$B$5,IF(ข้อมูลประกอบ!F108=DATA!$A$6,DATA!$D$6,IF(ข้อมูลประกอบ!F108=DATA!$A$7,DATA!$D$7,IF(ข้อมูลประกอบ!F108=DATA!$A$8,DATA!$D$8)))))))) -> 0 | O108: =N108*12 -> 0 | P108: =IF(F108=DATA!$A$1,DATA!$C$1,IF(ข้อมูลประกอบ!F108=DATA!$A$2,DATA!$C$2,IF(ข้อมูลประกอบ!F108=DATA!$A$3,DATA!$C$3,IF(ข้อมูลประกอบ!F108=DATA!$A$4,DATA!$C$4,IF(ข้อมูลประกอบ!F108=DATA!$A$5,DATA!$C$5,IF(ข้อมูลประกอบ!F108=DATA!$A$6,DATA!$D$6,IF(ข้อมูลประกอบ!F108=DATA!$A$7,DATA!$D$7,IF(ข้อมูลประกอบ!F108=DATA!$A$8,DATA!$B$8)))))))) -> 0 | Q108: =P108*12 -> 0 | R108: =IF($F108=DATA!$A$1,DATA!$D$1,IF(ข้อมูลประกอบ!$F108=DATA!$A$2,DATA!$D$2,IF(ข้อมูลประกอบ!$F108=DATA!$A$3,DATA!$D$3,IF(ข้อมูลประกอบ!$F108=DATA!$A$4,DATA!$D$4,IF(ข้อมูลประกอบ!$F108=DATA!$A$5,DATA!$D$5,IF(ข้อมูลประกอบ!$F108=DATA!$A$6,DATA!$B$6,IF(ข้อมูลประกอบ!$F108=DATA!$A$7,DATA!$D$7,IF(ข้อมูลประกอบ!$F108=DATA!$A$8,DATA!$D$8)))))))) -> 0 | S108: =IF($F108=DATA!$A$1,DATA!$D$1,IF(ข้อมูลประกอบ!$F108=DATA!$A$2,DATA!$D$2,IF(ข้อมูลประกอบ!$F108=DATA!$A$3,DATA!$D$3,IF(ข้อมูลประกอบ!$F108=DATA!$A$4,DATA!$D$4,IF(ข้อมูลประกอบ!$F108=DATA!$A$5,DATA!$D$5,IF(ข้อมูลประกอบ!$F108=DATA!$A$6,DATA!$C$6,IF(ข้อมูลประกอบ!$F108=DATA!$A$7,DATA!$D$7,IF(ข้อมูลประกอบ!$F108=DATA!$A$8,DATA!$D$8)))))))) -> 0 | T108: =IF($F108=DATA!$A$1,DATA!$D$1,IF(ข้อมูลประกอบ!$F108=DATA!$A$2,DATA!$D$2,IF(ข้อมูลประกอบ!$F108=DATA!$A$3,DATA!$D$3,IF(ข้อมูลประกอบ!$F108=DATA!$A$4,DATA!$D$4,IF(ข้อมูลประกอบ!$F108=DATA!$A$5,DATA!$D$5,IF(ข้อมูลประกอบ!$F108=DATA!$A$6,DATA!$E$6,IF(ข้อมูลประกอบ!$F108=DATA!$A$7,DATA!$D$7,IF(ข้อมูลประกอบ!$F108=DATA!$A$8,DATA!$D$8)))))))) -> 0 | U108: =R108*S108*T108 -> 0 | V108: =IF($F108=DATA!$A$1,DATA!$D$1,IF(ข้อมูลประกอบ!$F108=DATA!$A$2,DATA!$D$2,IF(ข้อมูลประกอบ!$F108=DATA!$A$3,DATA!$D$3,IF(ข้อมูลประกอบ!$F108=DATA!$A$4,DATA!$D$4,IF(ข้อมูลประกอบ!$F108=DATA!$A$5,DATA!$D$5,IF(ข้อมูลประกอบ!$F108=DATA!$A$6,DATA!$D$6,IF(ข้อมูลประกอบ!$F108=DATA!$A$7,DATA!$B$7,IF(ข้อมูลประกอบ!$F108=DATA!$A$8,DATA!$D$8)))))))) -> 0 | W108: =IF($F108=DATA!$A$1,DATA!$D$1,IF(ข้อมูลประกอบ!$F108=DATA!$A$2,DATA!$D$2,IF(ข้อมูลประกอบ!$F108=DATA!$A$3,DATA!$D$3,IF(ข้อมูลประกอบ!$F108=DATA!$A$4,DATA!$D$4,IF(ข้อมูลประกอบ!$F108=DATA!$A$5,DATA!$D$5,IF(ข้อมูลประกอบ!$F108=DATA!$A$6,DATA!$D$6,IF(ข้อมูลประกอบ!$F108=DATA!$A$7,DATA!$C$7,IF(ข้อมูลประกอบ!$F108=DATA!$A$8,DATA!$D$8)))))))) -> 0 | X108: =V108*W108 -> 0 | Y108: =SUM(M108,O108,Q108,U108,X108) -> 0

Sheet ตัวอย่างสรุป
A1: หน่วยรับงบประมาณ : เทศบาลเมืองนราธิวาส
A2: เงินอุดหนุนทั่วไป
A3: รายการ : เงินอุดหนุนการจัดการศึกษาขององค์กรปกครองส่วนท้องถิ่นในพื้นที่จังหวัดชายแดนภาคใต้ (ค่าตอบแทน และสวัสดิการ)
A5: 1. หลักการและเหตุผล กระทรวงมหาดไทยมีนโยบายให้กรมส่งเสริมการปกครองท้องถิ่นปรับการจัดการเรียนการสอนโรงเรียนสังกัดองค์กรปกครอง ส่วนท้องถิ่นในพื้นที่จังหวัดชายแดนภาคใต้ (ยะลา ปัตตานี นราธิวาส สตูล และสงขลา) เพื่อเป็นแนวทางที่จะทำให้นักเรียนไทยมุสลิม ในจังหวัดชายแดนภาคใต้ได้มีโอกาสรับบริการทางการศึกษาจากภาครัฐได้อย่างครบถ้วนยิ่งขึ้น รวมทั้งได้รับความสะดวกในเรื่องการใช้อาคารสถานที่ อุปกรณ์การเรียนการสอน และสวัสดิการต่างๆ และเพื่อมิให้เกิดความแตกต่างระหว่างนักเรียนไทยพุทธและนักเรียนไทยมุสลิม จึงได้มีการปรับเพิ่มชั่วโมงการเรียนการสอนวิชาพุทธศาสนา และจัดการเรียนการสอนหลักสูตรพระปริยัติธรรมให้แก่นักเรียนไทยพุทธด้วย โดยได้เริ่มดำเนินการปรับการจัดการเรียนการสอน ตั้งแต่ปีงบประมาณ 2549 ในภาคเรียนที่ 2 ปีการศึกษา 2548 ต่อเนื่องมาจนถึงปัจจุบัน โดยได้ดำเนินการปรับรูปแบบการจัดการศึกษา ดังนี้
A6: (1) ปรับหลักสูตรการศึกษาขั้นพื้นฐานฯ ตั้งแต่ระดับชั้นประถมศึกษา และมัธยมศึกษา โดยเพิ่มชั่วโมงการเรียนการสอนวิชาสังคมศึกษา ศาสนาและวัฒนธรรม จาก 2 ชั่วโมง/สัปดาห์ เป็น 3 ชั่วโมง/สัปดาห์ โดยนักเรียนไทยมุสลิมเรียนวิชาอิสลามศึกษา นักเรียนไทยพุทธเรียนวิชาพุทธศาสนา (2) ส่งเสริมสนับสนุนและอำนวยความสะดวกในการจัดการเรียนการสอนหลักสูตรฟัรฎูอีน (หลักสูตรตาดีกา) เทียบเท่าหลักสูตรอิสลามศึกษาตอนต้น และหลักสูตรพระปริยัติธรรม โดยใช้สถานที่ของ องค์กรปกครองส่วนท้องถิ่นจัดการเรียนการสอนระดับชั้น ป.1-6 (3) จัดการเรียนการสอนระดับชั้นมัธยมศึกษา (รูปแบบผสมผสาน) โดยให้มีการเรียนการสอนควบคู่ 2 หลักสูตร คือ หลักสูตรการศึกษาขั้นพื้นฐาน และหลักสูตรอิสลามศึกษา อิสลามศึกษาตอนกลาง/ มุตะวัซซีเฎาะห์ (ม.1-3) และอิสลามศึกษาตอนปลาย/ซานาวียะห์(ม.4-6)
A7: 2. วัตถุประสงค์ 2.1 เพื่อให้นักเรียนได้รับความรู้ทั้งสายสามัญและด้านศาสนาอย่างถูกต้องและมีมาตรฐาน นักเรียนไทยมุสลิม และไทยพุทธจะได้รับการพัฒนาความคิด จิตสำนึก และทัศนคติที่สามารถอยู่ร่วมกันในสังคมได้อย่างสันติสุขและมีความสมานฉันท์ 2.2 เพื่อให้เกิดความร่วมมือระหว่างสถานศึกษากับชุมชนในการร่วมกันให้ความรู้ทางด้านศาสนาแก่นักเรียน และเยาวชนในพื้นที่
A8: 3. เป้าหมาย พนักงานจ้างตามภารกิจที่สังกัดโรงเรียนขององค์กรปกครองส่วนท้องถิ่นที่ปฏิบัติหน้าที่ในพื้นที่จังหวัดชายแดนภาคใต้ (ยะลา ปัตตานี นราธิวาส สตูล สงขลา) จำนวน 59 โรง โดยให้เฉพาะบุคลากรที่ปฏิบัติงานในโรงเรียนที่กรมส่งเสริมการปกครองท้องถิ่นพิจารณาอนุมัติแล้วว่าเป็นโรงเรียนที่มีการปรับปรุงหลักสูตรการเรียนการสอน
A9: 4. หลักเกณฑ์การจัดสรร เพื่อเป็นค่าตอบแทน เงินเพิ่มค่าครองชีพ และเงินสวัสดิการค่าตอบแทน เงินเพิ่มค่าครองชีพ และเงินสวัสดิการ ดังนี้
A10: (1) ค่าจ้างและเงินเลื่อนค่าตอบแทนพนักงานจ้างตามภารกิจตามผลการประเมินการปฏิบัติราชการ ตำแหน่งผู้ช่วยครูและวิทยากร (ปฏิบัติหน้าที่ครูสอนอิสลามศึกษา ครูสอนพุทธศาสนา ครูสอนพระปริยัติธรรมและครูผู้ปฏิบัติงานโภชนาการ) (2) ค่าจ้างพนักงานจ้างเหมาบริการรายเดือน (ปฏิบัติหน้าที่ครูสอนอิสลามศึกษา ครูสอนพุทธศาสนา และครูสอนพระปริยัติธรรม) (3) ค่าตอบแทนพนักงานจ้างรายชั่วโมง (ปฏิบัติหน้าที่ครูสอนอิสลามศึกษาและครูสอนพระปริยัติธรรม) (4) ค่าตอบแทนรายวันนักการภารโรง (เสาร์-อาทิตย์) (5) เงินประกันสังคมสำหรับพนักงานจ้างตามภารกิจ (6) ค่าตอบแทนพิเศษรายเดือนแก่เจ้าหน้าที่ผู้ปฏิบัติงานในจังหวัดชายแดนภาคใต้ขององค์กรปกครองส่วนท้องถิ่นตามมติ ครม. เมื่อวันที่ 11 พฤศจิกายน 2551 โดยปฏิบัติตามประกาศกระทรวงการคลัง ลงวันที่ 11 กันยายน 2560 เดือนละ 2,500 บาท/คน
A11: รายละเอียดค่าใช้จ่าย | B11: จำนวน (อัตตรา) (1) | C11: งบประมาณ (2) | D11: ระยะเวลา (3) | F11: งบประมาณทั้งสิ้น (4) = (1)×(2)×(4) | G11: หมายเหตุ
A12: 1. ค่าตอบแทนพนักงานจ้างตามภารกิจรายเดือน | B12: =SUM(B13:B16) -> 55 | F12: =(SUM(F13:F16)) -> 13623000
A13: ครูสอนอิสลามศึกษา | B13: =COUNTIF(ตย.ข้อมูลประกอบ!$F$9:$F$108,ตัวอย่างสรุป!A13) -> 34 | C13: =SUMIF(ตย.ข้อมูลประกอบ!$F$9:$F$108,ตัวอย่างสรุป!A13,ตย.ข้อมูลประกอบ!$G$9:$G$108) -> 713480 | D13: 12 | E13: เดือน | F13: =C13*D13 -> 8561760
A14: ครูสอนพุทธศาสนา | B14: =COUNTIF(ตย.ข้อมูลประกอบ!$F$9:$F$108,ตัวอย่างสรุป!A14) -> 15 | C14: =SUMIF(ตย.ข้อมูลประกอบ!$F$9:$F$108,ตัวอย่างสรุป!A14,ตย.ข้อมูลประกอบ!$G$9:$G$108) -> 290250 | D14: 12 | E14: เดือน | F14: =C14*D14 -> 3483000
A15: ครูสอนพระปริยัติธรรม | B15: =COUNTIF(ตย.ข้อมูลประกอบ!$F$9:$F$108,ตัวอย่างสรุป!A15) -> 2 | C15: =SUMIF(ตย.ข้อมูลประกอบ!$F$9:$F$108,ตัวอย่างสรุป!A15,ตย.ข้อมูลประกอบ!$G$9:$G$108) -> 44450 | D15: 12 | E15: เดือน | F15: =C15*D15 -> 533400
A16: ครูผู้ปฏิบัติงานโภชนาการ | B16: =COUNTIF(ตย.ข้อมูลประกอบ!$F$9:$F$108,ตัวอย่างสรุป!A16) -> 4 | C16: =SUMIF(ตย.ข้อมูลประกอบ!$F$9:$F$108,ตัวอย่างสรุป!A16,ตย.ข้อมูลประกอบ!$G$9:$G$108) -> 87070 | D16: 12 | E16: เดือน | F16: =C16*D16 -> 1044840
A17: 2. เงินเลื่อนค่าตอบแทนพนักงานจ้างตามภารกิจตามผลการปฏิบัติราชการ (4%) | B17: =B18+B19+B20+B21 -> 55 | F17: =+F18+F19+F20+F21 -> 544920
A18: ครูสอนอิสลามศึกษา | B18: =COUNTIF(ตย.ข้อมูลประกอบ!$F$9:$F$108,ตัวอย่างสรุป!A18) -> 34 | C18: =SUMIF(ตย.ข้อมูลประกอบ!$F$9:$F$108,ตัวอย่างสรุป!A18,ตย.ข้อมูลประกอบ!$H$9:$H$108) -> 28539.2 | D18: 12 | E18: เดือน | F18: =C18*D18 -> 342470.4
A19: ครูสอนพุทธศาสนา | B19: =COUNTIF(ตย.ข้อมูลประกอบ!$F$9:$F$108,ตัวอย่างสรุป!A19) -> 15 | C19: =SUMIF(ตย.ข้อมูลประกอบ!$F$9:$F$108,ตัวอย่างสรุป!A19,ตย.ข้อมูลประกอบ!$H$9:$H$108) -> 11610 | D19: 12 | E19: เดือน | F19: =C19*D19 -> 139320
A20: ครูสอนพระปริยัติธรรม | B20: =COUNTIF(ตย.ข้อมูลประกอบ!$F$9:$F$108,ตัวอย่างสรุป!A20) -> 2 | C20: =SUMIF(ตย.ข้อมูลประกอบ!$F$9:$F$108,ตัวอย่างสรุป!A20,ตย.ข้อมูลประกอบ!$H$9:$H$108) -> 1778 | D20: 12 | E20: เดือน | F20: =C20*D20 -> 21336
A21: ครูผู้ปฏิบัติงานโภชนาการ | B21: =COUNTIF(ตย.ข้อมูลประกอบ!$F$9:$F$108,ตัวอย่างสรุป!A21) -> 4 | C21: =SUMIF(ตย.ข้อมูลประกอบ!$F$9:$F$108,ตัวอย่างสรุป!A21,ตย.ข้อมูลประกอบ!$H$9:$H$108) -> 3482.8 | D21: 12 | E21: เดือน | F21: =C21*D21 -> 41793.6
A22: 3. ค่าจ้างพนักงานจ้างเหมาบริการรายเดือน | B22: =COUNTIF(ตย.ข้อมูลประกอบ!$F$9:$F$108,ตัวอย่างสรุป!H22) -> 2 | C22: =SUMIF(ตย.ข้อมูลประกอบ!$F$9:$F$108,ตัวอย่างสรุป!H22,ตย.ข้อมูลประกอบ!$M$9:$M$108) -> 18000 | D22: 12 | E22: เดือน | F22: =C22*D22 -> 216000 | H22: พนักงานจ้างเหมาบริการ
A23: 4. ค่าตอบแทนพนักงานจ้างรายชั่วโมง (เสาร์-อาทิตย์ 8 ชั่วโมง/วัน) | B23: =COUNTIF(ตย.ข้อมูลประกอบ!$F$9:$F$108,ตัวอย่างสรุป!H23) -> 22 | C23: =SUMIF(ตย.ข้อมูลประกอบ!$F$9:$F$108,ตัวอย่างสรุป!H23,ตย.ข้อมูลประกอบ!$T$9:$T$108) -> 2816000 | D23: 80 | E23: วัน | F23: =C23 -> 2816000 | H23: พนักงานจ้าง
A24: 5. ค่าตอบแทนรายวันนักการภารโรง (เสาร์-อาทิตย์) | B24: =COUNTIF(ตย.ข้อมูลประกอบ!$F$9:$F$108,ตัวอย่างสรุป!H24) -> 3 | C24: =SUMIF(ตย.ข้อมูลประกอบ!$F$9:$F$108,ตัวอย่างสรุป!H24,ตย.ข้อมูลประกอบ!$W$9:$W$108) -> 72000 | D24: 80 | E24: วัน | F24: =C24 -> 72000 | H24: นักการภารโรง
A25: 6. เงินประกันสังคมสำหรับพนักงานจ้างตามภารกิจ (5%) | B25: =B12 -> 55 | C25: =ตย.ข้อมูลประกอบ!K7 -> 41250 | D25: 12 | E25: เดือน | F25: =C25*D25 -> 495000
A26: 7. ค่าตอบแทนพิเศษรายเดือนภาคใต้ | B26: =COUNTIF(ตย.ข้อมูลประกอบ!P9:P108,">1") -> 57 | C26: =SUMIF(ตย.ข้อมูลประกอบ!$O$9:$O$108,">1",ตย.ข้อมูลประกอบ!$O$9:$O$108) -> 142500 | D26: 12 | E26: เดือน | F26: =C26*D26 -> 1710000
A27: รวมทั้งสิ้น | F27: =SUM(F12,F17,F22,F23,F24,F25,F26) -> 19476920
A28: 5. ลักษณะการใช้งบประมาณ เป็นค่าใช้จ่ายที่ต้องจ่ายตามสิทธิ โดยจ่ายเป็นอัตรารายหัวให้เฉพาะผู้ที่มีรายชื่อเป็นเจ้าหน้าที่ขององค์กรปกครองส่วนท้องถิ่นที่ปฏิบัติงานในพื้นที่จังหวัดชายแดนใต้
A29: 6. ข้อมูลประกอบการพิจารณา 1. ข้อมูลโรงเรียนที่ผ่านการปรับปรุงหลักสูตรการเรียนการสอน 2. ข้อมูลบุคลากรในสังกัดโรงเรียนที่ผ่านการปรับปรุงหลักสูตรการเรียนการสอน

Sheet ตย.ข้อมูลประกอบ
A1: บัญชีรายละเอียดการจัดสรรค่าตอบแทนพนักงานจ้างตามภารกิจตำแหน่งผู้ช่วยครูและวิทยากร
A2: (ปฏิบัติหน้าที่ครูสอนอิสลามศึกษา ครูสอนพุทธศาสนา ครูสอนพระปริยัติธรรม และครูผู้ปฏิบัติงานโภชนาการ)
A3: โครงการส่งเสริมสนับสนุนการแก้ไขปัญหาพัฒนาจังหวัดชายแดนภาคใต้ เงินอุดหนุนสำหรับสนับสนุนการจัดการศึกษา
A5: ลำดับที่ | B5: จังหวัด/อปท./โรงเรียน | C5: เลขที่สัญญา | D5: วุฒิการศึกษา | E5: ชื่อ - นามสกุล | F5: ตำแหน่ง | G5: ค่าตอบแทนพนักงานจ้างตามภารกิจ | M5: ค่าตอบแทนพนักงานจ้างเหมาบริการ | O5: เงินค่าตอบแทนพิเศษ ชายแดนใต้ (รายเดือน) | P5: เงินค่าตอบแทนพิเศษ ชายแดนใต้ (รายปี) | Q5: ค่าตอบแทนพนักงานจ้างรายชั่วโมง (เสาร์ - อาทิตย์ 8 ชั่วโมง/วัน) 200 บาท/ชั่วโมง | U5: ค่าตอบแทนรายวันนักการภารโรง (เสาร์ - อาทิตย์) 300 บาท/วัน | X5: รวมทั้งสิ้น
G6: เงินเดือนพนักงาน ณ 1 ต.ค. 65 (เงินเดือน) | H6: เลื่อนขั้น 4% ของปี 2567 | I6: รวมเงินเดือน + เลื่อนขั้น | K6: เงินกองทุนประกันสังคม ร้อยละ 5 (รายเดือน) | L6: รวมเงินเดือน พนักงานจ้างตามภารกิจ (รายปี) | M6: เงินเดือนพนักงาน จ้างเหมาบริการ (รายเดือน) | N6: รวมเงินเดือน พนักงาน (รายปี) | Q6: จำนวนชั่วโมง | R6: จำนวนวัน ไม่เกิน 80 วัน | S6: ค่าตอบแทน พนักงานจ้างเหมาบริการ | T6: รวมเงินค่าตอบแทน พนักงานจ้าง | U6: จำนวนวัน ไม่เกิน 80 วัน | V6: นักการภารโรง | W6: รวมเงินค่าตอบแทน นักการภารโรง
A7: จังหวัดยะลา | G7: =SUM(G8) -> 1135250 | H7: =SUM(H8) -> 45410 | I7: =SUM(I8) -> 1180660 | K7: =SUM(K8) -> 41250 | L7: =SUM(L8) -> 14662920 | M7: =SUM(M8) -> 18000 | N7: =SUM(N8) -> 216000 | O7: =SUM(O8) -> 142500 | P7: =SUM(P8) -> 1710000 | Q7: =SUM(Q8) -> 0 | R7: =SUM(R8) -> 0 | ... X7: =SUM(X8) -> 19476920
A8: เทศบาลนครยะลา | G8: =(SUM(G9:G90)) -> 1135250 | H8: =(SUM(H9:H90)) -> 45410 | I8: =(SUM(I9:I90)) -> 1180660 | J8: =(SUM(J9:J90)) -> 59033 | K8: =(SUM(K9:K90)) -> 41250 | L8: =(SUM(L9:L90)) -> 14662920 | M8: =(SUM(M9:M90)) -> 18000 | N8: =(SUM(N9:N90)) -> 216000 | ... P8: =(SUM(P9:P90)) -> 1710000 | T8: =(SUM(T9:T90)) -> 2816000 | W8: =(SUM(W9:W90)) -> 72000 | X8: =(SUM(X9:X90)) -> 19476920
A9: 1 | B9: ร.ร.เทศบาล 1 (บ้านสะเตง) | C9: 3964/2565 | D9: ปริญญาตรี | E9: นางฮายาตี สาและ | F9: ครูสอนอิสลามศึกษา | G9: 22220 | H9: =G9*0.04 -> 888.8 | I9: =SUM(G9:H9) -> 23108.8 | J9: =I9*0.05 -> 1155.44 | K9: =IF(J9>=750,750,J9) -> 750 | L9: =SUM(I9+K9)*12 -> 286305.6 | M9: =IF(F9=DATA!$A$1,DATA!$D$1,IF(ตย.ข้อมูลประกอบ!F9=DATA!$A$2,DATA!$D$2,IF(ตย.ข้อมูลประกอบ!F9=DATA!$A$3,DATA!$D$3,IF(ตย.ข้อมูลประกอบ!F9=DATA!$A$4,DATA!$D$4,IF(ตย.ข้อมูลประกอบ!F9=DATA!$A$5,DATA!$B$5,IF(ตย.ข้อมูลประกอบ!F9=DATA!$A$6,DATA!$D$6,IF(ตย.ข้อมูลประกอบ!F9=DATA!$A$7,DATA!$D$7,IF(ตย.ข้อมูลประกอบ!F9=DATA!$A$8,DATA!$D$8)))))))) -> 0 | N9: =M9*12 -> 0 | O9: =IF($F9=DATA!$A$1,DATA!$C$1,IF(ตย.ข้อมูลประกอบ!$F9=DATA!$A$2,DATA!$C$2,IF(ตย.ข้อมูลประกอบ!$F9=DATA!$A$3,DATA!$C$3,IF(ตย.ข้อมูลประกอบ!$F9=DATA!$A$4,DATA!$C$4,IF(ตย.ข้อมูลประกอบ!$F9=DATA!$A$5,DATA!$C$5,IF(ตย.ข้อมูลประกอบ!$F9=DATA!$A$6,DATA!$D$6,IF(ตย.ข้อมูลประกอบ!$F9=DATA!$A$7,DATA!$D$7,IF(ตย.ข้อมูลประกอบ!$F9=DATA!$A$8,DATA!$B$8)))))))) -> 2500 | P9: =O9*12 -> 30000 | Q9: =IF($F9=DATA!$A$1,DATA!$D$1,IF(ตย.ข้อมูลประกอบ!$F9=DATA!$A$2,DATA!$D$2,IF(ตย.ข้อมูลประกอบ!$F9=DATA!$A$3,DATA!$D$3,IF(ตย.ข้อมูลประกอบ!$F9=DATA!$A$4,DATA!$D$4,IF(ตย.ข้อมูลประกอบ!$F9=DATA!$A$5,DATA!$D$5,IF(ตย.ข้อมูลประกอบ!$F9=DATA!$A$6,DATA!$B$6,IF(ตย.ข้อมูลประกอบ!$F9=DATA!$A$7,DATA!$D$7,IF(ตย.ข้อมูลประกอบ!$F9=DATA!$A$8,DATA!$D$8)))))))) -> 0 | R9: =IF($F9=DATA!$A$1,DATA!$D$1,IF(ตย.ข้อมูลประกอบ!$F9=DATA!$A$2,DATA!$D$2,IF(ตย.ข้อมูลประกอบ!$F9=DATA!$A$3,DATA!$D$3,IF(ตย.ข้อมูลประกอบ!$F9=DATA!$A$4,DATA!$D$4,IF(ตย.ข้อมูลประกอบ!$F9=DATA!$A$5,DATA!$D$5,IF(ตย.ข้อมูลประกอบ!$F9=DATA!$A$6,DATA!$C$6,IF(ตย.ข้อมูลประกอบ!$F9=DATA!$A$7,DATA!$D$7,IF(ตย.ข้อมูลประกอบ!$F9=DATA!$A$8,DATA!$D$8)))))))) -> 0 | S9: =IF($F9=DATA!$A$1,DATA!$D$1,IF(ตย.ข้อมูลประกอบ!$F9=DATA!$A$2,DATA!$D$2,IF(ตย.ข้อมูลประกอบ!$F9=DATA!$A$3,DATA!$D$3,IF(ตย.ข้อมูลประกอบ!$F9=DATA!$A$4,DATA!$D$4,IF(ตย.ข้อมูลประกอบ!$F9=DATA!$A$5,DATA!$D$5,IF(ตย.ข้อมูลประกอบ!$F9=DATA!$A$6,DATA!$E$6,IF(ตย.ข้อมูลประกอบ!$F9=DATA!$A$7,DATA!$D$7,IF(ตย.ข้อมูลประกอบ!$F9=DATA!$A$8,DATA!$D$8)))))))) -> 0 | T9: =Q9*R9*S9 -> 0 | U9: =IF($F9=DATA!$A$1,DATA!$D$1,IF(ตย.ข้อมูลประกอบ!$F9=DATA!$A$2,DATA!$D$2,IF(ตย.ข้อมูลประกอบ!$F9=DATA!$A$3,DATA!$D$3,IF(ตย.ข้อมูลประกอบ!$F9=DATA!$A$4,DATA!$D$4,IF(ตย.ข้อมูลประกอบ!$F9=DATA!$A$5,DATA!$D$5,IF(ตย.ข้อมูลประกอบ!$F9=DATA!$A$6,DATA!$D$6,IF(ตย.ข้อมูลประกอบ!$F9=DATA!$A$7,DATA!$B$7,IF(ตย.ข้อมูลประกอบ!$F9=DATA!$A$8,DATA!$D$8)))))))) -> 0 | V9: =IF($F9=DATA!$A$1,DATA!$D$1,IF(ตย.ข้อมูลประกอบ!$F9=DATA!$A$2,DATA!$D$2,IF(ตย.ข้อมูลประกอบ!$F9=DATA!$A$3,DATA!$D$3,IF(ตย.ข้อมูลประกอบ!$F9=DATA!$A$4,DATA!$D$4,IF(ตย.ข้อมูลประกอบ!$F9=DATA!$A$5,DATA!$D$5,IF(ตย.ข้อมูลประกอบ!$F9=DATA!$A$6,DATA!$D$6,IF(ตย.ข้อมูลประกอบ!$F9=DATA!$A$7,DATA!$C$7,IF(ตย.ข้อมูลประกอบ!$F9=DATA!$A$8,DATA!$D$8)))))))) -> 0 | W9: =U9*V9 -> 0 | X9: =SUM(L9,N9,P9,T9,W9) -> 316305.6
A10: 2 | B10: ร.ร.เทศบาล 1 (บ้านสะเตง) | C10: 3964/2565 | D10: ปริญญาตรี | E10: นางสาวมารีนะห์ โสเพดา | F10: ครูผู้ปฏิบัติงานโภชนาการ | G10: 22140 | H10: =G10*0.04 -> 885.6 | I10: =SUM(G10:H10) -> 23025.6 | J10: =I10*0.05 -> 1151.28 | K10: =IF(J10>=750,750,J10) -> 750 | L10: =SUM(I10+K10)*12 -> 285307.2 | M10: =IF(F10=DATA!$A$1,DATA!$D$1,IF(ตย.ข้อมูลประกอบ!F10=DATA!$A$2,DATA!$D$2,IF(ตย.ข้อมูลประกอบ!F10=DATA!$A$3,DATA!$D$3,IF(ตย.ข้อมูลประกอบ!F10=DATA!$A$4,DATA!$D$4,IF(ตย.ข้อมูลประกอบ!F10=DATA!$A$5,DATA!$B$5,IF(ตย.ข้อมูลประกอบ!F10=DATA!$A$6,DATA!$D$6,IF(ตย.ข้อมูลประกอบ!F10=DATA!$A$7,DATA!$D$7,IF(ตย.ข้อมูลประกอบ!F10=DATA!$A$8,DATA!$D$8)))))))) -> 0 | N10: =M10*12 -> 0 | O10: =IF(F10=DATA!$A$1,DATA!$C$1,IF(ตย.ข้อมูลประกอบ!F10=DATA!$A$2,DATA!$C$2,IF(ตย.ข้อมูลประกอบ!F10=DATA!$A$3,DATA!$C$3,IF(ตย.ข้อมูลประกอบ!F10=DATA!$A$4,DATA!$C$4,IF(ตย.ข้อมูลประกอบ!F10=DATA!$A$5,DATA!$C$5,IF(ตย.ข้อมูลประกอบ!F10=DATA!$A$6,DATA!$D$6,IF(ตย.ข้อมูลประกอบ!F10=DATA!$A$7,DATA!$D$7,IF(ตย.ข้อมูลประกอบ!F10=DATA!$A$8,DATA!$B$8)))))))) -> 2500 | P10: =O10*12 -> 30000 | Q10: =IF($F10=DATA!$A$1,DATA!$D$1,IF(ตย.ข้อมูลประกอบ!$F10=DATA!$A$2,DATA!$D$2,IF(ตย.ข้อมูลประกอบ!$F10=DATA!$A$3,DATA!$D$3,IF(ตย.ข้อมูลประกอบ!$F10=DATA!$A$4,DATA!$D$4,IF(ตย.ข้อมูลประกอบ!$F10=DATA!$A$5,DATA!$D$5,IF(ตย.ข้อมูลประกอบ!$F10=DATA!$A$6,DATA!$B$6,IF(ตย.ข้อมูลประกอบ!$F10=DATA!$A$7,DATA!$D$7,IF(ตย.ข้อมูลประกอบ!$F10=DATA!$A$8,DATA!$D$8)))))))) -> 0 | R10: =IF($F10=DATA!$A$1,DATA!$D$1,IF(ตย.ข้อมูลประกอบ!$F10=DATA!$A$2,DATA!$D$2,IF(ตย.ข้อมูลประกอบ!$F10=DATA!$A$3,DATA!$D$3,IF(ตย.ข้อมูลประกอบ!$F10=DATA!$A$4,DATA!$D$4,IF(ตย.ข้อมูลประกอบ!$F10=DATA!$A$5,DATA!$D$5,IF(ตย.ข้อมูลประกอบ!$F10=DATA!$A$6,DATA!$C$6,IF(ตย.ข้อมูลประกอบ!$F10=DATA!$A$7,DATA!$D$7,IF(ตย.ข้อมูลประกอบ!$F10=DATA!$A$8,DATA!$D$8)))))))) -> 0 | S10: =IF($F10=DATA!$A$1,DATA!$D$1,IF(ตย.ข้อมูลประกอบ!$F10=DATA!$A$2,DATA!$D$2,IF(ตย.ข้อมูลประกอบ!$F10=DATA!$A$3,DATA!$D$3,IF(ตย.ข้อมูลประกอบ!$F10=DATA!$A$4,DATA!$D$4,IF(ตย.ข้อมูลประกอบ!$F10=DATA!$A$5,DATA!$D$5,IF(ตย.ข้อมูลประกอบ!$F10=DATA!$A$6,DATA!$E$6,IF(ตย.ข้อมูลประกอบ!$F10=DATA!$A$7,DATA!$D$7,IF(ตย.ข้อมูลประกอบ!$F10=DATA!$A$8,DATA!$D$8)))))))) -> 0 | T10: =Q10*R10*S10 -> 0 | U10: =IF($F10=DATA!$A$1,DATA!$D$1,IF(ตย.ข้อมูลประกอบ!$F10=DATA!$A$2,DATA!$D$2,IF(ตย.ข้อมูลประกอบ!$F10=DATA!$A$3,DATA!$D$3,IF(ตย.ข้อมูลประกอบ!$F10=DATA!$A$4,DATA!$D$4,IF(ตย.ข้อมูลประกอบ!$F10=DATA!$A$5,DATA!$D$5,IF(ตย.ข้อมูลประกอบ!$F10=DATA!$A$6,DATA!$D$6,IF(ตย.ข้อมูลประกอบ!$F10=DATA!$A$7,DATA!$B$7,IF(ตย.ข้อมูลประกอบ!$F10=DATA!$A$8,DATA!$D$8)))))))) -> 0 | V10: =IF($F10=DATA!$A$1,DATA!$D$1,IF(ตย.ข้อมูลประกอบ!$F10=DATA!$A$2,DATA!$D$2,IF(ตย.ข้อมูลประกอบ!$F10=DATA!$A$3,DATA!$D$3,IF(ตย.ข้อมูลประกอบ!$F10=DATA!$A$4,DATA!$D$4,IF(ตย.ข้อมูลประกอบ!$F10=DATA!$A$5,DATA!$D$5,IF(ตย.ข้อมูลประกอบ!$F10=DATA!$A$6,DATA!$D$6,IF(ตย.ข้อมูลประกอบ!$F10=DATA!$A$7,DATA!$C$7,IF(ตย.ข้อมูลประกอบ!$F10=DATA!$A$8,DATA!$D$8)))))))) -> 0 | W10: =U10*V10 -> 0 | X10: =SUM(L10,N10,P10,T10,W10) -> 315307.2
A11: 3 | B11: ร.ร.เทศบาล 1 (บ้านสะเตง) | C11: 3939/2565 | D11: ม.ปลาย | E11: นางฮายีเร๊าะ มะแซ | F11: พนักงานจ้าง | H11: =G11*0.04 -> 0 | I11: =SUM(G11:H11) -> 0 | J11: =I11*0.05 -> 0 | K11: =IF(J11>=750,750,J11) -> 0 | L11: =SUM(I11+K11)*12 -> 0 | M11: =IF(F11=DATA!$A$1,DATA!$D$1,IF(ตย.ข้อมูลประกอบ!F11=DATA!$A$2,DATA!$D$2,IF(ตย.ข้อมูลประกอบ!F11=DATA!$A$3,DATA!$D$3,IF(ตย.ข้อมูลประกอบ!F11=DATA!$A$4,DATA!$D$4,IF(ตย.ข้อมูลประกอบ!F11=DATA!$A$5,DATA!$B$5,IF(ตย.ข้อมูลประกอบ!F11=DATA!$A$6,DATA!$D$6,IF(ตย.ข้อมูลประกอบ!F11=DATA!$A$7,DATA!$D$7,IF(ตย.ข้อมูลประกอบ!F11=DATA!$A$8,DATA!$D$8)))))))) -> 0 | N11: =M11*12 -> 0 | O11: =IF(F11=DATA!$A$1,DATA!$C$1,IF(ตย.ข้อมูลประกอบ!F11=DATA!$A$2,DATA!$C$2,IF(ตย.ข้อมูลประกอบ!F11=DATA!$A$3,DATA!$C$3,IF(ตย.ข้อมูลประกอบ!F11=DATA!$A$4,DATA!$C$4,IF(ตย.ข้อมูลประกอบ!F11=DATA!$A$5,DATA!$C$5,IF(ตย.ข้อมูลประกอบ!F11=DATA!$A$6,DATA!$D$6,IF(ตย.ข้อมูลประกอบ!F11=DATA!$A$7,DATA!$D$7,IF(ตย.ข้อมูลประกอบ!F11=DATA!$A$8,DATA!$B$8)))))))) -> 0 | P11: =O11*12 -> 0 | Q11: =IF($F11=DATA!$A$1,DATA!$D$1,IF(ตย.ข้อมูลประกอบ!$F11=DATA!$A$2,DATA!$D$2,IF(ตย.ข้อมูลประกอบ!$F11=DATA!$A$3,DATA!$D$3,IF(ตย.ข้อมูลประกอบ!$F11=DATA!$A$4,DATA!$D$4,IF(ตย.ข้อมูลประกอบ!$F11=DATA!$A$5,DATA!$D$5,IF(ตย.ข้อมูลประกอบ!$F11=DATA!$A$6,DATA!$B$6,IF(ตย.ข้อมูลประกอบ!$F11=DATA!$A$7,DATA!$D$7,IF(ตย.ข้อมูลประกอบ!$F11=DATA!$A$8,DATA!$D$8)))))))) -> 8 | R11: =IF($F11=DATA!$A$1,DATA!$D$1,IF(ตย.ข้อมูลประกอบ!$F11=DATA!$A$2,DATA!$D$2,IF(ตย.ข้อมูลประกอบ!$F11=DATA!$A$3,DATA!$D$3,IF(ตย.ข้อมูลประกอบ!$F11=DATA!$A$4,DATA!$D$4,IF(ตย.ข้อมูลประกอบ!$F11=DATA!$A$5,DATA!$D$5,IF(ตย.ข้อมูลประกอบ!$F11=DATA!$A$6,DATA!$C$6,IF(ตย.ข้อมูลประกอบ!$F11=DATA!$A$7,DATA!$D$7,IF(ตย.ข้อมูลประกอบ!$F11=DATA!$A$8,DATA!$D$8)))))))) -> 80 | S11: =IF($F11=DATA!$A$1,DATA!$D$1,IF(ตย.ข้อมูลประกอบ!$F11=DATA!$A$2,DATA!$D$2,IF(ตย.ข้อมูลประกอบ!$F11=DATA!$A$3,DATA!$D$3,IF(ตย.ข้อมูลประกอบ!$F11=DATA!$A$4,DATA!$D$4,IF(ตย.ข้อมูลประกอบ!$F11=DATA!$A$5,DATA!$D$5,IF(ตย.ข้อมูลประกอบ!$F11=DATA!$A$6,DATA!$E$6,IF(ตย.ข้อมูลประกอบ!$F11=DATA!$A$7,DATA!$D$7,IF(ตย.ข้อมูลประกอบ!$F11=DATA!$A$8,DATA!$D$8)))))))) -> 200 | T11: =Q11*R11*S11 -> 128000 | U11: =IF($F11=DATA!$A$1,DATA!$D$1,IF(ตย.ข้อมูลประกอบ!$F11=DATA!$A$2,DATA!$D$2,IF(ตย.ข้อมูลประกอบ!$F11=DATA!$A$3,DATA!$D$3,IF(ตย.ข้อมูลประกอบ!$F11=DATA!$A$4,DATA!$D$4,IF(ตย.ข้อมูลประกอบ!$F11=DATA!$A$5,DATA!$D$5,IF(ตย.ข้อมูลประกอบ!$F11=DATA!$A$6,DATA!$D$6,IF(ตย.ข้อมูลประกอบ!$F11=DATA!$A$7,DATA!$B$7,IF(ตย.ข้อมูลประกอบ!$F11=DATA!$A$8,DATA!$D$8)))))))) -> 0 | V11: =IF($F11=DATA!$A$1,DATA!$D$1,IF(ตย.ข้อมูลประกอบ!$F11=DATA!$A$2,DATA!$D$2,IF(ตย.ข้อมูลประกอบ!$F11=DATA!$A$3,DATA!$D$3,IF(ตย.ข้อมูลประกอบ!$F11=DATA!$A$4,DATA!$D$4,IF(ตย.ข้อมูลประกอบ!$F11=DATA!$A$5,DATA!$D$5,IF(ตย.ข้อมูลประกอบ!$F11=DATA!$A$6,DATA!$D$6,IF(ตย.ข้อมูลประกอบ!$F11=DATA!$A$7,DATA!$C$7,IF(ตย.ข้อมูลประกอบ!$F11=DATA!$A$8,DATA!$D$8)))))))) -> 0 | W11: =U11*V11 -> 0 | X11: =SUM(L11,N11,P11,T11,W11) -> 128000
A12: 4 | B12: ร.ร.เทศบาล 1 (บ้านสะเตง) | C12: 3939/2565 | D12: ม.ปลาย | E12: นางสูรีตา ตูหวี | F12: พนักงานจ้าง | H12: =G12*0.04 -> 0 | I12: =SUM(G12:H12) -> 0 | J12: =I12*0.05 -> 0 | K12: =IF(J12>=750,750,J12) -> 0 | L12: =SUM(I12+K12)*12 -> 0 | M12: =IF(F12=DATA!$A$1,DATA!$D$1,IF(ตย.ข้อมูลประกอบ!F12=DATA!$A$2,DATA!$D$2,IF(ตย.ข้อมูลประกอบ!F12=DATA!$A$3,DATA!$D$3,IF(ตย.ข้อมูลประกอบ!F12=DATA!$A$4,DATA!$D$4,IF(ตย.ข้อมูลประกอบ!F12=DATA!$A$5,DATA!$B$5,IF(ตย.ข้อมูลประกอบ!F12=DATA!$A$6,DATA!$D$6,IF(ตย.ข้อมูลประกอบ!F12=DATA!$A$7,DATA!$D$7,IF(ตย.ข้อมูลประกอบ!F12=DATA!$A$8,DATA!$D$8)))))))) -> 0 | N12: =M12*12 -> 0 | O12: =IF(F12=DATA!$A$1,DATA!$C$1,IF(ตย.ข้อมูลประกอบ!F12=DATA!$A$2,DATA!$C$2,IF(ตย.ข้อมูลประกอบ!F12=DATA!$A$3,DATA!$C$3,IF(ตย.ข้อมูลประกอบ!F12=DATA!$A$4,DATA!$C$4,IF(ตย.ข้อมูลประกอบ!F12=DATA!$A$5,DATA!$C$5,IF(ตย.ข้อมูลประกอบ!F12=DATA!$A$6,DATA!$D$6,IF(ตย.ข้อมูลประกอบ!F12=DATA!$A$7,DATA!$D$7,IF(ตย.ข้อมูลประกอบ!F12=DATA!$A$8,DATA!$B$8)))))))) -> 0 | P12: =O12*12 -> 0 | Q12: =IF($F12=DATA!$A$1,DATA!$D$1,IF(ตย.ข้อมูลประกอบ!$F12=DATA!$A$2,DATA!$D$2,IF(ตย.ข้อมูลประกอบ!$F12=DATA!$A$3,DATA!$D$3,IF(ตย.ข้อมูลประกอบ!$F12=DATA!$A$4,DATA!$D$4,IF(ตย.ข้อมูลประกอบ!$F12=DATA!$A$5,DATA!$D$5,IF(ตย.ข้อมูลประกอบ!$F12=DATA!$A$6,DATA!$B$6,IF(ตย.ข้อมูลประกอบ!$F12=DATA!$A$7,DATA!$D$7,IF(ตย.ข้อมูลประกอบ!$F12=DATA!$A$8,DATA!$D$8)))))))) -> 8 | R12: =IF($F12=DATA!$A$1,DATA!$D$1,IF(ตย.ข้อมูลประกอบ!$F12=DATA!$A$2,DATA!$D$2,IF(ตย.ข้อมูลประกอบ!$F12=DATA!$A$3,DATA!$D$3,IF(ตย.ข้อมูลประกอบ!$F12=DATA!$A$4,DATA!$D$4,IF(ตย.ข้อมูลประกอบ!$F12=DATA!$A$5,DATA!$D$5,IF(ตย.ข้อมูลประกอบ!$F12=DATA!$A$6,DATA!$C$6,IF(ตย.ข้อมูลประกอบ!$F12=DATA!$A$7,DATA!$D$7,IF(ตย.ข้อมูลประกอบ!$F12=DATA!$A$8,DATA!$D$8)))))))) -> 80 | S12: =IF($F12=DATA!$A$1,DATA!$D$1,IF(ตย.ข้อมูลประกอบ!$F12=DATA!$A$2,DATA!$D$2,IF(ตย.ข้อมูลประกอบ!$F12=DATA!$A$3,DATA!$D$3,IF(ตย.ข้อมูลประกอบ!$F12=DATA!$A$4,DATA!$D$4,IF(ตย.ข้อมูลประกอบ!$F12=DATA!$A$5,DATA!$D$5,IF(ตย.ข้อมูลประกอบ!$F12=DATA!$A$6,DATA!$E$6,IF(ตย.ข้อมูลประกอบ!$F12=DATA!$A$7,DATA!$D$7,IF(ตย.ข้อมูลประกอบ!$F12=DATA!$A$8,DATA!$D$8)))))))) -> 200 | T12: =Q12*R12*S12 -> 128000 | U12: =IF($F12=DATA!$A$1,DATA!$D$1,IF(ตย.ข้อมูลประกอบ!$F12=DATA!$A$2,DATA!$D$2,IF(ตย.ข้อมูลประกอบ!$F12=DATA!$A$3,DATA!$D$3,IF(ตย.ข้อมูลประกอบ!$F12=DATA!$A$4,DATA!$D$4,IF(ตย.ข้อมูลประกอบ!$F12=DATA!$A$5,DATA!$D$5,IF(ตย.ข้อมูลประกอบ!$F12=DATA!$A$6,DATA!$D$6,IF(ตย.ข้อมูลประกอบ!$F12=DATA!$A$7,DATA!$B$7,IF(ตย.ข้อมูลประกอบ!$F12=DATA!$A$8,DATA!$D$8)))))))) -> 0 | V12: =IF($F12=DATA!$A$1,DATA!$D$1,IF(ตย.ข้อมูลประกอบ!$F12=DATA!$A$2,DATA!$D$2,IF(ตย.ข้อมูลประกอบ!$F12=DATA!$A$3,DATA!$D$3,IF(ตย.ข้อมูลประกอบ!$F12=DATA!$A$4,DATA!$D$4,IF(ตย.ข้อมูลประกอบ!$F12=DATA!$A$5,DATA!$D$5,IF(ตย.ข้อมูลประกอบ!$F12=DATA!$A$6,DATA!$D$6,IF(ตย.ข้อมูลประกอบ!$F12=DATA!$A$7,DATA!$C$7,IF(ตย.ข้อมูลประกอบ!$F12=DATA!$A$8,DATA!$D$8)))))))) -> 0 | W12: =U12*V12 -> 0 | X12: =SUM(L12,N12,P12,T12,W12) -> 128000
A13: 5 | B13: ร.ร.เทศบาล 1 (บ้านสะเตง) | C13: 3939/2565 | D13: ม.ปลาย | E13: นางสีตีรอเมาะ เจ๊ะยอ | F13: พนักงานจ้าง | H13: =G13*0.04 -> 0 | I13: =SUM(G13:H13) -> 0 | J13: =I13*0.05 -> 0 | K13: =IF(J13>=750,750,J13) -> 0 | L13: =SUM(I13+K13)*12 -> 0 | M13: =IF(F13=DATA!$A$1,DATA!$D$1,IF(ตย.ข้อมูลประกอบ!F13=DATA!$A$2,DATA!$D$2,IF(ตย.ข้อมูลประกอบ!F13=DATA!$A$3,DATA!$D$3,IF(ตย.ข้อมูลประกอบ!F13=DATA!$A$4,DATA!$D$4,IF(ตย.ข้อมูลประกอบ!F13=DATA!$A$5,DATA!$B$5,IF(ตย.ข้อมูลประกอบ!F13=DATA!$A$6,DATA!$D$6,IF(ตย.ข้อมูลประกอบ!F13=DATA!$A$7,DATA!$D$7,IF(ตย.ข้อมูลประกอบ!F13=DATA!$A$8,DATA!$D$8)))))))) -> 0 | N13: =M13*12 -> 0 | O13: =IF(F13=DATA!$A$1,DATA!$C$1,IF(ตย.ข้อมูลประกอบ!F13=DATA!$A$2,DATA!$C$2,IF(ตย.ข้อมูลประกอบ!F13=DATA!$A$3,DATA!$C$3,IF(ตย.ข้อมูลประกอบ!F13=DATA!$A$4,DATA!$C$4,IF(ตย.ข้อมูลประกอบ!F13=DATA!$A$5,DATA!$C$5,IF(ตย.ข้อมูลประกอบ!F13=DATA!$A$6,DATA!$D$6,IF(ตย.ข้อมูลประกอบ!F13=DATA!$A$7,DATA!$D$7,IF(ตย.ข้อมูลประกอบ!F13=DATA!$A$8,DATA!$B$8)))))))) -> 0 | P13: =O13*12 -> 0 | Q13: =IF($F13=DATA!$A$1,DATA!$D$1,IF(ตย.ข้อมูลประกอบ!$F13=DATA!$A$2,DATA!$D$2,IF(ตย.ข้อมูลประกอบ!$F13=DATA!$A$3,DATA!$D$3,IF(ตย.ข้อมูลประกอบ!$F13=DATA!$A$4,DATA!$D$4,IF(ตย.ข้อมูลประกอบ!$F13=DATA!$A$5,DATA!$D$5,IF(ตย.ข้อมูลประกอบ!$F13=DATA!$A$6,DATA!$B$6,IF(ตย.ข้อมูลประกอบ!$F13=DATA!$A$7,DATA!$D$7,IF(ตย.ข้อมูลประกอบ!$F13=DATA!$A$8,DATA!$D$8)))))))) -> 8 | R13: =IF($F13=DATA!$A$1,DATA!$D$1,IF(ตย.ข้อมูลประกอบ!$F13=DATA!$A$2,DATA!$D$2,IF(ตย.ข้อมูลประกอบ!$F13=DATA!$A$3,DATA!$D$3,IF(ตย.ข้อมูลประกอบ!$F13=DATA!$A$4,DATA!$D$4,IF(ตย.ข้อมูลประกอบ!$F13=DATA!$A$5,DATA!$D$5,IF(ตย.ข้อมูลประกอบ!$F13=DATA!$A$6,DATA!$C$6,IF(ตย.ข้อมูลประกอบ!$F13=DATA!$A$7,DATA!$D$7,IF(ตย.ข้อมูลประกอบ!$F13=DATA!$A$8,DATA!$D$8)))))))) -> 80 | S13: =IF($F13=DATA!$A$1,DATA!$D$1,IF(ตย.ข้อมูลประกอบ!$F13=DATA!$A$2,DATA!$D$2,IF(ตย.ข้อมูลประกอบ!$F13=DATA!$A$3,DATA!$D$3,IF(ตย.ข้อมูลประกอบ!$F13=DATA!$A$4,DATA!$D$4,IF(ตย.ข้อมูลประกอบ!$F13=DATA!$A$5,DATA!$D$5,IF(ตย.ข้อมูลประกอบ!$F13=DATA!$A$6,DATA!$E$6,IF(ตย.ข้อมูลประกอบ!$F13=DATA!$A$7,DATA!$D$7,IF(ตย.ข้อมูลประกอบ!$F13=DATA!$A$8,DATA!$D$8)))))))) -> 200 | T13: =Q13*R13*S13 -> 128000 | U13: =IF($F13=DATA!$A$1,DATA!$D$1,IF(ตย.ข้อมูลประกอบ!$F13=DATA!$A$2,DATA!$D$2,IF(ตย.ข้อมูลประกอบ!$F13=DATA!$A$3,DATA!$D$3,IF(ตย.ข้อมูลประกอบ!$F13=DATA!$A$4,DATA!$D$4,IF(ตย.ข้อมูลประกอบ!$F13=DATA!$A$5,DATA!$D$5,IF(ตย.ข้อมูลประกอบ!$F13=DATA!$A$6,DATA!$D$6,IF(ตย.ข้อมูลประกอบ!$F13=DATA!$A$7,DATA!$B$7,IF(ตย.ข้อมูลประกอบ!$F13=DATA!$A$8,DATA!$D$8)))))))) -> 0 | V13: =IF($F13=DATA!$A$1,DATA!$D$1,IF(ตย.ข้อมูลประกอบ!$F13=DATA!$A$2,DATA!$D$2,IF(ตย.ข้อมูลประกอบ!$F13=DATA!$A$3,DATA!$D$3,IF(ตย.ข้อมูลประกอบ!$F13=DATA!$A$4,DATA!$D$4,IF(ตย.ข้อมูลประกอบ!$F13=DATA!$A$5,DATA!$D$5,IF(ตย.ข้อมูลประกอบ!$F13=DATA!$A$6,DATA!$D$6,IF(ตย.ข้อมูลประกอบ!$F13=DATA!$A$7,DATA!$C$7,IF(ตย.ข้อมูลประกอบ!$F13=DATA!$A$8,DATA!$D$8)))))))) -> 0 | W13: =U13*V13 -> 0 | X13: =SUM(L13,N13,P13,T13,W13) -> 128000
A14: 6 | B14: ร.ร.เทศบาล 1 (บ้านสะเตง) | C14: 3939/2565 | D14: ม.ปลาย | E14: นางสาวยารีเยาะ ขาเร็ง | F14: พนักงานจ้าง | H14: =G14*0.04 -> 0 | I14: =SUM(G14:H14) -> 0 | J14: =I14*0.05 -> 0 | K14: =IF(J14>=750,750,J14) -> 0 | L14: =SUM(I14+K14)*12 -> 0 | M14: =IF(F14=DATA!$A$1,DATA!$D$1,IF(ตย.ข้อมูลประกอบ!F14=DATA!$A$2,DATA!$D$2,IF(ตย.ข้อมูลประกอบ!F14=DATA!$A$3,DATA!$D$3,IF(ตย.ข้อมูลประกอบ!F14=DATA!$A$4,DATA!$D$4,IF(ตย.ข้อมูลประกอบ!F14=DATA!$A$5,DATA!$B$5,IF(ตย.ข้อมูลประกอบ!F14=DATA!$A$6,DATA!$D$6,IF(ตย.ข้อมูลประกอบ!F14=DATA!$A$7,DATA!$D$7,IF(ตย.ข้อมูลประกอบ!F14=DATA!$A$8,DATA!$D$8)))))))) -> 0 | N14: =M14*12 -> 0 | O14: =IF(F14=DATA!$A$1,DATA!$C$1,IF(ตย.ข้อมูลประกอบ!F14=DATA!$A$2,DATA!$C$2,IF(ตย.ข้อมูลประกอบ!F14=DATA!$A$3,DATA!$C$3,IF(ตย.ข้อมูลประกอบ!F14=DATA!$A$4,DATA!$C$4,IF(ตย.ข้อมูลประกอบ!F14=DATA!$A$5,DATA!$C$5,IF(ตย.ข้อมูลประกอบ!F14=DATA!$A$6,DATA!$D$6,IF(ตย.ข้อมูลประกอบ!F14=DATA!$A$7,DATA!$D$7,IF(ตย.ข้อมูลประกอบ!F14=DATA!$A$8,DATA!$B$8)))))))) -> 0 | P14: =O14*12 -> 0 | Q14: =IF($F14=DATA!$A$1,DATA!$D$1,IF(ตย.ข้อมูลประกอบ!$F14=DATA!$A$2,DATA!$D$2,IF(ตย.ข้อมูลประกอบ!$F14=DATA!$A$3,DATA!$D$3,IF(ตย.ข้อมูลประกอบ!$F14=DATA!$A$4,DATA!$D$4,IF(ตย.ข้อมูลประกอบ!$F14=DATA!$A$5,DATA!$D$5,IF(ตย.ข้อมูลประกอบ!$F14=DATA!$A$6,DATA!$B$6,IF(ตย.ข้อมูลประกอบ!$F14=DATA!$A$7,DATA!$D$7,IF(ตย.ข้อมูลประกอบ!$F14=DATA!$A$8,DATA!$D$8)))))))) -> 8 | R14: =IF($F14=DATA!$A$1,DATA!$D$1,IF(ตย.ข้อมูลประกอบ!$F14=DATA!$A$2,DATA!$D$2,IF(ตย.ข้อมูลประกอบ!$F14=DATA!$A$3,DATA!$D$3,IF(ตย.ข้อมูลประกอบ!$F14=DATA!$A$4,DATA!$D$4,IF(ตย.ข้อมูลประกอบ!$F14=DATA!$A$5,DATA!$D$5,IF(ตย.ข้อมูลประกอบ!$F14=DATA!$A$6,DATA!$C$6,IF(ตย.ข้อมูลประกอบ!$F14=DATA!$A$7,DATA!$D$7,IF(ตย.ข้อมูลประกอบ!$F14=DATA!$A$8,DATA!$D$8)))))))) -> 80 | S14: =IF($F14=DATA!$A$1,DATA!$D$1,IF(ตย.ข้อมูลประกอบ!$F14=DATA!$A$2,DATA!$D$2,IF(ตย.ข้อมูลประกอบ!$F14=DATA!$A$3,DATA!$D$3,IF(ตย.ข้อมูลประกอบ!$F14=DATA!$A$4,DATA!$D$4,IF(ตย.ข้อมูลประกอบ!$F14=DATA!$A$5,DATA!$D$5,IF(ตย.ข้อมูลประกอบ!$F14=DATA!$A$6,DATA!$E$6,IF(ตย.ข้อมูลประกอบ!$F14=DATA!$A$7,DATA!$D$7,IF(ตย.ข้อมูลประกอบ!$F14=DATA!$A$8,DATA!$D$8)))))))) -> 200 | T14: =Q14*R14*S14 -> 128000 | U14: =IF($F14=DATA!$A$1,DATA!$D$1,IF(ตย.ข้อมูลประกอบ!$F14=DATA!$A$2,DATA!$D$2,IF(ตย.ข้อมูลประกอบ!$F14=DATA!$A$3,DATA!$D$3,IF(ตย.ข้อมูลประกอบ!$F14=DATA!$A$4,DATA!$D$4,IF(ตย.ข้อมูลประกอบ!$F14=DATA!$A$5,DATA!$D$5,IF(ตย.ข้อมูลประกอบ!$F14=DATA!$A$6,DATA!$D$6,IF(ตย.ข้อมูลประกอบ!$F14=DATA!$A$7,DATA!$B$7,IF(ตย.ข้อมูลประกอบ!$F14=DATA!$A$8,DATA!$D$8)))))))) -> 0 | V14: =IF($F14=DATA!$A$1,DATA!$D$1,IF(ตย.ข้อมูลประกอบ!$F14=DATA!$A$2,DATA!$D$2,IF(ตย.ข้อมูลประกอบ!$F14=DATA!$A$3,DATA!$D$3,IF(ตย.ข้อมูลประกอบ!$F14=DATA!$A$4,DATA!$D$4,IF(ตย.ข้อมูลประกอบ!$F14=DATA!$A$5,DATA!$D$5,IF(ตย.ข้อมูลประกอบ!$F14=DATA!$A$6,DATA!$D$6,IF(ตย.ข้อมูลประกอบ!$F14=DATA!$A$7,DATA!$C$7,IF(ตย.ข้อมูลประกอบ!$F14=DATA!$A$8,DATA!$D$8)))))))) -> 0 | W14: =U14*V14 -> 0 | X14: =SUM(L14,N14,P14,T14,W14) -> 128000
A15: 7 | B15: ร.ร.เทศบาล 1 (บ้านสะเตง) | C15: 3939/2565 | D15: ปริญญาตรี | E15: นายอับดุลอาซิ แวอีแต | F15: พนักงานจ้าง | H15: =G15*0.04 -> 0 | I15: =SUM(G15:H15) -> 0 | J15: =I15*0.05 -> 0 | K15: =IF(J15>=750,750,J15) -> 0 | L15: =SUM(I15+K15)*12 -> 0 | M15: =IF(F15=DATA!$A$1,DATA!$D$1,IF(ตย.ข้อมูลประกอบ!F15=DATA!$A$2,DATA!$D$2,IF(ตย.ข้อมูลประกอบ!F15=DATA!$A$3,DATA!$D$3,IF(ตย.ข้อมูลประกอบ!F15=DATA!$A$4,DATA!$D$4,IF(ตย.ข้อมูลประกอบ!F15=DATA!$A$5,DATA!$B$5,IF(ตย.ข้อมูลประกอบ!F15=DATA!$A$6,DATA!$D$6,IF(ตย.ข้อมูลประกอบ!F15=DATA!$A$7,DATA!$D$7,IF(ตย.ข้อมูลประกอบ!F15=DATA!$A$8,DATA!$D$8)))))))) -> 0 | N15: =M15*12 -> 0 | O15: =IF(F15=DATA!$A$1,DATA!$C$1,IF(ตย.ข้อมูลประกอบ!F15=DATA!$A$2,DATA!$C$2,IF(ตย.ข้อมูลประกอบ!F15=DATA!$A$3,DATA!$C$3,IF(ตย.ข้อมูลประกอบ!F15=DATA!$A$4,DATA!$C$4,IF(ตย.ข้อมูลประกอบ!F15=DATA!$A$5,DATA!$C$5,IF(ตย.ข้อมูลประกอบ!F15=DATA!$A$6,DATA!$D$6,IF(ตย.ข้อมูลประกอบ!F15=DATA!$A$7,DATA!$D$7,IF(ตย.ข้อมูลประกอบ!F15=DATA!$A$8,DATA!$B$8)))))))) -> 0 | P15: =O15*12 -> 0 | Q15: =IF($F15=DATA!$A$1,DATA!$D$1,IF(ตย.ข้อมูลประกอบ!$F15=DATA!$A$2,DATA!$D$2,IF(ตย.ข้อมูลประกอบ!$F15=DATA!$A$3,DATA!$D$3,IF(ตย.ข้อมูลประกอบ!$F15=DATA!$A$4,DATA!$D$4,IF(ตย.ข้อมูลประกอบ!$F15=DATA!$A$5,DATA!$D$5,IF(ตย.ข้อมูลประกอบ!$F15=DATA!$A$6,DATA!$B$6,IF(ตย.ข้อมูลประกอบ!$F15=DATA!$A$7,DATA!$D$7,IF(ตย.ข้อมูลประกอบ!$F15=DATA!$A$8,DATA!$D$8)))))))) -> 8 | R15: =IF($F15=DATA!$A$1,DATA!$D$1,IF(ตย.ข้อมูลประกอบ!$F15=DATA!$A$2,DATA!$D$2,IF(ตย.ข้อมูลประกอบ!$F15=DATA!$A$3,DATA!$D$3,IF(ตย.ข้อมูลประกอบ!$F15=DATA!$A$4,DATA!$D$4,IF(ตย.ข้อมูลประกอบ!$F15=DATA!$A$5,DATA!$D$5,IF(ตย.ข้อมูลประกอบ!$F15=DATA!$A$6,DATA!$C$6,IF(ตย.ข้อมูลประกอบ!$F15=DATA!$A$7,DATA!$D$7,IF(ตย.ข้อมูลประกอบ!$F15=DATA!$A$8,DATA!$D$8)))))))) -> 80 | S15: =IF($F15=DATA!$A$1,DATA!$D$1,IF(ตย.ข้อมูลประกอบ!$F15=DATA!$A$2,DATA!$D$2,IF(ตย.ข้อมูลประกอบ!$F15=DATA!$A$3,DATA!$D$3,IF(ตย.ข้อมูลประกอบ!$F15=DATA!$A$4,DATA!$D$4,IF(ตย.ข้อมูลประกอบ!$F15=DATA!$A$5,DATA!$D$5,IF(ตย.ข้อมูลประกอบ!$F15=DATA!$A$6,DATA!$E$6,IF(ตย.ข้อมูลประกอบ!$F15=DATA!$A$7,DATA!$D$7,IF(ตย.ข้อมูลประกอบ!$F15=DATA!$A$8,DATA!$D$8)))))))) -> 200 | T15: =Q15*R15*S15 -> 128000 | U15: =IF($F15=DATA!$A$1,DATA!$D$1,IF(ตย.ข้อมูลประกอบ!$F15=DATA!$A$2,DATA!$D$2,IF(ตย.ข้อมูลประกอบ!$F15=DATA!$A$3,DATA!$D$3,IF(ตย.ข้อมูลประกอบ!$F15=DATA!$A$4,DATA!$D$4,IF(ตย.ข้อมูลประกอบ!$F15=DATA!$A$5,DATA!$D$5,IF(ตย.ข้อมูลประกอบ!$F15=DATA!$A$6,DATA!$D$6,IF(ตย.ข้อมูลประกอบ!$F15=DATA!$A$7,DATA!$B$7,IF(ตย.ข้อมูลประกอบ!$F15=DATA!$A$8,DATA!$D$8)))))))) -> 0 | V15: =IF($F15=DATA!$A$1,DATA!$D$1,IF(ตย.ข้อมูลประกอบ!$F15=DATA!$A$2,DATA!$D$2,IF(ตย.ข้อมูลประกอบ!$F15=DATA!$A$3,DATA!$D$3,IF(ตย.ข้อมูลประกอบ!$F15=DATA!$A$4,DATA!$D$4,IF(ตย.ข้อมูลประกอบ!$F15=DATA!$A$5,DATA!$D$5,IF(ตย.ข้อมูลประกอบ!$F15=DATA!$A$6,DATA!$D$6,IF(ตย.ข้อมูลประกอบ!$F15=DATA!$A$7,DATA!$C$7,IF(ตย.ข้อมูลประกอบ!$F15=DATA!$A$8,DATA!$D$8)))))))) -> 0 | W15: =U15*V15 -> 0 | X15: =SUM(L15,N15,P15,T15,W15) -> 128000
A16: 8 | B16: ร.ร.เทศบาล 1 (บ้านสะเตง) | C16: 3939/2565 | D16: ปริญญาตรี | E16: นางสาวอัลเกาว์ซัร อารง | F16: พนักงานจ้าง | H16: =G16*0.04 -> 0 | I16: =SUM(G16:H16) -> 0 | J16: =I16*0.05 -> 0 | K16: =IF(J16>=750,750,J16) -> 0 | L16: =SUM(I16+K16)*12 -> 0 | M16: =IF(F16=DATA!$A$1,DATA!$D$1,IF(ตย.ข้อมูลประกอบ!F16=DATA!$A$2,DATA!$D$2,IF(ตย.ข้อมูลประกอบ!F16=DATA!$A$3,DATA!$D$3,IF(ตย.ข้อมูลประกอบ!F16=DATA!$A$4,DATA!$D$4,IF(ตย.ข้อมูลประกอบ!F16=DATA!$A$5,DATA!$B$5,IF(ตย.ข้อมูลประกอบ!F16=DATA!$A$6,DATA!$D$6,IF(ตย.ข้อมูลประกอบ!F16=DATA!$A$7,DATA!$D$7,IF(ตย.ข้อมูลประกอบ!F16=DATA!$A$8,DATA!$D$8)))))))) -> 0 | N16: =M16*12 -> 0 | O16: =IF(F16=DATA!$A$1,DATA!$C$1,IF(ตย.ข้อมูลประกอบ!F16=DATA!$A$2,DATA!$C$2,IF(ตย.ข้อมูลประกอบ!F16=DATA!$A$3,DATA!$C$3,IF(ตย.ข้อมูลประกอบ!F16=DATA!$A$4,DATA!$C$4,IF(ตย.ข้อมูลประกอบ!F16=DATA!$A$5,DATA!$C$5,IF(ตย.ข้อมูลประกอบ!F16=DATA!$A$6,DATA!$D$6,IF(ตย.ข้อมูลประกอบ!F16=DATA!$A$7,DATA!$D$7,IF(ตย.ข้อมูลประกอบ!F16=DATA!$A$8,DATA!$B$8)))))))) -> 0 | P16: =O16*12 -> 0 | Q16: =IF($F16=DATA!$A$1,DATA!$D$1,IF(ตย.ข้อมูลประกอบ!$F16=DATA!$A$2,DATA!$D$2,IF(ตย.ข้อมูลประกอบ!$F16=DATA!$A$3,DATA!$D$3,IF(ตย.ข้อมูลประกอบ!$F16=DATA!$A$4,DATA!$D$4,IF(ตย.ข้อมูลประกอบ!$F16=DATA!$A$5,DATA!$D$5,IF(ตย.ข้อมูลประกอบ!$F16=DATA!$A$6,DATA!$B$6,IF(ตย.ข้อมูลประกอบ!$F16=DATA!$A$7,DATA!$D$7,IF(ตย.ข้อมูลประกอบ!$F16=DATA!$A$8,DATA!$D$8)))))))) -> 8 | R16: =IF($F16=DATA!$A$1,DATA!$D$1,IF(ตย.ข้อมูลประกอบ!$F16=DATA!$A$2,DATA!$D$2,IF(ตย.ข้อมูลประกอบ!$F16=DATA!$A$3,DATA!$D$3,IF(ตย.ข้อมูลประกอบ!$F16=DATA!$A$4,DATA!$D$4,IF(ตย.ข้อมูลประกอบ!$F16=DATA!$A$5,DATA!$D$5,IF(ตย.ข้อมูลประกอบ!$F16=DATA!$A$6,DATA!$C$6,IF(ตย.ข้อมูลประกอบ!$F16=DATA!$A$7,DATA!$D$7,IF(ตย.ข้อมูลประกอบ!$F16=DATA!$A$8,DATA!$D$8)))))))) -> 80 | S16: =IF($F16=DATA!$A$1,DATA!$D$1,IF(ตย.ข้อมูลประกอบ!$F16=DATA!$A$2,DATA!$D$2,IF(ตย.ข้อมูลประกอบ!$F16=DATA!$A$3,DATA!$D$3,IF(ตย.ข้อมูลประกอบ!$F16=DATA!$A$4,DATA!$D$4,IF(ตย.ข้อมูลประกอบ!$F16=DATA!$A$5,DATA!$D$5,IF(ตย.ข้อมูลประกอบ!$F16=DATA!$A$6,DATA!$E$6,IF(ตย.ข้อมูลประกอบ!$F16=DATA!$A$7,DATA!$D$7,IF(ตย.ข้อมูลประกอบ!$F16=DATA!$A$8,DATA!$D$8)))))))) -> 200 | T16: =Q16*R16*S16 -> 128000 | U16: =IF($F16=DATA!$A$1,DATA!$D$1,IF(ตย.ข้อมูลประกอบ!$F16=DATA!$A$2,DATA!$D$2,IF(ตย.ข้อมูลประกอบ!$F16=DATA!$A$3,DATA!$D$3,IF(ตย.ข้อมูลประกอบ!$F16=DATA!$A$4,DATA!$D$4,IF(ตย.ข้อมูลประกอบ!$F16=DATA!$A$5,DATA!$D$5,IF(ตย.ข้อมูลประกอบ!$F16=DATA!$A$6,DATA!$D$6,IF(ตย.ข้อมูลประกอบ!$F16=DATA!$A$7,DATA!$B$7,IF(ตย.ข้อมูลประกอบ!$F16=DATA!$A$8,DATA!$D$8)))))))) -> 0 | V16: =IF($F16=DATA!$A$1,DATA!$D$1,IF(ตย.ข้อมูลประกอบ!$F16=DATA!$A$2,DATA!$D$2,IF(ตย.ข้อมูลประกอบ!$F16=DATA!$A$3,DATA!$D$3,IF(ตย.ข้อมูลประกอบ!$F16=DATA!$A$4,DATA!$D$4,IF(ตย.ข้อมูลประกอบ!$F16=DATA!$A$5,DATA!$D$5,IF(ตย.ข้อมูลประกอบ!$F16=DATA!$A$6,DATA!$D$6,IF(ตย.ข้อมูลประกอบ!$F16=DATA!$A$7,DATA!$C$7,IF(ตย.ข้อมูลประกอบ!$F16=DATA!$A$8,DATA!$D$8)))))))) -> 0 | W16: =U16*V16 -> 0 | X16: =SUM(L16,N16,P16,T16,W16) -> 128000
A17: 9 | B17: ร.ร.เทศบาล 1 (บ้านสะเตง) | C17: 3586/2565 | D17: ม.ต้น | E17: นางสาวแวมารียำ เจ๊ะอุบล | F17: นักการภารโรง | H17: =G17*0.04 -> 0 | I17: =SUM(G17:H17) -> 0 | J17: =I17*0.05 -> 0 | K17: =IF(J17>=750,750,J17) -> 0 | L17: =SUM(I17+K17)*12 -> 0 | M17: =IF(F17=DATA!$A$1,DATA!$D$1,IF(ตย.ข้อมูลประกอบ!F17=DATA!$A$2,DATA!$D$2,IF(ตย.ข้อมูลประกอบ!F17=DATA!$A$3,DATA!$D$3,IF(ตย.ข้อมูลประกอบ!F17=DATA!$A$4,DATA!$D$4,IF(ตย.ข้อมูลประกอบ!F17=DATA!$A$5,DATA!$B$5,IF(ตย.ข้อมูลประกอบ!F17=DATA!$A$6,DATA!$D$6,IF(ตย.ข้อมูลประกอบ!F17=DATA!$A$7,DATA!$D$7,IF(ตย.ข้อมูลประกอบ!F17=DATA!$A$8,DATA!$D$8)))))))) -> 0 | N17: =M17*12 -> 0 | O17: =IF(F17=DATA!$A$1,DATA!$C$1,IF(ตย.ข้อมูลประกอบ!F17=DATA!$A$2,DATA!$C$2,IF(ตย.ข้อมูลประกอบ!F17=DATA!$A$3,DATA!$C$3,IF(ตย.ข้อมูลประกอบ!F17=DATA!$A$4,DATA!$C$4,IF(ตย.ข้อมูลประกอบ!F17=DATA!$A$5,DATA!$C$5,IF(ตย.ข้อมูลประกอบ!F17=DATA!$A$6,DATA!$D$6,IF(ตย.ข้อมูลประกอบ!F17=DATA!$A$7,DATA!$D$7,IF(ตย.ข้อมูลประกอบ!F17=DATA!$A$8,DATA!$B$8)))))))) -> 0 | P17: =O17*12 -> 0 | Q17: =IF($F17=DATA!$A$1,DATA!$D$1,IF(ตย.ข้อมูลประกอบ!$F17=DATA!$A$2,DATA!$D$2,IF(ตย.ข้อมูลประกอบ!$F17=DATA!$A$3,DATA!$D$3,IF(ตย.ข้อมูลประกอบ!$F17=DATA!$A$4,DATA!$D$4,IF(ตย.ข้อมูลประกอบ!$F17=DATA!$A$5,DATA!$D$5,IF(ตย.ข้อมูลประกอบ!$F17=DATA!$A$6,DATA!$B$6,IF(ตย.ข้อมูลประกอบ!$F17=DATA!$A$7,DATA!$D$7,IF(ตย.ข้อมูลประกอบ!$F17=DATA!$A$8,DATA!$D$8)))))))) -> 0 | R17: =IF($F17=DATA!$A$1,DATA!$D$1,IF(ตย.ข้อมูลประกอบ!$F17=DATA!$A$2,DATA!$D$2,IF(ตย.ข้อมูลประกอบ!$F17=DATA!$A$3,DATA!$D$3,IF(ตย.ข้อมูลประกอบ!$F17=DATA!$A$4,DATA!$D$4,IF(ตย.ข้อมูลประกอบ!$F17=DATA!$A$5,DATA!$D$5,IF(ตย.ข้อมูลประกอบ!$F17=DATA!$A$6,DATA!$C$6,IF(ตย.ข้อมูลประกอบ!$F17=DATA!$A$7,DATA!$D$7,IF(ตย.ข้อมูลประกอบ!$F17=DATA!$A$8,DATA!$D$8)))))))) -> 0 | S17: =IF($F17=DATA!$A$1,DATA!$D$1,IF(ตย.ข้อมูลประกอบ!$F17=DATA!$A$2,DATA!$D$2,IF(ตย.ข้อมูลประกอบ!$F17=DATA!$A$3,DATA!$D$3,IF(ตย.ข้อมูลประกอบ!$F17=DATA!$A$4,DATA!$D$4,IF(ตย.ข้อมูลประกอบ!$F17=DATA!$A$5,DATA!$D$5,IF(ตย.ข้อมูลประกอบ!$F17=DATA!$A$6,DATA!$E$6,IF(ตย.ข้อมูลประกอบ!$F17=DATA!$A$7,DATA!$D$7,IF(ตย.ข้อมูลประกอบ!$F17=DATA!$A$8,DATA!$D$8)))))))) -> 0 | T17: =Q17*R17*S17 -> 0 | U17: =IF($F17=DATA!$A$1,DATA!$D$1,IF(ตย.ข้อมูลประกอบ!$F17=DATA!$A$2,DATA!$D$2,IF(ตย.ข้อมูลประกอบ!$F17=DATA!$A$3,DATA!$D$3,IF(ตย.ข้อมูลประกอบ!$F17=DATA!$A$4,DATA!$D$4,IF(ตย.ข้อมูลประกอบ!$F17=DATA!$A$5,DATA!$D$5,IF(ตย.ข้อมูลประกอบ!$F17=DATA!$A$6,DATA!$D$6,IF(ตย.ข้อมูลประกอบ!$F17=DATA!$A$7,DATA!$B$7,IF(ตย.ข้อมูลประกอบ!$F17=DATA!$A$8,DATA!$D$8)))))))) -> 80 | V17: =IF($F17=DATA!$A$1,DATA!$D$1,IF(ตย.ข้อมูลประกอบ!$F17=DATA!$A$2,DATA!$D$2,IF(ตย.ข้อมูลประกอบ!$F17=DATA!$A$3,DATA!$D$3,IF(ตย.ข้อมูลประกอบ!$F17=DATA!$A$4,DATA!$D$4,IF(ตย.ข้อมูลประกอบ!$F17=DATA!$A$5,DATA!$D$5,IF(ตย.ข้อมูลประกอบ!$F17=DATA!$A$6,DATA!$D$6,IF(ตย.ข้อมูลประกอบ!$F17=DATA!$A$7,DATA!$C$7,IF(ตย.ข้อมูลประกอบ!$F17=DATA!$A$8,DATA!$D$8)))))))) -> 300 | W17: =U17*V17 -> 24000 | X17: =SUM(L17,N17,P17,T17,W17) -> 24000
A18: 10 | B18: ร.ร.เทศบาล 2 (บ้านมลายูบางกอก) | C18: 3964/2565 | D18: ปริญญาตรี | E18: นายฮำเซ๊าะ บอซู | F18: ครูสอนอิสลามศึกษา | G18: 24880 | H18: =G18*0.04 -> 995.2 | I18: =SUM(G18:H18) -> 25875.2 | J18: =I18*0.05 -> 1293.76 | K18: =IF(J18>=750,750,J18) -> 750 | L18: =SUM(I18+K18)*12 -> 319502.4 | M18: =IF(F18=DATA!$A$1,DATA!$D$1,IF(ตย.ข้อมูลประกอบ!F18=DATA!$A$2,DATA!$D$2,IF(ตย.ข้อมูลประกอบ!F18=DATA!$A$3,DATA!$D$3,IF(ตย.ข้อมูลประกอบ!F18=DATA!$A$4,DATA!$D$4,IF(ตย.ข้อมูลประกอบ!F18=DATA!$A$5,DATA!$B$5,IF(ตย.ข้อมูลประกอบ!F18=DATA!$A$6,DATA!$D$6,IF(ตย.ข้อมูลประกอบ!F18=DATA!$A$7,DATA!$D$7,IF(ตย.ข้อมูลประกอบ!F18=DATA!$A$8,DATA!$D$8)))))))) -> 0 | N18: =M18*12 -> 0 | O18: =IF(F18=DATA!$A$1,DATA!$C$1,IF(ตย.ข้อมูลประกอบ!F18=DATA!$A$2,DATA!$C$2,IF(ตย.ข้อมูลประกอบ!F18=DATA!$A$3,DATA!$C$3,IF(ตย.ข้อมูลประกอบ!F18=DATA!$A$4,DATA!$C$4,IF(ตย.ข้อมูลประกอบ!F18=DATA!$A$5,DATA!$C$5,IF(ตย.ข้อมูลประกอบ!F18=DATA!$A$6,DATA!$D$6,IF(ตย.ข้อมูลประกอบ!F18=DATA!$A$7,DATA!$D$7,IF(ตย.ข้อมูลประกอบ!F18=DATA!$A$8,DATA!$B$8)))))))) -> 2500 | P18: =O18*12 -> 30000 | Q18: =IF($F18=DATA!$A$1,DATA!$D$1,IF(ตย.ข้อมูลประกอบ!$F18=DATA!$A$2,DATA!$D$2,IF(ตย.ข้อมูลประกอบ!$F18=DATA!$A$3,DATA!$D$3,IF(ตย.ข้อมูลประกอบ!$F18=DATA!$A$4,DATA!$D$4,IF(ตย.ข้อมูลประกอบ!$F18=DATA!$A$5,DATA!$D$5,IF(ตย.ข้อมูลประกอบ!$F18=DATA!$A$6,DATA!$B$6,IF(ตย.ข้อมูลประกอบ!$F18=DATA!$A$7,DATA!$D$7,IF(ตย.ข้อมูลประกอบ!$F18=DATA!$A$8,DATA!$D$8)))))))) -> 0 | R18: =IF($F18=DATA!$A$1,DATA!$D$1,IF(ตย.ข้อมูลประกอบ!$F18=DATA!$A$2,DATA!$D$2,IF(ตย.ข้อมูลประกอบ!$F18=DATA!$A$3,DATA!$D$3,IF(ตย.ข้อมูลประกอบ!$F18=DATA!$A$4,DATA!$D$4,IF(ตย.ข้อมูลประกอบ!$F18=DATA!$A$5,DATA!$D$5,IF(ตย.ข้อมูลประกอบ!$F18=DATA!$A$6,DATA!$C$6,IF(ตย.ข้อมูลประกอบ!$F18=DATA!$A$7,DATA!$D$7,IF(ตย.ข้อมูลประกอบ!$F18=DATA!$A$8,DATA!$D$8)))))))) -> 0 | S18: =IF($F18=DATA!$A$1,DATA!$D$1,IF(ตย.ข้อมูลประกอบ!$F18=DATA!$A$2,DATA!$D$2,IF(ตย.ข้อมูลประกอบ!$F18=DATA!$A$3,DATA!$D$3,IF(ตย.ข้อมูลประกอบ!$F18=DATA!$A$4,DATA!$D$4,IF(ตย.ข้อมูลประกอบ!$F18=DATA!$A$5,DATA!$D$5,IF(ตย.ข้อมูลประกอบ!$F18=DATA!$A$6,DATA!$E$6,IF(ตย.ข้อมูลประกอบ!$F18=DATA!$A$7,DATA!$D$7,IF(ตย.ข้อมูลประกอบ!$F18=DATA!$A$8,DATA!$D$8)))))))) -> 0 | T18: =Q18*R18*S18 -> 0 | U18: =IF($F18=DATA!$A$1,DATA!$D$1,IF(ตย.ข้อมูลประกอบ!$F18=DATA!$A$2,DATA!$D$2,IF(ตย.ข้อมูลประกอบ!$F18=DATA!$A$3,DATA!$D$3,IF(ตย.ข้อมูลประกอบ!$F18=DATA!$A$4,DATA!$D$4,IF(ตย.ข้อมูลประกอบ!$F18=DATA!$A$5,DATA!$D$5,IF(ตย.ข้อมูลประกอบ!$F18=DATA!$A$6,DATA!$D$6,IF(ตย.ข้อมูลประกอบ!$F18=DATA!$A$7,DATA!$B$7,IF(ตย.ข้อมูลประกอบ!$F18=DATA!$A$8,DATA!$D$8)))))))) -> 0 | V18: =IF($F18=DATA!$A$1,DATA!$D$1,IF(ตย.ข้อมูลประกอบ!$F18=DATA!$A$2,DATA!$D$2,IF(ตย.ข้อมูลประกอบ!$F18=DATA!$A$3,DATA!$D$3,IF(ตย.ข้อมูลประกอบ!$F18=DATA!$A$4,DATA!$D$4,IF(ตย.ข้อมูลประกอบ!$F18=DATA!$A$5,DATA!$D$5,IF(ตย.ข้อมูลประกอบ!$F18=DATA!$A$6,DATA!$D$6,IF(ตย.ข้อมูลประกอบ!$F18=DATA!$A$7,DATA!$C$7,IF(ตย.ข้อมูลประกอบ!$F18=DATA!$A$8,DATA!$D$8)))))))) -> 0 | W18: =U18*V18 -> 0 | X18: =SUM(L18,N18,P18,T18,W18) -> 349502.4
A19: 11 | B19: ร.ร.เทศบาล 2 (บ้านมลายูบางกอก) | C19: 3964/2565 | D19: ปริญญาตรี | E19: นางสาวศริญญา มูซอ | F19: ครูสอนอิสลามศึกษา | G19: 23940 | H19: =G19*0.04 -> 957.6 | I19: =SUM(G19:H19) -> 24897.6 | J19: =I19*0.05 -> 1244.88 | K19: =IF(J19>=750,750,J19) -> 750 | L19: =SUM(I19+K19)*12 -> 307771.2 | M19: =IF(F19=DATA!$A$1,DATA!$D$1,IF(ตย.ข้อมูลประกอบ!F19=DATA!$A$2,DATA!$D$2,IF(ตย.ข้อมูลประกอบ!F19=DATA!$A$3,DATA!$D$3,IF(ตย.ข้อมูลประกอบ!F19=DATA!$A$4,DATA!$D$4,IF(ตย.ข้อมูลประกอบ!F19=DATA!$A$5,DATA!$B$5,IF(ตย.ข้อมูลประกอบ!F19=DATA!$A$6,DATA!$D$6,IF(ตย.ข้อมูลประกอบ!F19=DATA!$A$7,DATA!$D$7,IF(ตย.ข้อมูลประกอบ!F19=DATA!$A$8,DATA!$D$8)))))))) -> 0 | N19: =M19*12 -> 0 | O19: =IF(F19=DATA!$A$1,DATA!$C$1,IF(ตย.ข้อมูลประกอบ!F19=DATA!$A$2,DATA!$C$2,IF(ตย.ข้อมูลประกอบ!F19=DATA!$A$3,DATA!$C$3,IF(ตย.ข้อมูลประกอบ!F19=DATA!$A$4,DATA!$C$4,IF(ตย.ข้อมูลประกอบ!F19=DATA!$A$5,DATA!$C$5,IF(ตย.ข้อมูลประกอบ!F19=DATA!$A$6,DATA!$D$6,IF(ตย.ข้อมูลประกอบ!F19=DATA!$A$7,DATA!$D$7,IF(ตย.ข้อมูลประกอบ!F19=DATA!$A$8,DATA!$B$8)))))))) -> 2500 | P19: =O19*12 -> 30000 | Q19: =IF($F19=DATA!$A$1,DATA!$D$1,IF(ตย.ข้อมูลประกอบ!$F19=DATA!$A$2,DATA!$D$2,IF(ตย.ข้อมูลประกอบ!$F19=DATA!$A$3,DATA!$D$3,IF(ตย.ข้อมูลประกอบ!$F19=DATA!$A$4,DATA!$D$4,IF(ตย.ข้อมูลประกอบ!$F19=DATA!$A$5,DATA!$D$5,IF(ตย.ข้อมูลประกอบ!$F19=DATA!$A$6,DATA!$B$6,IF(ตย.ข้อมูลประกอบ!$F19=DATA!$A$7,DATA!$D$7,IF(ตย.ข้อมูลประกอบ!$F19=DATA!$A$8,DATA!$D$8)))))))) -> 0 | R19: =IF($F19=DATA!$A$1,DATA!$D$1,IF(ตย.ข้อมูลประกอบ!$F19=DATA!$A$2,DATA!$D$2,IF(ตย.ข้อมูลประกอบ!$F19=DATA!$A$3,DATA!$D$3,IF(ตย.ข้อมูลประกอบ!$F19=DATA!$A$4,DATA!$D$4,IF(ตย.ข้อมูลประกอบ!$F19=DATA!$A$5,DATA!$D$5,IF(ตย.ข้อมูลประกอบ!$F19=DATA!$A$6,DATA!$C$6,IF(ตย.ข้อมูลประกอบ!$F19=DATA!$A$7,DATA!$D$7,IF(ตย.ข้อมูลประกอบ!$F19=DATA!$A$8,DATA!$D$8)))))))) -> 0 | S19: =IF($F19=DATA!$A$1,DATA!$D$1,IF(ตย.ข้อมูลประกอบ!$F19=DATA!$A$2,DATA!$D$2,IF(ตย.ข้อมูลประกอบ!$F19=DATA!$A$3,DATA!$D$3,IF(ตย.ข้อมูลประกอบ!$F19=DATA!$A$4,DATA!$D$4,IF(ตย.ข้อมูลประกอบ!$F19=DATA!$A$5,DATA!$D$5,IF(ตย.ข้อมูลประกอบ!$F19=DATA!$A$6,DATA!$E$6,IF(ตย.ข้อมูลประกอบ!$F19=DATA!$A$7,DATA!$D$7,IF(ตย.ข้อมูลประกอบ!$F19=DATA!$A$8,DATA!$D$8)))))))) -> 0 | T19: =Q19*R19*S19 -> 0 | U19: =IF($F19=DATA!$A$1,DATA!$D$1,IF(ตย.ข้อมูลประกอบ!$F19=DATA!$A$2,DATA!$D$2,IF(ตย.ข้อมูลประกอบ!$F19=DATA!$A$3,DATA!$D$3,IF(ตย.ข้อมูลประกอบ!$F19=DATA!$A$4,DATA!$D$4,IF(ตย.ข้อมูลประกอบ!$F19=DATA!$A$5,DATA!$D$5,IF(ตย.ข้อมูลประกอบ!$F19=DATA!$A$6,DATA!$D$6,IF(ตย.ข้อมูลประกอบ!$F19=DATA!$A$7,DATA!$B$7,IF(ตย.ข้อมูลประกอบ!$F19=DATA!$A$8,DATA!$D$8)))))))) -> 0 | V19: =IF($F19=DATA!$A$1,DATA!$D$1,IF(ตย.ข้อมูลประกอบ!$F19=DATA!$A$2,DATA!$D$2,IF(ตย.ข้อมูลประกอบ!$F19=DATA!$A$3,DATA!$D$3,IF(ตย.ข้อมูลประกอบ!$F19=DATA!$A$4,DATA!$D$4,IF(ตย.ข้อมูลประกอบ!$F19=DATA!$A$5,DATA!$D$5,IF(ตย.ข้อมูลประกอบ!$F19=DATA!$A$6,DATA!$D$6,IF(ตย.ข้อมูลประกอบ!$F19=DATA!$A$7,DATA!$C$7,IF(ตย.ข้อมูลประกอบ!$F19=DATA!$A$8,DATA!$D$8)))))))) -> 0 | W19: =U19*V19 -> 0 | X19: =SUM(L19,N19,P19,T19,W19) -> 337771.2
A20: 12 | B20: ร.ร.เทศบาล 2 (บ้านมลายูบางกอก) | C20: 3964/2565 | D20: ปริญญาตรี | E20: นางสาวสุชานันท์ ขาวเกตุ | F20: ครูสอนพระปริยัติธรรม | G20: 22630 | H20: =G20*0.04 -> 905.2 | I20: =SUM(G20:H20) -> 23535.2 | J20: =I20*0.05 -> 1176.76 | K20: =IF(J20>=750,750,J20) -> 750 | L20: =SUM(I20+K20)*12 -> 291422.4 | M20: =IF(F20=DATA!$A$1,DATA!$D$1,IF(ตย.ข้อมูลประกอบ!F20=DATA!$A$2,DATA!$D$2,IF(ตย.ข้อมูลประกอบ!F20=DATA!$A$3,DATA!$D$3,IF(ตย.ข้อมูลประกอบ!F20=DATA!$A$4,DATA!$D$4,IF(ตย.ข้อมูลประกอบ!F20=DATA!$A$5,DATA!$B$5,IF(ตย.ข้อมูลประกอบ!F20=DATA!$A$6,DATA!$D$6,IF(ตย.ข้อมูลประกอบ!F20=DATA!$A$7,DATA!$D$7,IF(ตย.ข้อมูลประกอบ!F20=DATA!$A$8,DATA!$D$8)))))))) -> 0 | N20: =M20*12 -> 0 | O20: =IF(F20=DATA!$A$1,DATA!$C$1,IF(ตย.ข้อมูลประกอบ!F20=DATA!$A$2,DATA!$C$2,IF(ตย.ข้อมูลประกอบ!F20=DATA!$A$3,DATA!$C$3,IF(ตย.ข้อมูลประกอบ!F20=DATA!$A$4,DATA!$C$4,IF(ตย.ข้อมูลประกอบ!F20=DATA!$A$5,DATA!$C$5,IF(ตย.ข้อมูลประกอบ!F20=DATA!$A$6,DATA!$D$6,IF(ตย.ข้อมูลประกอบ!F20=DATA!$A$7,DATA!$D$7,IF(ตย.ข้อมูลประกอบ!F20=DATA!$A$8,DATA!$B$8)))))))) -> 2500 | P20: =O20*12 -> 30000 | Q20: =IF($F20=DATA!$A$1,DATA!$D$1,IF(ตย.ข้อมูลประกอบ!$F20=DATA!$A$2,DATA!$D$2,IF(ตย.ข้อมูลประกอบ!$F20=DATA!$A$3,DATA!$D$3,IF(ตย.ข้อมูลประกอบ!$F20=DATA!$A$4,DATA!$D$4,IF(ตย.ข้อมูลประกอบ!$F20=DATA!$A$5,DATA!$D$5,IF(ตย.ข้อมูลประกอบ!$F20=DATA!$A$6,DATA!$B$6,IF(ตย.ข้อมูลประกอบ!$F20=DATA!$A$7,DATA!$D$7,IF(ตย.ข้อมูลประกอบ!$F20=DATA!$A$8,DATA!$D$8)))))))) -> 0 | R20: =IF($F20=DATA!$A$1,DATA!$D$1,IF(ตย.ข้อมูลประกอบ!$F20=DATA!$A$2,DATA!$D$2,IF(ตย.ข้อมูลประกอบ!$F20=DATA!$A$3,DATA!$D$3,IF(ตย.ข้อมูลประกอบ!$F20=DATA!$A$4,DATA!$D$4,IF(ตย.ข้อมูลประกอบ!$F20=DATA!$A$5,DATA!$D$5,IF(ตย.ข้อมูลประกอบ!$F20=DATA!$A$6,DATA!$C$6,IF(ตย.ข้อมูลประกอบ!$F20=DATA!$A$7,DATA!$D$7,IF(ตย.ข้อมูลประกอบ!$F20=DATA!$A$8,DATA!$D$8)))))))) -> 0 | S20: =IF($F20=DATA!$A$1,DATA!$D$1,IF(ตย.ข้อมูลประกอบ!$F20=DATA!$A$2,DATA!$D$2,IF(ตย.ข้อมูลประกอบ!$F20=DATA!$A$3,DATA!$D$3,IF(ตย.ข้อมูลประกอบ!$F20=DATA!$A$4,DATA!$D$4,IF(ตย.ข้อมูลประกอบ!$F20=DATA!$A$5,DATA!$D$5,IF(ตย.ข้อมูลประกอบ!$F20=DATA!$A$6,DATA!$E$6,IF(ตย.ข้อมูลประกอบ!$F20=DATA!$A$7,DATA!$D$7,IF(ตย.ข้อมูลประกอบ!$F20=DATA!$A$8,DATA!$D$8)))))))) -> 0 | T20: =Q20*R20*S20 -> 0 | U20: =IF($F20=DATA!$A$1,DATA!$D$1,IF(ตย.ข้อมูลประกอบ!$F20=DATA!$A$2,DATA!$D$2,IF(ตย.ข้อมูลประกอบ!$F20=DATA!$A$3,DATA!$D$3,IF(ตย.ข้อมูลประกอบ!$F20=DATA!$A$4,DATA!$D$4,IF(ตย.ข้อมูลประกอบ!$F20=DATA!$A$5,DATA!$D$5,IF(ตย.ข้อมูลประกอบ!$F20=DATA!$A$6,DATA!$D$6,IF(ตย.ข้อมูลประกอบ!$F20=DATA!$A$7,DATA!$B$7,IF(ตย.ข้อมูลประกอบ!$F20=DATA!$A$8,DATA!$D$8)))))))) -> 0 | V20: =IF($F20=DATA!$A$1,DATA!$D$1,IF(ตย.ข้อมูลประกอบ!$F20=DATA!$A$2,DATA!$D$2,IF(ตย.ข้อมูลประกอบ!$F20=DATA!$A$3,DATA!$D$3,IF(ตย.ข้อมูลประกอบ!$F20=DATA!$A$4,DATA!$D$4,IF(ตย.ข้อมูลประกอบ!$F20=DATA!$A$5,DATA!$D$5,IF(ตย.ข้อมูลประกอบ!$F20=DATA!$A$6,DATA!$D$6,IF(ตย.ข้อมูลประกอบ!$F20=DATA!$A$7,DATA!$C$7,IF(ตย.ข้อมูลประกอบ!$F20=DATA!$A$8,DATA!$D$8)))))))) -> 0 | W20: =U20*V20 -> 0 | X20: =SUM(L20,N20,P20,T20,W20) -> 321422.4
A21: 13 | B21: ร.ร.เทศบาล 2 (บ้านมลายูบางกอก) | C21: 3964/2565 | D21: ปริญญาตรี | E21: นายอาแซ มะเตะ | F21: ครูสอนอิสลามศึกษา | G21: 23840 | H21: =G21*0.04 -> 953.6 | I21: =SUM(G21:H21) -> 24793.6 | J21: =I21*0.05 -> 1239.68 | K21: =IF(J21>=750,750,J21) -> 750 | L21: =SUM(I21+K21)*12 -> 306523.2 | M21: =IF(F21=DATA!$A$1,DATA!$D$1,IF(ตย.ข้อมูลประกอบ!F21=DATA!$A$2,DATA!$D$2,IF(ตย.ข้อมูลประกอบ!F21=DATA!$A$3,DATA!$D$3,IF(ตย.ข้อมูลประกอบ!F21=DATA!$A$4,DATA!$D$4,IF(ตย.ข้อมูลประกอบ!F21=DATA!$A$5,DATA!$B$5,IF(ตย.ข้อมูลประกอบ!F21=DATA!$A$6,DATA!$D$6,IF(ตย.ข้อมูลประกอบ!F21=DATA!$A$7,DATA!$D$7,IF(ตย.ข้อมูลประกอบ!F21=DATA!$A$8,DATA!$D$8)))))))) -> 0 | N21: =M21*12 -> 0 | O21: =IF(F21=DATA!$A$1,DATA!$C$1,IF(ตย.ข้อมูลประกอบ!F21=DATA!$A$2,DATA!$C$2,IF(ตย.ข้อมูลประกอบ!F21=DATA!$A$3,DATA!$C$3,IF(ตย.ข้อมูลประกอบ!F21=DATA!$A$4,DATA!$C$4,IF(ตย.ข้อมูลประกอบ!F21=DATA!$A$5,DATA!$C$5,IF(ตย.ข้อมูลประกอบ!F21=DATA!$A$6,DATA!$D$6,IF(ตย.ข้อมูลประกอบ!F21=DATA!$A$7,DATA!$D$7,IF(ตย.ข้อมูลประกอบ!F21=DATA!$A$8,DATA!$B$8)))))))) -> 2500 | P21: =O21*12 -> 30000 | Q21: =IF($F21=DATA!$A$1,DATA!$D$1,IF(ตย.ข้อมูลประกอบ!$F21=DATA!$A$2,DATA!$D$2,IF(ตย.ข้อมูลประกอบ!$F21=DATA!$A$3,DATA!$D$3,IF(ตย.ข้อมูลประกอบ!$F21=DATA!$A$4,DATA!$D$4,IF(ตย.ข้อมูลประกอบ!$F21=DATA!$A$5,DATA!$D$5,IF(ตย.ข้อมูลประกอบ!$F21=DATA!$A$6,DATA!$B$6,IF(ตย.ข้อมูลประกอบ!$F21=DATA!$A$7,DATA!$D$7,IF(ตย.ข้อมูลประกอบ!$F21=DATA!$A$8,DATA!$D$8)))))))) -> 0 | R21: =IF($F21=DATA!$A$1,DATA!$D$1,IF(ตย.ข้อมูลประกอบ!$F21=DATA!$A$2,DATA!$D$2,IF(ตย.ข้อมูลประกอบ!$F21=DATA!$A$3,DATA!$D$3,IF(ตย.ข้อมูลประกอบ!$F21=DATA!$A$4,DATA!$D$4,IF(ตย.ข้อมูลประกอบ!$F21=DATA!$A$5,DATA!$D$5,IF(ตย.ข้อมูลประกอบ!$F21=DATA!$A$6,DATA!$C$6,IF(ตย.ข้อมูลประกอบ!$F21=DATA!$A$7,DATA!$D$7,IF(ตย.ข้อมูลประกอบ!$F21=DATA!$A$8,DATA!$D$8)))))))) -> 0 | S21: =IF($F21=DATA!$A$1,DATA!$D$1,IF(ตย.ข้อมูลประกอบ!$F21=DATA!$A$2,DATA!$D$2,IF(ตย.ข้อมูลประกอบ!$F21=DATA!$A$3,DATA!$D$3,IF(ตย.ข้อมูลประกอบ!$F21=DATA!$A$4,DATA!$D$4,IF(ตย.ข้อมูลประกอบ!$F21=DATA!$A$5,DATA!$D$5,IF(ตย.ข้อมูลประกอบ!$F21=DATA!$A$6,DATA!$E$6,IF(ตย.ข้อมูลประกอบ!$F21=DATA!$A$7,DATA!$D$7,IF(ตย.ข้อมูลประกอบ!$F21=DATA!$A$8,DATA!$D$8)))))))) -> 0 | T21: =Q21*R21*S21 -> 0 | U21: =IF($F21=DATA!$A$1,DATA!$D$1,IF(ตย.ข้อมูลประกอบ!$F21=DATA!$A$2,DATA!$D$2,IF(ตย.ข้อมูลประกอบ!$F21=DATA!$A$3,DATA!$D$3,IF(ตย.ข้อมูลประกอบ!$F21=DATA!$A$4,DATA!$D$4,IF(ตย.ข้อมูลประกอบ!$F21=DATA!$A$5,DATA!$D$5,IF(ตย.ข้อมูลประกอบ!$F21=DATA!$A$6,DATA!$D$6,IF(ตย.ข้อมูลประกอบ!$F21=DATA!$A$7,DATA!$B$7,IF(ตย.ข้อมูลประกอบ!$F21=DATA!$A$8,DATA!$D$8)))))))) -> 0 | V21: =IF($F21=DATA!$A$1,DATA!$D$1,IF(ตย.ข้อมูลประกอบ!$F21=DATA!$A$2,DATA!$D$2,IF(ตย.ข้อมูลประกอบ!$F21=DATA!$A$3,DATA!$D$3,IF(ตย.ข้อมูลประกอบ!$F21=DATA!$A$4,DATA!$D$4,IF(ตย.ข้อมูลประกอบ!$F21=DATA!$A$5,DATA!$D$5,IF(ตย.ข้อมูลประกอบ!$F21=DATA!$A$6,DATA!$D$6,IF(ตย.ข้อมูลประกอบ!$F21=DATA!$A$7,DATA!$C$7,IF(ตย.ข้อมูลประกอบ!$F21=DATA!$A$8,DATA!$D$8)))))))) -> 0 | W21: =U21*V21 -> 0 | X21: =SUM(L21,N21,P21,T21,W21) -> 336523.2
A22: 14 | B22: ร.ร.เทศบาล 2 (บ้านมลายูบางกอก) | C22: 3964/2565 | D22: ปริญญาตรี | E22: นายธนศักดิ์ พรหมสุด | F22: ครูสอนพุทธศาสนา | G22: 23940 | H22: =G22*0.04 -> 957.6 | I22: =SUM(G22:H22) -> 24897.6 | J22: =I22*0.05 -> 1244.88 | K22: =IF(J22>=750,750,J22) -> 750 | L22: =SUM(I22+K22)*12 -> 307771.2 | M22: =IF(F22=DATA!$A$1,DATA!$D$1,IF(ตย.ข้อมูลประกอบ!F22=DATA!$A$2,DATA!$D$2,IF(ตย.ข้อมูลประกอบ!F22=DATA!$A$3,DATA!$D$3,IF(ตย.ข้อมูลประกอบ!F22=DATA!$A$4,DATA!$D$4,IF(ตย.ข้อมูลประกอบ!F22=DATA!$A$5,DATA!$B$5,IF(ตย.ข้อมูลประกอบ!F22=DATA!$A$6,DATA!$D$6,IF(ตย.ข้อมูลประกอบ!F22=DATA!$A$7,DATA!$D$7,IF(ตย.ข้อมูลประกอบ!F22=DATA!$A$8,DATA!$D$8)))))))) -> 0 | N22: =M22*12 -> 0 | O22: =IF(F22=DATA!$A$1,DATA!$C$1,IF(ตย.ข้อมูลประกอบ!F22=DATA!$A$2,DATA!$C$2,IF(ตย.ข้อมูลประกอบ!F22=DATA!$A$3,DATA!$C$3,IF(ตย.ข้อมูลประกอบ!F22=DATA!$A$4,DATA!$C$4,IF(ตย.ข้อมูลประกอบ!F22=DATA!$A$5,DATA!$C$5,IF(ตย.ข้อมูลประกอบ!F22=DATA!$A$6,DATA!$D$6,IF(ตย.ข้อมูลประกอบ!F22=DATA!$A$7,DATA!$D$7,IF(ตย.ข้อมูลประกอบ!F22=DATA!$A$8,DATA!$B$8)))))))) -> 2500 | P22: =O22*12 -> 30000 | Q22: =IF($F22=DATA!$A$1,DATA!$D$1,IF(ตย.ข้อมูลประกอบ!$F22=DATA!$A$2,DATA!$D$2,IF(ตย.ข้อมูลประกอบ!$F22=DATA!$A$3,DATA!$D$3,IF(ตย.ข้อมูลประกอบ!$F22=DATA!$A$4,DATA!$D$4,IF(ตย.ข้อมูลประกอบ!$F22=DATA!$A$5,DATA!$D$5,IF(ตย.ข้อมูลประกอบ!$F22=DATA!$A$6,DATA!$B$6,IF(ตย.ข้อมูลประกอบ!$F22=DATA!$A$7,DATA!$D$7,IF(ตย.ข้อมูลประกอบ!$F22=DATA!$A$8,DATA!$D$8)))))))) -> 0 | R22: =IF($F22=DATA!$A$1,DATA!$D$1,IF(ตย.ข้อมูลประกอบ!$F22=DATA!$A$2,DATA!$D$2,IF(ตย.ข้อมูลประกอบ!$F22=DATA!$A$3,DATA!$D$3,IF(ตย.ข้อมูลประกอบ!$F22=DATA!$A$4,DATA!$D$4,IF(ตย.ข้อมูลประกอบ!$F22=DATA!$A$5,DATA!$D$5,IF(ตย.ข้อมูลประกอบ!$F22=DATA!$A$6,DATA!$C$6,IF(ตย.ข้อมูลประกอบ!$F22=DATA!$A$7,DATA!$D$7,IF(ตย.ข้อมูลประกอบ!$F22=DATA!$A$8,DATA!$D$8)))))))) -> 0 | S22: =IF($F22=DATA!$A$1,DATA!$D$1,IF(ตย.ข้อมูลประกอบ!$F22=DATA!$A$2,DATA!$D$2,IF(ตย.ข้อมูลประกอบ!$F22=DATA!$A$3,DATA!$D$3,IF(ตย.ข้อมูลประกอบ!$F22=DATA!$A$4,DATA!$D$4,IF(ตย.ข้อมูลประกอบ!$F22=DATA!$A$5,DATA!$D$5,IF(ตย.ข้อมูลประกอบ!$F22=DATA!$A$6,DATA!$E$6,IF(ตย.ข้อมูลประกอบ!$F22=DATA!$A$7,DATA!$D$7,IF(ตย.ข้อมูลประกอบ!$F22=DATA!$A$8,DATA!$D$8)))))))) -> 0 | T22: =Q22*R22*S22 -> 0 | U22: =IF($F22=DATA!$A$1,DATA!$D$1,IF(ตย.ข้อมูลประกอบ!$F22=DATA!$A$2,DATA!$D$2,IF(ตย.ข้อมูลประกอบ!$F22=DATA!$A$3,DATA!$D$3,IF(ตย.ข้อมูลประกอบ!$F22=DATA!$A$4,DATA!$D$4,IF(ตย.ข้อมูลประกอบ!$F22=DATA!$A$5,DATA!$D$5,IF(ตย.ข้อมูลประกอบ!$F22=DATA!$A$6,DATA!$D$6,IF(ตย.ข้อมูลประกอบ!$F22=DATA!$A$7,DATA!$B$7,IF(ตย.ข้อมูลประกอบ!$F22=DATA!$A$8,DATA!$D$8)))))))) -> 0 | V22: =IF($F22=DATA!$A$1,DATA!$D$1,IF(ตย.ข้อมูลประกอบ!$F22=DATA!$A$2,DATA!$D$2,IF(ตย.ข้อมูลประกอบ!$F22=DATA!$A$3,DATA!$D$3,IF(ตย.ข้อมูลประกอบ!$F22=DATA!$A$4,DATA!$D$4,IF(ตย.ข้อมูลประกอบ!$F22=DATA!$A$5,DATA!$D$5,IF(ตย.ข้อมูลประกอบ!$F22=DATA!$A$6,DATA!$D$6,IF(ตย.ข้อมูลประกอบ!$F22=DATA!$A$7,DATA!$C$7,IF(ตย.ข้อมูลประกอบ!$F22=DATA!$A$8,DATA!$D$8)))))))) -> 0 | W22: =U22*V22 -> 0 | X22: =SUM(L22,N22,P22,T22,W22) -> 337771.2
A23: 15 | B23: ร.ร.เทศบาล 2 (บ้านมลายูบางกอก) | C23: 3964/2565 | D23: ปริญญาตรี | E23: นางฮาลีเมาะ เจ๊ะอุมา | F23: ครูสอนอิสลามศึกษา | G23: 23850 | H23: =G23*0.04 -> 954 | I23: =SUM(G23:H23) -> 24804 | J23: =I23*0.05 -> 1240.2 | K23: =IF(J23>=750,750,J23) -> 750 | L23: =SUM(I23+K23)*12 -> 306648 | M23: =IF(F23=DATA!$A$1,DATA!$D$1,IF(ตย.ข้อมูลประกอบ!F23=DATA!$A$2,DATA!$D$2,IF(ตย.ข้อมูลประกอบ!F23=DATA!$A$3,DATA!$D$3,IF(ตย.ข้อมูลประกอบ!F23=DATA!$A$4,DATA!$D$4,IF(ตย.ข้อมูลประกอบ!F23=DATA!$A$5,DATA!$B$5,IF(ตย.ข้อมูลประกอบ!F23=DATA!$A$6,DATA!$D$6,IF(ตย.ข้อมูลประกอบ!F23=DATA!$A$7,DATA!$D$7,IF(ตย.ข้อมูลประกอบ!F23=DATA!$A$8,DATA!$D$8)))))))) -> 0 | N23: =M23*12 -> 0 | O23: =IF(F23=DATA!$A$1,DATA!$C$1,IF(ตย.ข้อมูลประกอบ!F23=DATA!$A$2,DATA!$C$2,IF(ตย.ข้อมูลประกอบ!F23=DATA!$A$3,DATA!$C$3,IF(ตย.ข้อมูลประกอบ!F23=DATA!$A$4,DATA!$C$4,IF(ตย.ข้อมูลประกอบ!F23=DATA!$A$5,DATA!$C$5,IF(ตย.ข้อมูลประกอบ!F23=DATA!$A$6,DATA!$D$6,IF(ตย.ข้อมูลประกอบ!F23=DATA!$A$7,DATA!$D$7,IF(ตย.ข้อมูลประกอบ!F23=DATA!$A$8,DATA!$B$8)))))))) -> 2500 | P23: =O23*12 -> 30000 | Q23: =IF($F23=DATA!$A$1,DATA!$D$1,IF(ตย.ข้อมูลประกอบ!$F23=DATA!$A$2,DATA!$D$2,IF(ตย.ข้อมูลประกอบ!$F23=DATA!$A$3,DATA!$D$3,IF(ตย.ข้อมูลประกอบ!$F23=DATA!$A$4,DATA!$D$4,IF(ตย.ข้อมูลประกอบ!$F23=DATA!$A$5,DATA!$D$5,IF(ตย.ข้อมูลประกอบ!$F23=DATA!$A$6,DATA!$B$6,IF(ตย.ข้อมูลประกอบ!$F23=DATA!$A$7,DATA!$D$7,IF(ตย.ข้อมูลประกอบ!$F23=DATA!$A$8,DATA!$D$8)))))))) -> 0 | R23: =IF($F23=DATA!$A$1,DATA!$D$1,IF(ตย.ข้อมูลประกอบ!$F23=DATA!$A$2,DATA!$D$2,IF(ตย.ข้อมูลประกอบ!$F23=DATA!$A$3,DATA!$D$3,IF(ตย.ข้อมูลประกอบ!$F23=DATA!$A$4,DATA!$D$4,IF(ตย.ข้อมูลประกอบ!$F23=DATA!$A$5,DATA!$D$5,IF(ตย.ข้อมูลประกอบ!$F23=DATA!$A$6,DATA!$C$6,IF(ตย.ข้อมูลประกอบ!$F23=DATA!$A$7,DATA!$D$7,IF(ตย.ข้อมูลประกอบ!$F23=DATA!$A$8,DATA!$D$8)))))))) -> 0 | S23: =IF($F23=DATA!$A$1,DATA!$D$1,IF(ตย.ข้อมูลประกอบ!$F23=DATA!$A$2,DATA!$D$2,IF(ตย.ข้อมูลประกอบ!$F23=DATA!$A$3,DATA!$D$3,IF(ตย.ข้อมูลประกอบ!$F23=DATA!$A$4,DATA!$D$4,IF(ตย.ข้อมูลประกอบ!$F23=DATA!$A$5,DATA!$D$5,IF(ตย.ข้อมูลประกอบ!$F23=DATA!$A$6,DATA!$E$6,IF(ตย.ข้อมูลประกอบ!$F23=DATA!$A$7,DATA!$D$7,IF(ตย.ข้อมูลประกอบ!$F23=DATA!$A$8,DATA!$D$8)))))))) -> 0 | T23: =Q23*R23*S23 -> 0 | U23: =IF($F23=DATA!$A$1,DATA!$D$1,IF(ตย.ข้อมูลประกอบ!$F23=DATA!$A$2,DATA!$D$2,IF(ตย.ข้อมูลประกอบ!$F23=DATA!$A$3,DATA!$D$3,IF(ตย.ข้อมูลประกอบ!$F23=DATA!$A$4,DATA!$D$4,IF(ตย.ข้อมูลประกอบ!$F23=DATA!$A$5,DATA!$D$5,IF(ตย.ข้อมูลประกอบ!$F23=DATA!$A$6,DATA!$D$6,IF(ตย.ข้อมูลประกอบ!$F23=DATA!$A$7,DATA!$B$7,IF(ตย.ข้อมูลประกอบ!$F23=DATA!$A$8,DATA!$D$8)))))))) -> 0 | V23: =IF($F23=DATA!$A$1,DATA!$D$1,IF(ตย.ข้อมูลประกอบ!$F23=DATA!$A$2,DATA!$D$2,IF(ตย.ข้อมูลประกอบ!$F23=DATA!$A$3,DATA!$D$3,IF(ตย.ข้อมูลประกอบ!$F23=DATA!$A$4,DATA!$D$4,IF(ตย.ข้อมูลประกอบ!$F23=DATA!$A$5,DATA!$D$5,IF(ตย.ข้อมูลประกอบ!$F23=DATA!$A$6,DATA!$D$6,IF(ตย.ข้อมูลประกอบ!$F23=DATA!$A$7,DATA!$C$7,IF(ตย.ข้อมูลประกอบ!$F23=DATA!$A$8,DATA!$D$8)))))))) -> 0 | W23: =U23*V23 -> 0 | X23: =SUM(L23,N23,P23,T23,W23) -> 336648
A24: 16 | B24: ร.ร.เทศบาล 2 (บ้านมลายูบางกอก) | C24: 3964/2565 | D24: ปริญญาตรี | E24: นางสาวไพลิน คงยืน | F24: ครูสอนพุทธศาสนา | G24: 20150 | H24: =G24*0.04 -> 806 | I24: =SUM(G24:H24) -> 20956 | J24: =I24*0.05 -> 1047.8 | K24: =IF(J24>=750,750,J24) -> 750 | L24: =SUM(I24+K24)*12 -> 260472 | M24: =IF(F24=DATA!$A$1,DATA!$D$1,IF(ตย.ข้อมูลประกอบ!F24=DATA!$A$2,DATA!$D$2,IF(ตย.ข้อมูลประกอบ!F24=DATA!$A$3,DATA!$D$3,IF(ตย.ข้อมูลประกอบ!F24=DATA!$A$4,DATA!$D$4,IF(ตย.ข้อมูลประกอบ!F24=DATA!$A$5,DATA!$B$5,IF(ตย.ข้อมูลประกอบ!F24=DATA!$A$6,DATA!$D$6,IF(ตย.ข้อมูลประกอบ!F24=DATA!$A$7,DATA!$D$7,IF(ตย.ข้อมูลประกอบ!F24=DATA!$A$8,DATA!$D$8)))))))) -> 0 | N24: =M24*12 -> 0 | O24: =IF(F24=DATA!$A$1,DATA!$C$1,IF(ตย.ข้อมูลประกอบ!F24=DATA!$A$2,DATA!$C$2,IF(ตย.ข้อมูลประกอบ!F24=DATA!$A$3,DATA!$C$3,IF(ตย.ข้อมูลประกอบ!F24=DATA!$A$4,DATA!$C$4,IF(ตย.ข้อมูลประกอบ!F24=DATA!$A$5,DATA!$C$5,IF(ตย.ข้อมูลประกอบ!F24=DATA!$A$6,DATA!$D$6,IF(ตย.ข้อมูลประกอบ!F24=DATA!$A$7,DATA!$D$7,IF(ตย.ข้อมูลประกอบ!F24=DATA!$A$8,DATA!$B$8)))))))) -> 2500 | P24: =O24*12 -> 30000 | Q24: =IF($F24=DATA!$A$1,DATA!$D$1,IF(ตย.ข้อมูลประกอบ!$F24=DATA!$A$2,DATA!$D$2,IF(ตย.ข้อมูลประกอบ!$F24=DATA!$A$3,DATA!$D$3,IF(ตย.ข้อมูลประกอบ!$F24=DATA!$A$4,DATA!$D$4,IF(ตย.ข้อมูลประกอบ!$F24=DATA!$A$5,DATA!$D$5,IF(ตย.ข้อมูลประกอบ!$F24=DATA!$A$6,DATA!$B$6,IF(ตย.ข้อมูลประกอบ!$F24=DATA!$A$7,DATA!$D$7,IF(ตย.ข้อมูลประกอบ!$F24=DATA!$A$8,DATA!$D$8)))))))) -> 0 | R24: =IF($F24=DATA!$A$1,DATA!$D$1,IF(ตย.ข้อมูลประกอบ!$F24=DATA!$A$2,DATA!$D$2,IF(ตย.ข้อมูลประกอบ!$F24=DATA!$A$3,DATA!$D$3,IF(ตย.ข้อมูลประกอบ!$F24=DATA!$A$4,DATA!$D$4,IF(ตย.ข้อมูลประกอบ!$F24=DATA!$A$5,DATA!$D$5,IF(ตย.ข้อมูลประกอบ!$F24=DATA!$A$6,DATA!$C$6,IF(ตย.ข้อมูลประกอบ!$F24=DATA!$A$7,DATA!$D$7,IF(ตย.ข้อมูลประกอบ!$F24=DATA!$A$8,DATA!$D$8)))))))) -> 0 | S24: =IF($F24=DATA!$A$1,DATA!$D$1,IF(ตย.ข้อมูลประกอบ!$F24=DATA!$A$2,DATA!$D$2,IF(ตย.ข้อมูลประกอบ!$F24=DATA!$A$3,DATA!$D$3,IF(ตย.ข้อมูลประกอบ!$F24=DATA!$A$4,DATA!$D$4,IF(ตย.ข้อมูลประกอบ!$F24=DATA!$A$5,DATA!$D$5,IF(ตย.ข้อมูลประกอบ!$F24=DATA!$A$6,DATA!$E$6,IF(ตย.ข้อมูลประกอบ!$F24=DATA!$A$7,DATA!$D$7,IF(ตย.ข้อมูลประกอบ!$F24=DATA!$A$8,DATA!$D$8)))))))) -> 0 | T24: =Q24*R24*S24 -> 0 | U24: =IF($F24=DATA!$A$1,DATA!$D$1,IF(ตย.ข้อมูลประกอบ!$F24=DATA!$A$2,DATA!$D$2,IF(ตย.ข้อมูลประกอบ!$F24=DATA!$A$3,DATA!$D$3,IF(ตย.ข้อมูลประกอบ!$F24=DATA!$A$4,DATA!$D$4,IF(ตย.ข้อมูลประกอบ!$F24=DATA!$A$5,DATA!$D$5,IF(ตย.ข้อมูลประกอบ!$F24=DATA!$A$6,DATA!$D$6,IF(ตย.ข้อมูลประกอบ!$F24=DATA!$A$7,DATA!$B$7,IF(ตย.ข้อมูลประกอบ!$F24=DATA!$A$8,DATA!$D$8)))))))) -> 0 | V24: =IF($F24=DATA!$A$1,DATA!$D$1,IF(ตย.ข้อมูลประกอบ!$F24=DATA!$A$2,DATA!$D$2,IF(ตย.ข้อมูลประกอบ!$F24=DATA!$A$3,DATA!$D$3,IF(ตย.ข้อมูลประกอบ!$F24=DATA!$A$4,DATA!$D$4,IF(ตย.ข้อมูลประกอบ!$F24=DATA!$A$5,DATA!$D$5,IF(ตย.ข้อมูลประกอบ!$F24=DATA!$A$6,DATA!$D$6,IF(ตย.ข้อมูลประกอบ!$F24=DATA!$A$7,DATA!$C$7,IF(ตย.ข้อมูลประกอบ!$F24=DATA!$A$8,DATA!$D$8)))))))) -> 0 | W24: =U24*V24 -> 0 | X24: =SUM(L24,N24,P24,T24,W24) -> 290472
A25: 17 | B25: ร.ร.เทศบาล 2 (บ้านมลายูบางกอก) | C25: 3964/2565 | D25: ปริญญาตรี | E25: นางยาเราะ มามะ | F25: ครูสอนอิสลามศึกษา | G25: 21620 | H25: =G25*0.04 -> 864.8 | I25: =SUM(G25:H25) -> 22484.8 | J25: =I25*0.05 -> 1124.24 | K25: =IF(J25>=750,750,J25) -> 750 | L25: =SUM(I25+K25)*12 -> 278817.6 | M25: =IF(F25=DATA!$A$1,DATA!$D$1,IF(ตย.ข้อมูลประกอบ!F25=DATA!$A$2,DATA!$D$2,IF(ตย.ข้อมูลประกอบ!F25=DATA!$A$3,DATA!$D$3,IF(ตย.ข้อมูลประกอบ!F25=DATA!$A$4,DATA!$D$4,IF(ตย.ข้อมูลประกอบ!F25=DATA!$A$5,DATA!$B$5,IF(ตย.ข้อมูลประกอบ!F25=DATA!$A$6,DATA!$D$6,IF(ตย.ข้อมูลประกอบ!F25=DATA!$A$7,DATA!$D$7,IF(ตย.ข้อมูลประกอบ!F25=DATA!$A$8,DATA!$D$8)))))))) -> 0 | N25: =M25*12 -> 0 | O25: =IF(F25=DATA!$A$1,DATA!$C$1,IF(ตย.ข้อมูลประกอบ!F25=DATA!$A$2,DATA!$C$2,IF(ตย.ข้อมูลประกอบ!F25=DATA!$A$3,DATA!$C$3,IF(ตย.ข้อมูลประกอบ!F25=DATA!$A$4,DATA!$C$4,IF(ตย.ข้อมูลประกอบ!F25=DATA!$A$5,DATA!$C$5,IF(ตย.ข้อมูลประกอบ!F25=DATA!$A$6,DATA!$D$6,IF(ตย.ข้อมูลประกอบ!F25=DATA!$A$7,DATA!$D$7,IF(ตย.ข้อมูลประกอบ!F25=DATA!$A$8,DATA!$B$8)))))))) -> 2500 | P25: =O25*12 -> 30000 | Q25: =IF($F25=DATA!$A$1,DATA!$D$1,IF(ตย.ข้อมูลประกอบ!$F25=DATA!$A$2,DATA!$D$2,IF(ตย.ข้อมูลประกอบ!$F25=DATA!$A$3,DATA!$D$3,IF(ตย.ข้อมูลประกอบ!$F25=DATA!$A$4,DATA!$D$4,IF(ตย.ข้อมูลประกอบ!$F25=DATA!$A$5,DATA!$D$5,IF(ตย.ข้อมูลประกอบ!$F25=DATA!$A$6,DATA!$B$6,IF(ตย.ข้อมูลประกอบ!$F25=DATA!$A$7,DATA!$D$7,IF(ตย.ข้อมูลประกอบ!$F25=DATA!$A$8,DATA!$D$8)))))))) -> 0 | R25: =IF($F25=DATA!$A$1,DATA!$D$1,IF(ตย.ข้อมูลประกอบ!$F25=DATA!$A$2,DATA!$D$2,IF(ตย.ข้อมูลประกอบ!$F25=DATA!$A$3,DATA!$D$3,IF(ตย.ข้อมูลประกอบ!$F25=DATA!$A$4,DATA!$D$4,IF(ตย.ข้อมูลประกอบ!$F25=DATA!$A$5,DATA!$D$5,IF(ตย.ข้อมูลประกอบ!$F25=DATA!$A$6,DATA!$C$6,IF(ตย.ข้อมูลประกอบ!$F25=DATA!$A$7,DATA!$D$7,IF(ตย.ข้อมูลประกอบ!$F25=DATA!$A$8,DATA!$D$8)))))))) -> 0 | S25: =IF($F25=DATA!$A$1,DATA!$D$1,IF(ตย.ข้อมูลประกอบ!$F25=DATA!$A$2,DATA!$D$2,IF(ตย.ข้อมูลประกอบ!$F25=DATA!$A$3,DATA!$D$3,IF(ตย.ข้อมูลประกอบ!$F25=DATA!$A$4,DATA!$D$4,IF(ตย.ข้อมูลประกอบ!$F25=DATA!$A$5,DATA!$D$5,IF(ตย.ข้อมูลประกอบ!$F25=DATA!$A$6,DATA!$E$6,IF(ตย.ข้อมูลประกอบ!$F25=DATA!$A$7,DATA!$D$7,IF(ตย.ข้อมูลประกอบ!$F25=DATA!$A$8,DATA!$D$8)))))))) -> 0 | T25: =Q25*R25*S25 -> 0 | U25: =IF($F25=DATA!$A$1,DATA!$D$1,IF(ตย.ข้อมูลประกอบ!$F25=DATA!$A$2,DATA!$D$2,IF(ตย.ข้อมูลประกอบ!$F25=DATA!$A$3,DATA!$D$3,IF(ตย.ข้อมูลประกอบ!$F25=DATA!$A$4,DATA!$D$4,IF(ตย.ข้อมูลประกอบ!$F25=DATA!$A$5,DATA!$D$5,IF(ตย.ข้อมูลประกอบ!$F25=DATA!$A$6,DATA!$D$6,IF(ตย.ข้อมูลประกอบ!$F25=DATA!$A$7,DATA!$B$7,IF(ตย.ข้อมูลประกอบ!$F25=DATA!$A$8,DATA!$D$8)))))))) -> 0 | V25: =IF($F25=DATA!$A$1,DATA!$D$1,IF(ตย.ข้อมูลประกอบ!$F25=DATA!$A$2,DATA!$D$2,IF(ตย.ข้อมูลประกอบ!$F25=DATA!$A$3,DATA!$D$3,IF(ตย.ข้อมูลประกอบ!$F25=DATA!$A$4,DATA!$D$4,IF(ตย.ข้อมูลประกอบ!$F25=DATA!$A$5,DATA!$D$5,IF(ตย.ข้อมูลประกอบ!$F25=DATA!$A$6,DATA!$D$6,IF(ตย.ข้อมูลประกอบ!$F25=DATA!$A$7,DATA!$C$7,IF(ตย.ข้อมูลประกอบ!$F25=DATA!$A$8,DATA!$D$8)))))))) -> 0 | W25: =U25*V25 -> 0 | X25: =SUM(L25,N25,P25,T25,W25) -> 308817.6
A26: 18 | B26: ร.ร.เทศบาล 2 (บ้านมลายูบางกอก) | C26: 3964/2565 | D26: ปริญญาตรี | E26: นายสมปอง โทบุรี | F26: ครูสอนพระปริยัติธรรม | G26: 21820 | H26: =G26*0.04 -> 872.8 | I26: =SUM(G26:H26) -> 22692.8 | J26: =I26*0.05 -> 1134.64 | K26: =IF(J26>=750,750,J26) -> 750 | L26: =SUM(I26+K26)*12 -> 281313.6 | M26: =IF(F26=DATA!$A$1,DATA!$D$1,IF(ตย.ข้อมูลประกอบ!F26=DATA!$A$2,DATA!$D$2,IF(ตย.ข้อมูลประกอบ!F26=DATA!$A$3,DATA!$D$3,IF(ตย.ข้อมูลประกอบ!F26=DATA!$A$4,DATA!$D$4,IF(ตย.ข้อมูลประกอบ!F26=DATA!$A$5,DATA!$B$5,IF(ตย.ข้อมูลประกอบ!F26=DATA!$A$6,DATA!$D$6,IF(ตย.ข้อมูลประกอบ!F26=DATA!$A$7,DATA!$D$7,IF(ตย.ข้อมูลประกอบ!F26=DATA!$A$8,DATA!$D$8)))))))) -> 0 | N26: =M26*12 -> 0 | O26: =IF(F26=DATA!$A$1,DATA!$C$1,IF(ตย.ข้อมูลประกอบ!F26=DATA!$A$2,DATA!$C$2,IF(ตย.ข้อมูลประกอบ!F26=DATA!$A$3,DATA!$C$3,IF(ตย.ข้อมูลประกอบ!F26=DATA!$A$4,DATA!$C$4,IF(ตย.ข้อมูลประกอบ!F26=DATA!$A$5,DATA!$C$5,IF(ตย.ข้อมูลประกอบ!F26=DATA!$A$6,DATA!$D$6,IF(ตย.ข้อมูลประกอบ!F26=DATA!$A$7,DATA!$D$7,IF(ตย.ข้อมูลประกอบ!F26=DATA!$A$8,DATA!$B$8)))))))) -> 2500 | P26: =O26*12 -> 30000 | Q26: =IF($F26=DATA!$A$1,DATA!$D$1,IF(ตย.ข้อมูลประกอบ!$F26=DATA!$A$2,DATA!$D$2,IF(ตย.ข้อมูลประกอบ!$F26=DATA!$A$3,DATA!$D$3,IF(ตย.ข้อมูลประกอบ!$F26=DATA!$A$4,DATA!$D$4,IF(ตย.ข้อมูลประกอบ!$F26=DATA!$A$5,DATA!$D$5,IF(ตย.ข้อมูลประกอบ!$F26=DATA!$A$6,DATA!$B$6,IF(ตย.ข้อมูลประกอบ!$F26=DATA!$A$7,DATA!$D$7,IF(ตย.ข้อมูลประกอบ!$F26=DATA!$A$8,DATA!$D$8)))))))) -> 0 | R26: =IF($F26=DATA!$A$1,DATA!$D$1,IF(ตย.ข้อมูลประกอบ!$F26=DATA!$A$2,DATA!$D$2,IF(ตย.ข้อมูลประกอบ!$F26=DATA!$A$3,DATA!$D$3,IF(ตย.ข้อมูลประกอบ!$F26=DATA!$A$4,DATA!$D$4,IF(ตย.ข้อมูลประกอบ!$F26=DATA!$A$5,DATA!$D$5,IF(ตย.ข้อมูลประกอบ!$F26=DATA!$A$6,DATA!$C$6,IF(ตย.ข้อมูลประกอบ!$F26=DATA!$A$7,DATA!$D$7,IF(ตย.ข้อมูลประกอบ!$F26=DATA!$A$8,DATA!$D$8)))))))) -> 0 | S26: =IF($F26=DATA!$A$1,DATA!$D$1,IF(ตย.ข้อมูลประกอบ!$F26=DATA!$A$2,DATA!$D$2,IF(ตย.ข้อมูลประกอบ!$F26=DATA!$A$3,DATA!$D$3,IF(ตย.ข้อมูลประกอบ!$F26=DATA!$A$4,DATA!$D$4,IF(ตย.ข้อมูลประกอบ!$F26=DATA!$A$5,DATA!$D$5,IF(ตย.ข้อมูลประกอบ!$F26=DATA!$A$6,DATA!$E$6,IF(ตย.ข้อมูลประกอบ!$F26=DATA!$A$7,DATA!$D$7,IF(ตย.ข้อมูลประกอบ!$F26=DATA!$A$8,DATA!$D$8)))))))) -> 0 | T26: =Q26*R26*S26 -> 0 | U26: =IF($F26=DATA!$A$1,DATA!$D$1,IF(ตย.ข้อมูลประกอบ!$F26=DATA!$A$2,DATA!$D$2,IF(ตย.ข้อมูลประกอบ!$F26=DATA!$A$3,DATA!$D$3,IF(ตย.ข้อมูลประกอบ!$F26=DATA!$A$4,DATA!$D$4,IF(ตย.ข้อมูลประกอบ!$F26=DATA!$A$5,DATA!$D$5,IF(ตย.ข้อมูลประกอบ!$F26=DATA!$A$6,DATA!$D$6,IF(ตย.ข้อมูลประกอบ!$F26=DATA!$A$7,DATA!$B$7,IF(ตย.ข้อมูลประกอบ!$F26=DATA!$A$8,DATA!$D$8)))))))) -> 0 | V26: =IF($F26=DATA!$A$1,DATA!$D$1,IF(ตย.ข้อมูลประกอบ!$F26=DATA!$A$2,DATA!$D$2,IF(ตย.ข้อมูลประกอบ!$F26=DATA!$A$3,DATA!$D$3,IF(ตย.ข้อมูลประกอบ!$F26=DATA!$A$4,DATA!$D$4,IF(ตย.ข้อมูลประกอบ!$F26=DATA!$A$5,DATA!$D$5,IF(ตย.ข้อมูลประกอบ!$F26=DATA!$A$6,DATA!$D$6,IF(ตย.ข้อมูลประกอบ!$F26=DATA!$A$7,DATA!$C$7,IF(ตย.ข้อมูลประกอบ!$F26=DATA!$A$8,DATA!$D$8)))))))) -> 0 | W26: =U26*V26 -> 0 | X26: =SUM(L26,N26,P26,T26,W26) -> 311313.6
A27: 19 | B27: ร.ร.เทศบาล 2 (บ้านมลายูบางกอก) | C27: 3964/2565 | D27: ปริญญาตรี | E27: นางสาวลีนา บือแน | F27: ครูสอนอิสลามศึกษา | G27: 22630 | H27: =G27*0.04 -> 905.2 | I27: =SUM(G27:H27) -> 23535.2 | J27: =I27*0.05 -> 1176.76 | K27: =IF(J27>=750,750,J27) -> 750 | L27: =SUM(I27+K27)*12 -> 291422.4 | M27: =IF(F27=DATA!$A$1,DATA!$D$1,IF(ตย.ข้อมูลประกอบ!F27=DATA!$A$2,DATA!$D$2,IF(ตย.ข้อมูลประกอบ!F27=DATA!$A$3,DATA!$D$3,IF(ตย.ข้อมูลประกอบ!F27=DATA!$A$4,DATA!$D$4,IF(ตย.ข้อมูลประกอบ!F27=DATA!$A$5,DATA!$B$5,IF(ตย.ข้อมูลประกอบ!F27=DATA!$A$6,DATA!$D$6,IF(ตย.ข้อมูลประกอบ!F27=DATA!$A$7,DATA!$D$7,IF(ตย.ข้อมูลประกอบ!F27=DATA!$A$8,DATA!$D$8)))))))) -> 0 | N27: =M27*12 -> 0 | O27: =IF(F27=DATA!$A$1,DATA!$C$1,IF(ตย.ข้อมูลประกอบ!F27=DATA!$A$2,DATA!$C$2,IF(ตย.ข้อมูลประกอบ!F27=DATA!$A$3,DATA!$C$3,IF(ตย.ข้อมูลประกอบ!F27=DATA!$A$4,DATA!$C$4,IF(ตย.ข้อมูลประกอบ!F27=DATA!$A$5,DATA!$C$5,IF(ตย.ข้อมูลประกอบ!F27=DATA!$A$6,DATA!$D$6,IF(ตย.ข้อมูลประกอบ!F27=DATA!$A$7,DATA!$D$7,IF(ตย.ข้อมูลประกอบ!F27=DATA!$A$8,DATA!$B$8)))))))) -> 2500 | P27: =O27*12 -> 30000 | Q27: =IF($F27=DATA!$A$1,DATA!$D$1,IF(ตย.ข้อมูลประกอบ!$F27=DATA!$A$2,DATA!$D$2,IF(ตย.ข้อมูลประกอบ!$F27=DATA!$A$3,DATA!$D$3,IF(ตย.ข้อมูลประกอบ!$F27=DATA!$A$4,DATA!$D$4,IF(ตย.ข้อมูลประกอบ!$F27=DATA!$A$5,DATA!$D$5,IF(ตย.ข้อมูลประกอบ!$F27=DATA!$A$6,DATA!$B$6,IF(ตย.ข้อมูลประกอบ!$F27=DATA!$A$7,DATA!$D$7,IF(ตย.ข้อมูลประกอบ!$F27=DATA!$A$8,DATA!$D$8)))))))) -> 0 | R27: =IF($F27=DATA!$A$1,DATA!$D$1,IF(ตย.ข้อมูลประกอบ!$F27=DATA!$A$2,DATA!$D$2,IF(ตย.ข้อมูลประกอบ!$F27=DATA!$A$3,DATA!$D$3,IF(ตย.ข้อมูลประกอบ!$F27=DATA!$A$4,DATA!$D$4,IF(ตย.ข้อมูลประกอบ!$F27=DATA!$A$5,DATA!$D$5,IF(ตย.ข้อมูลประกอบ!$F27=DATA!$A$6,DATA!$C$6,IF(ตย.ข้อมูลประกอบ!$F27=DATA!$A$7,DATA!$D$7,IF(ตย.ข้อมูลประกอบ!$F27=DATA!$A$8,DATA!$D$8)))))))) -> 0 | S27: =IF($F27=DATA!$A$1,DATA!$D$1,IF(ตย.ข้อมูลประกอบ!$F27=DATA!$A$2,DATA!$D$2,IF(ตย.ข้อมูลประกอบ!$F27=DATA!$A$3,DATA!$D$3,IF(ตย.ข้อมูลประกอบ!$F27=DATA!$A$4,DATA!$D$4,IF(ตย.ข้อมูลประกอบ!$F27=DATA!$A$5,DATA!$D$5,IF(ตย.ข้อมูลประกอบ!$F27=DATA!$A$6,DATA!$E$6,IF(ตย.ข้อมูลประกอบ!$F27=DATA!$A$7,DATA!$D$7,IF(ตย.ข้อมูลประกอบ!$F27=DATA!$A$8,DATA!$D$8)))))))) -> 0 | T27: =Q27*R27*S27 -> 0 | U27: =IF($F27=DATA!$A$1,DATA!$D$1,IF(ตย.ข้อมูลประกอบ!$F27=DATA!$A$2,DATA!$D$2,IF(ตย.ข้อมูลประกอบ!$F27=DATA!$A$3,DATA!$D$3,IF(ตย.ข้อมูลประกอบ!$F27=DATA!$A$4,DATA!$D$4,IF(ตย.ข้อมูลประกอบ!$F27=DATA!$A$5,DATA!$D$5,IF(ตย.ข้อมูลประกอบ!$F27=DATA!$A$6,DATA!$D$6,IF(ตย.ข้อมูลประกอบ!$F27=DATA!$A$7,DATA!$B$7,IF(ตย.ข้อมูลประกอบ!$F27=DATA!$A$8,DATA!$D$8)))))))) -> 0 | V27: =IF($F27=DATA!$A$1,DATA!$D$1,IF(ตย.ข้อมูลประกอบ!$F27=DATA!$A$2,DATA!$D$2,IF(ตย.ข้อมูลประกอบ!$F27=DATA!$A$3,DATA!$D$3,IF(ตย.ข้อมูลประกอบ!$F27=DATA!$A$4,DATA!$D$4,IF(ตย.ข้อมูลประกอบ!$F27=DATA!$A$5,DATA!$D$5,IF(ตย.ข้อมูลประกอบ!$F27=DATA!$A$6,DATA!$D$6,IF(ตย.ข้อมูลประกอบ!$F27=DATA!$A$7,DATA!$C$7,IF(ตย.ข้อมูลประกอบ!$F27=DATA!$A$8,DATA!$D$8)))))))) -> 0 | W27: =U27*V27 -> 0 | X27: =SUM(L27,N27,P27,T27,W27) -> 321422.4
A28: 20 | B28: ร.ร.เทศบาล 2 (บ้านมลายูบางกอก) | C28: 3964/2565 | D28: ปริญญาตรี | E28: นายบุดีมาน อาแวกะจิ | F28: ครูสอนอิสลามศึกษา | G28: 22040 | H28: =G28*0.04 -> 881.6 | I28: =SUM(G28:H28) -> 22921.6 | J28: =I28*0.05 -> 1146.08 | K28: =IF(J28>=750,750,J28) -> 750 | L28: =SUM(I28+K28)*12 -> 284059.2 | M28: =IF(F28=DATA!$A$1,DATA!$D$1,IF(ตย.ข้อมูลประกอบ!F28=DATA!$A$2,DATA!$D$2,IF(ตย.ข้อมูลประกอบ!F28=DATA!$A$3,DATA!$D$3,IF(ตย.ข้อมูลประกอบ!F28=DATA!$A$4,DATA!$D$4,IF(ตย.ข้อมูลประกอบ!F28=DATA!$A$5,DATA!$B$5,IF(ตย.ข้อมูลประกอบ!F28=DATA!$A$6,DATA!$D$6,IF(ตย.ข้อมูลประกอบ!F28=DATA!$A$7,DATA!$D$7,IF(ตย.ข้อมูลประกอบ!F28=DATA!$A$8,DATA!$D$8)))))))) -> 0 | N28: =M28*12 -> 0 | O28: =IF(F28=DATA!$A$1,DATA!$C$1,IF(ตย.ข้อมูลประกอบ!F28=DATA!$A$2,DATA!$C$2,IF(ตย.ข้อมูลประกอบ!F28=DATA!$A$3,DATA!$C$3,IF(ตย.ข้อมูลประกอบ!F28=DATA!$A$4,DATA!$C$4,IF(ตย.ข้อมูลประกอบ!F28=DATA!$A$5,DATA!$C$5,IF(ตย.ข้อมูลประกอบ!F28=DATA!$A$6,DATA!$D$6,IF(ตย.ข้อมูลประกอบ!F28=DATA!$A$7,DATA!$D$7,IF(ตย.ข้อมูลประกอบ!F28=DATA!$A$8,DATA!$B$8)))))))) -> 2500 | P28: =O28*12 -> 30000 | Q28: =IF($F28=DATA!$A$1,DATA!$D$1,IF(ตย.ข้อมูลประกอบ!$F28=DATA!$A$2,DATA!$D$2,IF(ตย.ข้อมูลประกอบ!$F28=DATA!$A$3,DATA!$D$3,IF(ตย.ข้อมูลประกอบ!$F28=DATA!$A$4,DATA!$D$4,IF(ตย.ข้อมูลประกอบ!$F28=DATA!$A$5,DATA!$D$5,IF(ตย.ข้อมูลประกอบ!$F28=DATA!$A$6,DATA!$B$6,IF(ตย.ข้อมูลประกอบ!$F28=DATA!$A$7,DATA!$D$7,IF(ตย.ข้อมูลประกอบ!$F28=DATA!$A$8,DATA!$D$8)))))))) -> 0 | R28: =IF($F28=DATA!$A$1,DATA!$D$1,IF(ตย.ข้อมูลประกอบ!$F28=DATA!$A$2,DATA!$D$2,IF(ตย.ข้อมูลประกอบ!$F28=DATA!$A$3,DATA!$D$3,IF(ตย.ข้อมูลประกอบ!$F28=DATA!$A$4,DATA!$D$4,IF(ตย.ข้อมูลประกอบ!$F28=DATA!$A$5,DATA!$D$5,IF(ตย.ข้อมูลประกอบ!$F28=DATA!$A$6,DATA!$C$6,IF(ตย.ข้อมูลประกอบ!$F28=DATA!$A$7,DATA!$D$7,IF(ตย.ข้อมูลประกอบ!$F28=DATA!$A$8,DATA!$D$8)))))))) -> 0 | S28: =IF($F28=DATA!$A$1,DATA!$D$1,IF(ตย.ข้อมูลประกอบ!$F28=DATA!$A$2,DATA!$D$2,IF(ตย.ข้อมูลประกอบ!$F28=DATA!$A$3,DATA!$D$3,IF(ตย.ข้อมูลประกอบ!$F28=DATA!$A$4,DATA!$D$4,IF(ตย.ข้อมูลประกอบ!$F28=DATA!$A$5,DATA!$D$5,IF(ตย.ข้อมูลประกอบ!$F28=DATA!$A$6,DATA!$E$6,IF(ตย.ข้อมูลประกอบ!$F28=DATA!$A$7,DATA!$D$7,IF(ตย.ข้อมูลประกอบ!$F28=DATA!$A$8,DATA!$D$8)))))))) -> 0 | T28: =Q28*R28*S28 -> 0 | U28: =IF($F28=DATA!$A$1,DATA!$D$1,IF(ตย.ข้อมูลประกอบ!$F28=DATA!$A$2,DATA!$D$2,IF(ตย.ข้อมูลประกอบ!$F28=DATA!$A$3,DATA!$D$3,IF(ตย.ข้อมูลประกอบ!$F28=DATA!$A$4,DATA!$D$4,IF(ตย.ข้อมูลประกอบ!$F28=DATA!$A$5,DATA!$D$5,IF(ตย.ข้อมูลประกอบ!$F28=DATA!$A$6,DATA!$D$6,IF(ตย.ข้อมูลประกอบ!$F28=DATA!$A$7,DATA!$B$7,IF(ตย.ข้อมูลประกอบ!$F28=DATA!$A$8,DATA!$D$8)))))))) -> 0 | V28: =IF($F28=DATA!$A$1,DATA!$D$1,IF(ตย.ข้อมูลประกอบ!$F28=DATA!$A$2,DATA!$D$2,IF(ตย.ข้อมูลประกอบ!$F28=DATA!$A$3,DATA!$D$3,IF(ตย.ข้อมูลประกอบ!$F28=DATA!$A$4,DATA!$D$4,IF(ตย.ข้อมูลประกอบ!$F28=DATA!$A$5,DATA!$D$5,IF(ตย.ข้อมูลประกอบ!$F28=DATA!$A$6,DATA!$D$6,IF(ตย.ข้อมูลประกอบ!$F28=DATA!$A$7,DATA!$C$7,IF(ตย.ข้อมูลประกอบ!$F28=DATA!$A$8,DATA!$D$8)))))))) -> 0 | W28: =U28*V28 -> 0 | X28: =SUM(L28,N28,P28,T28,W28) -> 314059.2
A29: 21 | B29: ร.ร.เทศบาล 2 (บ้านมลายูบางกอก) | C29: 3964/2565 | D29: ปริญญาตรี | E29: นายมาหะมะสุไฮนี มะเระ | F29: ครูสอนอิสลามศึกษา | G29: 21590 | H29: =G29*0.04 -> 863.6 | I29: =SUM(G29:H29) -> 22453.6 | J29: =I29*0.05 -> 1122.68 | K29: =IF(J29>=750,750,J29) -> 750 | L29: =SUM(I29+K29)*12 -> 278443.2 | M29: =IF(F29=DATA!$A$1,DATA!$D$1,IF(ตย.ข้อมูลประกอบ!F29=DATA!$A$2,DATA!$D$2,IF(ตย.ข้อมูลประกอบ!F29=DATA!$A$3,DATA!$D$3,IF(ตย.ข้อมูลประกอบ!F29=DATA!$A$4,DATA!$D$4,IF(ตย.ข้อมูลประกอบ!F29=DATA!$A$5,DATA!$B$5,IF(ตย.ข้อมูลประกอบ!F29=DATA!$A$6,DATA!$D$6,IF(ตย.ข้อมูลประกอบ!F29=DATA!$A$7,DATA!$D$7,IF(ตย.ข้อมูลประกอบ!F29=DATA!$A$8,DATA!$D$8)))))))) -> 0 | N29: =M29*12 -> 0 | O29: =IF(F29=DATA!$A$1,DATA!$C$1,IF(ตย.ข้อมูลประกอบ!F29=DATA!$A$2,DATA!$C$2,IF(ตย.ข้อมูลประกอบ!F29=DATA!$A$3,DATA!$C$3,IF(ตย.ข้อมูลประกอบ!F29=DATA!$A$4,DATA!$C$4,IF(ตย.ข้อมูลประกอบ!F29=DATA!$A$5,DATA!$C$5,IF(ตย.ข้อมูลประกอบ!F29=DATA!$A$6,DATA!$D$6,IF(ตย.ข้อมูลประกอบ!F29=DATA!$A$7,DATA!$D$7,IF(ตย.ข้อมูลประกอบ!F29=DATA!$A$8,DATA!$B$8)))))))) -> 2500 | P29: =O29*12 -> 30000 | Q29: =IF($F29=DATA!$A$1,DATA!$D$1,IF(ตย.ข้อมูลประกอบ!$F29=DATA!$A$2,DATA!$D$2,IF(ตย.ข้อมูลประกอบ!$F29=DATA!$A$3,DATA!$D$3,IF(ตย.ข้อมูลประกอบ!$F29=DATA!$A$4,DATA!$D$4,IF(ตย.ข้อมูลประกอบ!$F29=DATA!$A$5,DATA!$D$5,IF(ตย.ข้อมูลประกอบ!$F29=DATA!$A$6,DATA!$B$6,IF(ตย.ข้อมูลประกอบ!$F29=DATA!$A$7,DATA!$D$7,IF(ตย.ข้อมูลประกอบ!$F29=DATA!$A$8,DATA!$D$8)))))))) -> 0 | R29: =IF($F29=DATA!$A$1,DATA!$D$1,IF(ตย.ข้อมูลประกอบ!$F29=DATA!$A$2,DATA!$D$2,IF(ตย.ข้อมูลประกอบ!$F29=DATA!$A$3,DATA!$D$3,IF(ตย.ข้อมูลประกอบ!$F29=DATA!$A$4,DATA!$D$4,IF(ตย.ข้อมูลประกอบ!$F29=DATA!$A$5,DATA!$D$5,IF(ตย.ข้อมูลประกอบ!$F29=DATA!$A$6,DATA!$C$6,IF(ตย.ข้อมูลประกอบ!$F29=DATA!$A$7,DATA!$D$7,IF(ตย.ข้อมูลประกอบ!$F29=DATA!$A$8,DATA!$D$8)))))))) -> 0 | S29: =IF($F29=DATA!$A$1,DATA!$D$1,IF(ตย.ข้อมูลประกอบ!$F29=DATA!$A$2,DATA!$D$2,IF(ตย.ข้อมูลประกอบ!$F29=DATA!$A$3,DATA!$D$3,IF(ตย.ข้อมูลประกอบ!$F29=DATA!$A$4,DATA!$D$4,IF(ตย.ข้อมูลประกอบ!$F29=DATA!$A$5,DATA!$D$5,IF(ตย.ข้อมูลประกอบ!$F29=DATA!$A$6,DATA!$E$6,IF(ตย.ข้อมูลประกอบ!$F29=DATA!$A$7,DATA!$D$7,IF(ตย.ข้อมูลประกอบ!$F29=DATA!$A$8,DATA!$D$8)))))))) -> 0 | T29: =Q29*R29*S29 -> 0 | U29: =IF($F29=DATA!$A$1,DATA!$D$1,IF(ตย.ข้อมูลประกอบ!$F29=DATA!$A$2,DATA!$D$2,IF(ตย.ข้อมูลประกอบ!$F29=DATA!$A$3,DATA!$D$3,IF(ตย.ข้อมูลประกอบ!$F29=DATA!$A$4,DATA!$D$4,IF(ตย.ข้อมูลประกอบ!$F29=DATA!$A$5,DATA!$D$5,IF(ตย.ข้อมูลประกอบ!$F29=DATA!$A$6,DATA!$D$6,IF(ตย.ข้อมูลประกอบ!$F29=DATA!$A$7,DATA!$B$7,IF(ตย.ข้อมูลประกอบ!$F29=DATA!$A$8,DATA!$D$8)))))))) -> 0 | V29: =IF($F29=DATA!$A$1,DATA!$D$1,IF(ตย.ข้อมูลประกอบ!$F29=DATA!$A$2,DATA!$D$2,IF(ตย.ข้อมูลประกอบ!$F29=DATA!$A$3,DATA!$D$3,IF(ตย.ข้อมูลประกอบ!$F29=DATA!$A$4,DATA!$D$4,IF(ตย.ข้อมูลประกอบ!$F29=DATA!$A$5,DATA!$D$5,IF(ตย.ข้อมูลประกอบ!$F29=DATA!$A$6,DATA!$D$6,IF(ตย.ข้อมูลประกอบ!$F29=DATA!$A$7,DATA!$C$7,IF(ตย.ข้อมูลประกอบ!$F29=DATA!$A$8,DATA!$D$8)))))))) -> 0 | W29: =U29*V29 -> 0 | X29: =SUM(L29,N29,P29,T29,W29) -> 308443.2
... A42: 34 | B42: ร.ร.เทศบาล 3 (วัดพุทธภูมิ) | C42: 3964/2565 | D42: ปริญญาตรี | E42: นายเอกราช สุวรรณ | F42: ครูสอนพุทธศาสนา | G42: 16560 | H42: =G42*0.04 -> 662.4 | I42: =SUM(G42:H42) -> 17222.4 | J42: =I42*0.05 -> 861.12 | K42: =IF(J42>=750,750,J42) -> 750 | L42: =SUM(I42+K42)*12 -> 215668.8 | M42: =IF(F42=DATA!$A$1,DATA!$D$1,IF(ตย.ข้อมูลประกอบ!F42=DATA!$A$2,DATA!$D$2,IF(ตย.ข้อมูลประกอบ!F42=DATA!$A$3,DATA!$D$3,IF(ตย.ข้อมูลประกอบ!F42=DATA!$A$4,DATA!$D$4,IF(ตย.ข้อมูลประกอบ!F42=DATA!$A$5,DATA!$B$5,IF(ตย.ข้อมูลประกอบ!F42=DATA!$A$6,DATA!$D$6,IF(ตย.ข้อมูลประกอบ!F42=DATA!$A$7,DATA!$D$7,IF(ตย.ข้อมูลประกอบ!F42=DATA!$A$8,DATA!$D$8)))))))) -> 0 | N42: =M42*12 -> 0 | O42: =IF(F42=DATA!$A$1,DATA!$C$1,IF(ตย.ข้อมูลประกอบ!F42=DATA!$A$2,DATA!$C$2,IF(ตย.ข้อมูลประกอบ!F42=DATA!$A$3,DATA!$C$3,IF(ตย.ข้อมูลประกอบ!F42=DATA!$A$4,DATA!$C$4,IF(ตย.ข้อมูลประกอบ!F42=DATA!$A$5,DATA!$C$5,IF(ตย.ข้อมูลประกอบ!F42=DATA!$A$6,DATA!$D$6,IF(ตย.ข้อมูลประกอบ!F42=DATA!$A$7,DATA!$D$7,IF(ตย.ข้อมูลประกอบ!F42=DATA!$A$8,DATA!$B$8)))))))) -> 2500 | P42: =O42*12 -> 30000 | Q42: =IF($F42=DATA!$A$1,DATA!$D$1,IF(ตย.ข้อมูลประกอบ!$F42=DATA!$A$2,DATA!$D$2,IF(ตย.ข้อมูลประกอบ!$F42=DATA!$A$3,DATA!$D$3,IF(ตย.ข้อมูลประกอบ!$F42=DATA!$A$4,DATA!$D$4,IF(ตย.ข้อมูลประกอบ!$F42=DATA!$A$5,DATA!$D$5,IF(ตย.ข้อมูลประกอบ!$F42=DATA!$A$6,DATA!$B$6,IF(ตย.ข้อมูลประกอบ!$F42=DATA!$A$7,DATA!$D$7,IF(ตย.ข้อมูลประกอบ!$F42=DATA!$A$8,DATA!$D$8)))))))) -> 0 | R42: =IF($F42=DATA!$A$1,DATA!$D$1,IF(ตย.ข้อมูลประกอบ!$F42=DATA!$A$2,DATA!$D$2,IF(ตย.ข้อมูลประกอบ!$F42=DATA!$A$3,DATA!$D$3,IF(ตย.ข้อมูลประกอบ!$F42=DATA!$A$4,DATA!$D$4,IF(ตย.ข้อมูลประกอบ!$F42=DATA!$A$5,DATA!$D$5,IF(ตย.ข้อมูลประกอบ!$F42=DATA!$A$6,DATA!$C$6,IF(ตย.ข้อมูลประกอบ!$F42=DATA!$A$7,DATA!$D$7,IF(ตย.ข้อมูลประกอบ!$F42=DATA!$A$8,DATA!$D$8)))))))) -> 0 | S42: =IF($F42=DATA!$A$1,DATA!$D$1,IF(ตย.ข้อมูลประกอบ!$F42=DATA!$A$2,DATA!$D$2,IF(ตย.ข้อมูลประกอบ!$F42=DATA!$A$3,DATA!$D$3,IF(ตย.ข้อมูลประกอบ!$F42=DATA!$A$4,DATA!$D$4,IF(ตย.ข้อมูลประกอบ!$F42=DATA!$A$5,DATA!$D$5,IF(ตย.ข้อมูลประกอบ!$F42=DATA!$A$6,DATA!$E$6,IF(ตย.ข้อมูลประกอบ!$F42=DATA!$A$7,DATA!$D$7,IF(ตย.ข้อมูลประกอบ!$F42=DATA!$A$8,DATA!$D$8)))))))) -> 0 | T42: =Q42*R42*S42 -> 0 | U42: =IF($F42=DATA!$A$1,DATA!$D$1,IF(ตย.ข้อมูลประกอบ!$F42=DATA!$A$2,DATA!$D$2,IF(ตย.ข้อมูลประกอบ!$F42=DATA!$A$3,DATA!$D$3,IF(ตย.ข้อมูลประกอบ!$F42=DATA!$A$4,DATA!$D$4,IF(ตย.ข้อมูลประกอบ!$F42=DATA!$A$5,DATA!$D$5,IF(ตย.ข้อมูลประกอบ!$F42=DATA!$A$6,DATA!$D$6,IF(ตย.ข้อมูลประกอบ!$F42=DATA!$A$7,DATA!$B$7,IF(ตย.ข้อมูลประกอบ!$F42=DATA!$A$8,DATA!$D$8)))))))) -> 0 | V42: =IF($F42=DATA!$A$1,DATA!$D$1,IF(ตย.ข้อมูลประกอบ!$F42=DATA!$A$2,DATA!$D$2,IF(ตย.ข้อมูลประกอบ!$F42=DATA!$A$3,DATA!$D$3,IF(ตย.ข้อมูลประกอบ!$F42=DATA!$A$4,DATA!$D$4,IF(ตย.ข้อมูลประกอบ!$F42=DATA!$A$5,DATA!$D$5,IF(ตย.ข้อมูลประกอบ!$F42=DATA!$A$6,DATA!$D$6,IF(ตย.ข้อมูลประกอบ!$F42=DATA!$A$7,DATA!$C$7,IF(ตย.ข้อมูลประกอบ!$F42=DATA!$A$8,DATA!$D$8)))))))) -> 0 | W42: =U42*V42 -> 0 | X42: =SUM(L42,N42,P42,T42,W42) -> 245668.8
A43: 35 | B43: ร.ร.เทศบาล 3 (วัดพุทธภูมิ) | C43: 3939/2565 | D43: ปริญญาตรี | E43: นายอนันต์ แพทธยา | F43: พนักงานจ้าง | H43: =G43*0.04 -> 0 | I43: =SUM(G43:H43) -> 0 | J43: =I43*0.05 -> 0 | K43: =IF(J43>=750,750,J43) -> 0 | L43: =SUM(I43+K43)*12 -> 0 | M43: =IF(F43=DATA!$A$1,DATA!$D$1,IF(ตย.ข้อมูลประกอบ!F43=DATA!$A$2,DATA!$D$2,IF(ตย.ข้อมูลประกอบ!F43=DATA!$A$3,DATA!$D$3,IF(ตย.ข้อมูลประกอบ!F43=DATA!$A$4,DATA!$D$4,IF(ตย.ข้อมูลประกอบ!F43=DATA!$A$5,DATA!$B$5,IF(ตย.ข้อมูลประกอบ!F43=DATA!$A$6,DATA!$D$6,IF(ตย.ข้อมูลประกอบ!F43=DATA!$A$7,DATA!$D$7,IF(ตย.ข้อมูลประกอบ!F43=DATA!$A$8,DATA!$D$8)))))))) -> 0 | N43: =M43*12 -> 0 | O43: =IF(F43=DATA!$A$1,DATA!$C$1,IF(ตย.ข้อมูลประกอบ!F43=DATA!$A$2,DATA!$C$2,IF(ตย.ข้อมูลประกอบ!F43=DATA!$A$3,DATA!$C$3,IF(ตย.ข้อมูลประกอบ!F43=DATA!$A$4,DATA!$C$4,IF(ตย.ข้อมูลประกอบ!F43=DATA!$A$5,DATA!$C$5,IF(ตย.ข้อมูลประกอบ!F43=DATA!$A$6,DATA!$D$6,IF(ตย.ข้อมูลประกอบ!F43=DATA!$A$7,DATA!$D$7,IF(ตย.ข้อมูลประกอบ!F43=DATA!$A$8,DATA!$B$8)))))))) -> 0 | P43: =O43*12 -> 0 | Q43: =IF($F43=DATA!$A$1,DATA!$D$1,IF(ตย.ข้อมูลประกอบ!$F43=DATA!$A$2,DATA!$D$2,IF(ตย.ข้อมูลประกอบ!$F43=DATA!$A$3,DATA!$D$3,IF(ตย.ข้อมูลประกอบ!$F43=DATA!$A$4,DATA!$D$4,IF(ตย.ข้อมูลประกอบ!$F43=DATA!$A$5,DATA!$D$5,IF(ตย.ข้อมูลประกอบ!$F43=DATA!$A$6,DATA!$B$6,IF(ตย.ข้อมูลประกอบ!$F43=DATA!$A$7,DATA!$D$7,IF(ตย.ข้อมูลประกอบ!$F43=DATA!$A$8,DATA!$D$8)))))))) -> 8 | R43: =IF($F43=DATA!$A$1,DATA!$D$1,IF(ตย.ข้อมูลประกอบ!$F43=DATA!$A$2,DATA!$D$2,IF(ตย.ข้อมูลประกอบ!$F43=DATA!$A$3,DATA!$D$3,IF(ตย.ข้อมูลประกอบ!$F43=DATA!$A$4,DATA!$D$4,IF(ตย.ข้อมูลประกอบ!$F43=DATA!$A$5,DATA!$D$5,IF(ตย.ข้อมูลประกอบ!$F43=DATA!$A$6,DATA!$C$6,IF(ตย.ข้อมูลประกอบ!$F43=DATA!$A$7,DATA!$D$7,IF(ตย.ข้อมูลประกอบ!$F43=DATA!$A$8,DATA!$D$8)))))))) -> 80 | S43: =IF($F43=DATA!$A$1,DATA!$D$1,IF(ตย.ข้อมูลประกอบ!$F43=DATA!$A$2,DATA!$D$2,IF(ตย.ข้อมูลประกอบ!$F43=DATA!$A$3,DATA!$D$3,IF(ตย.ข้อมูลประกอบ!$F43=DATA!$A$4,DATA!$D$4,IF(ตย.ข้อมูลประกอบ!$F43=DATA!$A$5,DATA!$D$5,IF(ตย.ข้อมูลประกอบ!$F43=DATA!$A$6,DATA!$E$6,IF(ตย.ข้อมูลประกอบ!$F43=DATA!$A$7,DATA!$D$7,IF(ตย.ข้อมูลประกอบ!$F43=DATA!$A$8,DATA!$D$8)))))))) -> 200 | T43: =Q43*R43*S43 -> 128000 | U43: =IF($F43=DATA!$A$1,DATA!$D$1,IF(ตย.ข้อมูลประกอบ!$F43=DATA!$A$2,DATA!$D$2,IF(ตย.ข้อมูลประกอบ!$F43=DATA!$A$3,DATA!$D$3,IF(ตย.ข้อมูลประกอบ!$F43=DATA!$A$4,DATA!$D$4,IF(ตย.ข้อมูลประกอบ!$F43=DATA!$A$5,DATA!$D$5,IF(ตย.ข้อมูลประกอบ!$F43=DATA!$A$6,DATA!$D$6,IF(ตย.ข้อมูลประกอบ!$F43=DATA!$A$7,DATA!$B$7,IF(ตย.ข้อมูลประกอบ!$F43=DATA!$A$8,DATA!$D$8)))))))) -> 0 | V43: =IF($F43=DATA!$A$1,DATA!$D$1,IF(ตย.ข้อมูลประกอบ!$F43=DATA!$A$2,DATA!$D$2,IF(ตย.ข้อมูลประกอบ!$F43=DATA!$A$3,DATA!$D$3,IF(ตย.ข้อมูลประกอบ!$F43=DATA!$A$4,DATA!$D$4,IF(ตย.ข้อมูลประกอบ!$F43=DATA!$A$5,DATA!$D$5,IF(ตย.ข้อมูลประกอบ!$F43=DATA!$A$6,DATA!$D$6,IF(ตย.ข้อมูลประกอบ!$F43=DATA!$A$7,DATA!$C$7,IF(ตย.ข้อมูลประกอบ!$F43=DATA!$A$8,DATA!$D$8)))))))) -> 0 | W43: =U43*V43 -> 0 | X43: =SUM(L43,N43,P43,T43,W43) -> 128000
A44: 36 | B44: ร.ร.เทศบาล 3 (วัดพุทธภูมิ) | C44: 3939/2565 | D44: ปริญญาตรี | E44: นางสาวกรุณา แก้วร่มไทร | F44: พนักงานจ้าง | H44: =G44*0.04 -> 0 | I44: =SUM(G44:H44) -> 0 | J44: =I44*0.05 -> 0 | K44: =IF(J44>=750,750,J44) -> 0 | L44: =SUM(I44+K44)*12 -> 0 | M44: =IF(F44=DATA!$A$1,DATA!$D$1,IF(ตย.ข้อมูลประกอบ!F44=DATA!$A$2,DATA!$D$2,IF(ตย.ข้อมูลประกอบ!F44=DATA!$A$3,DATA!$D$3,IF(ตย.ข้อมูลประกอบ!F44=DATA!$A$4,DATA!$D$4,IF(ตย.ข้อมูลประกอบ!F44=DATA!$A$5,DATA!$B$5,IF(ตย.ข้อมูลประกอบ!F44=DATA!$A$6,DATA!$D$6,IF(ตย.ข้อมูลประกอบ!F44=DATA!$A$7,DATA!$D$7,IF(ตย.ข้อมูลประกอบ!F44=DATA!$A$8,DATA!$D$8)))))))) -> 0 | N44: =M44*12 -> 0 | O44: =IF(F44=DATA!$A$1,DATA!$C$1,IF(ตย.ข้อมูลประกอบ!F44=DATA!$A$2,DATA!$C$2,IF(ตย.ข้อมูลประกอบ!F44=DATA!$A$3,DATA!$C$3,IF(ตย.ข้อมูลประกอบ!F44=DATA!$A$4,DATA!$C$4,IF(ตย.ข้อมูลประกอบ!F44=DATA!$A$5,DATA!$C$5,IF(ตย.ข้อมูลประกอบ!F44=DATA!$A$6,DATA!$D$6,IF(ตย.ข้อมูลประกอบ!F44=DATA!$A$7,DATA!$D$7,IF(ตย.ข้อมูลประกอบ!F44=DATA!$A$8,DATA!$B$8)))))))) -> 0 | P44: =O44*12 -> 0 | Q44: =IF($F44=DATA!$A$1,DATA!$D$1,IF(ตย.ข้อมูลประกอบ!$F44=DATA!$A$2,DATA!$D$2,IF(ตย.ข้อมูลประกอบ!$F44=DATA!$A$3,DATA!$D$3,IF(ตย.ข้อมูลประกอบ!$F44=DATA!$A$4,DATA!$D$4,IF(ตย.ข้อมูลประกอบ!$F44=DATA!$A$5,DATA!$D$5,IF(ตย.ข้อมูลประกอบ!$F44=DATA!$A$6,DATA!$B$6,IF(ตย.ข้อมูลประกอบ!$F44=DATA!$A$7,DATA!$D$7,IF(ตย.ข้อมูลประกอบ!$F44=DATA!$A$8,DATA!$D$8)))))))) -> 8 | R44: =IF($F44=DATA!$A$1,DATA!$D$1,IF(ตย.ข้อมูลประกอบ!$F44=DATA!$A$2,DATA!$D$2,IF(ตย.ข้อมูลประกอบ!$F44=DATA!$A$3,DATA!$D$3,IF(ตย.ข้อมูลประกอบ!$F44=DATA!$A$4,DATA!$D$4,IF(ตย.ข้อมูลประกอบ!$F44=DATA!$A$5,DATA!$D$5,IF(ตย.ข้อมูลประกอบ!$F44=DATA!$A$6,DATA!$C$6,IF(ตย.ข้อมูลประกอบ!$F44=DATA!$A$7,DATA!$D$7,IF(ตย.ข้อมูลประกอบ!$F44=DATA!$A$8,DATA!$D$8)))))))) -> 80 | S44: =IF($F44=DATA!$A$1,DATA!$D$1,IF(ตย.ข้อมูลประกอบ!$F44=DATA!$A$2,DATA!$D$2,IF(ตย.ข้อมูลประกอบ!$F44=DATA!$A$3,DATA!$D$3,IF(ตย.ข้อมูลประกอบ!$F44=DATA!$A$4,DATA!$D$4,IF(ตย.ข้อมูลประกอบ!$F44=DATA!$A$5,DATA!$D$5,IF(ตย.ข้อมูลประกอบ!$F44=DATA!$A$6,DATA!$E$6,IF(ตย.ข้อมูลประกอบ!$F44=DATA!$A$7,DATA!$D$7,IF(ตย.ข้อมูลประกอบ!$F44=DATA!$A$8,DATA!$D$8)))))))) -> 200 | T44: =Q44*R44*S44 -> 128000 | U44: =IF($F44=DATA!$A$1,DATA!$D$1,IF(ตย.ข้อมูลประกอบ!$F44=DATA!$A$2,DATA!$D$2,IF(ตย.ข้อมูลประกอบ!$F44=DATA!$A$3,DATA!$D$3,IF(ตย.ข้อมูลประกอบ!$F44=DATA!$A$4,DATA!$D$4,IF(ตย.ข้อมูลประกอบ!$F44=DATA!$A$5,DATA!$D$5,IF(ตย.ข้อมูลประกอบ!$F44=DATA!$A$6,DATA!$D$6,IF(ตย.ข้อมูลประกอบ!$F44=DATA!$A$7,DATA!$B$7,IF(ตย.ข้อมูลประกอบ!$F44=DATA!$A$8,DATA!$D$8)))))))) -> 0 | V44: =IF($F44=DATA!$A$1,DATA!$D$1,IF(ตย.ข้อมูลประกอบ!$F44=DATA!$A$2,DATA!$D$2,IF(ตย.ข้อมูลประกอบ!$F44=DATA!$A$3,DATA!$D$3,IF(ตย.ข้อมูลประกอบ!$F44=DATA!$A$4,DATA!$D$4,IF(ตย.ข้อมูลประกอบ!$F44=DATA!$A$5,DATA!$D$5,IF(ตย.ข้อมูลประกอบ!$F44=DATA!$A$6,DATA!$D$6,IF(ตย.ข้อมูลประกอบ!$F44=DATA!$A$7,DATA!$C$7,IF(ตย.ข้อมูลประกอบ!$F44=DATA!$A$8,DATA!$D$8)))))))) -> 0 | W44: =U44*V44 -> 0 | X44: =SUM(L44,N44,P44,T44,W44) -> 128000
A45: 37 | B45: ร.ร.เทศบาล 3 (วัดพุทธภูมิ) | C45: 3939/2565 | D45: ปริญญาตรี | E45: นางสาวอาทรทิพย์ ศักดิ์ณรงค์ | F45: พนักงานจ้าง | H45: =G45*0.04 -> 0 | I45: =SUM(G45:H45) -> 0 | J45: =I45*0.05 -> 0 | K45: =IF(J45>=750,750,J45) -> 0 | L45: =SUM(I45+K45)*12 -> 0 | M45: =IF(F45=DATA!$A$1,DATA!$D$1,IF(ตย.ข้อมูลประกอบ!F45=DATA!$A$2,DATA!$D$2,IF(ตย.ข้อมูลประกอบ!F45=DATA!$A$3,DATA!$D$3,IF(ตย.ข้อมูลประกอบ!F45=DATA!$A$4,DATA!$D$4,IF(ตย.ข้อมูลประกอบ!F45=DATA!$A$5,DATA!$B$5,IF(ตย.ข้อมูลประกอบ!F45=DATA!$A$6,DATA!$D$6,IF(ตย.ข้อมูลประกอบ!F45=DATA!$A$7,DATA!$D$7,IF(ตย.ข้อมูลประกอบ!F45=DATA!$A$8,DATA!$D$8)))))))) -> 0 | N45: =M45*12 -> 0 | O45: =IF(F45=DATA!$A$1,DATA!$C$1,IF(ตย.ข้อมูลประกอบ!F45=DATA!$A$2,DATA!$C$2,IF(ตย.ข้อมูลประกอบ!F45=DATA!$A$3,DATA!$C$3,IF(ตย.ข้อมูลประกอบ!F45=DATA!$A$4,DATA!$C$4,IF(ตย.ข้อมูลประกอบ!F45=DATA!$A$5,DATA!$C$5,IF(ตย.ข้อมูลประกอบ!F45=DATA!$A$6,DATA!$D$6,IF(ตย.ข้อมูลประกอบ!F45=DATA!$A$7,DATA!$D$7,IF(ตย.ข้อมูลประกอบ!F45=DATA!$A$8,DATA!$B$8)))))))) -> 0 | P45: =O45*12 -> 0 | Q45: =IF($F45=DATA!$A$1,DATA!$D$1,IF(ตย.ข้อมูลประกอบ!$F45=DATA!$A$2,DATA!$D$2,IF(ตย.ข้อมูลประกอบ!$F45=DATA!$A$3,DATA!$D$3,IF(ตย.ข้อมูลประกอบ!$F45=DATA!$A$4,DATA!$D$4,IF(ตย.ข้อมูลประกอบ!$F45=DATA!$A$5,DATA!$D$5,IF(ตย.ข้อมูลประกอบ!$F45=DATA!$A$6,DATA!$B$6,IF(ตย.ข้อมูลประกอบ!$F45=DATA!$A$7,DATA!$D$7,IF(ตย.ข้อมูลประกอบ!$F45=DATA!$A$8,DATA!$D$8)))))))) -> 8 | R45: =IF($F45=DATA!$A$1,DATA!$D$1,IF(ตย.ข้อมูลประกอบ!$F45=DATA!$A$2,DATA!$D$2,IF(ตย.ข้อมูลประกอบ!$F45=DATA!$A$3,DATA!$D$3,IF(ตย.ข้อมูลประกอบ!$F45=DATA!$A$4,DATA!$D$4,IF(ตย.ข้อมูลประกอบ!$F45=DATA!$A$5,DATA!$D$5,IF(ตย.ข้อมูลประกอบ!$F45=DATA!$A$6,DATA!$C$6,IF(ตย.ข้อมูลประกอบ!$F45=DATA!$A$7,DATA!$D$7,IF(ตย.ข้อมูลประกอบ!$F45=DATA!$A$8,DATA!$D$8)))))))) -> 80 | S45: =IF($F45=DATA!$A$1,DATA!$D$1,IF(ตย.ข้อมูลประกอบ!$F45=DATA!$A$2,DATA!$D$2,IF(ตย.ข้อมูลประกอบ!$F45=DATA!$A$3,DATA!$D$3,IF(ตย.ข้อมูลประกอบ!$F45=DATA!$A$4,DATA!$D$4,IF(ตย.ข้อมูลประกอบ!$F45=DATA!$A$5,DATA!$D$5,IF(ตย.ข้อมูลประกอบ!$F45=DATA!$A$6,DATA!$E$6,IF(ตย.ข้อมูลประกอบ!$F45=DATA!$A$7,DATA!$D$7,IF(ตย.ข้อมูลประกอบ!$F45=DATA!$A$8,DATA!$D$8)))))))) -> 200 | T45: =Q45*R45*S45 -> 128000 | U45: =IF($F45=DATA!$A$1,DATA!$D$1,IF(ตย.ข้อมูลประกอบ!$F45=DATA!$A$2,DATA!$D$2,IF(ตย.ข้อมูลประกอบ!$F45=DATA!$A$3,DATA!$D$3,IF(ตย.ข้อมูลประกอบ!$F45=DATA!$A$4,DATA!$D$4,IF(ตย.ข้อมูลประกอบ!$F45=DATA!$A$5,DATA!$D$5,IF(ตย.ข้อมูลประกอบ!$F45=DATA!$A$6,DATA!$D$6,IF(ตย.ข้อมูลประกอบ!$F45=DATA!$A$7,DATA!$B$7,IF(ตย.ข้อมูลประกอบ!$F45=DATA!$A$8,DATA!$D$8)))))))) -> 0 | V45: =IF($F45=DATA!$A$1,DATA!$D$1,IF(ตย.ข้อมูลประกอบ!$F45=DATA!$A$2,DATA!$D$2,IF(ตย.ข้อมูลประกอบ!$F45=DATA!$A$3,DATA!$D$3,IF(ตย.ข้อมูลประกอบ!$F45=DATA!$A$4,DATA!$D$4,IF(ตย.ข้อมูลประกอบ!$F45=DATA!$A$5,DATA!$D$5,IF(ตย.ข้อมูลประกอบ!$F45=DATA!$A$6,DATA!$D$6,IF(ตย.ข้อมูลประกอบ!$F45=DATA!$A$7,DATA!$C$7,IF(ตย.ข้อมูลประกอบ!$F45=DATA!$A$8,DATA!$D$8)))))))) -> 0 | W45: =U45*V45 -> 0 | X45: =SUM(L45,N45,P45,T45,W45) -> 128000
A46: 38 | B46: ร.ร.เทศบาล 3 (วัดพุทธภูมิ) | C46: 3586/2565 | D46: ม.ต้น | E46: นางสาวสุวัลลีย์ คงทน | F46: นักการภารโรง | H46: =G46*0.04 -> 0 | I46: =SUM(G46:H46) -> 0 | J46: =I46*0.05 -> 0 | K46: =IF(J46>=750,750,J46) -> 0 | L46: =SUM(I46+K46)*12 -> 0 | M46: =IF(F46=DATA!$A$1,DATA!$D$1,IF(ตย.ข้อมูลประกอบ!F46=DATA!$A$2,DATA!$D$2,IF(ตย.ข้อมูลประกอบ!F46=DATA!$A$3,DATA!$D$3,IF(ตย.ข้อมูลประกอบ!F46=DATA!$A$4,DATA!$D$4,IF(ตย.ข้อมูลประกอบ!F46=DATA!$A$5,DATA!$B$5,IF(ตย.ข้อมูลประกอบ!F46=DATA!$A$6,DATA!$D$6,IF(ตย.ข้อมูลประกอบ!F46=DATA!$A$7,DATA!$D$7,IF(ตย.ข้อมูลประกอบ!F46=DATA!$A$8,DATA!$D$8)))))))) -> 0 | N46: =M46*12 -> 0 | O46: =IF(F46=DATA!$A$1,DATA!$C$1,IF(ตย.ข้อมูลประกอบ!F46=DATA!$A$2,DATA!$C$2,IF(ตย.ข้อมูลประกอบ!F46=DATA!$A$3,DATA!$C$3,IF(ตย.ข้อมูลประกอบ!F46=DATA!$A$4,DATA!$C$4,IF(ตย.ข้อมูลประกอบ!F46=DATA!$A$5,DATA!$C$5,IF(ตย.ข้อมูลประกอบ!F46=DATA!$A$6,DATA!$D$6,IF(ตย.ข้อมูลประกอบ!F46=DATA!$A$7,DATA!$D$7,IF(ตย.ข้อมูลประกอบ!F46=DATA!$A$8,DATA!$B$8)))))))) -> 0 | P46: =O46*12 -> 0 | Q46: =IF($F46=DATA!$A$1,DATA!$D$1,IF(ตย.ข้อมูลประกอบ!$F46=DATA!$A$2,DATA!$D$2,IF(ตย.ข้อมูลประกอบ!$F46=DATA!$A$3,DATA!$D$3,IF(ตย.ข้อมูลประกอบ!$F46=DATA!$A$4,DATA!$D$4,IF(ตย.ข้อมูลประกอบ!$F46=DATA!$A$5,DATA!$D$5,IF(ตย.ข้อมูลประกอบ!$F46=DATA!$A$6,DATA!$B$6,IF(ตย.ข้อมูลประกอบ!$F46=DATA!$A$7,DATA!$D$7,IF(ตย.ข้อมูลประกอบ!$F46=DATA!$A$8,DATA!$D$8)))))))) -> 0 | R46: =IF($F46=DATA!$A$1,DATA!$D$1,IF(ตย.ข้อมูลประกอบ!$F46=DATA!$A$2,DATA!$D$2,IF(ตย.ข้อมูลประกอบ!$F46=DATA!$A$3,DATA!$D$3,IF(ตย.ข้อมูลประกอบ!$F46=DATA!$A$4,DATA!$D$4,IF(ตย.ข้อมูลประกอบ!$F46=DATA!$A$5,DATA!$D$5,IF(ตย.ข้อมูลประกอบ!$F46=DATA!$A$6,DATA!$C$6,IF(ตย.ข้อมูลประกอบ!$F46=DATA!$A$7,DATA!$D$7,IF(ตย.ข้อมูลประกอบ!$F46=DATA!$A$8,DATA!$D$8)))))))) -> 0 | S46: =IF($F46=DATA!$A$1,DATA!$D$1,IF(ตย.ข้อมูลประกอบ!$F46=DATA!$A$2,DATA!$D$2,IF(ตย.ข้อมูลประกอบ!$F46=DATA!$A$3,DATA!$D$3,IF(ตย.ข้อมูลประกอบ!$F46=DATA!$A$4,DATA!$D$4,IF(ตย.ข้อมูลประกอบ!$F46=DATA!$A$5,DATA!$D$5,IF(ตย.ข้อมูลประกอบ!$F46=DATA!$A$6,DATA!$E$6,IF(ตย.ข้อมูลประกอบ!$F46=DATA!$A$7,DATA!$D$7,IF(ตย.ข้อมูลประกอบ!$F46=DATA!$A$8,DATA!$D$8)))))))) -> 0 | T46: =Q46*R46*S46 -> 0 | U46: =IF($F46=DATA!$A$1,DATA!$D$1,IF(ตย.ข้อมูลประกอบ!$F46=DATA!$A$2,DATA!$D$2,IF(ตย.ข้อมูลประกอบ!$F46=DATA!$A$3,DATA!$D$3,IF(ตย.ข้อมูลประกอบ!$F46=DATA!$A$4,DATA!$D$4,IF(ตย.ข้อมูลประกอบ!$F46=DATA!$A$5,DATA!$D$5,IF(ตย.ข้อมูลประกอบ!$F46=DATA!$A$6,DATA!$D$6,IF(ตย.ข้อมูลประกอบ!$F46=DATA!$A$7,DATA!$B$7,IF(ตย.ข้อมูลประกอบ!$F46=DATA!$A$8,DATA!$D$8)))))))) -> 80 | V46: =IF($F46=DATA!$A$1,DATA!$D$1,IF(ตย.ข้อมูลประกอบ!$F46=DATA!$A$2,DATA!$D$2,IF(ตย.ข้อมูลประกอบ!$F46=DATA!$A$3,DATA!$D$3,IF(ตย.ข้อมูลประกอบ!$F46=DATA!$A$4,DATA!$D$4,IF(ตย.ข้อมูลประกอบ!$F46=DATA!$A$5,DATA!$D$5,IF(ตย.ข้อมูลประกอบ!$F46=DATA!$A$6,DATA!$D$6,IF(ตย.ข้อมูลประกอบ!$F46=DATA!$A$7,DATA!$C$7,IF(ตย.ข้อมูลประกอบ!$F46=DATA!$A$8,DATA!$D$8)))))))) -> 300 | W46: =U46*V46 -> 24000 | X46: =SUM(L46,N46,P46,T46,W46) -> 24000
A47: 39 | B47: ร.ร.เทศบาล 3 (วัดพุทธภูมิ) | C47: 3379/2565 | D47: ปริญญาตรี | E47: นายภคิน ไพยจิตร | F47: ครูสอนพุทธศาสนา | G47: 15000 | H47: =G47*0.04 -> 600 | I47: =SUM(G47:H47) -> 15600 | J47: =I47*0.05 -> 780 | K47: =IF(J47>=750,750,J47) -> 750 | L47: =SUM(I47+K47)*12 -> 196200 | M47: =IF(F47=DATA!$A$1,DATA!$D$1,IF(ตย.ข้อมูลประกอบ!F47=DATA!$A$2,DATA!$D$2,IF(ตย.ข้อมูลประกอบ!F47=DATA!$A$3,DATA!$D$3,IF(ตย.ข้อมูลประกอบ!F47=DATA!$A$4,DATA!$D$4,IF(ตย.ข้อมูลประกอบ!F47=DATA!$A$5,DATA!$B$5,IF(ตย.ข้อมูลประกอบ!F47=DATA!$A$6,DATA!$D$6,IF(ตย.ข้อมูลประกอบ!F47=DATA!$A$7,DATA!$D$7,IF(ตย.ข้อมูลประกอบ!F47=DATA!$A$8,DATA!$D$8)))))))) -> 0 | N47: =M47*12 -> 0 | O47: =IF(F47=DATA!$A$1,DATA!$C$1,IF(ตย.ข้อมูลประกอบ!F47=DATA!$A$2,DATA!$C$2,IF(ตย.ข้อมูลประกอบ!F47=DATA!$A$3,DATA!$C$3,IF(ตย.ข้อมูลประกอบ!F47=DATA!$A$4,DATA!$C$4,IF(ตย.ข้อมูลประกอบ!F47=DATA!$A$5,DATA!$C$5,IF(ตย.ข้อมูลประกอบ!F47=DATA!$A$6,DATA!$D$6,IF(ตย.ข้อมูลประกอบ!F47=DATA!$A$7,DATA!$D$7,IF(ตย.ข้อมูลประกอบ!F47=DATA!$A$8,DATA!$B$8)))))))) -> 2500 | P47: =O47*12 -> 30000 | Q47: =IF($F47=DATA!$A$1,DATA!$D$1,IF(ตย.ข้อมูลประกอบ!$F47=DATA!$A$2,DATA!$D$2,IF(ตย.ข้อมูลประกอบ!$F47=DATA!$A$3,DATA!$D$3,IF(ตย.ข้อมูลประกอบ!$F47=DATA!$A$4,DATA!$D$4,IF(ตย.ข้อมูลประกอบ!$F47=DATA!$A$5,DATA!$D$5,IF(ตย.ข้อมูลประกอบ!$F47=DATA!$A$6,DATA!$B$6,IF(ตย.ข้อมูลประกอบ!$F47=DATA!$A$7,DATA!$D$7,IF(ตย.ข้อมูลประกอบ!$F47=DATA!$A$8,DATA!$D$8)))))))) -> 0 | R47: =IF($F47=DATA!$A$1,DATA!$D$1,IF(ตย.ข้อมูลประกอบ!$F47=DATA!$A$2,DATA!$D$2,IF(ตย.ข้อมูลประกอบ!$F47=DATA!$A$3,DATA!$D$3,IF(ตย.ข้อมูลประกอบ!$F47=DATA!$A$4,DATA!$D$4,IF(ตย.ข้อมูลประกอบ!$F47=DATA!$A$5,DATA!$D$5,IF(ตย.ข้อมูลประกอบ!$F47=DATA!$A$6,DATA!$C$6,IF(ตย.ข้อมูลประกอบ!$F47=DATA!$A$7,DATA!$D$7,IF(ตย.ข้อมูลประกอบ!$F47=DATA!$A$8,DATA!$D$8)))))))) -> 0 | S47: =IF($F47=DATA!$A$1,DATA!$D$1,IF(ตย.ข้อมูลประกอบ!$F47=DATA!$A$2,DATA!$D$2,IF(ตย.ข้อมูลประกอบ!$F47=DATA!$A$3,DATA!$D$3,IF(ตย.ข้อมูลประกอบ!$F47=DATA!$A$4,DATA!$D$4,IF(ตย.ข้อมูลประกอบ!$F47=DATA!$A$5,DATA!$D$5,IF(ตย.ข้อมูลประกอบ!$F47=DATA!$A$6,DATA!$E$6,IF(ตย.ข้อมูลประกอบ!$F47=DATA!$A$7,DATA!$D$7,IF(ตย.ข้อมูลประกอบ!$F47=DATA!$A$8,DATA!$D$8)))))))) -> 0 | T47: =Q47*R47*S47 -> 0 | U47: =IF($F47=DATA!$A$1,DATA!$D$1,IF(ตย.ข้อมูลประกอบ!$F47=DATA!$A$2,DATA!$D$2,IF(ตย.ข้อมูลประกอบ!$F47=DATA!$A$3,DATA!$D$3,IF(ตย.ข้อมูลประกอบ!$F47=DATA!$A$4,DATA!$D$4,IF(ตย.ข้อมูลประกอบ!$F47=DATA!$A$5,DATA!$D$5,IF(ตย.ข้อมูลประกอบ!$F47=DATA!$A$6,DATA!$D$6,IF(ตย.ข้อมูลประกอบ!$F47=DATA!$A$7,DATA!$B$7,IF(ตย.ข้อมูลประกอบ!$F47=DATA!$A$8,DATA!$D$8)))))))) -> 0 | V47: =IF($F47=DATA!$A$1,DATA!$D$1,IF(ตย.ข้อมูลประกอบ!$F47=DATA!$A$2,DATA!$D$2,IF(ตย.ข้อมูลประกอบ!$F47=DATA!$A$3,DATA!$D$3,IF(ตย.ข้อมูลประกอบ!$F47=DATA!$A$4,DATA!$D$4,IF(ตย.ข้อมูลประกอบ!$F47=DATA!$A$5,DATA!$D$5,IF(ตย.ข้อมูลประกอบ!$F47=DATA!$A$6,DATA!$D$6,IF(ตย.ข้อมูลประกอบ!$F47=DATA!$A$7,DATA!$C$7,IF(ตย.ข้อมูลประกอบ!$F47=DATA!$A$8,DATA!$D$8)))))))) -> 0 | W47: =U47*V47 -> 0 | X47: =SUM(L47,N47,P47,T47,W47) -> 226200
A48: 40 | B48: ร.ร.เทศบาล 4 (ธนวิถี) | C48: 3964/2565 | D48: ปริญญาตรี | E48: นางวรรณนี บูหา | F48: ครูสอนอิสลามศึกษา | G48: 24190 | H48: =G48*0.04 -> 967.6 | I48: =SUM(G48:H48) -> 25157.6 | J48: =I48*0.05 -> 1257.88 | K48: =IF(J48>=750,750,J48) -> 750 | L48: =SUM(I48+K48)*12 -> 310891.2 | M48: =IF(F48=DATA!$A$1,DATA!$D$1,IF(ตย.ข้อมูลประกอบ!F48=DATA!$A$2,DATA!$D$2,IF(ตย.ข้อมูลประกอบ!F48=DATA!$A$3,DATA!$D$3,IF(ตย.ข้อมูลประกอบ!F48=DATA!$A$4,DATA!$D$4,IF(ตย.ข้อมูลประกอบ!F48=DATA!$A$5,DATA!$B$5,IF(ตย.ข้อมูลประกอบ!F48=DATA!$A$6,DATA!$D$6,IF(ตย.ข้อมูลประกอบ!F48=DATA!$A$7,DATA!$D$7,IF(ตย.ข้อมูลประกอบ!F48=DATA!$A$8,DATA!$D$8)))))))) -> 0 | N48: =M48*12 -> 0 | O48: =IF(F48=DATA!$A$1,DATA!$C$1,IF(ตย.ข้อมูลประกอบ!F48=DATA!$A$2,DATA!$C$2,IF(ตย.ข้อมูลประกอบ!F48=DATA!$A$3,DATA!$C$3,IF(ตย.ข้อมูลประกอบ!F48=DATA!$A$4,DATA!$C$4,IF(ตย.ข้อมูลประกอบ!F48=DATA!$A$5,DATA!$C$5,IF(ตย.ข้อมูลประกอบ!F48=DATA!$A$6,DATA!$D$6,IF(ตย.ข้อมูลประกอบ!F48=DATA!$A$7,DATA!$D$7,IF(ตย.ข้อมูลประกอบ!F48=DATA!$A$8,DATA!$B$8)))))))) -> 2500 | P48: =O48*12 -> 30000 | Q48: =IF($F48=DATA!$A$1,DATA!$D$1,IF(ตย.ข้อมูลประกอบ!$F48=DATA!$A$2,DATA!$D$2,IF(ตย.ข้อมูลประกอบ!$F48=DATA!$A$3,DATA!$D$3,IF(ตย.ข้อมูลประกอบ!$F48=DATA!$A$4,DATA!$D$4,IF(ตย.ข้อมูลประกอบ!$F48=DATA!$A$5,DATA!$D$5,IF(ตย.ข้อมูลประกอบ!$F48=DATA!$A$6,DATA!$B$6,IF(ตย.ข้อมูลประกอบ!$F48=DATA!$A$7,DATA!$D$7,IF(ตย.ข้อมูลประกอบ!$F48=DATA!$A$8,DATA!$D$8)))))))) -> 0 | R48: =IF($F48=DATA!$A$1,DATA!$D$1,IF(ตย.ข้อมูลประกอบ!$F48=DATA!$A$2,DATA!$D$2,IF(ตย.ข้อมูลประกอบ!$F48=DATA!$A$3,DATA!$D$3,IF(ตย.ข้อมูลประกอบ!$F48=DATA!$A$4,DATA!$D$4,IF(ตย.ข้อมูลประกอบ!$F48=DATA!$A$5,DATA!$D$5,IF(ตย.ข้อมูลประกอบ!$F48=DATA!$A$6,DATA!$C$6,IF(ตย.ข้อมูลประกอบ!$F48=DATA!$A$7,DATA!$D$7,IF(ตย.ข้อมูลประกอบ!$F48=DATA!$A$8,DATA!$D$8)))))))) -> 0 | S48: =IF($F48=DATA!$A$1,DATA!$D$1,IF(ตย.ข้อมูลประกอบ!$F48=DATA!$A$2,DATA!$D$2,IF(ตย.ข้อมูลประกอบ!$F48=DATA!$A$3,DATA!$D$3,IF(ตย.ข้อมูลประกอบ!$F48=DATA!$A$4,DATA!$D$4,IF(ตย.ข้อมูลประกอบ!$F48=DATA!$A$5,DATA!$D$5,IF(ตย.ข้อมูลประกอบ!$F48=DATA!$A$6,DATA!$E$6,IF(ตย.ข้อมูลประกอบ!$F48=DATA!$A$7,DATA!$D$7,IF(ตย.ข้อมูลประกอบ!$F48=DATA!$A$8,DATA!$D$8)))))))) -> 0 | T48: =Q48*R48*S48 -> 0 | U48: =IF($F48=DATA!$A$1,DATA!$D$1,IF(ตย.ข้อมูลประกอบ!$F48=DATA!$A$2,DATA!$D$2,IF(ตย.ข้อมูลประกอบ!$F48=DATA!$A$3,DATA!$D$3,IF(ตย.ข้อมูลประกอบ!$F48=DATA!$A$4,DATA!$D$4,IF(ตย.ข้อมูลประกอบ!$F48=DATA!$A$5,DATA!$D$5,IF(ตย.ข้อมูลประกอบ!$F48=DATA!$A$6,DATA!$D$6,IF(ตย.ข้อมูลประกอบ!$F48=DATA!$A$7,DATA!$B$7,IF(ตย.ข้อมูลประกอบ!$F48=DATA!$A$8,DATA!$D$8)))))))) -> 0 | V48: =IF($F48=DATA!$A$1,DATA!$D$1,IF(ตย.ข้อมูลประกอบ!$F48=DATA!$A$2,DATA!$D$2,IF(ตย.ข้อมูลประกอบ!$F48=DATA!$A$3,DATA!$D$3,IF(ตย.ข้อมูลประกอบ!$F48=DATA!$A$4,DATA!$D$4,IF(ตย.ข้อมูลประกอบ!$F48=DATA!$A$5,DATA!$D$5,IF(ตย.ข้อมูลประกอบ!$F48=DATA!$A$6,DATA!$D$6,IF(ตย.ข้อมูลประกอบ!$F48=DATA!$A$7,DATA!$C$7,IF(ตย.ข้อมูลประกอบ!$F48=DATA!$A$8,DATA!$D$8)))))))) -> 0 | W48: =U48*V48 -> 0 | X48: =SUM(L48,N48,P48,T48,W48) -> 340891.2
A49: 41 | B49: ร.ร.เทศบาล 4 (ธนวิถี) | C49: 3964/2565 | D49: ปริญญาตรี | E49: นางสาวนาถยา พรหมนะ | F49: ครูสอนพุทธศาสนา | G49: 21470 | H49: =G49*0.04 -> 858.8 | I49: =SUM(G49:H49) -> 22328.8 | J49: =I49*0.05 -> 1116.44 | K49: =IF(J49>=750,750,J49) -> 750 | L49: =SUM(I49+K49)*12 -> 276945.6 | M49: =IF(F49=DATA!$A$1,DATA!$D$1,IF(ตย.ข้อมูลประกอบ!F49=DATA!$A$2,DATA!$D$2,IF(ตย.ข้อมูลประกอบ!F49=DATA!$A$3,DATA!$D$3,IF(ตย.ข้อมูลประกอบ!F49=DATA!$A$4,DATA!$D$4,IF(ตย.ข้อมูลประกอบ!F49=DATA!$A$5,DATA!$B$5,IF(ตย.ข้อมูลประกอบ!F49=DATA!$A$6,DATA!$D$6,IF(ตย.ข้อมูลประกอบ!F49=DATA!$A$7,DATA!$D$7,IF(ตย.ข้อมูลประกอบ!F49=DATA!$A$8,DATA!$D$8)))))))) -> 0 | N49: =M49*12 -> 0 | O49: =IF(F49=DATA!$A$1,DATA!$C$1,IF(ตย.ข้อมูลประกอบ!F49=DATA!$A$2,DATA!$C$2,IF(ตย.ข้อมูลประกอบ!F49=DATA!$A$3,DATA!$C$3,IF(ตย.ข้อมูลประกอบ!F49=DATA!$A$4,DATA!$C$4,IF(ตย.ข้อมูลประกอบ!F49=DATA!$A$5,DATA!$C$5,IF(ตย.ข้อมูลประกอบ!F49=DATA!$A$6,DATA!$D$6,IF(ตย.ข้อมูลประกอบ!F49=DATA!$A$7,DATA!$D$7,IF(ตย.ข้อมูลประกอบ!F49=DATA!$A$8,DATA!$B$8)))))))) -> 2500 | P49: =O49*12 -> 30000 | Q49: =IF($F49=DATA!$A$1,DATA!$D$1,IF(ตย.ข้อมูลประกอบ!$F49=DATA!$A$2,DATA!$D$2,IF(ตย.ข้อมูลประกอบ!$F49=DATA!$A$3,DATA!$D$3,IF(ตย.ข้อมูลประกอบ!$F49=DATA!$A$4,DATA!$D$4,IF(ตย.ข้อมูลประกอบ!$F49=DATA!$A$5,DATA!$D$5,IF(ตย.ข้อมูลประกอบ!$F49=DATA!$A$6,DATA!$B$6,IF(ตย.ข้อมูลประกอบ!$F49=DATA!$A$7,DATA!$D$7,IF(ตย.ข้อมูลประกอบ!$F49=DATA!$A$8,DATA!$D$8)))))))) -> 0 | R49: =IF($F49=DATA!$A$1,DATA!$D$1,IF(ตย.ข้อมูลประกอบ!$F49=DATA!$A$2,DATA!$D$2,IF(ตย.ข้อมูลประกอบ!$F49=DATA!$A$3,DATA!$D$3,IF(ตย.ข้อมูลประกอบ!$F49=DATA!$A$4,DATA!$D$4,IF(ตย.ข้อมูลประกอบ!$F49=DATA!$A$5,DATA!$D$5,IF(ตย.ข้อมูลประกอบ!$F49=DATA!$A$6,DATA!$C$6,IF(ตย.ข้อมูลประกอบ!$F49=DATA!$A$7,DATA!$D$7,IF(ตย.ข้อมูลประกอบ!$F49=DATA!$A$8,DATA!$D$8)))))))) -> 0 | S49: =IF($F49=DATA!$A$1,DATA!$D$1,IF(ตย.ข้อมูลประกอบ!$F49=DATA!$A$2,DATA!$D$2,IF(ตย.ข้อมูลประกอบ!$F49=DATA!$A$3,DATA!$D$3,IF(ตย.ข้อมูลประกอบ!$F49=DATA!$A$4,DATA!$D$4,IF(ตย.ข้อมูลประกอบ!$F49=DATA!$A$5,DATA!$D$5,IF(ตย.ข้อมูลประกอบ!$F49=DATA!$A$6,DATA!$E$6,IF(ตย.ข้อมูลประกอบ!$F49=DATA!$A$7,DATA!$D$7,IF(ตย.ข้อมูลประกอบ!$F49=DATA!$A$8,DATA!$D$8)))))))) -> 0 | T49: =Q49*R49*S49 -> 0 | U49: =IF($F49=DATA!$A$1,DATA!$D$1,IF(ตย.ข้อมูลประกอบ!$F49=DATA!$A$2,DATA!$D$2,IF(ตย.ข้อมูลประกอบ!$F49=DATA!$A$3,DATA!$D$3,IF(ตย.ข้อมูลประกอบ!$F49=DATA!$A$4,DATA!$D$4,IF(ตย.ข้อมูลประกอบ!$F49=DATA!$A$5,DATA!$D$5,IF(ตย.ข้อมูลประกอบ!$F49=DATA!$A$6,DATA!$D$6,IF(ตย.ข้อมูลประกอบ!$F49=DATA!$A$7,DATA!$B$7,IF(ตย.ข้อมูลประกอบ!$F49=DATA!$A$8,DATA!$D$8)))))))) -> 0 | V49: =IF($F49=DATA!$A$1,DATA!$D$1,IF(ตย.ข้อมูลประกอบ!$F49=DATA!$A$2,DATA!$D$2,IF(ตย.ข้อมูลประกอบ!$F49=DATA!$A$3,DATA!$D$3,IF(ตย.ข้อมูลประกอบ!$F49=DATA!$A$4,DATA!$D$4,IF(ตย.ข้อมูลประกอบ!$F49=DATA!$A$5,DATA!$D$5,IF(ตย.ข้อมูลประกอบ!$F49=DATA!$A$6,DATA!$D$6,IF(ตย.ข้อมูลประกอบ!$F49=DATA!$A$7,DATA!$C$7,IF(ตย.ข้อมูลประกอบ!$F49=DATA!$A$8,DATA!$D$8)))))))) -> 0 | W49: =U49*V49 -> 0 | X49: =SUM(L49,N49,P49,T49,W49) -> 306945.6
A50: 42 | B50: ร.ร.เทศบาล 4 (ธนวิถี) | C50: 3964/2565 | D50: ปริญญาตรี | E50: นางสาวนูรียะห์ เจ๊ะยอ | F50: ครูสอนอิสลามศึกษา | G50: 21650 | H50: =G50*0.04 -> 866 | I50: =SUM(G50:H50) -> 22516 | J50: =I50*0.05 -> 1125.8 | K50: =IF(J50>=750,750,J50) -> 750 | L50: =SUM(I50+K50)*12 -> 279192 | M50: =IF(F50=DATA!$A$1,DATA!$D$1,IF(ตย.ข้อมูลประกอบ!F50=DATA!$A$2,DATA!$D$2,IF(ตย.ข้อมูลประกอบ!F50=DATA!$A$3,DATA!$D$3,IF(ตย.ข้อมูลประกอบ!F50=DATA!$A$4,DATA!$D$4,IF(ตย.ข้อมูลประกอบ!F50=DATA!$A$5,DATA!$B$5,IF(ตย.ข้อมูลประกอบ!F50=DATA!$A$6,DATA!$D$6,IF(ตย.ข้อมูลประกอบ!F50=DATA!$A$7,DATA!$D$7,IF(ตย.ข้อมูลประกอบ!F50=DATA!$A$8,DATA!$D$8)))))))) -> 0 | N50: =M50*12 -> 0 | O50: =IF(F50=DATA!$A$1,DATA!$C$1,IF(ตย.ข้อมูลประกอบ!F50=DATA!$A$2,DATA!$C$2,IF(ตย.ข้อมูลประกอบ!F50=DATA!$A$3,DATA!$C$3,IF(ตย.ข้อมูลประกอบ!F50=DATA!$A$4,DATA!$C$4,IF(ตย.ข้อมูลประกอบ!F50=DATA!$A$5,DATA!$C$5,IF(ตย.ข้อมูลประกอบ!F50=DATA!$A$6,DATA!$D$6,IF(ตย.ข้อมูลประกอบ!F50=DATA!$A$7,DATA!$D$7,IF(ตย.ข้อมูลประกอบ!F50=DATA!$A$8,DATA!$B$8)))))))) -> 2500 | P50: =O50*12 -> 30000 | Q50: =IF($F50=DATA!$A$1,DATA!$D$1,IF(ตย.ข้อมูลประกอบ!$F50=DATA!$A$2,DATA!$D$2,IF(ตย.ข้อมูลประกอบ!$F50=DATA!$A$3,DATA!$D$3,IF(ตย.ข้อมูลประกอบ!$F50=DATA!$A$4,DATA!$D$4,IF(ตย.ข้อมูลประกอบ!$F50=DATA!$A$5,DATA!$D$5,IF(ตย.ข้อมูลประกอบ!$F50=DATA!$A$6,DATA!$B$6,IF(ตย.ข้อมูลประกอบ!$F50=DATA!$A$7,DATA!$D$7,IF(ตย.ข้อมูลประกอบ!$F50=DATA!$A$8,DATA!$D$8)))))))) -> 0 | R50: =IF($F50=DATA!$A$1,DATA!$D$1,IF(ตย.ข้อมูลประกอบ!$F50=DATA!$A$2,DATA!$D$2,IF(ตย.ข้อมูลประกอบ!$F50=DATA!$A$3,DATA!$D$3,IF(ตย.ข้อมูลประกอบ!$F50=DATA!$A$4,DATA!$D$4,IF(ตย.ข้อมูลประกอบ!$F50=DATA!$A$5,DATA!$D$5,IF(ตย.ข้อมูลประกอบ!$F50=DATA!$A$6,DATA!$C$6,IF(ตย.ข้อมูลประกอบ!$F50=DATA!$A$7,DATA!$D$7,IF(ตย.ข้อมูลประกอบ!$F50=DATA!$A$8,DATA!$D$8)))))))) -> 0 | S50: =IF($F50=DATA!$A$1,DATA!$D$1,IF(ตย.ข้อมูลประกอบ!$F50=DATA!$A$2,DATA!$D$2,IF(ตย.ข้อมูลประกอบ!$F50=DATA!$A$3,DATA!$D$3,IF(ตย.ข้อมูลประกอบ!$F50=DATA!$A$4,DATA!$D$4,IF(ตย.ข้อมูลประกอบ!$F50=DATA!$A$5,DATA!$D$5,IF(ตย.ข้อมูลประกอบ!$F50=DATA!$A$6,DATA!$E$6,IF(ตย.ข้อมูลประกอบ!$F50=DATA!$A$7,DATA!$D$7,IF(ตย.ข้อมูลประกอบ!$F50=DATA!$A$8,DATA!$D$8)))))))) -> 0 | T50: =Q50*R50*S50 -> 0 | U50: =IF($F50=DATA!$A$1,DATA!$D$1,IF(ตย.ข้อมูลประกอบ!$F50=DATA!$A$2,DATA!$D$2,IF(ตย.ข้อมูลประกอบ!$F50=DATA!$A$3,DATA!$D$3,IF(ตย.ข้อมูลประกอบ!$F50=DATA!$A$4,DATA!$D$4,IF(ตย.ข้อมูลประกอบ!$F50=DATA!$A$5,DATA!$D$5,IF(ตย.ข้อมูลประกอบ!$F50=DATA!$A$6,DATA!$D$6,IF(ตย.ข้อมูลประกอบ!$F50=DATA!$A$7,DATA!$B$7,IF(ตย.ข้อมูลประกอบ!$F50=DATA!$A$8,DATA!$D$8)))))))) -> 0 | V50: =IF($F50=DATA!$A$1,DATA!$D$1,IF(ตย.ข้อมูลประกอบ!$F50=DATA!$A$2,DATA!$D$2,IF(ตย.ข้อมูลประกอบ!$F50=DATA!$A$3,DATA!$D$3,IF(ตย.ข้อมูลประกอบ!$F50=DATA!$A$4,DATA!$D$4,IF(ตย.ข้อมูลประกอบ!$F50=DATA!$A$5,DATA!$D$5,IF(ตย.ข้อมูลประกอบ!$F50=DATA!$A$6,DATA!$D$6,IF(ตย.ข้อมูลประกอบ!$F50=DATA!$A$7,DATA!$C$7,IF(ตย.ข้อมูลประกอบ!$F50=DATA!$A$8,DATA!$D$8)))))))) -> 0 | W50: =U50*V50 -> 0 | X50: =SUM(L50,N50,P50,T50,W50) -> 309192
A51: 43 | B51: ร.ร.เทศบาล 4 (ธนวิถี) | C51: 3964/2565 | D51: ปริญญาตรี | E51: นายซอบรี บือแนสะเตง | F51: ครูสอนอิสลามศึกษา | G51: 22300 | H51: =G51*0.04 -> 892 | I51: =SUM(G51:H51) -> 23192 | J51: =I51*0.05 -> 1159.6 | K51: =IF(J51>=750,750,J51) -> 750 | L51: =SUM(I51+K51)*12 -> 287304 | M51: =IF(F51=DATA!$A$1,DATA!$D$1,IF(ตย.ข้อมูลประกอบ!F51=DATA!$A$2,DATA!$D$2,IF(ตย.ข้อมูลประกอบ!F51=DATA!$A$3,DATA!$D$3,IF(ตย.ข้อมูลประกอบ!F51=DATA!$A$4,DATA!$D$4,IF(ตย.ข้อมูลประกอบ!F51=DATA!$A$5,DATA!$B$5,IF(ตย.ข้อมูลประกอบ!F51=DATA!$A$6,DATA!$D$6,IF(ตย.ข้อมูลประกอบ!F51=DATA!$A$7,DATA!$D$7,IF(ตย.ข้อมูลประกอบ!F51=DATA!$A$8,DATA!$D$8)))))))) -> 0 | N51: =M51*12 -> 0 | O51: =IF(F51=DATA!$A$1,DATA!$C$1,IF(ตย.ข้อมูลประกอบ!F51=DATA!$A$2,DATA!$C$2,IF(ตย.ข้อมูลประกอบ!F51=DATA!$A$3,DATA!$C$3,IF(ตย.ข้อมูลประกอบ!F51=DATA!$A$4,DATA!$C$4,IF(ตย.ข้อมูลประกอบ!F51=DATA!$A$5,DATA!$C$5,IF(ตย.ข้อมูลประกอบ!F51=DATA!$A$6,DATA!$D$6,IF(ตย.ข้อมูลประกอบ!F51=DATA!$A$7,DATA!$D$7,IF(ตย.ข้อมูลประกอบ!F51=DATA!$A$8,DATA!$B$8)))))))) -> 2500 | P51: =O51*12 -> 30000 | Q51: =IF($F51=DATA!$A$1,DATA!$D$1,IF(ตย.ข้อมูลประกอบ!$F51=DATA!$A$2,DATA!$D$2,IF(ตย.ข้อมูลประกอบ!$F51=DATA!$A$3,DATA!$D$3,IF(ตย.ข้อมูลประกอบ!$F51=DATA!$A$4,DATA!$D$4,IF(ตย.ข้อมูลประกอบ!$F51=DATA!$A$5,DATA!$D$5,IF(ตย.ข้อมูลประกอบ!$F51=DATA!$A$6,DATA!$B$6,IF(ตย.ข้อมูลประกอบ!$F51=DATA!$A$7,DATA!$D$7,IF(ตย.ข้อมูลประกอบ!$F51=DATA!$A$8,DATA!$D$8)))))))) -> 0 | R51: =IF($F51=DATA!$A$1,DATA!$D$1,IF(ตย.ข้อมูลประกอบ!$F51=DATA!$A$2,DATA!$D$2,IF(ตย.ข้อมูลประกอบ!$F51=DATA!$A$3,DATA!$D$3,IF(ตย.ข้อมูลประกอบ!$F51=DATA!$A$4,DATA!$D$4,IF(ตย.ข้อมูลประกอบ!$F51=DATA!$A$5,DATA!$D$5,IF(ตย.ข้อมูลประกอบ!$F51=DATA!$A$6,DATA!$C$6,IF(ตย.ข้อมูลประกอบ!$F51=DATA!$A$7,DATA!$D$7,IF(ตย.ข้อมูลประกอบ!$F51=DATA!$A$8,DATA!$D$8)))))))) -> 0 | S51: =IF($F51=DATA!$A$1,DATA!$D$1,IF(ตย.ข้อมูลประกอบ!$F51=DATA!$A$2,DATA!$D$2,IF(ตย.ข้อมูลประกอบ!$F51=DATA!$A$3,DATA!$D$3,IF(ตย.ข้อมูลประกอบ!$F51=DATA!$A$4,DATA!$D$4,IF(ตย.ข้อมูลประกอบ!$F51=DATA!$A$5,DATA!$D$5,IF(ตย.ข้อมูลประกอบ!$F51=DATA!$A$6,DATA!$E$6,IF(ตย.ข้อมูลประกอบ!$F51=DATA!$A$7,DATA!$D$7,IF(ตย.ข้อมูลประกอบ!$F51=DATA!$A$8,DATA!$D$8)))))))) -> 0 | T51: =Q51*R51*S51 -> 0 | U51: =IF($F51=DATA!$A$1,DATA!$D$1,IF(ตย.ข้อมูลประกอบ!$F51=DATA!$A$2,DATA!$D$2,IF(ตย.ข้อมูลประกอบ!$F51=DATA!$A$3,DATA!$D$3,IF(ตย.ข้อมูลประกอบ!$F51=DATA!$A$4,DATA!$D$4,IF(ตย.ข้อมูลประกอบ!$F51=DATA!$A$5,DATA!$D$5,IF(ตย.ข้อมูลประกอบ!$F51=DATA!$A$6,DATA!$D$6,IF(ตย.ข้อมูลประกอบ!$F51=DATA!$A$7,DATA!$B$7,IF(ตย.ข้อมูลประกอบ!$F51=DATA!$A$8,DATA!$D$8)))))))) -> 0 | V51: =IF($F51=DATA!$A$1,DATA!$D$1,IF(ตย.ข้อมูลประกอบ!$F51=DATA!$A$2,DATA!$D$2,IF(ตย.ข้อมูลประกอบ!$F51=DATA!$A$3,DATA!$D$3,IF(ตย.ข้อมูลประกอบ!$F51=DATA!$A$4,DATA!$D$4,IF(ตย.ข้อมูลประกอบ!$F51=DATA!$A$5,DATA!$D$5,IF(ตย.ข้อมูลประกอบ!$F51=DATA!$A$6,DATA!$D$6,IF(ตย.ข้อมูลประกอบ!$F51=DATA!$A$7,DATA!$C$7,IF(ตย.ข้อมูลประกอบ!$F51=DATA!$A$8,DATA!$D$8)))))))) -> 0 | W51: =U51*V51 -> 0 | X51: =SUM(L51,N51,P51,T51,W51) -> 317304
A52: 44 | B52: ร.ร.เทศบาล 4 (ธนวิถี) | C52: 3964/2565 | D52: ปริญญาตรี | E52: นางพงษ์ศักดิ์ พิกุลทอง | F52: ครูสอนพุทธศาสนา | G52: 20900 | H52: =G52*0.04 -> 836 | I52: =SUM(G52:H52) -> 21736 | J52: =I52*0.05 -> 1086.8 | K52: =IF(J52>=750,750,J52) -> 750 | L52: =SUM(I52+K52)*12 -> 269832 | M52: =IF(F52=DATA!$A$1,DATA!$D$1,IF(ตย.ข้อมูลประกอบ!F52=DATA!$A$2,DATA!$D$2,IF(ตย.ข้อมูลประกอบ!F52=DATA!$A$3,DATA!$D$3,IF(ตย.ข้อมูลประกอบ!F52=DATA!$A$4,DATA!$D$4,IF(ตย.ข้อมูลประกอบ!F52=DATA!$A$5,DATA!$B$5,IF(ตย.ข้อมูลประกอบ!F52=DATA!$A$6,DATA!$D$6,IF(ตย.ข้อมูลประกอบ!F52=DATA!$A$7,DATA!$D$7,IF(ตย.ข้อมูลประกอบ!F52=DATA!$A$8,DATA!$D$8)))))))) -> 0 | N52: =M52*12 -> 0 | O52: =IF(F52=DATA!$A$1,DATA!$C$1,IF(ตย.ข้อมูลประกอบ!F52=DATA!$A$2,DATA!$C$2,IF(ตย.ข้อมูลประกอบ!F52=DATA!$A$3,DATA!$C$3,IF(ตย.ข้อมูลประกอบ!F52=DATA!$A$4,DATA!$C$4,IF(ตย.ข้อมูลประกอบ!F52=DATA!$A$5,DATA!$C$5,IF(ตย.ข้อมูลประกอบ!F52=DATA!$A$6,DATA!$D$6,IF(ตย.ข้อมูลประกอบ!F52=DATA!$A$7,DATA!$D$7,IF(ตย.ข้อมูลประกอบ!F52=DATA!$A$8,DATA!$B$8)))))))) -> 2500 | P52: =O52*12 -> 30000 | Q52: =IF($F52=DATA!$A$1,DATA!$D$1,IF(ตย.ข้อมูลประกอบ!$F52=DATA!$A$2,DATA!$D$2,IF(ตย.ข้อมูลประกอบ!$F52=DATA!$A$3,DATA!$D$3,IF(ตย.ข้อมูลประกอบ!$F52=DATA!$A$4,DATA!$D$4,IF(ตย.ข้อมูลประกอบ!$F52=DATA!$A$5,DATA!$D$5,IF(ตย.ข้อมูลประกอบ!$F52=DATA!$A$6,DATA!$B$6,IF(ตย.ข้อมูลประกอบ!$F52=DATA!$A$7,DATA!$D$7,IF(ตย.ข้อมูลประกอบ!$F52=DATA!$A$8,DATA!$D$8)))))))) -> 0 | R52: =IF($F52=DATA!$A$1,DATA!$D$1,IF(ตย.ข้อมูลประกอบ!$F52=DATA!$A$2,DATA!$D$2,IF(ตย.ข้อมูลประกอบ!$F52=DATA!$A$3,DATA!$D$3,IF(ตย.ข้อมูลประกอบ!$F52=DATA!$A$4,DATA!$D$4,IF(ตย.ข้อมูลประกอบ!$F52=DATA!$A$5,DATA!$D$5,IF(ตย.ข้อมูลประกอบ!$F52=DATA!$A$6,DATA!$C$6,IF(ตย.ข้อมูลประกอบ!$F52=DATA!$A$7,DATA!$D$7,IF(ตย.ข้อมูลประกอบ!$F52=DATA!$A$8,DATA!$D$8)))))))) -> 0 | S52: =IF($F52=DATA!$A$1,DATA!$D$1,IF(ตย.ข้อมูลประกอบ!$F52=DATA!$A$2,DATA!$D$2,IF(ตย.ข้อมูลประกอบ!$F52=DATA!$A$3,DATA!$D$3,IF(ตย.ข้อมูลประกอบ!$F52=DATA!$A$4,DATA!$D$4,IF(ตย.ข้อมูลประกอบ!$F52=DATA!$A$5,DATA!$D$5,IF(ตย.ข้อมูลประกอบ!$F52=DATA!$A$6,DATA!$E$6,IF(ตย.ข้อมูลประกอบ!$F52=DATA!$A$7,DATA!$D$7,IF(ตย.ข้อมูลประกอบ!$F52=DATA!$A$8,DATA!$D$8)))))))) -> 0 | T52: =Q52*R52*S52 -> 0 | U52: =IF($F52=DATA!$A$1,DATA!$D$1,IF(ตย.ข้อมูลประกอบ!$F52=DATA!$A$2,DATA!$D$2,IF(ตย.ข้อมูลประกอบ!$F52=DATA!$A$3,DATA!$D$3,IF(ตย.ข้อมูลประกอบ!$F52=DATA!$A$4,DATA!$D$4,IF(ตย.ข้อมูลประกอบ!$F52=DATA!$A$5,DATA!$D$5,IF(ตย.ข้อมูลประกอบ!$F52=DATA!$A$6,DATA!$D$6,IF(ตย.ข้อมูลประกอบ!$F52=DATA!$A$7,DATA!$B$7,IF(ตย.ข้อมูลประกอบ!$F52=DATA!$A$8,DATA!$D$8)))))))) -> 0 | V52: =IF($F52=DATA!$A$1,DATA!$D$1,IF(ตย.ข้อมูลประกอบ!$F52=DATA!$A$2,DATA!$D$2,IF(ตย.ข้อมูลประกอบ!$F52=DATA!$A$3,DATA!$D$3,IF(ตย.ข้อมูลประกอบ!$F52=DATA!$A$4,DATA!$D$4,IF(ตย.ข้อมูลประกอบ!$F52=DATA!$A$5,DATA!$D$5,IF(ตย.ข้อมูลประกอบ!$F52=DATA!$A$6,DATA!$D$6,IF(ตย.ข้อมูลประกอบ!$F52=DATA!$A$7,DATA!$C$7,IF(ตย.ข้อมูลประกอบ!$F52=DATA!$A$8,DATA!$D$8)))))))) -> 0 | W52: =U52*V52 -> 0 | X52: =SUM(L52,N52,P52,T52,W52) -> 299832
A53: 45 | B53: ร.ร.เทศบาล 4 (ธนวิถี) | C53: 3964/2565 | D53: ปริญญาตรี | E53: นายณรงค์ฤทธิ์ จันทร์น้อย | F53: ครูสอนพุทธศาสนา | G53: 19160 | H53: =G53*0.04 -> 766.4 | I53: =SUM(G53:H53) -> 19926.4 | J53: =I53*0.05 -> 996.32 | K53: =IF(J53>=750,750,J53) -> 750 | L53: =SUM(I53+K53)*12 -> 248116.8 | M53: =IF(F53=DATA!$A$1,DATA!$D$1,IF(ตย.ข้อมูลประกอบ!F53=DATA!$A$2,DATA!$D$2,IF(ตย.ข้อมูลประกอบ!F53=DATA!$A$3,DATA!$D$3,IF(ตย.ข้อมูลประกอบ!F53=DATA!$A$4,DATA!$D$4,IF(ตย.ข้อมูลประกอบ!F53=DATA!$A$5,DATA!$B$5,IF(ตย.ข้อมูลประกอบ!F53=DATA!$A$6,DATA!$D$6,IF(ตย.ข้อมูลประกอบ!F53=DATA!$A$7,DATA!$D$7,IF(ตย.ข้อมูลประกอบ!F53=DATA!$A$8,DATA!$D$8)))))))) -> 0 | N53: =M53*12 -> 0 | O53: =IF(F53=DATA!$A$1,DATA!$C$1,IF(ตย.ข้อมูลประกอบ!F53=DATA!$A$2,DATA!$C$2,IF(ตย.ข้อมูลประกอบ!F53=DATA!$A$3,DATA!$C$3,IF(ตย.ข้อมูลประกอบ!F53=DATA!$A$4,DATA!$C$4,IF(ตย.ข้อมูลประกอบ!F53=DATA!$A$5,DATA!$C$5,IF(ตย.ข้อมูลประกอบ!F53=DATA!$A$6,DATA!$D$6,IF(ตย.ข้อมูลประกอบ!F53=DATA!$A$7,DATA!$D$7,IF(ตย.ข้อมูลประกอบ!F53=DATA!$A$8,DATA!$B$8)))))))) -> 2500 | P53: =O53*12 -> 30000 | Q53: =IF($F53=DATA!$A$1,DATA!$D$1,IF(ตย.ข้อมูลประกอบ!$F53=DATA!$A$2,DATA!$D$2,IF(ตย.ข้อมูลประกอบ!$F53=DATA!$A$3,DATA!$D$3,IF(ตย.ข้อมูลประกอบ!$F53=DATA!$A$4,DATA!$D$4,IF(ตย.ข้อมูลประกอบ!$F53=DATA!$A$5,DATA!$D$5,IF(ตย.ข้อมูลประกอบ!$F53=DATA!$A$6,DATA!$B$6,IF(ตย.ข้อมูลประกอบ!$F53=DATA!$A$7,DATA!$D$7,IF(ตย.ข้อมูลประกอบ!$F53=DATA!$A$8,DATA!$D$8)))))))) -> 0 | R53: =IF($F53=DATA!$A$1,DATA!$D$1,IF(ตย.ข้อมูลประกอบ!$F53=DATA!$A$2,DATA!$D$2,IF(ตย.ข้อมูลประกอบ!$F53=DATA!$A$3,DATA!$D$3,IF(ตย.ข้อมูลประกอบ!$F53=DATA!$A$4,DATA!$D$4,IF(ตย.ข้อมูลประกอบ!$F53=DATA!$A$5,DATA!$D$5,IF(ตย.ข้อมูลประกอบ!$F53=DATA!$A$6,DATA!$C$6,IF(ตย.ข้อมูลประกอบ!$F53=DATA!$A$7,DATA!$D$7,IF(ตย.ข้อมูลประกอบ!$F53=DATA!$A$8,DATA!$D$8)))))))) -> 0 | S53: =IF($F53=DATA!$A$1,DATA!$D$1,IF(ตย.ข้อมูลประกอบ!$F53=DATA!$A$2,DATA!$D$2,IF(ตย.ข้อมูลประกอบ!$F53=DATA!$A$3,DATA!$D$3,IF(ตย.ข้อมูลประกอบ!$F53=DATA!$A$4,DATA!$D$4,IF(ตย.ข้อมูลประกอบ!$F53=DATA!$A$5,DATA!$D$5,IF(ตย.ข้อมูลประกอบ!$F53=DATA!$A$6,DATA!$E$6,IF(ตย.ข้อมูลประกอบ!$F53=DATA!$A$7,DATA!$D$7,IF(ตย.ข้อมูลประกอบ!$F53=DATA!$A$8,DATA!$D$8)))))))) -> 0 | T53: =Q53*R53*S53 -> 0 | U53: =IF($F53=DATA!$A$1,DATA!$D$1,IF(ตย.ข้อมูลประกอบ!$F53=DATA!$A$2,DATA!$D$2,IF(ตย.ข้อมูลประกอบ!$F53=DATA!$A$3,DATA!$D$3,IF(ตย.ข้อมูลประกอบ!$F53=DATA!$A$4,DATA!$D$4,IF(ตย.ข้อมูลประกอบ!$F53=DATA!$A$5,DATA!$D$5,IF(ตย.ข้อมูลประกอบ!$F53=DATA!$A$6,DATA!$D$6,IF(ตย.ข้อมูลประกอบ!$F53=DATA!$A$7,DATA!$B$7,IF(ตย.ข้อมูลประกอบ!$F53=DATA!$A$8,DATA!$D$8)))))))) -> 0 | V53: =IF($F53=DATA!$A$1,DATA!$D$1,IF(ตย.ข้อมูลประกอบ!$F53=DATA!$A$2,DATA!$D$2,IF(ตย.ข้อมูลประกอบ!$F53=DATA!$A$3,DATA!$D$3,IF(ตย.ข้อมูลประกอบ!$F53=DATA!$A$4,DATA!$D$4,IF(ตย.ข้อมูลประกอบ!$F53=DATA!$A$5,DATA!$D$5,IF(ตย.ข้อมูลประกอบ!$F53=DATA!$A$6,DATA!$D$6,IF(ตย.ข้อมูลประกอบ!$F53=DATA!$A$7,DATA!$C$7,IF(ตย.ข้อมูลประกอบ!$F53=DATA!$A$8,DATA!$D$8)))))))) -> 0 | W53: =U53*V53 -> 0 | X53: =SUM(L53,N53,P53,T53,W53) -> 278116.8
A54: 46 | B54: ร.ร.เทศบาล 4 (ธนวิถี) | C54: 3964/2565 | D54: ปริญญาตรี | E54: นางสาวนูรมี กาโบ๊ะ | F54: ครูสอนอิสลามศึกษา | G54: 18440 | H54: =G54*0.04 -> 737.6 | I54: =SUM(G54:H54) -> 19177.6 | J54: =I54*0.05 -> 958.88 | K54: =IF(J54>=750,750,J54) -> 750 | L54: =SUM(I54+K54)*12 -> 239131.2 | M54: =IF(F54=DATA!$A$1,DATA!$D$1,IF(ตย.ข้อมูลประกอบ!F54=DATA!$A$2,DATA!$D$2,IF(ตย.ข้อมูลประกอบ!F54=DATA!$A$3,DATA!$D$3,IF(ตย.ข้อมูลประกอบ!F54=DATA!$A$4,DATA!$D$4,IF(ตย.ข้อมูลประกอบ!F54=DATA!$A$5,DATA!$B$5,IF(ตย.ข้อมูลประกอบ!F54=DATA!$A$6,DATA!$D$6,IF(ตย.ข้อมูลประกอบ!F54=DATA!$A$7,DATA!$D$7,IF(ตย.ข้อมูลประกอบ!F54=DATA!$A$8,DATA!$D$8)))))))) -> 0 | N54: =M54*12 -> 0 | O54: =IF(F54=DATA!$A$1,DATA!$C$1,IF(ตย.ข้อมูลประกอบ!F54=DATA!$A$2,DATA!$C$2,IF(ตย.ข้อมูลประกอบ!F54=DATA!$A$3,DATA!$C$3,IF(ตย.ข้อมูลประกอบ!F54=DATA!$A$4,DATA!$C$4,IF(ตย.ข้อมูลประกอบ!F54=DATA!$A$5,DATA!$C$5,IF(ตย.ข้อมูลประกอบ!F54=DATA!$A$6,DATA!$D$6,IF(ตย.ข้อมูลประกอบ!F54=DATA!$A$7,DATA!$D$7,IF(ตย.ข้อมูลประกอบ!F54=DATA!$A$8,DATA!$B$8)))))))) -> 2500 | P54: =O54*12 -> 30000 | Q54: =IF($F54=DATA!$A$1,DATA!$D$1,IF(ตย.ข้อมูลประกอบ!$F54=DATA!$A$2,DATA!$D$2,IF(ตย.ข้อมูลประกอบ!$F54=DATA!$A$3,DATA!$D$3,IF(ตย.ข้อมูลประกอบ!$F54=DATA!$A$4,DATA!$D$4,IF(ตย.ข้อมูลประกอบ!$F54=DATA!$A$5,DATA!$D$5,IF(ตย.ข้อมูลประกอบ!$F54=DATA!$A$6,DATA!$B$6,IF(ตย.ข้อมูลประกอบ!$F54=DATA!$A$7,DATA!$D$7,IF(ตย.ข้อมูลประกอบ!$F54=DATA!$A$8,DATA!$D$8)))))))) -> 0 | R54: =IF($F54=DATA!$A$1,DATA!$D$1,IF(ตย.ข้อมูลประกอบ!$F54=DATA!$A$2,DATA!$D$2,IF(ตย.ข้อมูลประกอบ!$F54=DATA!$A$3,DATA!$D$3,IF(ตย.ข้อมูลประกอบ!$F54=DATA!$A$4,DATA!$D$4,IF(ตย.ข้อมูลประกอบ!$F54=DATA!$A$5,DATA!$D$5,IF(ตย.ข้อมูลประกอบ!$F54=DATA!$A$6,DATA!$C$6,IF(ตย.ข้อมูลประกอบ!$F54=DATA!$A$7,DATA!$D$7,IF(ตย.ข้อมูลประกอบ!$F54=DATA!$A$8,DATA!$D$8)))))))) -> 0 | S54: =IF($F54=DATA!$A$1,DATA!$D$1,IF(ตย.ข้อมูลประกอบ!$F54=DATA!$A$2,DATA!$D$2,IF(ตย.ข้อมูลประกอบ!$F54=DATA!$A$3,DATA!$D$3,IF(ตย.ข้อมูลประกอบ!$F54=DATA!$A$4,DATA!$D$4,IF(ตย.ข้อมูลประกอบ!$F54=DATA!$A$5,DATA!$D$5,IF(ตย.ข้อมูลประกอบ!$F54=DATA!$A$6,DATA!$E$6,IF(ตย.ข้อมูลประกอบ!$F54=DATA!$A$7,DATA!$D$7,IF(ตย.ข้อมูลประกอบ!$F54=DATA!$A$8,DATA!$D$8)))))))) -> 0 | T54: =Q54*R54*S54 -> 0 | U54: =IF($F54=DATA!$A$1,DATA!$D$1,IF(ตย.ข้อมูลประกอบ!$F54=DATA!$A$2,DATA!$D$2,IF(ตย.ข้อมูลประกอบ!$F54=DATA!$A$3,DATA!$D$3,IF(ตย.ข้อมูลประกอบ!$F54=DATA!$A$4,DATA!$D$4,IF(ตย.ข้อมูลประกอบ!$F54=DATA!$A$5,DATA!$D$5,IF(ตย.ข้อมูลประกอบ!$F54=DATA!$A$6,DATA!$D$6,IF(ตย.ข้อมูลประกอบ!$F54=DATA!$A$7,DATA!$B$7,IF(ตย.ข้อมูลประกอบ!$F54=DATA!$A$8,DATA!$D$8)))))))) -> 0 | V54: =IF($F54=DATA!$A$1,DATA!$D$1,IF(ตย.ข้อมูลประกอบ!$F54=DATA!$A$2,DATA!$D$2,IF(ตย.ข้อมูลประกอบ!$F54=DATA!$A$3,DATA!$D$3,IF(ตย.ข้อมูลประกอบ!$F54=DATA!$A$4,DATA!$D$4,IF(ตย.ข้อมูลประกอบ!$F54=DATA!$A$5,DATA!$D$5,IF(ตย.ข้อมูลประกอบ!$F54=DATA!$A$6,DATA!$D$6,IF(ตย.ข้อมูลประกอบ!$F54=DATA!$A$7,DATA!$C$7,IF(ตย.ข้อมูลประกอบ!$F54=DATA!$A$8,DATA!$D$8)))))))) -> 0 | W54: =U54*V54 -> 0 | X54: =SUM(L54,N54,P54,T54,W54) -> 269131.2
A55: 47 | B55: ร.ร.เทศบาล 4 (ธนวิถี) | C55: 3964/2565 | D55: ปริญญาตรี | E55: นายชาตรี แสงเมือง | F55: ครูสอนพุทธศาสนา | G55: 17200 | H55: =G55*0.04 -> 688 | I55: =SUM(G55:H55) -> 17888 | J55: =I55*0.05 -> 894.4 | K55: =IF(J55>=750,750,J55) -> 750 | L55: =SUM(I55+K55)*12 -> 223656 | M55: =IF(F55=DATA!$A$1,DATA!$D$1,IF(ตย.ข้อมูลประกอบ!F55=DATA!$A$2,DATA!$D$2,IF(ตย.ข้อมูลประกอบ!F55=DATA!$A$3,DATA!$D$3,IF(ตย.ข้อมูลประกอบ!F55=DATA!$A$4,DATA!$D$4,IF(ตย.ข้อมูลประกอบ!F55=DATA!$A$5,DATA!$B$5,IF(ตย.ข้อมูลประกอบ!F55=DATA!$A$6,DATA!$D$6,IF(ตย.ข้อมูลประกอบ!F55=DATA!$A$7,DATA!$D$7,IF(ตย.ข้อมูลประกอบ!F55=DATA!$A$8,DATA!$D$8)))))))) -> 0 | N55: =M55*12 -> 0 | O55: =IF(F55=DATA!$A$1,DATA!$C$1,IF(ตย.ข้อมูลประกอบ!F55=DATA!$A$2,DATA!$C$2,IF(ตย.ข้อมูลประกอบ!F55=DATA!$A$3,DATA!$C$3,IF(ตย.ข้อมูลประกอบ!F55=DATA!$A$4,DATA!$C$4,IF(ตย.ข้อมูลประกอบ!F55=DATA!$A$5,DATA!$C$5,IF(ตย.ข้อมูลประกอบ!F55=DATA!$A$6,DATA!$D$6,IF(ตย.ข้อมูลประกอบ!F55=DATA!$A$7,DATA!$D$7,IF(ตย.ข้อมูลประกอบ!F55=DATA!$A$8,DATA!$B$8)))))))) -> 2500 | P55: =O55*12 -> 30000 | Q55: =IF($F55=DATA!$A$1,DATA!$D$1,IF(ตย.ข้อมูลประกอบ!$F55=DATA!$A$2,DATA!$D$2,IF(ตย.ข้อมูลประกอบ!$F55=DATA!$A$3,DATA!$D$3,IF(ตย.ข้อมูลประกอบ!$F55=DATA!$A$4,DATA!$D$4,IF(ตย.ข้อมูลประกอบ!$F55=DATA!$A$5,DATA!$D$5,IF(ตย.ข้อมูลประกอบ!$F55=DATA!$A$6,DATA!$B$6,IF(ตย.ข้อมูลประกอบ!$F55=DATA!$A$7,DATA!$D$7,IF(ตย.ข้อมูลประกอบ!$F55=DATA!$A$8,DATA!$D$8)))))))) -> 0 | R55: =IF($F55=DATA!$A$1,DATA!$D$1,IF(ตย.ข้อมูลประกอบ!$F55=DATA!$A$2,DATA!$D$2,IF(ตย.ข้อมูลประกอบ!$F55=DATA!$A$3,DATA!$D$3,IF(ตย.ข้อมูลประกอบ!$F55=DATA!$A$4,DATA!$D$4,IF(ตย.ข้อมูลประกอบ!$F55=DATA!$A$5,DATA!$D$5,IF(ตย.ข้อมูลประกอบ!$F55=DATA!$A$6,DATA!$C$6,IF(ตย.ข้อมูลประกอบ!$F55=DATA!$A$7,DATA!$D$7,IF(ตย.ข้อมูลประกอบ!$F55=DATA!$A$8,DATA!$D$8)))))))) -> 0 | S55: =IF($F55=DATA!$A$1,DATA!$D$1,IF(ตย.ข้อมูลประกอบ!$F55=DATA!$A$2,DATA!$D$2,IF(ตย.ข้อมูลประกอบ!$F55=DATA!$A$3,DATA!$D$3,IF(ตย.ข้อมูลประกอบ!$F55=DATA!$A$4,DATA!$D$4,IF(ตย.ข้อมูลประกอบ!$F55=DATA!$A$5,DATA!$D$5,IF(ตย.ข้อมูลประกอบ!$F55=DATA!$A$6,DATA!$E$6,IF(ตย.ข้อมูลประกอบ!$F55=DATA!$A$7,DATA!$D$7,IF(ตย.ข้อมูลประกอบ!$F55=DATA!$A$8,DATA!$D$8)))))))) -> 0 | T55: =Q55*R55*S55 -> 0 | U55: =IF($F55=DATA!$A$1,DATA!$D$1,IF(ตย.ข้อมูลประกอบ!$F55=DATA!$A$2,DATA!$D$2,IF(ตย.ข้อมูลประกอบ!$F55=DATA!$A$3,DATA!$D$3,IF(ตย.ข้อมูลประกอบ!$F55=DATA!$A$4,DATA!$D$4,IF(ตย.ข้อมูลประกอบ!$F55=DATA!$A$5,DATA!$D$5,IF(ตย.ข้อมูลประกอบ!$F55=DATA!$A$6,DATA!$D$6,IF(ตย.ข้อมูลประกอบ!$F55=DATA!$A$7,DATA!$B$7,IF(ตย.ข้อมูลประกอบ!$F55=DATA!$A$8,DATA!$D$8)))))))) -> 0 | V55: =IF($F55=DATA!$A$1,DATA!$D$1,IF(ตย.ข้อมูลประกอบ!$F55=DATA!$A$2,DATA!$D$2,IF(ตย.ข้อมูลประกอบ!$F55=DATA!$A$3,DATA!$D$3,IF(ตย.ข้อมูลประกอบ!$F55=DATA!$A$4,DATA!$D$4,IF(ตย.ข้อมูลประกอบ!$F55=DATA!$A$5,DATA!$D$5,IF(ตย.ข้อมูลประกอบ!$F55=DATA!$A$6,DATA!$D$6,IF(ตย.ข้อมูลประกอบ!$F55=DATA!$A$7,DATA!$C$7,IF(ตย.ข้อมูลประกอบ!$F55=DATA!$A$8,DATA!$D$8)))))))) -> 0 | W55: =U55*V55 -> 0 | X55: =SUM(L55,N55,P55,T55,W55) -> 253656
A56: 48 | B56: ร.ร.เทศบาล 4 (ธนวิถี) | C56: 3964/2565 | D56: ปริญญาตรี | E56: นางสาวไซราณี ตาเห | F56: ครูสอนอิสลามศึกษา | G56: 15600 | H56: =G56*0.04 -> 624 | I56: =SUM(G56:H56) -> 16224 | J56: =I56*0.05 -> 811.2 | K56: =IF(J56>=750,750,J56) -> 750 | L56: =SUM(I56+K56)*12 -> 203688 | M56: =IF(F56=DATA!$A$1,DATA!$D$1,IF(ตย.ข้อมูลประกอบ!F56=DATA!$A$2,DATA!$D$2,IF(ตย.ข้อมูลประกอบ!F56=DATA!$A$3,DATA!$D$3,IF(ตย.ข้อมูลประกอบ!F56=DATA!$A$4,DATA!$D$4,IF(ตย.ข้อมูลประกอบ!F56=DATA!$A$5,DATA!$B$5,IF(ตย.ข้อมูลประกอบ!F56=DATA!$A$6,DATA!$D$6,IF(ตย.ข้อมูลประกอบ!F56=DATA!$A$7,DATA!$D$7,IF(ตย.ข้อมูลประกอบ!F56=DATA!$A$8,DATA!$D$8)))))))) -> 0 | N56: =M56*12 -> 0 | O56: =IF(F56=DATA!$A$1,DATA!$C$1,IF(ตย.ข้อมูลประกอบ!F56=DATA!$A$2,DATA!$C$2,IF(ตย.ข้อมูลประกอบ!F56=DATA!$A$3,DATA!$C$3,IF(ตย.ข้อมูลประกอบ!F56=DATA!$A$4,DATA!$C$4,IF(ตย.ข้อมูลประกอบ!F56=DATA!$A$5,DATA!$C$5,IF(ตย.ข้อมูลประกอบ!F56=DATA!$A$6,DATA!$D$6,IF(ตย.ข้อมูลประกอบ!F56=DATA!$A$7,DATA!$D$7,IF(ตย.ข้อมูลประกอบ!F56=DATA!$A$8,DATA!$B$8)))))))) -> 2500 | P56: =O56*12 -> 30000 | Q56: =IF($F56=DATA!$A$1,DATA!$D$1,IF(ตย.ข้อมูลประกอบ!$F56=DATA!$A$2,DATA!$D$2,IF(ตย.ข้อมูลประกอบ!$F56=DATA!$A$3,DATA!$D$3,IF(ตย.ข้อมูลประกอบ!$F56=DATA!$A$4,DATA!$D$4,IF(ตย.ข้อมูลประกอบ!$F56=DATA!$A$5,DATA!$D$5,IF(ตย.ข้อมูลประกอบ!$F56=DATA!$A$6,DATA!$B$6,IF(ตย.ข้อมูลประกอบ!$F56=DATA!$A$7,DATA!$D$7,IF(ตย.ข้อมูลประกอบ!$F56=DATA!$A$8,DATA!$D$8)))))))) -> 0 | R56: =IF($F56=DATA!$A$1,DATA!$D$1,IF(ตย.ข้อมูลประกอบ!$F56=DATA!$A$2,DATA!$D$2,IF(ตย.ข้อมูลประกอบ!$F56=DATA!$A$3,DATA!$D$3,IF(ตย.ข้อมูลประกอบ!$F56=DATA!$A$4,DATA!$D$4,IF(ตย.ข้อมูลประกอบ!$F56=DATA!$A$5,DATA!$D$5,IF(ตย.ข้อมูลประกอบ!$F56=DATA!$A$6,DATA!$C$6,IF(ตย.ข้อมูลประกอบ!$F56=DATA!$A$7,DATA!$D$7,IF(ตย.ข้อมูลประกอบ!$F56=DATA!$A$8,DATA!$D$8)))))))) -> 0 | S56: =IF($F56=DATA!$A$1,DATA!$D$1,IF(ตย.ข้อมูลประกอบ!$F56=DATA!$A$2,DATA!$D$2,IF(ตย.ข้อมูลประกอบ!$F56=DATA!$A$3,DATA!$D$3,IF(ตย.ข้อมูลประกอบ!$F56=DATA!$A$4,DATA!$D$4,IF(ตย.ข้อมูลประกอบ!$F56=DATA!$A$5,DATA!$D$5,IF(ตย.ข้อมูลประกอบ!$F56=DATA!$A$6,DATA!$E$6,IF(ตย.ข้อมูลประกอบ!$F56=DATA!$A$7,DATA!$D$7,IF(ตย.ข้อมูลประกอบ!$F56=DATA!$A$8,DATA!$D$8)))))))) -> 0 | T56: =Q56*R56*S56 -> 0 | U56: =IF($F56=DATA!$A$1,DATA!$D$1,IF(ตย.ข้อมูลประกอบ!$F56=DATA!$A$2,DATA!$D$2,IF(ตย.ข้อมูลประกอบ!$F56=DATA!$A$3,DATA!$D$3,IF(ตย.ข้อมูลประกอบ!$F56=DATA!$A$4,DATA!$D$4,IF(ตย.ข้อมูลประกอบ!$F56=DATA!$A$5,DATA!$D$5,IF(ตย.ข้อมูลประกอบ!$F56=DATA!$A$6,DATA!$D$6,IF(ตย.ข้อมูลประกอบ!$F56=DATA!$A$7,DATA!$B$7,IF(ตย.ข้อมูลประกอบ!$F56=DATA!$A$8,DATA!$D$8)))))))) -> 0 | V56: =IF($F56=DATA!$A$1,DATA!$D$1,IF(ตย.ข้อมูลประกอบ!$F56=DATA!$A$2,DATA!$D$2,IF(ตย.ข้อมูลประกอบ!$F56=DATA!$A$3,DATA!$D$3,IF(ตย.ข้อมูลประกอบ!$F56=DATA!$A$4,DATA!$D$4,IF(ตย.ข้อมูลประกอบ!$F56=DATA!$A$5,DATA!$D$5,IF(ตย.ข้อมูลประกอบ!$F56=DATA!$A$6,DATA!$D$6,IF(ตย.ข้อมูลประกอบ!$F56=DATA!$A$7,DATA!$C$7,IF(ตย.ข้อมูลประกอบ!$F56=DATA!$A$8,DATA!$D$8)))))))) -> 0 | W56: =U56*V56 -> 0 | X56: =SUM(L56,N56,P56,T56,W56) -> 233688
A57: 49 | B57: ร.ร.เทศบาล 4 (ธนวิถี) | C57: 3692/2565 | D57: ปริญญาตรี | E57: นางกรกนก จันรัตนา | F57: ครูสอนพุทธศาสนา | G57: 15000 | H57: =G57*0.04 -> 600 | I57: =SUM(G57:H57) -> 15600 | J57: =I57*0.05 -> 780 | K57: =IF(J57>=750,750,J57) -> 750 | L57: =SUM(I57+K57)*12 -> 196200 | M57: =IF(F57=DATA!$A$1,DATA!$D$1,IF(ตย.ข้อมูลประกอบ!F57=DATA!$A$2,DATA!$D$2,IF(ตย.ข้อมูลประกอบ!F57=DATA!$A$3,DATA!$D$3,IF(ตย.ข้อมูลประกอบ!F57=DATA!$A$4,DATA!$D$4,IF(ตย.ข้อมูลประกอบ!F57=DATA!$A$5,DATA!$B$5,IF(ตย.ข้อมูลประกอบ!F57=DATA!$A$6,DATA!$D$6,IF(ตย.ข้อมูลประกอบ!F57=DATA!$A$7,DATA!$D$7,IF(ตย.ข้อมูลประกอบ!F57=DATA!$A$8,DATA!$D$8)))))))) -> 0 | N57: =M57*12 -> 0 | O57: =IF(F57=DATA!$A$1,DATA!$C$1,IF(ตย.ข้อมูลประกอบ!F57=DATA!$A$2,DATA!$C$2,IF(ตย.ข้อมูลประกอบ!F57=DATA!$A$3,DATA!$C$3,IF(ตย.ข้อมูลประกอบ!F57=DATA!$A$4,DATA!$C$4,IF(ตย.ข้อมูลประกอบ!F57=DATA!$A$5,DATA!$C$5,IF(ตย.ข้อมูลประกอบ!F57=DATA!$A$6,DATA!$D$6,IF(ตย.ข้อมูลประกอบ!F57=DATA!$A$7,DATA!$D$7,IF(ตย.ข้อมูลประกอบ!F57=DATA!$A$8,DATA!$B$8)))))))) -> 2500 | P57: =O57*12 -> 30000 | Q57: =IF($F57=DATA!$A$1,DATA!$D$1,IF(ตย.ข้อมูลประกอบ!$F57=DATA!$A$2,DATA!$D$2,IF(ตย.ข้อมูลประกอบ!$F57=DATA!$A$3,DATA!$D$3,IF(ตย.ข้อมูลประกอบ!$F57=DATA!$A$4,DATA!$D$4,IF(ตย.ข้อมูลประกอบ!$F57=DATA!$A$5,DATA!$D$5,IF(ตย.ข้อมูลประกอบ!$F57=DATA!$A$6,DATA!$B$6,IF(ตย.ข้อมูลประกอบ!$F57=DATA!$A$7,DATA!$D$7,IF(ตย.ข้อมูลประกอบ!$F57=DATA!$A$8,DATA!$D$8)))))))) -> 0 | R57: =IF($F57=DATA!$A$1,DATA!$D$1,IF(ตย.ข้อมูลประกอบ!$F57=DATA!$A$2,DATA!$D$2,IF(ตย.ข้อมูลประกอบ!$F57=DATA!$A$3,DATA!$D$3,IF(ตย.ข้อมูลประกอบ!$F57=DATA!$A$4,DATA!$D$4,IF(ตย.ข้อมูลประกอบ!$F57=DATA!$A$5,DATA!$D$5,IF(ตย.ข้อมูลประกอบ!$F57=DATA!$A$6,DATA!$C$6,IF(ตย.ข้อมูลประกอบ!$F57=DATA!$A$7,DATA!$D$7,IF(ตย.ข้อมูลประกอบ!$F57=DATA!$A$8,DATA!$D$8)))))))) -> 0 | S57: =IF($F57=DATA!$A$1,DATA!$D$1,IF(ตย.ข้อมูลประกอบ!$F57=DATA!$A$2,DATA!$D$2,IF(ตย.ข้อมูลประกอบ!$F57=DATA!$A$3,DATA!$D$3,IF(ตย.ข้อมูลประกอบ!$F57=DATA!$A$4,DATA!$D$4,IF(ตย.ข้อมูลประกอบ!$F57=DATA!$A$5,DATA!$D$5,IF(ตย.ข้อมูลประกอบ!$F57=DATA!$A$6,DATA!$E$6,IF(ตย.ข้อมูลประกอบ!$F57=DATA!$A$7,DATA!$D$7,IF(ตย.ข้อมูลประกอบ!$F57=DATA!$A$8,DATA!$D$8)))))))) -> 0 | T57: =Q57*R57*S57 -> 0 | U57: =IF($F57=DATA!$A$1,DATA!$D$1,IF(ตย.ข้อมูลประกอบ!$F57=DATA!$A$2,DATA!$D$2,IF(ตย.ข้อมูลประกอบ!$F57=DATA!$A$3,DATA!$D$3,IF(ตย.ข้อมูลประกอบ!$F57=DATA!$A$4,DATA!$D$4,IF(ตย.ข้อมูลประกอบ!$F57=DATA!$A$5,DATA!$D$5,IF(ตย.ข้อมูลประกอบ!$F57=DATA!$A$6,DATA!$D$6,IF(ตย.ข้อมูลประกอบ!$F57=DATA!$A$7,DATA!$B$7,IF(ตย.ข้อมูลประกอบ!$F57=DATA!$A$8,DATA!$D$8)))))))) -> 0 | V57: =IF($F57=DATA!$A$1,DATA!$D$1,IF(ตย.ข้อมูลประกอบ!$F57=DATA!$A$2,DATA!$D$2,IF(ตย.ข้อมูลประกอบ!$F57=DATA!$A$3,DATA!$D$3,IF(ตย.ข้อมูลประกอบ!$F57=DATA!$A$4,DATA!$D$4,IF(ตย.ข้อมูลประกอบ!$F57=DATA!$A$5,DATA!$D$5,IF(ตย.ข้อมูลประกอบ!$F57=DATA!$A$6,DATA!$D$6,IF(ตย.ข้อมูลประกอบ!$F57=DATA!$A$7,DATA!$C$7,IF(ตย.ข้อมูลประกอบ!$F57=DATA!$A$8,DATA!$D$8)))))))) -> 0 | W57: =U57*V57 -> 0 | X57: =SUM(L57,N57,P57,T57,W57) -> 226200
A58: 50 | B58: ร.ร.เทศบาล 5 (บ้านตลาดเก่า) | C58: 3964/2565 | D58: ปริญญาตรี | E58: นางสาวฮาลีเม๊าะ สะลิลอ | F58: ครูสอนอิสลามศึกษา | G58: 24780 | H58: =G58*0.04 -> 991.2 | I58: =SUM(G58:H58) -> 25771.2 | J58: =I58*0.05 -> 1288.56 | K58: =IF(J58>=750,750,J58) -> 750 | L58: =SUM(I58+K58)*12 -> 318254.4 | M58: =IF(F58=DATA!$A$1,DATA!$D$1,IF(ตย.ข้อมูลประกอบ!F58=DATA!$A$2,DATA!$D$2,IF(ตย.ข้อมูลประกอบ!F58=DATA!$A$3,DATA!$D$3,IF(ตย.ข้อมูลประกอบ!F58=DATA!$A$4,DATA!$D$4,IF(ตย.ข้อมูลประกอบ!F58=DATA!$A$5,DATA!$B$5,IF(ตย.ข้อมูลประกอบ!F58=DATA!$A$6,DATA!$D$6,IF(ตย.ข้อมูลประกอบ!F58=DATA!$A$7,DATA!$D$7,IF(ตย.ข้อมูลประกอบ!F58=DATA!$A$8,DATA!$D$8)))))))) -> 0 | N58: =M58*12 -> 0 | O58: =IF(F58=DATA!$A$1,DATA!$C$1,IF(ตย.ข้อมูลประกอบ!F58=DATA!$A$2,DATA!$C$2,IF(ตย.ข้อมูลประกอบ!F58=DATA!$A$3,DATA!$C$3,IF(ตย.ข้อมูลประกอบ!F58=DATA!$A$4,DATA!$C$4,IF(ตย.ข้อมูลประกอบ!F58=DATA!$A$5,DATA!$C$5,IF(ตย.ข้อมูลประกอบ!F58=DATA!$A$6,DATA!$D$6,IF(ตย.ข้อมูลประกอบ!F58=DATA!$A$7,DATA!$D$7,IF(ตย.ข้อมูลประกอบ!F58=DATA!$A$8,DATA!$B$8)))))))) -> 2500 | P58: =O58*12 -> 30000 | Q58: =IF($F58=DATA!$A$1,DATA!$D$1,IF(ตย.ข้อมูลประกอบ!$F58=DATA!$A$2,DATA!$D$2,IF(ตย.ข้อมูลประกอบ!$F58=DATA!$A$3,DATA!$D$3,IF(ตย.ข้อมูลประกอบ!$F58=DATA!$A$4,DATA!$D$4,IF(ตย.ข้อมูลประกอบ!$F58=DATA!$A$5,DATA!$D$5,IF(ตย.ข้อมูลประกอบ!$F58=DATA!$A$6,DATA!$B$6,IF(ตย.ข้อมูลประกอบ!$F58=DATA!$A$7,DATA!$D$7,IF(ตย.ข้อมูลประกอบ!$F58=DATA!$A$8,DATA!$D$8)))))))) -> 0 | R58: =IF($F58=DATA!$A$1,DATA!$D$1,IF(ตย.ข้อมูลประกอบ!$F58=DATA!$A$2,DATA!$D$2,IF(ตย.ข้อมูลประกอบ!$F58=DATA!$A$3,DATA!$D$3,IF(ตย.ข้อมูลประกอบ!$F58=DATA!$A$4,DATA!$D$4,IF(ตย.ข้อมูลประกอบ!$F58=DATA!$A$5,DATA!$D$5,IF(ตย.ข้อมูลประกอบ!$F58=DATA!$A$6,DATA!$C$6,IF(ตย.ข้อมูลประกอบ!$F58=DATA!$A$7,DATA!$D$7,IF(ตย.ข้อมูลประกอบ!$F58=DATA!$A$8,DATA!$D$8)))))))) -> 0 | S58: =IF($F58=DATA!$A$1,DATA!$D$1,IF(ตย.ข้อมูลประกอบ!$F58=DATA!$A$2,DATA!$D$2,IF(ตย.ข้อมูลประกอบ!$F58=DATA!$A$3,DATA!$D$3,IF(ตย.ข้อมูลประกอบ!$F58=DATA!$A$4,DATA!$D$4,IF(ตย.ข้อมูลประกอบ!$F58=DATA!$A$5,DATA!$D$5,IF(ตย.ข้อมูลประกอบ!$F58=DATA!$A$6,DATA!$E$6,IF(ตย.ข้อมูลประกอบ!$F58=DATA!$A$7,DATA!$D$7,IF(ตย.ข้อมูลประกอบ!$F58=DATA!$A$8,DATA!$D$8)))))))) -> 0 | T58: =Q58*R58*S58 -> 0 | U58: =IF($F58=DATA!$A$1,DATA!$D$1,IF(ตย.ข้อมูลประกอบ!$F58=DATA!$A$2,DATA!$D$2,IF(ตย.ข้อมูลประกอบ!$F58=DATA!$A$3,DATA!$D$3,IF(ตย.ข้อมูลประกอบ!$F58=DATA!$A$4,DATA!$D$4,IF(ตย.ข้อมูลประกอบ!$F58=DATA!$A$5,DATA!$D$5,IF(ตย.ข้อมูลประกอบ!$F58=DATA!$A$6,DATA!$D$6,IF(ตย.ข้อมูลประกอบ!$F58=DATA!$A$7,DATA!$B$7,IF(ตย.ข้อมูลประกอบ!$F58=DATA!$A$8,DATA!$D$8)))))))) -> 0 | V58: =IF($F58=DATA!$A$1,DATA!$D$1,IF(ตย.ข้อมูลประกอบ!$F58=DATA!$A$2,DATA!$D$2,IF(ตย.ข้อมูลประกอบ!$F58=DATA!$A$3,DATA!$D$3,IF(ตย.ข้อมูลประกอบ!$F58=DATA!$A$4,DATA!$D$4,IF(ตย.ข้อมูลประกอบ!$F58=DATA!$A$5,DATA!$D$5,IF(ตย.ข้อมูลประกอบ!$F58=DATA!$A$6,DATA!$D$6,IF(ตย.ข้อมูลประกอบ!$F58=DATA!$A$7,DATA!$C$7,IF(ตย.ข้อมูลประกอบ!$F58=DATA!$A$8,DATA!$D$8)))))))) -> 0 | W58: =U58*V58 -> 0 | X58: =SUM(L58,N58,P58,T58,W58) -> 348254.4
... A69: 61 | B69: ร.ร.เทศบาล 5 (บ้านตลาดเก่า) | C69: 3964/2565 | D69: ปริญญาตรี | E69: นางสาวนิพัตรา เจ๊ะและ | F69: ครูสอนอิสลามศึกษา | G69: 18060 | H69: =G69*0.04 -> 722.4 | I69: =SUM(G69:H69) -> 18782.4 | J69: =I69*0.05 -> 939.12 | K69: =IF(J69>=750,750,J69) -> 750 | L69: =SUM(I69+K69)*12 -> 234388.8 | M69: =IF(F69=DATA!$A$1,DATA!$D$1,IF(ตย.ข้อมูลประกอบ!F69=DATA!$A$2,DATA!$D$2,IF(ตย.ข้อมูลประกอบ!F69=DATA!$A$3,DATA!$D$3,IF(ตย.ข้อมูลประกอบ!F69=DATA!$A$4,DATA!$D$4,IF(ตย.ข้อมูลประกอบ!F69=DATA!$A$5,DATA!$B$5,IF(ตย.ข้อมูลประกอบ!F69=DATA!$A$6,DATA!$D$6,IF(ตย.ข้อมูลประกอบ!F69=DATA!$A$7,DATA!$D$7,IF(ตย.ข้อมูลประกอบ!F69=DATA!$A$8,DATA!$D$8)))))))) -> 0 | N69: =M69*12 -> 0 | O69: =IF(F69=DATA!$A$1,DATA!$C$1,IF(ตย.ข้อมูลประกอบ!F69=DATA!$A$2,DATA!$C$2,IF(ตย.ข้อมูลประกอบ!F69=DATA!$A$3,DATA!$C$3,IF(ตย.ข้อมูลประกอบ!F69=DATA!$A$4,DATA!$C$4,IF(ตย.ข้อมูลประกอบ!F69=DATA!$A$5,DATA!$C$5,IF(ตย.ข้อมูลประกอบ!F69=DATA!$A$6,DATA!$D$6,IF(ตย.ข้อมูลประกอบ!F69=DATA!$A$7,DATA!$D$7,IF(ตย.ข้อมูลประกอบ!F69=DATA!$A$8,DATA!$B$8)))))))) -> 2500 | P69: =O69*12 -> 30000 | Q69: =IF($F69=DATA!$A$1,DATA!$D$1,IF(ตย.ข้อมูลประกอบ!$F69=DATA!$A$2,DATA!$D$2,IF(ตย.ข้อมูลประกอบ!$F69=DATA!$A$3,DATA!$D$3,IF(ตย.ข้อมูลประกอบ!$F69=DATA!$A$4,DATA!$D$4,IF(ตย.ข้อมูลประกอบ!$F69=DATA!$A$5,DATA!$D$5,IF(ตย.ข้อมูลประกอบ!$F69=DATA!$A$6,DATA!$B$6,IF(ตย.ข้อมูลประกอบ!$F69=DATA!$A$7,DATA!$D$7,IF(ตย.ข้อมูลประกอบ!$F69=DATA!$A$8,DATA!$D$8)))))))) -> 0 | R69: =IF($F69=DATA!$A$1,DATA!$D$1,IF(ตย.ข้อมูลประกอบ!$F69=DATA!$A$2,DATA!$D$2,IF(ตย.ข้อมูลประกอบ!$F69=DATA!$A$3,DATA!$D$3,IF(ตย.ข้อมูลประกอบ!$F69=DATA!$A$4,DATA!$D$4,IF(ตย.ข้อมูลประกอบ!$F69=DATA!$A$5,DATA!$D$5,IF(ตย.ข้อมูลประกอบ!$F69=DATA!$A$6,DATA!$C$6,IF(ตย.ข้อมูลประกอบ!$F69=DATA!$A$7,DATA!$D$7,IF(ตย.ข้อมูลประกอบ!$F69=DATA!$A$8,DATA!$D$8)))))))) -> 0 | S69: =IF($F69=DATA!$A$1,DATA!$D$1,IF(ตย.ข้อมูลประกอบ!$F69=DATA!$A$2,DATA!$D$2,IF(ตย.ข้อมูลประกอบ!$F69=DATA!$A$3,DATA!$D$3,IF(ตย.ข้อมูลประกอบ!$F69=DATA!$A$4,DATA!$D$4,IF(ตย.ข้อมูลประกอบ!$F69=DATA!$A$5,DATA!$D$5,IF(ตย.ข้อมูลประกอบ!$F69=DATA!$A$6,DATA!$E$6,IF(ตย.ข้อมูลประกอบ!$F69=DATA!$A$7,DATA!$D$7,IF(ตย.ข้อมูลประกอบ!$F69=DATA!$A$8,DATA!$D$8)))))))) -> 0 | T69: =Q69*R69*S69 -> 0 | U69: =IF($F69=DATA!$A$1,DATA!$D$1,IF(ตย.ข้อมูลประกอบ!$F69=DATA!$A$2,DATA!$D$2,IF(ตย.ข้อมูลประกอบ!$F69=DATA!$A$3,DATA!$D$3,IF(ตย.ข้อมูลประกอบ!$F69=DATA!$A$4,DATA!$D$4,IF(ตย.ข้อมูลประกอบ!$F69=DATA!$A$5,DATA!$D$5,IF(ตย.ข้อมูลประกอบ!$F69=DATA!$A$6,DATA!$D$6,IF(ตย.ข้อมูลประกอบ!$F69=DATA!$A$7,DATA!$B$7,IF(ตย.ข้อมูลประกอบ!$F69=DATA!$A$8,DATA!$D$8)))))))) -> 0 | V69: =IF($F69=DATA!$A$1,DATA!$D$1,IF(ตย.ข้อมูลประกอบ!$F69=DATA!$A$2,DATA!$D$2,IF(ตย.ข้อมูลประกอบ!$F69=DATA!$A$3,DATA!$D$3,IF(ตย.ข้อมูลประกอบ!$F69=DATA!$A$4,DATA!$D$4,IF(ตย.ข้อมูลประกอบ!$F69=DATA!$A$5,DATA!$D$5,IF(ตย.ข้อมูลประกอบ!$F69=DATA!$A$6,DATA!$D$6,IF(ตย.ข้อมูลประกอบ!$F69=DATA!$A$7,DATA!$C$7,IF(ตย.ข้อมูลประกอบ!$F69=DATA!$A$8,DATA!$D$8)))))))) -> 0 | W69: =U69*V69 -> 0 | X69: =SUM(L69,N69,P69,T69,W69) -> 264388.8
A70: 62 | B70: ร.ร.เทศบาล 5 (บ้านตลาดเก่า) | C70: 3939/2565 | D70: ปริญญาตรี | E70: นายคอบอรี ตีมุง | F70: พนักงานจ้าง | H70: =G70*0.04 -> 0 | I70: =SUM(G70:H70) -> 0 | J70: =I70*0.05 -> 0 | K70: =IF(J70>=750,750,J70) -> 0 | L70: =SUM(I70+K70)*12 -> 0 | M70: =IF(F70=DATA!$A$1,DATA!$D$1,IF(ตย.ข้อมูลประกอบ!F70=DATA!$A$2,DATA!$D$2,IF(ตย.ข้อมูลประกอบ!F70=DATA!$A$3,DATA!$D$3,IF(ตย.ข้อมูลประกอบ!F70=DATA!$A$4,DATA!$D$4,IF(ตย.ข้อมูลประกอบ!F70=DATA!$A$5,DATA!$B$5,IF(ตย.ข้อมูลประกอบ!F70=DATA!$A$6,DATA!$D$6,IF(ตย.ข้อมูลประกอบ!F70=DATA!$A$7,DATA!$D$7,IF(ตย.ข้อมูลประกอบ!F70=DATA!$A$8,DATA!$D$8)))))))) -> 0 | N70: =M70*12 -> 0 | O70: =IF(F70=DATA!$A$1,DATA!$C$1,IF(ตย.ข้อมูลประกอบ!F70=DATA!$A$2,DATA!$C$2,IF(ตย.ข้อมูลประกอบ!F70=DATA!$A$3,DATA!$C$3,IF(ตย.ข้อมูลประกอบ!F70=DATA!$A$4,DATA!$C$4,IF(ตย.ข้อมูลประกอบ!F70=DATA!$A$5,DATA!$C$5,IF(ตย.ข้อมูลประกอบ!F70=DATA!$A$6,DATA!$D$6,IF(ตย.ข้อมูลประกอบ!F70=DATA!$A$7,DATA!$D$7,IF(ตย.ข้อมูลประกอบ!F70=DATA!$A$8,DATA!$B$8)))))))) -> 0 | P70: =O70*12 -> 0 | Q70: =IF($F70=DATA!$A$1,DATA!$D$1,IF(ตย.ข้อมูลประกอบ!$F70=DATA!$A$2,DATA!$D$2,IF(ตย.ข้อมูลประกอบ!$F70=DATA!$A$3,DATA!$D$3,IF(ตย.ข้อมูลประกอบ!$F70=DATA!$A$4,DATA!$D$4,IF(ตย.ข้อมูลประกอบ!$F70=DATA!$A$5,DATA!$D$5,IF(ตย.ข้อมูลประกอบ!$F70=DATA!$A$6,DATA!$B$6,IF(ตย.ข้อมูลประกอบ!$F70=DATA!$A$7,DATA!$D$7,IF(ตย.ข้อมูลประกอบ!$F70=DATA!$A$8,DATA!$D$8)))))))) -> 8 | R70: =IF($F70=DATA!$A$1,DATA!$D$1,IF(ตย.ข้อมูลประกอบ!$F70=DATA!$A$2,DATA!$D$2,IF(ตย.ข้อมูลประกอบ!$F70=DATA!$A$3,DATA!$D$3,IF(ตย.ข้อมูลประกอบ!$F70=DATA!$A$4,DATA!$D$4,IF(ตย.ข้อมูลประกอบ!$F70=DATA!$A$5,DATA!$D$5,IF(ตย.ข้อมูลประกอบ!$F70=DATA!$A$6,DATA!$C$6,IF(ตย.ข้อมูลประกอบ!$F70=DATA!$A$7,DATA!$D$7,IF(ตย.ข้อมูลประกอบ!$F70=DATA!$A$8,DATA!$D$8)))))))) -> 80 | S70: =IF($F70=DATA!$A$1,DATA!$D$1,IF(ตย.ข้อมูลประกอบ!$F70=DATA!$A$2,DATA!$D$2,IF(ตย.ข้อมูลประกอบ!$F70=DATA!$A$3,DATA!$D$3,IF(ตย.ข้อมูลประกอบ!$F70=DATA!$A$4,DATA!$D$4,IF(ตย.ข้อมูลประกอบ!$F70=DATA!$A$5,DATA!$D$5,IF(ตย.ข้อมูลประกอบ!$F70=DATA!$A$6,DATA!$E$6,IF(ตย.ข้อมูลประกอบ!$F70=DATA!$A$7,DATA!$D$7,IF(ตย.ข้อมูลประกอบ!$F70=DATA!$A$8,DATA!$D$8)))))))) -> 200 | T70: =Q70*R70*S70 -> 128000 | U70: =IF($F70=DATA!$A$1,DATA!$D$1,IF(ตย.ข้อมูลประกอบ!$F70=DATA!$A$2,DATA!$D$2,IF(ตย.ข้อมูลประกอบ!$F70=DATA!$A$3,DATA!$D$3,IF(ตย.ข้อมูลประกอบ!$F70=DATA!$A$4,DATA!$D$4,IF(ตย.ข้อมูลประกอบ!$F70=DATA!$A$5,DATA!$D$5,IF(ตย.ข้อมูลประกอบ!$F70=DATA!$A$6,DATA!$D$6,IF(ตย.ข้อมูลประกอบ!$F70=DATA!$A$7,DATA!$B$7,IF(ตย.ข้อมูลประกอบ!$F70=DATA!$A$8,DATA!$D$8)))))))) -> 0 | V70: =IF($F70=DATA!$A$1,DATA!$D$1,IF(ตย.ข้อมูลประกอบ!$F70=DATA!$A$2,DATA!$D$2,IF(ตย.ข้อมูลประกอบ!$F70=DATA!$A$3,DATA!$D$3,IF(ตย.ข้อมูลประกอบ!$F70=DATA!$A$4,DATA!$D$4,IF(ตย.ข้อมูลประกอบ!$F70=DATA!$A$5,DATA!$D$5,IF(ตย.ข้อมูลประกอบ!$F70=DATA!$A$6,DATA!$D$6,IF(ตย.ข้อมูลประกอบ!$F70=DATA!$A$7,DATA!$C$7,IF(ตย.ข้อมูลประกอบ!$F70=DATA!$A$8,DATA!$D$8)))))))) -> 0 | W70: =U70*V70 -> 0 | X70: =SUM(L70,N70,P70,T70,W70) -> 128000
A71: 63 | B71: ร.ร.เทศบาล 5 (บ้านตลาดเก่า) | C71: 3939/2565 | D71: ปริญญาตรี | E71: นางสาวฟาตีมะห์ หะยียะซา | F71: พนักงานจ้าง | H71: =G71*0.04 -> 0 | I71: =SUM(G71:H71) -> 0 | J71: =I71*0.05 -> 0 | K71: =IF(J71>=750,750,J71) -> 0 | L71: =SUM(I71+K71)*12 -> 0 | M71: =IF(F71=DATA!$A$1,DATA!$D$1,IF(ตย.ข้อมูลประกอบ!F71=DATA!$A$2,DATA!$D$2,IF(ตย.ข้อมูลประกอบ!F71=DATA!$A$3,DATA!$D$3,IF(ตย.ข้อมูลประกอบ!F71=DATA!$A$4,DATA!$D$4,IF(ตย.ข้อมูลประกอบ!F71=DATA!$A$5,DATA!$B$5,IF(ตย.ข้อมูลประกอบ!F71=DATA!$A$6,DATA!$D$6,IF(ตย.ข้อมูลประกอบ!F71=DATA!$A$7,DATA!$D$7,IF(ตย.ข้อมูลประกอบ!F71=DATA!$A$8,DATA!$D$8)))))))) -> 0 | N71: =M71*12 -> 0 | O71: =IF(F71=DATA!$A$1,DATA!$C$1,IF(ตย.ข้อมูลประกอบ!F71=DATA!$A$2,DATA!$C$2,IF(ตย.ข้อมูลประกอบ!F71=DATA!$A$3,DATA!$C$3,IF(ตย.ข้อมูลประกอบ!F71=DATA!$A$4,DATA!$C$4,IF(ตย.ข้อมูลประกอบ!F71=DATA!$A$5,DATA!$C$5,IF(ตย.ข้อมูลประกอบ!F71=DATA!$A$6,DATA!$D$6,IF(ตย.ข้อมูลประกอบ!F71=DATA!$A$7,DATA!$D$7,IF(ตย.ข้อมูลประกอบ!F71=DATA!$A$8,DATA!$B$8)))))))) -> 0 | P71: =O71*12 -> 0 | Q71: =IF($F71=DATA!$A$1,DATA!$D$1,IF(ตย.ข้อมูลประกอบ!$F71=DATA!$A$2,DATA!$D$2,IF(ตย.ข้อมูลประกอบ!$F71=DATA!$A$3,DATA!$D$3,IF(ตย.ข้อมูลประกอบ!$F71=DATA!$A$4,DATA!$D$4,IF(ตย.ข้อมูลประกอบ!$F71=DATA!$A$5,DATA!$D$5,IF(ตย.ข้อมูลประกอบ!$F71=DATA!$A$6,DATA!$B$6,IF(ตย.ข้อมูลประกอบ!$F71=DATA!$A$7,DATA!$D$7,IF(ตย.ข้อมูลประกอบ!$F71=DATA!$A$8,DATA!$D$8)))))))) -> 8 | R71: =IF($F71=DATA!$A$1,DATA!$D$1,IF(ตย.ข้อมูลประกอบ!$F71=DATA!$A$2,DATA!$D$2,IF(ตย.ข้อมูลประกอบ!$F71=DATA!$A$3,DATA!$D$3,IF(ตย.ข้อมูลประกอบ!$F71=DATA!$A$4,DATA!$D$4,IF(ตย.ข้อมูลประกอบ!$F71=DATA!$A$5,DATA!$D$5,IF(ตย.ข้อมูลประกอบ!$F71=DATA!$A$6,DATA!$C$6,IF(ตย.ข้อมูลประกอบ!$F71=DATA!$A$7,DATA!$D$7,IF(ตย.ข้อมูลประกอบ!$F71=DATA!$A$8,DATA!$D$8)))))))) -> 80 | S71: =IF($F71=DATA!$A$1,DATA!$D$1,IF(ตย.ข้อมูลประกอบ!$F71=DATA!$A$2,DATA!$D$2,IF(ตย.ข้อมูลประกอบ!$F71=DATA!$A$3,DATA!$D$3,IF(ตย.ข้อมูลประกอบ!$F71=DATA!$A$4,DATA!$D$4,IF(ตย.ข้อมูลประกอบ!$F71=DATA!$A$5,DATA!$D$5,IF(ตย.ข้อมูลประกอบ!$F71=DATA!$A$6,DATA!$E$6,IF(ตย.ข้อมูลประกอบ!$F71=DATA!$A$7,DATA!$D$7,IF(ตย.ข้อมูลประกอบ!$F71=DATA!$A$8,DATA!$D$8)))))))) -> 200 | T71: =Q71*R71*S71 -> 128000 | U71: =IF($F71=DATA!$A$1,DATA!$D$1,IF(ตย.ข้อมูลประกอบ!$F71=DATA!$A$2,DATA!$D$2,IF(ตย.ข้อมูลประกอบ!$F71=DATA!$A$3,DATA!$D$3,IF(ตย.ข้อมูลประกอบ!$F71=DATA!$A$4,DATA!$D$4,IF(ตย.ข้อมูลประกอบ!$F71=DATA!$A$5,DATA!$D$5,IF(ตย.ข้อมูลประกอบ!$F71=DATA!$A$6,DATA!$D$6,IF(ตย.ข้อมูลประกอบ!$F71=DATA!$A$7,DATA!$B$7,IF(ตย.ข้อมูลประกอบ!$F71=DATA!$A$8,DATA!$D$8)))))))) -> 0 | V71: =IF($F71=DATA!$A$1,DATA!$D$1,IF(ตย.ข้อมูลประกอบ!$F71=DATA!$A$2,DATA!$D$2,IF(ตย.ข้อมูลประกอบ!$F71=DATA!$A$3,DATA!$D$3,IF(ตย.ข้อมูลประกอบ!$F71=DATA!$A$4,DATA!$D$4,IF(ตย.ข้อมูลประกอบ!$F71=DATA!$A$5,DATA!$D$5,IF(ตย.ข้อมูลประกอบ!$F71=DATA!$A$6,DATA!$D$6,IF(ตย.ข้อมูลประกอบ!$F71=DATA!$A$7,DATA!$C$7,IF(ตย.ข้อมูลประกอบ!$F71=DATA!$A$8,DATA!$D$8)))))))) -> 0 | W71: =U71*V71 -> 0 | X71: =SUM(L71,N71,P71,T71,W71) -> 128000
A72: 64 | B72: ร.ร.เทศบาล 5 (บ้านตลาดเก่า) | C72: 3939/2565 | D72: ม.ปลาย | E72: นายสุไลมาน อาบู | F72: พนักงานจ้าง | H72: =G72*0.04 -> 0 | I72: =SUM(G72:H72) -> 0 | J72: =I72*0.05 -> 0 | K72: =IF(J72>=750,750,J72) -> 0 | L72: =SUM(I72+K72)*12 -> 0 | M72: =IF(F72=DATA!$A$1,DATA!$D$1,IF(ตย.ข้อมูลประกอบ!F72=DATA!$A$2,DATA!$D$2,IF(ตย.ข้อมูลประกอบ!F72=DATA!$A$3,DATA!$D$3,IF(ตย.ข้อมูลประกอบ!F72=DATA!$A$4,DATA!$D$4,IF(ตย.ข้อมูลประกอบ!F72=DATA!$A$5,DATA!$B$5,IF(ตย.ข้อมูลประกอบ!F72=DATA!$A$6,DATA!$D$6,IF(ตย.ข้อมูลประกอบ!F72=DATA!$A$7,DATA!$D$7,IF(ตย.ข้อมูลประกอบ!F72=DATA!$A$8,DATA!$D$8)))))))) -> 0 | N72: =M72*12 -> 0 | O72: =IF(F72=DATA!$A$1,DATA!$C$1,IF(ตย.ข้อมูลประกอบ!F72=DATA!$A$2,DATA!$C$2,IF(ตย.ข้อมูลประกอบ!F72=DATA!$A$3,DATA!$C$3,IF(ตย.ข้อมูลประกอบ!F72=DATA!$A$4,DATA!$C$4,IF(ตย.ข้อมูลประกอบ!F72=DATA!$A$5,DATA!$C$5,IF(ตย.ข้อมูลประกอบ!F72=DATA!$A$6,DATA!$D$6,IF(ตย.ข้อมูลประกอบ!F72=DATA!$A$7,DATA!$D$7,IF(ตย.ข้อมูลประกอบ!F72=DATA!$A$8,DATA!$B$8)))))))) -> 0 | P72: =O72*12 -> 0 | Q72: =IF($F72=DATA!$A$1,DATA!$D$1,IF(ตย.ข้อมูลประกอบ!$F72=DATA!$A$2,DATA!$D$2,IF(ตย.ข้อมูลประกอบ!$F72=DATA!$A$3,DATA!$D$3,IF(ตย.ข้อมูลประกอบ!$F72=DATA!$A$4,DATA!$D$4,IF(ตย.ข้อมูลประกอบ!$F72=DATA!$A$5,DATA!$D$5,IF(ตย.ข้อมูลประกอบ!$F72=DATA!$A$6,DATA!$B$6,IF(ตย.ข้อมูลประกอบ!$F72=DATA!$A$7,DATA!$D$7,IF(ตย.ข้อมูลประกอบ!$F72=DATA!$A$8,DATA!$D$8)))))))) -> 8 | R72: =IF($F72=DATA!$A$1,DATA!$D$1,IF(ตย.ข้อมูลประกอบ!$F72=DATA!$A$2,DATA!$D$2,IF(ตย.ข้อมูลประกอบ!$F72=DATA!$A$3,DATA!$D$3,IF(ตย.ข้อมูลประกอบ!$F72=DATA!$A$4,DATA!$D$4,IF(ตย.ข้อมูลประกอบ!$F72=DATA!$A$5,DATA!$D$5,IF(ตย.ข้อมูลประกอบ!$F72=DATA!$A$6,DATA!$C$6,IF(ตย.ข้อมูลประกอบ!$F72=DATA!$A$7,DATA!$D$7,IF(ตย.ข้อมูลประกอบ!$F72=DATA!$A$8,DATA!$D$8)))))))) -> 80 | S72: =IF($F72=DATA!$A$1,DATA!$D$1,IF(ตย.ข้อมูลประกอบ!$F72=DATA!$A$2,DATA!$D$2,IF(ตย.ข้อมูลประกอบ!$F72=DATA!$A$3,DATA!$D$3,IF(ตย.ข้อมูลประกอบ!$F72=DATA!$A$4,DATA!$D$4,IF(ตย.ข้อมูลประกอบ!$F72=DATA!$A$5,DATA!$D$5,IF(ตย.ข้อมูลประกอบ!$F72=DATA!$A$6,DATA!$E$6,IF(ตย.ข้อมูลประกอบ!$F72=DATA!$A$7,DATA!$D$7,IF(ตย.ข้อมูลประกอบ!$F72=DATA!$A$8,DATA!$D$8)))))))) -> 200 | T72: =Q72*R72*S72 -> 128000 | U72: =IF($F72=DATA!$A$1,DATA!$D$1,IF(ตย.ข้อมูลประกอบ!$F72=DATA!$A$2,DATA!$D$2,IF(ตย.ข้อมูลประกอบ!$F72=DATA!$A$3,DATA!$D$3,IF(ตย.ข้อมูลประกอบ!$F72=DATA!$A$4,DATA!$D$4,IF(ตย.ข้อมูลประกอบ!$F72=DATA!$A$5,DATA!$D$5,IF(ตย.ข้อมูลประกอบ!$F72=DATA!$A$6,DATA!$D$6,IF(ตย.ข้อมูลประกอบ!$F72=DATA!$A$7,DATA!$B$7,IF(ตย.ข้อมูลประกอบ!$F72=DATA!$A$8,DATA!$D$8)))))))) -> 0 | V72: =IF($F72=DATA!$A$1,DATA!$D$1,IF(ตย.ข้อมูลประกอบ!$F72=DATA!$A$2,DATA!$D$2,IF(ตย.ข้อมูลประกอบ!$F72=DATA!$A$3,DATA!$D$3,IF(ตย.ข้อมูลประกอบ!$F72=DATA!$A$4,DATA!$D$4,IF(ตย.ข้อมูลประกอบ!$F72=DATA!$A$5,DATA!$D$5,IF(ตย.ข้อมูลประกอบ!$F72=DATA!$A$6,DATA!$D$6,IF(ตย.ข้อมูลประกอบ!$F72=DATA!$A$7,DATA!$C$7,IF(ตย.ข้อมูลประกอบ!$F72=DATA!$A$8,DATA!$D$8)))))))) -> 0 | W72: =U72*V72 -> 0 | X72: =SUM(L72,N72,P72,T72,W72) -> 128000
A73: 65 | B73: ร.ร.เทศบาล 5 (บ้านตลาดเก่า) | C73: 3939/2565 | D73: ป.6 | E73: นายสมะแอ เซ็ง | F73: พนักงานจ้าง | H73: =G73*0.04 -> 0 | I73: =SUM(G73:H73) -> 0 | J73: =I73*0.05 -> 0 | K73: =IF(J73>=750,750,J73) -> 0 | L73: =SUM(I73+K73)*12 -> 0 | M73: =IF(F73=DATA!$A$1,DATA!$D$1,IF(ตย.ข้อมูลประกอบ!F73=DATA!$A$2,DATA!$D$2,IF(ตย.ข้อมูลประกอบ!F73=DATA!$A$3,DATA!$D$3,IF(ตย.ข้อมูลประกอบ!F73=DATA!$A$4,DATA!$D$4,IF(ตย.ข้อมูลประกอบ!F73=DATA!$A$5,DATA!$B$5,IF(ตย.ข้อมูลประกอบ!F73=DATA!$A$6,DATA!$D$6,IF(ตย.ข้อมูลประกอบ!F73=DATA!$A$7,DATA!$D$7,IF(ตย.ข้อมูลประกอบ!F73=DATA!$A$8,DATA!$D$8)))))))) -> 0 | N73: =M73*12 -> 0 | O73: =IF(F73=DATA!$A$1,DATA!$C$1,IF(ตย.ข้อมูลประกอบ!F73=DATA!$A$2,DATA!$C$2,IF(ตย.ข้อมูลประกอบ!F73=DATA!$A$3,DATA!$C$3,IF(ตย.ข้อมูลประกอบ!F73=DATA!$A$4,DATA!$C$4,IF(ตย.ข้อมูลประกอบ!F73=DATA!$A$5,DATA!$C$5,IF(ตย.ข้อมูลประกอบ!F73=DATA!$A$6,DATA!$D$6,IF(ตย.ข้อมูลประกอบ!F73=DATA!$A$7,DATA!$D$7,IF(ตย.ข้อมูลประกอบ!F73=DATA!$A$8,DATA!$B$8)))))))) -> 0 | P73: =O73*12 -> 0 | Q73: =IF($F73=DATA!$A$1,DATA!$D$1,IF(ตย.ข้อมูลประกอบ!$F73=DATA!$A$2,DATA!$D$2,IF(ตย.ข้อมูลประกอบ!$F73=DATA!$A$3,DATA!$D$3,IF(ตย.ข้อมูลประกอบ!$F73=DATA!$A$4,DATA!$D$4,IF(ตย.ข้อมูลประกอบ!$F73=DATA!$A$5,DATA!$D$5,IF(ตย.ข้อมูลประกอบ!$F73=DATA!$A$6,DATA!$B$6,IF(ตย.ข้อมูลประกอบ!$F73=DATA!$A$7,DATA!$D$7,IF(ตย.ข้อมูลประกอบ!$F73=DATA!$A$8,DATA!$D$8)))))))) -> 8 | R73: =IF($F73=DATA!$A$1,DATA!$D$1,IF(ตย.ข้อมูลประกอบ!$F73=DATA!$A$2,DATA!$D$2,IF(ตย.ข้อมูลประกอบ!$F73=DATA!$A$3,DATA!$D$3,IF(ตย.ข้อมูลประกอบ!$F73=DATA!$A$4,DATA!$D$4,IF(ตย.ข้อมูลประกอบ!$F73=DATA!$A$5,DATA!$D$5,IF(ตย.ข้อมูลประกอบ!$F73=DATA!$A$6,DATA!$C$6,IF(ตย.ข้อมูลประกอบ!$F73=DATA!$A$7,DATA!$D$7,IF(ตย.ข้อมูลประกอบ!$F73=DATA!$A$8,DATA!$D$8)))))))) -> 80 | S73: =IF($F73=DATA!$A$1,DATA!$D$1,IF(ตย.ข้อมูลประกอบ!$F73=DATA!$A$2,DATA!$D$2,IF(ตย.ข้อมูลประกอบ!$F73=DATA!$A$3,DATA!$D$3,IF(ตย.ข้อมูลประกอบ!$F73=DATA!$A$4,DATA!$D$4,IF(ตย.ข้อมูลประกอบ!$F73=DATA!$A$5,DATA!$D$5,IF(ตย.ข้อมูลประกอบ!$F73=DATA!$A$6,DATA!$E$6,IF(ตย.ข้อมูลประกอบ!$F73=DATA!$A$7,DATA!$D$7,IF(ตย.ข้อมูลประกอบ!$F73=DATA!$A$8,DATA!$D$8)))))))) -> 200 | T73: =Q73*R73*S73 -> 128000 | U73: =IF($F73=DATA!$A$1,DATA!$D$1,IF(ตย.ข้อมูลประกอบ!$F73=DATA!$A$2,DATA!$D$2,IF(ตย.ข้อมูลประกอบ!$F73=DATA!$A$3,DATA!$D$3,IF(ตย.ข้อมูลประกอบ!$F73=DATA!$A$4,DATA!$D$4,IF(ตย.ข้อมูลประกอบ!$F73=DATA!$A$5,DATA!$D$5,IF(ตย.ข้อมูลประกอบ!$F73=DATA!$A$6,DATA!$D$6,IF(ตย.ข้อมูลประกอบ!$F73=DATA!$A$7,DATA!$B$7,IF(ตย.ข้อมูลประกอบ!$F73=DATA!$A$8,DATA!$D$8)))))))) -> 0 | V73: =IF($F73=DATA!$A$1,DATA!$D$1,IF(ตย.ข้อมูลประกอบ!$F73=DATA!$A$2,DATA!$D$2,IF(ตย.ข้อมูลประกอบ!$F73=DATA!$A$3,DATA!$D$3,IF(ตย.ข้อมูลประกอบ!$F73=DATA!$A$4,DATA!$D$4,IF(ตย.ข้อมูลประกอบ!$F73=DATA!$A$5,DATA!$D$5,IF(ตย.ข้อมูลประกอบ!$F73=DATA!$A$6,DATA!$D$6,IF(ตย.ข้อมูลประกอบ!$F73=DATA!$A$7,DATA!$C$7,IF(ตย.ข้อมูลประกอบ!$F73=DATA!$A$8,DATA!$D$8)))))))) -> 0 | W73: =U73*V73 -> 0 | X73: =SUM(L73,N73,P73,T73,W73) -> 128000
A74: 66 | B74: ร.ร.เทศบาล 5 (บ้านตลาดเก่า) | C74: 3939/2565 | D74: ม.ปลาย | E74: นางลาตีพะห์ ดูมีแด | F74: พนักงานจ้าง | H74: =G74*0.04 -> 0 | I74: =SUM(G74:H74) -> 0 | J74: =I74*0.05 -> 0 | K74: =IF(J74>=750,750,J74) -> 0 | L74: =SUM(I74+K74)*12 -> 0 | M74: =IF(F74=DATA!$A$1,DATA!$D$1,IF(ตย.ข้อมูลประกอบ!F74=DATA!$A$2,DATA!$D$2,IF(ตย.ข้อมูลประกอบ!F74=DATA!$A$3,DATA!$D$3,IF(ตย.ข้อมูลประกอบ!F74=DATA!$A$4,DATA!$D$4,IF(ตย.ข้อมูลประกอบ!F74=DATA!$A$5,DATA!$B$5,IF(ตย.ข้อมูลประกอบ!F74=DATA!$A$6,DATA!$D$6,IF(ตย.ข้อมูลประกอบ!F74=DATA!$A$7,DATA!$D$7,IF(ตย.ข้อมูลประกอบ!F74=DATA!$A$8,DATA!$D$8)))))))) -> 0 | N74: =M74*12 -> 0 | O74: =IF(F74=DATA!$A$1,DATA!$C$1,IF(ตย.ข้อมูลประกอบ!F74=DATA!$A$2,DATA!$C$2,IF(ตย.ข้อมูลประกอบ!F74=DATA!$A$3,DATA!$C$3,IF(ตย.ข้อมูลประกอบ!F74=DATA!$A$4,DATA!$C$4,IF(ตย.ข้อมูลประกอบ!F74=DATA!$A$5,DATA!$C$5,IF(ตย.ข้อมูลประกอบ!F74=DATA!$A$6,DATA!$D$6,IF(ตย.ข้อมูลประกอบ!F74=DATA!$A$7,DATA!$D$7,IF(ตย.ข้อมูลประกอบ!F74=DATA!$A$8,DATA!$B$8)))))))) -> 0 | P74: =O74*12 -> 0 | Q74: =IF($F74=DATA!$A$1,DATA!$D$1,IF(ตย.ข้อมูลประกอบ!$F74=DATA!$A$2,DATA!$D$2,IF(ตย.ข้อมูลประกอบ!$F74=DATA!$A$3,DATA!$D$3,IF(ตย.ข้อมูลประกอบ!$F74=DATA!$A$4,DATA!$D$4,IF(ตย.ข้อมูลประกอบ!$F74=DATA!$A$5,DATA!$D$5,IF(ตย.ข้อมูลประกอบ!$F74=DATA!$A$6,DATA!$B$6,IF(ตย.ข้อมูลประกอบ!$F74=DATA!$A$7,DATA!$D$7,IF(ตย.ข้อมูลประกอบ!$F74=DATA!$A$8,DATA!$D$8)))))))) -> 8 | R74: =IF($F74=DATA!$A$1,DATA!$D$1,IF(ตย.ข้อมูลประกอบ!$F74=DATA!$A$2,DATA!$D$2,IF(ตย.ข้อมูลประกอบ!$F74=DATA!$A$3,DATA!$D$3,IF(ตย.ข้อมูลประกอบ!$F74=DATA!$A$4,DATA!$D$4,IF(ตย.ข้อมูลประกอบ!$F74=DATA!$A$5,DATA!$D$5,IF(ตย.ข้อมูลประกอบ!$F74=DATA!$A$6,DATA!$C$6,IF(ตย.ข้อมูลประกอบ!$F74=DATA!$A$7,DATA!$D$7,IF(ตย.ข้อมูลประกอบ!$F74=DATA!$A$8,DATA!$D$8)))))))) -> 80 | S74: =IF($F74=DATA!$A$1,DATA!$D$1,IF(ตย.ข้อมูลประกอบ!$F74=DATA!$A$2,DATA!$D$2,IF(ตย.ข้อมูลประกอบ!$F74=DATA!$A$3,DATA!$D$3,IF(ตย.ข้อมูลประกอบ!$F74=DATA!$A$4,DATA!$D$4,IF(ตย.ข้อมูลประกอบ!$F74=DATA!$A$5,DATA!$D$5,IF(ตย.ข้อมูลประกอบ!$F74=DATA!$A$6,DATA!$E$6,IF(ตย.ข้อมูลประกอบ!$F74=DATA!$A$7,DATA!$D$7,IF(ตย.ข้อมูลประกอบ!$F74=DATA!$A$8,DATA!$D$8)))))))) -> 200 | T74: =Q74*R74*S74 -> 128000 | U74: =IF($F74=DATA!$A$1,DATA!$D$1,IF(ตย.ข้อมูลประกอบ!$F74=DATA!$A$2,DATA!$D$2,IF(ตย.ข้อมูลประกอบ!$F74=DATA!$A$3,DATA!$D$3,IF(ตย.ข้อมูลประกอบ!$F74=DATA!$A$4,DATA!$D$4,IF(ตย.ข้อมูลประกอบ!$F74=DATA!$A$5,DATA!$D$5,IF(ตย.ข้อมูลประกอบ!$F74=DATA!$A$6,DATA!$D$6,IF(ตย.ข้อมูลประกอบ!$F74=DATA!$A$7,DATA!$B$7,IF(ตย.ข้อมูลประกอบ!$F74=DATA!$A$8,DATA!$D$8)))))))) -> 0 | V74: =IF($F74=DATA!$A$1,DATA!$D$1,IF(ตย.ข้อมูลประกอบ!$F74=DATA!$A$2,DATA!$D$2,IF(ตย.ข้อมูลประกอบ!$F74=DATA!$A$3,DATA!$D$3,IF(ตย.ข้อมูลประกอบ!$F74=DATA!$A$4,DATA!$D$4,IF(ตย.ข้อมูลประกอบ!$F74=DATA!$A$5,DATA!$D$5,IF(ตย.ข้อมูลประกอบ!$F74=DATA!$A$6,DATA!$D$6,IF(ตย.ข้อมูลประกอบ!$F74=DATA!$A$7,DATA!$C$7,IF(ตย.ข้อมูลประกอบ!$F74=DATA!$A$8,DATA!$D$8)))))))) -> 0 | W74: =U74*V74 -> 0 | X74: =SUM(L74,N74,P74,T74,W74) -> 128000
