Workbook

Sheet รายละเอียด
A1: หน่วยรับงบประมาณ : …..................................... เงินอุดหนุนทั่วไป รายการ: เงินอุดหนุนสำหรับสนับสนุนศูนย์พัฒนาเด็กเล็ก (เงินเดือน ค่าตอบแทน เงินเพิ่มค่าครองชีพ และสวัสดิการ)
A2: 1. หลักการและเหตุผล : ศูนย์พัฒนาเด็กเล็กขององค์กรปกครองส่วนท้องถิ่น เป็นภารกิจถ่ายโอนงานปฐมวัยให้แก่องค์กรปกครองส่วนท้องถิ่น ซึ่งได้ดำเนินการมาอย่างต่อเนื่อง โดยมีวัตถุประสงค์เพื่อส่งเสริมให้ อปท. สามารถบริหารจัดการศึกษาระดับปฐมวัยได้อย่างมีประสิทธิภาพ และลดค่าใช้จ่ายของประชาชนในการส่งเด็กเล็กไปเรียนไกลบ้าน ดังนั้น รัฐบาลจึงต้องสนับสนุนเงินอุดหนุนในการจัดการเรียนการสอน ของศูนย์พัฒนาเด็กเล็กให้แก่ อปท. จัดการศึกษาได้ตามมาตรฐานการศึกษา
A3: 2. วัตถุประสงค์ : เพื่อส่งเสริมให้องค์กรปกครองส่วนท้องถิ่นบริหารจัดการศึกษาศูนย์พัฒนาเด็กเล็กได้อย่างมีประสิทธิภาพ และเพื่อพัฒนาคุณภาพ มาตรฐานการจัดการศึกษาระดับปฐมวัยให้มีความพร้อมสู่การศึกษาขั้นพื้นฐาน
A4: 3. เป้าหมาย : ข้าราชการ ลูกจ้างประจำ พนักงานจ้างตามภารกิจ และพนักงานจ้างทั่วไปของศูนย์พัฒนาเด็กเล็ก
A5: 4. หลักเกณฑ์การจัดสรร : ตามหลักเกณฑ์การตั้งงบประมาณค่าใช้จ่ายบุคลากรภาครัฐ โดยใช้ข้อมูลการเบิกจ่ายจริงเป็นฐาน
A6: 5. ลักษณะการจัดสรรงบประมาณ : เป็นการจัดสรรให้กับบุคลากรในองค์กรปกครองส่วนท้องถิ่น ที่มีศูนย์พัฒนาเด็กเล็ก สำหรับเป็นค่าใช้จ่าย เงินเดือน ค่าตอบแทน เงินเพิ่มค่าครองชีพชั่วคราว และสวัสดิการ สำหรับข้าราชการ ลูกจ้างประจำ พนักงานจ้างตามภารกิจ และพนักงานจ้างทั่วไปของศูนย์พัฒนาเด็กเล็ก
A7: 6. ข้อมูลประกอบการพิจารณา 6.1 ผลการเบิกจ่ายงบประมาณ พ.ศ. 2566 – พ.ศ. 2568 6.2 ได้รับจัดสรรงบประมาณ พ.ศ. 2569 บุคลากร จำนวน.......................คน เป็นเงิน........................บาท ข้อมูลผลการเบิกจ่าย ต.ค. - พ.ย. 2568 จำนวน................................บาท

Sheet อธิบาย งด.+ส่วนควบ
E1: คำอธิบายแบบฟอร์มข้อมูลประกอบคำของบประมาณรายจ่ายประจำปีงบประมาณ พ.ศ. 2569
A2: คำอธิบายแบบฟอร์มคำนวณเงินเดือน รายการ : เงินอุดหนุนสำหรับสนับสนุนศูนย์พัฒนาเด็กเล็ก (เงินเดือน ค่าตอบแทน เงินเพิ่มค่าครองชีพ และสวัสดิการ)
A4: คอลัมน์ | B4: รายการ | L4: กรอกข้อมูล | M4: ไม่ต้องกรอก (คำนวณอัตโนมัติ)
A5: ข้อมูลส่วนตัว สำหรับการกรอกข้อมูลทั้งข้าราชการ/ลูกจ้างประจำ หรือ พนักงานราชการ ดังนี้
A6: (A) | B6: โรงเรียน / ศพด. / สถานที่ทำงาน : ระบุชื่อโรงเรียน / ศพด. / สถานที่ทำงาน ที่สังกัด | L6: ü
A7: (B) | B7: ชื่อ - นามสกุล : ใส่คำนำหน้าชื่อแบบเต็ม (นาย/นาง/นางสาว/ว่าที่ร้อยตรี) และต่อด้วยชื่อ เว้นวรรคหนึ่งวรรค ตามด้วยนามสกุล กรณีเป็น "อัตราว่าง" ให้ระบุคำว่า อัตราว่าง ตามด้วยลำดับที่ ตัวอย่างเช่น อัตราว่าง 1, อัตราว่าง 2, อัตราว่าง 3 เป็นต้น | L7: ü
A8: (C) | B8: เลขที่ตำแหน่ง : เป็นตัวเลขเท่านั้น | L8: ü
A9: (D) | B9: อัตราคนครอง/อัตราว่าง : จะสัมพันธ์กับคอลัมน์ (B) - หากคอลัมน์ (B) ใส่ ชื่อ - นามสกุล คอลัมน์ (D) จะปรากฎว่า "อัตราคนครอง" - หากใส่คำว่า อัตราว่าง คอลัมน์ (D) จะปรากฎว่า "อัตราว่าง" | M9: ü
A10: ข้าราชการ/ลูกจ้างประจำ สำหรับการกรอกข้อมูลของข้าราชการหรือลูกจ้างประจำ ดังนี้
A11: (E) | B11: ชั้น/ระดับ : กรณีเป็นข้าราชการครูภาคบังคับหรือครูศูนย์พัฒนาเด็กเล็ก กดเลือกว่าเป็น ครูผู้ช่วย, ครู, ครูชำนาญการ, ครูชำนาญการพิเศษ, ครูเชี่ยวชาญ, ลูกจ้างประจำ อย่างใดอย่างหนึ่ง | L11: ü
A12: (F) | B12: ตำแหน่ง ผอ.ศพด./รก.ผอ.ศพด./ครูผู้ช่วย/ครู/อื่นๆ (สำหรับ ศพด.) : กดเลือกว่าเป็น ผอ.ศพด./รก.ผอ.ศพด./ครูผู้ช่วย/ครู/อื่นๆ | L12: ü
A13: (G) | B13: วัน/เดือน/ปีที่บรรจุ : ใส่วันที่ในรูปแบบ วัน/เดือน/ปี พ.ศ. เช่น 15/01/2535 หรือ 08/12/2540 | L13: ü
A14: (H) | B14: เงินเดือน ณ 1 ตุลาคม 2568 : จำนวนเงินเป็นรายเดือนที่เลื่อนขั้นในรอบที่ 2 ของปีงบประมาณ 2568 แล้ว | L14: ü
A15: (I) | B15: เลื่อนขั้น ร้อยละ 3 (ปี 2569) : ประมาณการเงินเลื่อนขั้นรอบที่ 2 ของปีงบประมาณ 2569 = เงินเดือน ณ 1 ต.ค. 68 x 3% | M15: ü
A16: (J) | B16: เลื่อนขั้น ร้อยละ 6 (ปี 2570) : ประมาณการเงินเลื่อนขั้นของปีงบประมาณ 2570 = (เงินเดือน 1 ต.ค. 68 + เลื่อนขั้น ร้อยละ 3) x 6% | M16: ü
A17: (K) | B17: รวมเงินเดือน + เลื่อนขั้น (รายเดือน) เงินรายเดือนของปีงบประมาณ 2570 = เงินเดือน 1 ต.ค. 68 + เลื่อนขั้น ร้อยละ 3 + เลื่อนขั้น ร้อยละ 6 | M17: ü
A18: (L) | B18: เงิน กบข. (รายเดือน) : คือ เงินที่ต้องสมทบกองทุนบำเหน็จบำนาญข้าราชการ (กบข.) เป็นรายเดือน | L18: ü
A19: (M) | B19: เงิน กสจ. (รายเดือน) : คือ กองทุนสํารองเลี้ยงชีพสําหรับลูกจ้างประจําของส่วนราชการ (กสจ.) เป็นรายเดือน | L19: ü
A20: (N) | B20: เงิน พสร. (รายเดือน) : คือ เงินเพิ่มพิเศษสำหรับการสู้รบ (พสร.) เป็นรายเดือน | L20: ü
A21: (O) | B21: เงิน พตส. (รายเดือน) : ไม่ต้องกรอกข้อมูล | G21: ข้อมูลเฉพาะ รพ.สต.
A22: (P) | B22: เงิน ฉ.11 (รายเดือน) : ไม่ต้องกรอกข้อมูล
A23: (Q) | B23: ส่วนควบ (รายเดือน) ค่าวิทยฐานะ/ เงินประจำตำแหน่ง : คือ เงินค่าวิทยฐานะรายเดือนของครู ศพด. | M23: ü
A24: (R) | B24: ส่วนควบ (รายเดือน) ค่าตอบแทนรายเดือน/เงินเพิ่มต่างๆ ของบุคลากรถ่ายโอน : คือ เงินค่าตอบแทนรายเดือนของครู ศพด. | M24: ü
A25: (S) | B25: ค่าตอบแทนอื่น (รายเดือน) รพ.สต. : คือ เงินค่าตอบแทนอื่น ๆ เป็นรายเดือนที่นอกเหนือจากเงินประจำตำแหน่ง และเงินเพิ่มต่างๆ ของบุคลากรถ่ายโอน (เฉพาะผู้ปฏิบัติงาน รพ.สต.) ไม่ต้องกรอกข้อมูล
A26: (T) | B26: ค่าตอบแทนคณะกรรมการประเมินผลงาน (รวมยอด) : กรอกจำนวนเงินของผู้มีสิทธิ์ได้รับต่อราย | L26: ü
A27: (U) | B27: ตกเบิก (รวมยอด) ค่าวิทยฐานะตกเบิก : จำนวนเงินตกเบิกทั้งสิ้นของผู้มีสิทธิ์ได้รับต่อราย | M27: ü
A28: (V) | B28: ตกเบิก (รวมยอด) ค่าตอบแทนตกเบิก : จำนวนเงินตกเบิกทั้งสิ้นของผู้มีสิทธิ์ได้รับต่อราย | M28: ü
A29: (W) | B29: รวมเงินเดือนข้าราชการและลูกจ้างประจำ | M29: ü
A30: พนักงานจ้างตามภารกิจ / พนักงานจ้างทั่วไป สำหรับการกรอกข้อมูลพนักงานราชการ ดังนี้
A31: (X) | B31: ตำแหน่ง : กดเลือกว่าเป็น พนักงานจ้างตามภารกิจ หรือ พนักงานจ้างทั่วไป อย่างใดอย่างหนึ่ง | L31: ü
A32: (Y) | B32: ผู้ช่วยครูผู้ช่วย/ผู้ดูแลเด็ก (สำหรับ ศพด.) : กดเลือกว่าเป็น ผู้ช่วยครูผู้ช่วย หรือผู้ดูแลเด็ก | L32: ü
A33: (Z) | B33: เงินเดือน ณ 1 ต.ค. 68 (รายเดือน) : จำนวนเงินรายเดือนที่รวมประมาณการเงินเลื่อนขั้นของปีงบประมาณ 2569 แล้ว | L33: ü
A34: (AA) | B34: เงินเลื่อนขั้น ร้อยละ 4 ของปี 2570 : ประมาณการเลื่อนขั้นของปีงบประมาณ 2570 = เงินเดือน ณ 1 ต.ค. 68 x 4% | M34: ü
A35: (AB) | B35: รวมเงินเดือน + เลื่อนขั้น (รายเดือน) : เงินรายเดือนของปีงบประมาณ 2570 = เงินเดือน ณ 1 ต.ค. 2568 + เงินเลื่อนขั้น ร้อยละ 4 ของปี 2570 | M35: ü
A36: (AC) | B36: เงินเพิ่มค่าครองชีพ (รายเดือน) : - พนักงานจ้างตามภารกิจ : ไม่เกิน 2,000 บาท/เดือน เมื่อรวมเงินเดือน + เงินเลื่อนขั้น + เงินค่าครองชีพแล้ว จะต้องไม่เกิน 14,600 บาท - พนักงานจ้างทั่วไป 2,000 บาท/เดือน | M36: ü
A37: (AD) | B37: รวมเงินเดือน + เงินเพิ่มค่าครองชีพ (รายเดือน) | M37: ü
A38: (AE) | B38: เงินกองทุนประกันสังคมร้อยละ 5 (รายเดือน) : = รวมเงินเดือน + เลื่อนขั้น (รายเดือน) x 5% ซึ่งไม่เกิน 750 บาทต่อเดือน | M38: ü
A39: (AF) | B39: รวมเงินเดือนพนักงาน | M39: ü
A40: (AG) | B40: รวมเงินเดือนข้าราชการ, ลูกจ้างประจำ และพนักงาน | M40: ü
A41: สิทธิประโยชน์ต่างๆ สำหรับการกรอกข้อมูลของบุคลากรที่สิทธิ์ได้รับ ดังนี้
A42: (AH) | B42: เงินค่าตอบแทนพิเศษชายแดนใต้ (รายเดือน) | L42: ü
A43: (AI - AK) | B43: สิทธิ์ประโยชน์ค่าเช่าบ้าน (เฉพาะตำแหน่งข้าราชการและลูกจ้างประจำเท่านั้น)
A44: (AI) | B44: ค่าเช่าบ้านรายเดือน : กรอกจำนวนเงินค่าเช่าบ้านรายเดือนตามสิทธิ์ที่เบิกจ่ายจริง | L44: ü
A45: (AJ) | B45: จำนวนเดือนที่ขอ : กรอกจำนวนเดือนที่ขอรับค่าเช่าบ้าน ไม่เกิน 12 เดือน | L45: ü
A46: (AK) | B46: รวมค่าเช่าบ้าน | M46: ü
A47: (AL - AT) | B47: ค่าการศึกษาบุตร (บุตรคนที่ 1 - 3) (เฉพาะตำแหน่งข้าราชการและลูกจ้างประจำเท่านั้น)
A48: (AL, AO, AR) | B48: ประเภทสถานศึกษา : กดเลือกว่าเป็นสถานศึกษาของทางราชการ สถานศึกษาเอกชนที่รับเงินอุดหนุน หรือสถานศึกษาเอกชน ที่ไม่รับเงินอุดหนุน | L48: ü
A49: (AM, AP, AS) | B49: ระดับชั้น : กดเลือกว่าเป็นอนุบาล ประถมศึกษา มัธยมต้น มัธยมปลาย ปวช. ปวส./อนุปริญญา หรือปริญญาตรี หากบุตรเลื่อนชั้นระหว่างปีงบประมาณ เช่น จาก ม.ต้น ไป ม.ปลาย ให้เลือก ระดับสูงกว่า | L49: ü
A50: (AN, AQ, AT) | B50: จำนวนเงิน : กรอกยอดรวมของค่าการศึกษาบุตรตามที่จ่ายจริงต่อปีต่อบุตรหนึ่งคน | L50: ü
A51: (AU) | B51: รวมค่าการศึกษาบุตร (รวมยอด)

Sheet คำนวณเงินเดือน ศพด.
A1: แบบฟอร์มประกอบคำของบประมาณรายจ่ายประจำปีงบประมาณ พ.ศ. 2570
A2: เงินอุดหนุนทั่วไป
A3: รายการ : เงินอุดหนุนสำหรับสนับสนุนศูนย์พัฒนาเด็กเล็ก (เงินเดือน ค่าตอบแทน เงินเพิ่มค่าครองชีพ และสวัสดิการ)
X4: ประมาณการคำของบประมาณ รายการเงินอุดหนุน ศพด. ฯ รวมทั้งสิ้น | Z4: =ROUND(Z5+Z6,-2) -> 0 | AA4: บาท | AB4: *ใช้จำนวนเงินในบรรทัดนี้กรอกระบบ BBL
X5: ประมาณการคำของบประมาณ เงินเดือนและส่วนควบ | Z5: =AX13 -> 0 | AA5: บาท
X6: ประมาณการคำของบประมาณ บำเหน็จบำนาญ | Z6: =คำนวณบำเหน็จบำนาญ!T5 -> 0 | AA6: บาท
A8: หน่วยรับงบประมาณ : ....................................
A10: ข้อมูลส่วนตัว | E10: ข้าราชการ / ลูกจ้างประจำ | W10: รวมเงินเดือน ข้าราชการและลูกจ้างประจำ (W) | X10: พนักงานจ้างตามภารกิจ / พนักงานจ้างทั่วไป | AF10: รวมเงินเดือน พนักงาน ((AD + AE) x 12) (AF) | AG10: รวมเงินเดือน ข้าราชการ ลูกจ้างประจำ และพนักงาน (W + AF) (AG) | AH10: เงินค่าตอบแทนพิเศษ ชายแดนใต้ (รายเดือน) (AH) | AI10: สิทธิ์ประโยชน์ ค่าเช่าบ้าน | AL10: ค่าการศึกษาบุตรคนที่ 1 (รวมยอด) | AO10: ค่าการศึกษาบุตรคนที่ 2 (รวมยอด) | AR10: ค่าการศึกษาบุตรคนที่ 3 (รวมยอด) | AU10: รวม ค่าการศึกษาบุตร (AN + AQ + AT) (AU) | AV10: รวมเงินเดือนและ ส่วนควบ (หนึ่งปีงบประมาณ) (AG + AK + AU (AH*12)) (AV) | AW10: รวม (รวมเงินตกเบิก) (U + V) (AW) | AX10: รวมทั้งสิ้น (หนึ่งปีงบประมาณ) (= AV) (AX)
A11: โรงเรียน / ศพด. / สถานที่ทำงาน (A) | B11: ชื่อ - นามสกุล (หากเป็นอัตราว่างให้ระบุคำว่า "อัตราว่าง" ตามด้วยลำดับที่ ในช่องนี้) (B) | C11: เลขที่ตำแหน่ง (C) | D11: อัตราคนครอง/ อัตราว่าง (D) | E11: ตำแหน่ง | G11: วันเดือนปี ที่บรรจุ (G) | H11: เงินเดือน ณ 1 ตุลาคม 68 ที่เลื่อนขั้นแล้ว (รายเดือน) (H) | I11: เลื่อนขั้น ร้อยละ 3 (ปี 2569) (I) | J11: เลื่อนขั้น ร้อยละ 6 (ทั้งปี 2570) (J) | K11: รวมเงินเดือน + เลื่อนขั้น (รายเดือน) (H + I + J) (K) | L11: เงิน กบข. (รายเดือน) (L) | M11: เงิน กสจ. (รายเดือน) ของลูกจ้างประจำ (M) | N11: เงิน พสร. (รายเดือน) (N) | O11: เงิน พตส. (สอน./รพ.สต.) (รายเดือน) (ไม่ต้องกรอกข้อมูล) (O) | P11: เงิน ฉ.11 (สอน./รพ.สต.) (รายเดือน) (ไม่ต้องกรอกข้อมูล) (P) | Q11: ส่วนควบ (รายเดือน) | S11: ค่าตอบแทนอื่น (รายเดือน) รพ.สต. (ไม่ต้องกรอกข้อมูล) (S) | T11: ค่าตอบแทน คณะกรรมการ ประเมินผลงาน (รวมยอด) (T) | U11: ตกเบิก (รวมยอด) (S) | X11: ตำแหน่ง (X) | Y11: ผู้ช่วยครูผู้ช่วย/ ผู้ดูแลเด็ก (สำหรับ ศพด.) (Y) | Z11: เงินเดือนพนักงาน ณ 1 ต.ค. 68 ที่เลื่อนขั้นแล้ว ของปี 2569 (รายเดือน) (Z) | AA11: เลื่อนขั้น ร้อยละ 4 ของปี 2570 (AA) | AB11: รวมเงินเดือน + เลื่อนขั้น (รายเดือน) (Z + AA) (AB) | AC11: เงินเพิ่ม ค่าครองชีพ (รายเดือน) (AC) | AD11: รวมเงินเดือน + เงินเพิ่ม ค่าครองชีพ (รายเดือน) (AB + AC) (AD) | AE11: เงินกองทุน ประกันสังคม ร้อยละ 5 (รายเดือน) (AB x 5%) (AE) | AI11: ค่าเช่าบ้าน รายเดือน (AI) | AJ11: จำนวนเดือน ที่ขอ (AJ) | AK11: รวมค่าเช่าบ้าน (AI x AJ) (AK) | AL11: ประเภทสถานศึกษา 1 (AL) | AM11: ระดับชั้น 1 (AM) | AN11: จำนวนเงิน 1 (AN) | AO11: ประเภทสถานศึกษา 2 (AO) | AP11: ระดับชั้น 2 (AP) | AQ11: จำนวนเงิน 2 (AQ) | AR11: ประเภทสถานศึกษา 3 (AR) | AS11: ระดับชั้น 3 (AS) | AT11: จำนวนเงิน 3 (AT)
E12: ชั้น/ ระดับ (E) | F12: (สำหรับ ศพด.) ผอ.ศพด./รก.ผอ.ศพด./ครู/ครูผู้ช่วย/อื่นๆ (F) | Q12: ค่าวิทยฐานะ / เงินประจำตำแหน่ง (Q) | R12: ค่าตอบแทนรายเดือน/ เงินเพิ่มต่างๆ ของบุคลากรถ่ายโอน (R) | U12: ค่าวิทยฐานะตกเบิก (U) | V12: ค่าตอบแทนตกเบิก (V)
A13: รวมทั้งสิ้น | H13: =SUM(H14:H1014) -> 0 | I13: =SUM(I14:I1014) -> 0 | J13: =SUM(J14:J1014) -> 0 | K13: =SUM(K14:K1014) -> 0 | L13: =SUM(L14:L1014) -> 0 | M13: =SUM(M14:M1014) -> 0 | N13: =SUM(N14:N1014) -> 0 | O13: =SUM(O14:O1014) -> 0 | ... W13: =SUM(W14:W1014) -> 0 | Z13: =SUM(Z14:Z1014) -> 0 | AA13: =SUM(AA14:AA1014) -> 0 | AB13: =SUM(AB14:AB1014) -> 0 | AC13: =SUM(AC14:AC1014) -> 0 | AD13: =SUM(AD14:AD1014) -> 0 | AE13: =SUM(AE14:AE1014) -> 0 | AF13: =SUM(AF14:AF1014) -> 0 | AG13: =SUM(AG14:AG1014) -> 0 | ... AI13: =SUM(AI14:AI1014) -> 0 | AJ13: =SUM(AJ14:AJ33) -> 0 | AK13: =SUM(AK14:AK1014) -> 0 | AL13: =SUM(AL14:AL33) -> 0 | AM13: =SUM(AM14:AM33) -> 0 | AN13: =SUM(AN14:AN1014) -> 0 | AO13: =SUM(AO14:AO33) -> 0 | AP13: =SUM(AP14:AP33) -> 0 | AQ13: =SUM(AQ14:AQ1014) -> 0 | AR13: =SUM(AR14:AR33) -> 0 | AS13: =SUM(AS14:AS33) -> 0 | AT13: =SUM(AT14:AT1014) -> 0 | AU13: =SUM(AU14:AU1014) -> 0 | AV13: =SUM(AV14:AV1014) -> 0 | AW13: =SUM(AW14:AW1014) -> 0 | AX13: =SUM(AX14:AX1014) -> 0
D14: =IF(LEN(B14)=0,"",IF(IFERROR(FIND("อัตราว่าง",B14,1),0)=0,"อัตราคนครอง","อัตราว่าง")) | E14: โปรดเลือก | F14: โปรดเลือก | I14: =H14*3% -> 0 | J14: =(H14+I14)*6% -> 0 | K14: =H14+J14+I14 -> 0 | O14: 0 | P14: 0 | Q14: =VLOOKUP(E14,$BA$15:$BC$22,2,FALSE) -> 0 | R14: =VLOOKUP(E14,$BA$15:$BC$22,3,FALSE) -> 0 | S14: 0 | U14: =IFERROR(VLOOKUP(B14,คำนวณตกเบิกวิทยฐานะ!$B$9:$P$1016,14,FALSE),0) -> 0 | V14: =IFERROR(VLOOKUP(B14,คำนวณตกเบิกวิทยฐานะ!$B$9:$P$1016,15,FALSE),0) -> 0 | W14: =(K14+L14+M14+N14+O14+P14+Q14+R14+S14)*12+U14+V14+T14 -> 0 | X14: โปรดเลือก | Y14: โปรดเลือก | AA14: =IF(X14="พนักงานจ้างตามภารกิจ",Z14*4/100,0) -> 0 | AB14: =Z14+AA14 -> 0 | AC14: =IF(Z14=0,0,IF(X14="พนักงานจ้างทั่วไป",IF(AB14>11000,0,IF(11000-AB14<=2000,11000-AB14,2000)),IF(AB14>14600,0,IF(14600-AB14<=2000,14600-AB14,2000)))) -> 0 | AD14: =AB14+AC14 -> 0 | AE14: =IF(OR(X14="พนักงานจ้างตามภารกิจ",X14="พนักงานจ้างทั่วไป"),IF(AD14*5/100>750,750,AD14*5/100),0) -> 0 | AF14: =(AD14+AE14)*12 -> 0 | AG14: =W14+AF14 -> 0 | AK14: =AI14*AJ14 -> 0 | AL14: โปรดเลือก | AM14: โปรดเลือก | AO14: โปรดเลือก | AP14: โปรดเลือก | AR14: โปรดเลือก | AS14: โปรดเลือก | AU14: =AN14+AQ14+AT14 -> 0 | AV14: =AG14+AK14+AU14+(AH14*12) -> 0 | AW14: =U14+V14 -> 0 | AX14: =AV14 -> 0 | AY14: =AND(AL14<>"โปรดเลือก",AM14<>"โปรดเลือก") -> FALSE
D15: =IF(LEN(B15)=0,"",IF(IFERROR(FIND("อัตราว่าง",B15,1),0)=0,"อัตราคนครอง","อัตราว่าง")) | E15: โปรดเลือก | F15: โปรดเลือก | I15: =H15*3% -> 0 | J15: =(H15+I15)*6% -> 0 | K15: =H15+J15+I15 -> 0 | O15: 0 | P15: 0 | Q15: =VLOOKUP(E15,$BA$15:$BC$22,2,FALSE) -> 0 | R15: =VLOOKUP(E15,$BA$15:$BC$22,3,FALSE) -> 0 | S15: 0 | U15: =IFERROR(VLOOKUP(B15,คำนวณตกเบิกวิทยฐานะ!$B$9:$P$1016,14,FALSE),0) -> 0 | V15: =IFERROR(VLOOKUP(B15,คำนวณตกเบิกวิทยฐานะ!$B$9:$P$1016,15,FALSE),0) -> 0 | W15: =(K15+L15+M15+N15+O15+P15+Q15+R15+S15)*12+U15+V15+T15 -> 0 | X15: โปรดเลือก | Y15: โปรดเลือก | AA15: =IF(X15="พนักงานจ้างตามภารกิจ",Z15*4/100,0) -> 0 | AB15: =Z15+AA15 -> 0 | AC15: =IF(Z15=0,0,IF(X15="พนักงานจ้างทั่วไป",IF(AB15>11000,0,IF(11000-AB15<=2000,11000-AB15,2000)),IF(AB15>14600,0,IF(14600-AB15<=2000,14600-AB15,2000)))) -> 0 | AD15: =AB15+AC15 -> 0 | AE15: =IF(OR(X15="พนักงานจ้างตามภารกิจ",X15="พนักงานจ้างทั่วไป"),IF(AD15*5/100>750,750,AD15*5/100),0) -> 0 | AF15: =(AD15+AE15)*12 -> 0 | AG15: =W15+AF15 -> 0 | AK15: =AI15*AJ15 -> 0 | AL15: โปรดเลือก | AM15: โปรดเลือก | AO15: โปรดเลือก | AP15: โปรดเลือก | AR15: โปรดเลือก | AS15: โปรดเลือก | AU15: =AN15+AQ15+AT15 -> 0 | AV15: =AG15+AK15+AU15+(AH15*12) -> 0 | AW15: =U15+V15 -> 0 | AX15: =AV15 -> 0 | BA15: โปรดเลือก | BB15: 0 | BC15: 0
D16: =IF(LEN(B16)=0,"",IF(IFERROR(FIND("อัตราว่าง",B16,1),0)=0,"อัตราคนครอง","อัตราว่าง")) | E16: โปรดเลือก | F16: โปรดเลือก | I16: =H16*3% -> 0 | J16: =(H16+I16)*6% -> 0 | K16: =H16+J16+I16 -> 0 | O16: 0 | P16: 0 | Q16: =VLOOKUP(E16,$BA$15:$BC$22,2,FALSE) -> 0 | R16: =VLOOKUP(E16,$BA$15:$BC$22,3,FALSE) -> 0 | S16: 0 | U16: =IFERROR(VLOOKUP(B16,คำนวณตกเบิกวิทยฐานะ!$B$9:$P$1016,14,FALSE),0) -> 0 | V16: =IFERROR(VLOOKUP(B16,คำนวณตกเบิกวิทยฐานะ!$B$9:$P$1016,15,FALSE),0) -> 0 | W16: =(K16+L16+M16+N16+O16+P16+Q16+R16+S16)*12+U16+V16+T16 -> 0 | X16: โปรดเลือก | Y16: โปรดเลือก | AA16: =IF(X16="พนักงานจ้างตามภารกิจ",Z16*4/100,0) -> 0 | AB16: =Z16+AA16 -> 0 | AC16: =IF(Z16=0,0,IF(X16="พนักงานจ้างทั่วไป",IF(AB16>11000,0,IF(11000-AB16<=2000,11000-AB16,2000)),IF(AB16>14600,0,IF(14600-AB16<=2000,14600-AB16,2000)))) -> 0 | AD16: =AB16+AC16 -> 0 | AE16: =IF(OR(X16="พนักงานจ้างตามภารกิจ",X16="พนักงานจ้างทั่วไป"),IF(AD16*5/100>750,750,AD16*5/100),0) -> 0 | AF16: =(AD16+AE16)*12 -> 0 | AG16: =W16+AF16 -> 0 | AK16: =AI16*AJ16 -> 0 | AL16: โปรดเลือก | AM16: โปรดเลือก | AO16: โปรดเลือก | AP16: โปรดเลือก | AR16: โปรดเลือก | AS16: โปรดเลือก | AU16: =AN16+AQ16+AT16 -> 0 | AV16: =AG16+AK16+AU16+(AH16*12) -> 0 | AW16: =U16+V16 -> 0 | AX16: =AV16 -> 0 | BA16: ครูผู้ช่วย | BB16: 0 | BC16: 0
D17: =IF(LEN(B17)=0,"",IF(IFERROR(FIND("อัตราว่าง",B17,1),0)=0,"อัตราคนครอง","อัตราว่าง")) | E17: โปรดเลือก | F17: โปรดเลือก | I17: =H17*3% -> 0 | J17: =(H17+I17)*6% -> 0 | K17: =H17+J17+I17 -> 0 | O17: 0 | P17: 0 | Q17: =VLOOKUP(E17,$BA$15:$BC$22,2,FALSE) -> 0 | R17: =VLOOKUP(E17,$BA$15:$BC$22,3,FALSE) -> 0 | S17: 0 | U17: =IFERROR(VLOOKUP(B17,คำนวณตกเบิกวิทยฐานะ!$B$9:$P$1016,14,FALSE),0) -> 0 | V17: =IFERROR(VLOOKUP(B17,คำนวณตกเบิกวิทยฐานะ!$B$9:$P$1016,15,FALSE),0) -> 0 | W17: =(K17+L17+M17+N17+O17+P17+Q17+R17+S17)*12+U17+V17+T17 -> 0 | X17: โปรดเลือก | Y17: โปรดเลือก | AA17: =IF(X17="พนักงานจ้างตามภารกิจ",Z17*4/100,0) -> 0 | AB17: =Z17+AA17 -> 0 | AC17: =IF(Z17=0,0,IF(X17="พนักงานจ้างทั่วไป",IF(AB17>11000,0,IF(11000-AB17<=2000,11000-AB17,2000)),IF(AB17>14600,0,IF(14600-AB17<=2000,14600-AB17,2000)))) -> 0 | AD17: =AB17+AC17 -> 0 | AE17: =IF(OR(X17="พนักงานจ้างตามภารกิจ",X17="พนักงานจ้างทั่วไป"),IF(AD17*5/100>750,750,AD17*5/100),0) -> 0 | AF17: =(AD17+AE17)*12 -> 0 | AG17: =W17+AF17 -> 0 | AK17: =AI17*AJ17 -> 0 | AL17: โปรดเลือก | AM17: โปรดเลือก | AO17: โปรดเลือก | AP17: โปรดเลือก | AR17: โปรดเลือก | AS17: โปรดเลือก | AU17: =AN17+AQ17+AT17 -> 0 | AV17: =AG17+AK17+AU17+(AH17*12) -> 0 | AW17: =U17+V17 -> 0 | AX17: =AV17 -> 0 | BA17: คศ.1/ครู | BB17: 0 | BC17: 0
D18: =IF(LEN(B18)=0,"",IF(IFERROR(FIND("อัตราว่าง",B18,1),0)=0,"อัตราคนครอง","อัตราว่าง")) | E18: โปรดเลือก | F18: โปรดเลือก | I18: =H18*3% -> 0 | J18: =(H18+I18)*6% -> 0 | K18: =H18+J18+I18 -> 0 | O18: 0 | P18: 0 | Q18: =VLOOKUP(E18,$BA$15:$BC$22,2,FALSE) -> 0 | R18: =VLOOKUP(E18,$BA$15:$BC$22,3,FALSE) -> 0 | S18: 0 | U18: =IFERROR(VLOOKUP(B18,คำนวณตกเบิกวิทยฐานะ!$B$9:$P$1016,14,FALSE),0) -> 0 | V18: =IFERROR(VLOOKUP(B18,คำนวณตกเบิกวิทยฐานะ!$B$9:$P$1016,15,FALSE),0) -> 0 | W18: =(K18+L18+M18+N18+O18+P18+Q18+R18+S18)*12+U18+V18+T18 -> 0 | X18: โปรดเลือก | Y18: โปรดเลือก | AA18: =IF(X18="พนักงานจ้างตามภารกิจ",Z18*4/100,0) -> 0 | AB18: =Z18+AA18 -> 0 | AC18: =IF(Z18=0,0,IF(X18="พนักงานจ้างทั่วไป",IF(AB18>11000,0,IF(11000-AB18<=2000,11000-AB18,2000)),IF(AB18>14600,0,IF(14600-AB18<=2000,14600-AB18,2000)))) -> 0 | AD18: =AB18+AC18 -> 0 | AE18: =IF(OR(X18="พนักงานจ้างตามภารกิจ",X18="พนักงานจ้างทั่วไป"),IF(AD18*5/100>750,750,AD18*5/100),0) -> 0 | AF18: =(AD18+AE18)*12 -> 0 | AG18: =W18+AF18 -> 0 | AK18: =AI18*AJ18 -> 0 | AL18: โปรดเลือก | AM18: โปรดเลือก | AO18: โปรดเลือก | AP18: โปรดเลือก | AR18: โปรดเลือก | AS18: โปรดเลือก | AU18: =AN18+AQ18+AT18 -> 0 | AV18: =AG18+AK18+AU18+(AH18*12) -> 0 | AW18: =U18+V18 -> 0 | AX18: =AV18 -> 0 | BA18: คศ.2/ครูชำนาญการ | BB18: 3500 | BC18: 0
D19: =IF(LEN(B19)=0,"",IF(IFERROR(FIND("อัตราว่าง",B19,1),0)=0,"อัตราคนครอง","อัตราว่าง")) | E19: โปรดเลือก | F19: โปรดเลือก | I19: =H19*3% -> 0 | J19: =(H19+I19)*6% -> 0 | K19: =H19+J19+I19 -> 0 | O19: 0 | P19: 0 | Q19: =VLOOKUP(E19,$BA$15:$BC$22,2,FALSE) -> 0 | R19: =VLOOKUP(E19,$BA$15:$BC$22,3,FALSE) -> 0 | S19: 0 | U19: =IFERROR(VLOOKUP(B19,คำนวณตกเบิกวิทยฐานะ!$B$9:$P$1016,14,FALSE),0) -> 0 | V19: =IFERROR(VLOOKUP(B19,คำนวณตกเบิกวิทยฐานะ!$B$9:$P$1016,15,FALSE),0) -> 0 | W19: =(K19+L19+M19+N19+O19+P19+Q19+R19+S19)*12+U19+V19+T19 -> 0 | X19: โปรดเลือก | Y19: โปรดเลือก | AA19: =IF(X19="พนักงานจ้างตามภารกิจ",Z19*4/100,0) -> 0 | AB19: =Z19+AA19 -> 0 | AC19: =IF(Z19=0,0,IF(X19="พนักงานจ้างทั่วไป",IF(AB19>11000,0,IF(11000-AB19<=2000,11000-AB19,2000)),IF(AB19>14600,0,IF(14600-AB19<=2000,14600-AB19,2000)))) -> 0 | AD19: =AB19+AC19 -> 0 | AE19: =IF(OR(X19="พนักงานจ้างตามภารกิจ",X19="พนักงานจ้างทั่วไป"),IF(AD19*5/100>750,750,AD19*5/100),0) -> 0 | AF19: =(AD19+AE19)*12 -> 0 | AG19: =W19+AF19 -> 0 | AK19: =AI19*AJ19 -> 0 | AL19: โปรดเลือก | AM19: โปรดเลือก | AO19: โปรดเลือก | AP19: โปรดเลือก | AR19: โปรดเลือก | AS19: โปรดเลือก | AU19: =AN19+AQ19+AT19 -> 0 | AV19: =AG19+AK19+AU19+(AH19*12) -> 0 | AW19: =U19+V19 -> 0 | AX19: =AV19 -> 0 | BA19: คศ.3/ครูชำนาญการพิเศษ | BB19: 5600 | BC19: 5600
D20: =IF(LEN(B20)=0,"",IF(IFERROR(FIND("อัตราว่าง",B20,1),0)=0,"อัตราคนครอง","อัตราว่าง")) | E20: โปรดเลือก | F20: โปรดเลือก | I20: =H20*3% -> 0 | J20: =(H20+I20)*6% -> 0 | K20: =H20+J20+I20 -> 0 | O20: 0 | P20: 0 | Q20: =VLOOKUP(E20,$BA$15:$BC$22,2,FALSE) -> 0 | R20: =VLOOKUP(E20,$BA$15:$BC$22,3,FALSE) -> 0 | S20: 0 | U20: =IFERROR(VLOOKUP(B20,คำนวณตกเบิกวิทยฐานะ!$B$9:$P$1016,14,FALSE),0) -> 0 | V20: =IFERROR(VLOOKUP(B20,คำนวณตกเบิกวิทยฐานะ!$B$9:$P$1016,15,FALSE),0) -> 0 | W20: =(K20+L20+M20+N20+O20+P20+Q20+R20+S20)*12+U20+V20+T20 -> 0 | X20: โปรดเลือก | Y20: โปรดเลือก | AA20: =IF(X20="พนักงานจ้างตามภารกิจ",Z20*4/100,0) -> 0 | AB20: =Z20+AA20 -> 0 | AC20: =IF(Z20=0,0,IF(X20="พนักงานจ้างทั่วไป",IF(AB20>11000,0,IF(11000-AB20<=2000,11000-AB20,2000)),IF(AB20>14600,0,IF(14600-AB20<=2000,14600-AB20,2000)))) -> 0 | AD20: =AB20+AC20 -> 0 | AE20: =IF(OR(X20="พนักงานจ้างตามภารกิจ",X20="พนักงานจ้างทั่วไป"),IF(AD20*5/100>750,750,AD20*5/100),0) -> 0 | AF20: =(AD20+AE20)*12 -> 0 | AG20: =W20+AF20 -> 0 | AK20: =AI20*AJ20 -> 0 | AL20: โปรดเลือก | AM20: โปรดเลือก | AO20: โปรดเลือก | AP20: โปรดเลือก | AR20: โปรดเลือก | AS20: โปรดเลือก | AU20: =AN20+AQ20+AT20 -> 0 | AV20: =AG20+AK20+AU20+(AH20*12) -> 0 | AW20: =U20+V20 -> 0 | AX20: =AV20 -> 0 | BA20: คศ.4/ครูเชี่ยวชาญ | BB20: 9900 | BC20: 9900
D21: =IF(LEN(B21)=0,"",IF(IFERROR(FIND("อัตราว่าง",B21,1),0)=0,"อัตราคนครอง","อัตราว่าง")) | E21: โปรดเลือก | F21: โปรดเลือก | I21: =H21*3% -> 0 | J21: =(H21+I21)*6% -> 0 | K21: =H21+J21+I21 -> 0 | O21: 0 | P21: 0 | Q21: =VLOOKUP(E21,$BA$15:$BC$22,2,FALSE) -> 0 | R21: =VLOOKUP(E21,$BA$15:$BC$22,3,FALSE) -> 0 | S21: 0 | U21: =IFERROR(VLOOKUP(B21,คำนวณตกเบิกวิทยฐานะ!$B$9:$P$1016,14,FALSE),0) -> 0 | V21: =IFERROR(VLOOKUP(B21,คำนวณตกเบิกวิทยฐานะ!$B$9:$P$1016,15,FALSE),0) -> 0 | W21: =(K21+L21+M21+N21+O21+P21+Q21+R21+S21)*12+U21+V21+T21 -> 0 | X21: โปรดเลือก | Y21: โปรดเลือก | AA21: =IF(X21="พนักงานจ้างตามภารกิจ",Z21*4/100,0) -> 0 | AB21: =Z21+AA21 -> 0 | AC21: =IF(Z21=0,0,IF(X21="พนักงานจ้างทั่วไป",IF(AB21>11000,0,IF(11000-AB21<=2000,11000-AB21,2000)),IF(AB21>14600,0,IF(14600-AB21<=2000,14600-AB21,2000)))) -> 0 | AD21: =AB21+AC21 -> 0 | AE21: =IF(OR(X21="พนักงานจ้างตามภารกิจ",X21="พนักงานจ้างทั่วไป"),IF(AD21*5/100>750,750,AD21*5/100),0) -> 0 | AF21: =(AD21+AE21)*12 -> 0 | AG21: =W21+AF21 -> 0 | AK21: =AI21*AJ21 -> 0 | AL21: โปรดเลือก | AM21: โปรดเลือก | AO21: โปรดเลือก | AP21: โปรดเลือก | AR21: โปรดเลือก | AS21: โปรดเลือก | AU21: =AN21+AQ21+AT21 -> 0 | AV21: =AG21+AK21+AU21+(AH21*12) -> 0 | AW21: =U21+V21 -> 0 | AX21: =AV21 -> 0 | BA21: คศ.5/ครูเชี่ยวชาญขึ้นไป | BB21: 9900 | BC21: 9900
D22: =IF(LEN(B22)=0,"",IF(IFERROR(FIND("อัตราว่าง",B22,1),0)=0,"อัตราคนครอง","อัตราว่าง")) | E22: โปรดเลือก | F22: โปรดเลือก | I22: =H22*3% -> 0 | J22: =(H22+I22)*6% -> 0 | K22: =H22+J22+I22 -> 0 | O22: 0 | P22: 0 | Q22: =VLOOKUP(E22,$BA$15:$BC$22,2,FALSE) -> 0 | R22: =VLOOKUP(E22,$BA$15:$BC$22,3,FALSE) -> 0 | S22: 0 | U22: =IFERROR(VLOOKUP(B22,คำนวณตกเบิกวิทยฐานะ!$B$9:$P$1016,14,FALSE),0) -> 0 | V22: =IFERROR(VLOOKUP(B22,คำนวณตกเบิกวิทยฐานะ!$B$9:$P$1016,15,FALSE),0) -> 0 | W22: =(K22+L22+M22+N22+O22+P22+Q22+R22+S22)*12+U22+V22+T22 -> 0 | X22: โปรดเลือก | Y22: โปรดเลือก | AA22: =IF(X22="พนักงานจ้างตามภารกิจ",Z22*4/100,0) -> 0 | AB22: =Z22+AA22 -> 0 | AC22: =IF(Z22=0,0,IF(X22="พนักงานจ้างทั่วไป",IF(AB22>11000,0,IF(11000-AB22<=2000,11000-AB22,2000)),IF(AB22>14600,0,IF(14600-AB22<=2000,14600-AB22,2000)))) -> 0 | AD22: =AB22+AC22 -> 0 | AE22: =IF(OR(X22="พนักงานจ้างตามภารกิจ",X22="พนักงานจ้างทั่วไป"),IF(AD22*5/100>750,750,AD22*5/100),0) -> 0 | AF22: =(AD22+AE22)*12 -> 0 | AG22: =W22+AF22 -> 0 | AK22: =AI22*AJ22 -> 0 | AL22: โปรดเลือก | AM22: โปรดเลือก | AO22: โปรดเลือก | AP22: โปรดเลือก | AR22: โปรดเลือก | AS22: โปรดเลือก | AU22: =AN22+AQ22+AT22 -> 0 | AV22: =AG22+AK22+AU22+(AH22*12) -> 0 | AW22: =U22+V22 -> 0 | AX22: =AV22 -> 0 | BA22: ลูกจ้างประจำ | BB22: 0 | BC22: 0
D23: =IF(LEN(B23)=0,"",IF(IFERROR(FIND("อัตราว่าง",B23,1),0)=0,"อัตราคนครอง","อัตราว่าง")) | E23: โปรดเลือก | F23: โปรดเลือก | I23: =H23*3% -> 0 | J23: =(H23+I23)*6% -> 0 | K23: =H23+J23+I23 -> 0 | O23: 0 | P23: 0 | Q23: =VLOOKUP(E23,$BA$15:$BC$22,2,FALSE) -> 0 | R23: =VLOOKUP(E23,$BA$15:$BC$22,3,FALSE) -> 0 | S23: 0 | U23: =IFERROR(VLOOKUP(B23,คำนวณตกเบิกวิทยฐานะ!$B$9:$P$1016,14,FALSE),0) -> 0 | V23: =IFERROR(VLOOKUP(B23,คำนวณตกเบิกวิทยฐานะ!$B$9:$P$1016,15,FALSE),0) -> 0 | W23: =(K23+L23+M23+N23+O23+P23+Q23+R23+S23)*12+U23+V23+T23 -> 0 | X23: โปรดเลือก | Y23: โปรดเลือก | AA23: =IF(X23="พนักงานจ้างตามภารกิจ",Z23*4/100,0) -> 0 | AB23: =Z23+AA23 -> 0 | AC23: =IF(Z23=0,0,IF(X23="พนักงานจ้างทั่วไป",IF(AB23>11000,0,IF(11000-AB23<=2000,11000-AB23,2000)),IF(AB23>14600,0,IF(14600-AB23<=2000,14600-AB23,2000)))) -> 0 | AD23: =AB23+AC23 -> 0 | AE23: =IF(OR(X23="พนักงานจ้างตามภารกิจ",X23="พนักงานจ้างทั่วไป"),IF(AD23*5/100>750,750,AD23*5/100),0) -> 0 | AF23: =(AD23+AE23)*12 -> 0 | AG23: =W23+AF23 -> 0 | AK23: =AI23*AJ23 -> 0 | AL23: โปรดเลือก | AM23: โปรดเลือก | AO23: โปรดเลือก | AP23: โปรดเลือก | AR23: โปรดเลือก | AS23: โปรดเลือก | AU23: =AN23+AQ23+AT23 -> 0 | AV23: =AG23+AK23+AU23+(AH23*12) -> 0 | AW23: =U23+V23 -> 0 | AX23: =AV23 -> 0
D24: =IF(LEN(B24)=0,"",IF(IFERROR(FIND("อัตราว่าง",B24,1),0)=0,"อัตราคนครอง","อัตราว่าง")) | E24: โปรดเลือก | F24: โปรดเลือก | I24: =H24*3% -> 0 | J24: =(H24+I24)*6% -> 0 | K24: =H24+J24+I24 -> 0 | O24: 0 | P24: 0 | Q24: =VLOOKUP(E24,$BA$15:$BC$22,2,FALSE) -> 0 | R24: =VLOOKUP(E24,$BA$15:$BC$22,3,FALSE) -> 0 | S24: 0 | U24: =IFERROR(VLOOKUP(B24,คำนวณตกเบิกวิทยฐานะ!$B$9:$P$1016,14,FALSE),0) -> 0 | V24: =IFERROR(VLOOKUP(B24,คำนวณตกเบิกวิทยฐานะ!$B$9:$P$1016,15,FALSE),0) -> 0 | W24: =(K24+L24+M24+N24+O24+P24+Q24+R24+S24)*12+U24+V24+T24 -> 0 | X24: โปรดเลือก | Y24: โปรดเลือก | AA24: =IF(X24="พนักงานจ้างตามภารกิจ",Z24*4/100,0) -> 0 | AB24: =Z24+AA24 -> 0 | AC24: =IF(Z24=0,0,IF(X24="พนักงานจ้างทั่วไป",IF(AB24>11000,0,IF(11000-AB24<=2000,11000-AB24,2000)),IF(AB24>14600,0,IF(14600-AB24<=2000,14600-AB24,2000)))) -> 0 | AD24: =AB24+AC24 -> 0 | AE24: =IF(OR(X24="พนักงานจ้างตามภารกิจ",X24="พนักงานจ้างทั่วไป"),IF(AD24*5/100>750,750,AD24*5/100),0) -> 0 | AF24: =(AD24+AE24)*12 -> 0 | AG24: =W24+AF24 -> 0 | AK24: =AI24*AJ24 -> 0 | AL24: โปรดเลือก | AM24: โปรดเลือก | AO24: โปรดเลือก | AP24: โปรดเลือก | AR24: โปรดเลือก | AS24: โปรดเลือก | AU24: =AN24+AQ24+AT24 -> 0 | AV24: =AG24+AK24+AU24+(AH24*12) -> 0 | AW24: =U24+V24 -> 0 | AX24: =AV24 -> 0
D25: =IF(LEN(B25)=0,"",IF(IFERROR(FIND("อัตราว่าง",B25,1),0)=0,"อัตราคนครอง","อัตราว่าง")) | E25: โปรดเลือก | F25: โปรดเลือก | I25: =H25*3% -> 0 | J25: =(H25+I25)*6% -> 0 | K25: =H25+J25+I25 -> 0 | O25: 0 | P25: 0 | Q25: =VLOOKUP(E25,$BA$15:$BC$22,2,FALSE) -> 0 | R25: =VLOOKUP(E25,$BA$15:$BC$22,3,FALSE) -> 0 | S25: 0 | U25: =IFERROR(VLOOKUP(B25,คำนวณตกเบิกวิทยฐานะ!$B$9:$P$1016,14,FALSE),0) -> 0 | V25: =IFERROR(VLOOKUP(B25,คำนวณตกเบิกวิทยฐานะ!$B$9:$P$1016,15,FALSE),0) -> 0 | W25: =(K25+L25+M25+N25+O25+P25+Q25+R25+S25)*12+U25+V25+T25 -> 0 | X25: โปรดเลือก | Y25: โปรดเลือก | AA25: =IF(X25="พนักงานจ้างตามภารกิจ",Z25*4/100,0) -> 0 | AB25: =Z25+AA25 -> 0 | AC25: =IF(Z25=0,0,IF(X25="พนักงานจ้างทั่วไป",IF(AB25>11000,0,IF(11000-AB25<=2000,11000-AB25,2000)),IF(AB25>14600,0,IF(14600-AB25<=2000,14600-AB25,2000)))) -> 0 | AD25: =AB25+AC25 -> 0 | AE25: =IF(OR(X25="พนักงานจ้างตามภารกิจ",X25="พนักงานจ้างทั่วไป"),IF(AD25*5/100>750,750,AD25*5/100),0) -> 0 | AF25: =(AD25+AE25)*12 -> 0 | AG25: =W25+AF25 -> 0 | AK25: =AI25*AJ25 -> 0 | AL25: โปรดเลือก | AM25: โปรดเลือก | AO25: โปรดเลือก | AP25: โปรดเลือก | AR25: โปรดเลือก | AS25: โปรดเลือก | AU25: =AN25+AQ25+AT25 -> 0 | AV25: =AG25+AK25+AU25+(AH25*12) -> 0 | AW25: =U25+V25 -> 0 | AX25: =AV25 -> 0
D26: =IF(LEN(B26)=0,"",IF(IFERROR(FIND("อัตราว่าง",B26,1),0)=0,"อัตราคนครอง","อัตราว่าง")) | E26: โปรดเลือก | F26: โปรดเลือก | I26: =H26*3% -> 0 | J26: =(H26+I26)*6% -> 0 | K26: =H26+J26+I26 -> 0 | O26: 0 | P26: 0 | Q26: =VLOOKUP(E26,$BA$15:$BC$22,2,FALSE) -> 0 | R26: =VLOOKUP(E26,$BA$15:$BC$22,3,FALSE) -> 0 | S26: 0 | U26: =IFERROR(VLOOKUP(B26,คำนวณตกเบิกวิทยฐานะ!$B$9:$P$1016,14,FALSE),0) -> 0 | V26: =IFERROR(VLOOKUP(B26,คำนวณตกเบิกวิทยฐานะ!$B$9:$P$1016,15,FALSE),0) -> 0 | W26: =(K26+L26+M26+N26+O26+P26+Q26+R26+S26)*12+U26+V26+T26 -> 0 | X26: โปรดเลือก | Y26: โปรดเลือก | AA26: =IF(X26="พนักงานจ้างตามภารกิจ",Z26*4/100,0) -> 0 | AB26: =Z26+AA26 -> 0 | AC26: =IF(Z26=0,0,IF(X26="พนักงานจ้างทั่วไป",IF(AB26>11000,0,IF(11000-AB26<=2000,11000-AB26,2000)),IF(AB26>14600,0,IF(14600-AB26<=2000,14600-AB26,2000)))) -> 0 | AD26: =AB26+AC26 -> 0 | AE26: =IF(OR(X26="พนักงานจ้างตามภารกิจ",X26="พนักงานจ้างทั่วไป"),IF(AD26*5/100>750,750,AD26*5/100),0) -> 0 | AF26: =(AD26+AE26)*12 -> 0 | AG26: =W26+AF26 -> 0 | AK26: =AI26*AJ26 -> 0 | AL26: โปรดเลือก | AM26: โปรดเลือก | AO26: โปรดเลือก | AP26: โปรดเลือก | AR26: โปรดเลือก | AS26: โปรดเลือก | AU26: =AN26+AQ26+AT26 -> 0 | AV26: =AG26+AK26+AU26+(AH26*12) -> 0 | AW26: =U26+V26 -> 0 | AX26: =AV26 -> 0
D27: =IF(LEN(B27)=0,"",IF(IFERROR(FIND("อัตราว่าง",B27,1),0)=0,"อัตราคนครอง","อัตราว่าง")) | E27: โปรดเลือก | F27: โปรดเลือก | I27: =H27*3% -> 0 | J27: =(H27+I27)*6% -> 0 | K27: =H27+J27+I27 -> 0 | O27: 0 | P27: 0 | Q27: =VLOOKUP(E27,$BA$15:$BC$22,2,FALSE) -> 0 | R27: =VLOOKUP(E27,$BA$15:$BC$22,3,FALSE) -> 0 | S27: 0 | U27: =IFERROR(VLOOKUP(B27,คำนวณตกเบิกวิทยฐานะ!$B$9:$P$1016,14,FALSE),0) -> 0 | V27: =IFERROR(VLOOKUP(B27,คำนวณตกเบิกวิทยฐานะ!$B$9:$P$1016,15,FALSE),0) -> 0 | W27: =(K27+L27+M27+N27+O27+P27+Q27+R27+S27)*12+U27+V27+T27 -> 0 | X27: โปรดเลือก | Y27: โปรดเลือก | AA27: =IF(X27="พนักงานจ้างตามภารกิจ",Z27*4/100,0) -> 0 | AB27: =Z27+AA27 -> 0 | AC27: =IF(Z27=0,0,IF(X27="พนักงานจ้างทั่วไป",IF(AB27>11000,0,IF(11000-AB27<=2000,11000-AB27,2000)),IF(AB27>14600,0,IF(14600-AB27<=2000,14600-AB27,2000)))) -> 0 | AD27: =AB27+AC27 -> 0 | AE27: =IF(OR(X27="พนักงานจ้างตามภารกิจ",X27="พนักงานจ้างทั่วไป"),IF(AD27*5/100>750,750,AD27*5/100),0) -> 0 | AF27: =(AD27+AE27)*12 -> 0 | AG27: =W27+AF27 -> 0 | AK27: =AI27*AJ27 -> 0 | AL27: โปรดเลือก | AM27: โปรดเลือก | AO27: โปรดเลือก | AP27: โปรดเลือก | AR27: โปรดเลือก | AS27: โปรดเลือก | AU27: =AN27+AQ27+AT27 -> 0 | AV27: =AG27+AK27+AU27+(AH27*12) -> 0 | AW27: =U27+V27 -> 0 | AX27: =AV27 -> 0
D28: =IF(LEN(B28)=0,"",IF(IFERROR(FIND("อัตราว่าง",B28,1),0)=0,"อัตราคนครอง","อัตราว่าง")) | E28: โปรดเลือก | F28: โปรดเลือก | I28: =H28*3% -> 0 | J28: =(H28+I28)*6% -> 0 | K28: =H28+J28+I28 -> 0 | O28: 0 | P28: 0 | Q28: =VLOOKUP(E28,$BA$15:$BC$22,2,FALSE) -> 0 | R28: =VLOOKUP(E28,$BA$15:$BC$22,3,FALSE) -> 0 | S28: 0 | U28: =IFERROR(VLOOKUP(B28,คำนวณตกเบิกวิทยฐานะ!$B$9:$P$1016,14,FALSE),0) -> 0 | V28: =IFERROR(VLOOKUP(B28,คำนวณตกเบิกวิทยฐานะ!$B$9:$P$1016,15,FALSE),0) -> 0 | W28: =(K28+L28+M28+N28+O28+P28+Q28+R28+S28)*12+U28+V28+T28 -> 0 | X28: โปรดเลือก | Y28: โปรดเลือก | AA28: =IF(X28="พนักงานจ้างตามภารกิจ",Z28*4/100,0) -> 0 | AB28: =Z28+AA28 -> 0 | AC28: =IF(Z28=0,0,IF(X28="พนักงานจ้างทั่วไป",IF(AB28>11000,0,IF(11000-AB28<=2000,11000-AB28,2000)),IF(AB28>14600,0,IF(14600-AB28<=2000,14600-AB28,2000)))) -> 0 | AD28: =AB28+AC28 -> 0 | AE28: =IF(OR(X28="พนักงานจ้างตามภารกิจ",X28="พนักงานจ้างทั่วไป"),IF(AD28*5/100>750,750,AD28*5/100),0) -> 0 | AF28: =(AD28+AE28)*12 -> 0 | AG28: =W28+AF28 -> 0 | AK28: =AI28*AJ28 -> 0 | AL28: โปรดเลือก | AM28: โปรดเลือก | AO28: โปรดเลือก | AP28: โปรดเลือก | AR28: โปรดเลือก | AS28: โปรดเลือก | AU28: =AN28+AQ28+AT28 -> 0 | AV28: =AG28+AK28+AU28+(AH28*12) -> 0 | AW28: =U28+V28 -> 0 | AX28: =AV28 -> 0
D29: =IF(LEN(B29)=0,"",IF(IFERROR(FIND("อัตราว่าง",B29,1),0)=0,"อัตราคนครอง","อัตราว่าง")) | E29: โปรดเลือก | F29: โปรดเลือก | I29: =H29*3% -> 0 | J29: =(H29+I29)*6% -> 0 | K29: =H29+J29+I29 -> 0 | O29: 0 | P29: 0 | Q29: =VLOOKUP(E29,$BA$15:$BC$22,2,FALSE) -> 0 | R29: =VLOOKUP(E29,$BA$15:$BC$22,3,FALSE) -> 0 | S29: 0 | U29: =IFERROR(VLOOKUP(B29,คำนวณตกเบิกวิทยฐานะ!$B$9:$P$1016,14,FALSE),0) -> 0 | V29: =IFERROR(VLOOKUP(B29,คำนวณตกเบิกวิทยฐานะ!$B$9:$P$1016,15,FALSE),0) -> 0 | W29: =(K29+L29+M29+N29+O29+P29+Q29+R29+S29)*12+U29+V29+T29 -> 0 | X29: โปรดเลือก | Y29: โปรดเลือก | AA29: =IF(X29="พนักงานจ้างตามภารกิจ",Z29*4/100,0) -> 0 | AB29: =Z29+AA29 -> 0 | AC29: =IF(Z29=0,0,IF(X29="พนักงานจ้างทั่วไป",IF(AB29>11000,0,IF(11000-AB29<=2000,11000-AB29,2000)),IF(AB29>14600,0,IF(14600-AB29<=2000,14600-AB29,2000)))) -> 0 | AD29: =AB29+AC29 -> 0 | AE29: =IF(OR(X29="พนักงานจ้างตามภารกิจ",X29="พนักงานจ้างทั่วไป"),IF(AD29*5/100>750,750,AD29*5/100),0) -> 0 | AF29: =(AD29+AE29)*12 -> 0 | AG29: =W29+AF29 -> 0 | AK29: =AI29*AJ29 -> 0 | AL29: โปรดเลือก | AM29: โปรดเลือก | AO29: โปรดเลือก | AP29: โปรดเลือก | AR29: โปรดเลือก | AS29: โปรดเลือก | AU29: =AN29+AQ29+AT29 -> 0 | AV29: =AG29+AK29+AU29+(AH29*12) -> 0 | AW29: =U29+V29 -> 0 | AX29: =AV29 -> 0
D30: =IF(LEN(B30)=0,"",IF(IFERROR(FIND("อัตราว่าง",B30,1),0)=0,"อัตราคนครอง","อัตราว่าง")) | E30: โปรดเลือก | F30: โปรดเลือก | I30: =H30*3% -> 0 | J30: =(H30+I30)*6% -> 0 | K30: =H30+J30+I30 -> 0 | O30: 0 | P30: 0 | Q30: =VLOOKUP(E30,$BA$15:$BC$22,2,FALSE) -> 0 | R30: =VLOOKUP(E30,$BA$15:$BC$22,3,FALSE) -> 0 | S30: 0 | U30: =IFERROR(VLOOKUP(B30,คำนวณตกเบิกวิทยฐานะ!$B$9:$P$1016,14,FALSE),0) -> 0 | V30: =IFERROR(VLOOKUP(B30,คำนวณตกเบิกวิทยฐานะ!$B$9:$P$1016,15,FALSE),0) -> 0 | W30: =(K30+L30+M30+N30+O30+P30+Q30+R30+S30)*12+U30+V30+T30 -> 0 | X30: โปรดเลือก | Y30: โปรดเลือก | AA30: =IF(X30="พนักงานจ้างตามภารกิจ",Z30*4/100,0) -> 0 | AB30: =Z30+AA30 -> 0 | AC30: =IF(Z30=0,0,IF(X30="พนักงานจ้างทั่วไป",IF(AB30>11000,0,IF(11000-AB30<=2000,11000-AB30,2000)),IF(AB30>14600,0,IF(14600-AB30<=2000,14600-AB30,2000)))) -> 0 | AD30: =AB30+AC30 -> 0 | AE30: =IF(OR(X30="พนักงานจ้างตามภารกิจ",X30="พนักงานจ้างทั่วไป"),IF(AD30*5/100>750,750,AD30*5/100),0) -> 0 | AF30: =(AD30+AE30)*12 -> 0 | AG30: =W30+AF30 -> 0 | AK30: =AI30*AJ30 -> 0 | AL30: โปรดเลือก | AM30: โปรดเลือก | AO30: โปรดเลือก | AP30: โปรดเลือก | AR30: โปรดเลือก | AS30: โปรดเลือก | AU30: =AN30+AQ30+AT30 -> 0 | AV30: =AG30+AK30+AU30+(AH30*12) -> 0 | AW30: =U30+V30 -> 0 | AX30: =AV30 -> 0
D31: =IF(LEN(B31)=0,"",IF(IFERROR(FIND("อัตราว่าง",B31,1),0)=0,"อัตราคนครอง","อัตราว่าง")) | E31: โปรดเลือก | F31: โปรดเลือก | I31: =H31*3% -> 0 | J31: =(H31+I31)*6% -> 0 | K31: =H31+J31+I31 -> 0 | O31: 0 | P31: 0 | Q31: =VLOOKUP(E31,$BA$15:$BC$22,2,FALSE) -> 0 | R31: =VLOOKUP(E31,$BA$15:$BC$22,3,FALSE) -> 0 | S31: 0 | U31: =IFERROR(VLOOKUP(B31,คำนวณตกเบิกวิทยฐานะ!$B$9:$P$1016,14,FALSE),0) -> 0 | V31: =IFERROR(VLOOKUP(B31,คำนวณตกเบิกวิทยฐานะ!$B$9:$P$1016,15,FALSE),0) -> 0 | W31: =(K31+L31+M31+N31+O31+P31+Q31+R31+S31)*12+U31+V31+T31 -> 0 | X31: โปรดเลือก | Y31: โปรดเลือก | AA31: =IF(X31="พนักงานจ้างตามภารกิจ",Z31*4/100,0) -> 0 | AB31: =Z31+AA31 -> 0 | AC31: =IF(Z31=0,0,IF(X31="พนักงานจ้างทั่วไป",IF(AB31>11000,0,IF(11000-AB31<=2000,11000-AB31,2000)),IF(AB31>14600,0,IF(14600-AB31<=2000,14600-AB31,2000)))) -> 0 | AD31: =AB31+AC31 -> 0 | AE31: =IF(OR(X31="พนักงานจ้างตามภารกิจ",X31="พนักงานจ้างทั่วไป"),IF(AD31*5/100>750,750,AD31*5/100),0) -> 0 | AF31: =(AD31+AE31)*12 -> 0 | AG31: =W31+AF31 -> 0 | AK31: =AI31*AJ31 -> 0 | AL31: โปรดเลือก | AM31: โปรดเลือก | AO31: โปรดเลือก | AP31: โปรดเลือก | AR31: โปรดเลือก | AS31: โปรดเลือก | AU31: =AN31+AQ31+AT31 -> 0 | AV31: =AG31+AK31+AU31+(AH31*12) -> 0 | AW31: =U31+V31 -> 0 | AX31: =AV31 -> 0
D32: =IF(LEN(B32)=0,"",IF(IFERROR(FIND("อัตราว่าง",B32,1),0)=0,"อัตราคนครอง","อัตราว่าง")) | E32: โปรดเลือก | F32: โปรดเลือก | I32: =H32*3% -> 0 | J32: =(H32+I32)*6% -> 0 | K32: =H32+J32+I32 -> 0 | O32: 0 | P32: 0 | Q32: =VLOOKUP(E32,$BA$15:$BC$22,2,FALSE) -> 0 | R32: =VLOOKUP(E32,$BA$15:$BC$22,3,FALSE) -> 0 | S32: 0 | U32: =IFERROR(VLOOKUP(B32,คำนวณตกเบิกวิทยฐานะ!$B$9:$P$1016,14,FALSE),0) -> 0 | V32: =IFERROR(VLOOKUP(B32,คำนวณตกเบิกวิทยฐานะ!$B$9:$P$1016,15,FALSE),0) -> 0 | W32: =(K32+L32+M32+N32+O32+P32+Q32+R32+S32)*12+U32+V32+T32 -> 0 | X32: โปรดเลือก | Y32: โปรดเลือก | AA32: =IF(X32="พนักงานจ้างตามภารกิจ",Z32*4/100,0) -> 0 | AB32: =Z32+AA32 -> 0 | AC32: =IF(Z32=0,0,IF(X32="พนักงานจ้างทั่วไป",IF(AB32>11000,0,IF(11000-AB32<=2000,11000-AB32,2000)),IF(AB32>14600,0,IF(14600-AB32<=2000,14600-AB32,2000)))) -> 0 | AD32: =AB32+AC32 -> 0 | AE32: =IF(OR(X32="พนักงานจ้างตามภารกิจ",X32="พนักงานจ้างทั่วไป"),IF(AD32*5/100>750,750,AD32*5/100),0) -> 0 | AF32: =(AD32+AE32)*12 -> 0 | AG32: =W32+AF32 -> 0 | AK32: =AI32*AJ32 -> 0 | AL32: โปรดเลือก | AM32: โปรดเลือก | AO32: โปรดเลือก | AP32: โปรดเลือก | AR32: โปรดเลือก | AS32: โปรดเลือก | AU32: =AN32+AQ32+AT32 -> 0 | AV32: =AG32+AK32+AU32+(AH32*12) -> 0 | AW32: =U32+V32 -> 0 | AX32: =AV32 -> 0
D33: =IF(LEN(B33)=0,"",IF(IFERROR(FIND("อัตราว่าง",B33,1),0)=0,"อัตราคนครอง","อัตราว่าง")) | E33: โปรดเลือก | F33: โปรดเลือก | I33: =H33*3% -> 0 | J33: =(H33+I33)*6% -> 0 | K33: =H33+J33+I33 -> 0 | O33: 0 | P33: 0 | Q33: =VLOOKUP(E33,$BA$15:$BC$22,2,FALSE) -> 0 | R33: =VLOOKUP(E33,$BA$15:$BC$22,3,FALSE) -> 0 | S33: 0 | U33: =IFERROR(VLOOKUP(B33,คำนวณตกเบิกวิทยฐานะ!$B$9:$P$1016,14,FALSE),0) -> 0 | V33: =IFERROR(VLOOKUP(B33,คำนวณตกเบิกวิทยฐานะ!$B$9:$P$1016,15,FALSE),0) -> 0 | W33: =(K33+L33+M33+N33+O33+P33+Q33+R33+S33)*12+U33+V33+T33 -> 0 | X33: โปรดเลือก | Y33: โปรดเลือก | AA33: =IF(X33="พนักงานจ้างตามภารกิจ",Z33*4/100,0) -> 0 | AB33: =Z33+AA33 -> 0 | AC33: =IF(Z33=0,0,IF(X33="พนักงานจ้างทั่วไป",IF(AB33>11000,0,IF(11000-AB33<=2000,11000-AB33,2000)),IF(AB33>14600,0,IF(14600-AB33<=2000,14600-AB33,2000)))) -> 0 | AD33: =AB33+AC33 -> 0 | AE33: =IF(OR(X33="พนักงานจ้างตามภารกิจ",X33="พนักงานจ้างทั่วไป"),IF(AD33*5/100>750,750,AD33*5/100),0) -> 0 | AF33: =(AD33+AE33)*12 -> 0 | AG33: =W33+AF33 -> 0 | AK33: =AI33*AJ33 -> 0 | AL33: โปรดเลือก | AM33: โปรดเลือก | AO33: โปรดเลือก | AP33: โปรดเลือก | AR33: โปรดเลือก | AS33: โปรดเลือก | AU33: =AN33+AQ33+AT33 -> 0 | AV33: =AG33+AK33+AU33+(AH33*12) -> 0 | AW33: =U33+V33 -> 0 | AX33: =AV33 -> 0
D34: =IF(LEN(B34)=0,"",IF(IFERROR(FIND("อัตราว่าง",B34,1),0)=0,"อัตราคนครอง","อัตราว่าง")) | E34: โปรดเลือก | F34: โปรดเลือก | I34: =H34*3% -> 0 | J34: =(H34+I34)*6% -> 0 | K34: =H34+J34+I34 -> 0 | O34: 0 | P34: 0 | Q34: =VLOOKUP(E34,$BA$15:$BC$22,2,FALSE) -> 0 | R34: =VLOOKUP(E34,$BA$15:$BC$22,3,FALSE) -> 0 | S34: 0 | U34: =IFERROR(VLOOKUP(B34,คำนวณตกเบิกวิทยฐานะ!$B$9:$P$1016,14,FALSE),0) -> 0 | V34: =IFERROR(VLOOKUP(B34,คำนวณตกเบิกวิทยฐานะ!$B$9:$P$1016,15,FALSE),0) -> 0 | W34: =(K34+L34+M34+N34+O34+P34+Q34+R34+S34)*12+U34+V34+T34 -> 0 | X34: โปรดเลือก | Y34: โปรดเลือก | AA34: =IF(X34="พนักงานจ้างตามภารกิจ",Z34*4/100,0) -> 0 | AB34: =Z34+AA34 -> 0 | AC34: =IF(Z34=0,0,IF(X34="พนักงานจ้างทั่วไป",IF(AB34>11000,0,IF(11000-AB34<=2000,11000-AB34,2000)),IF(AB34>14600,0,IF(14600-AB34<=2000,14600-AB34,2000)))) -> 0 | AD34: =AB34+AC34 -> 0 | AE34: =IF(OR(X34="พนักงานจ้างตามภารกิจ",X34="พนักงานจ้างทั่วไป"),IF(AD34*5/100>750,750,AD34*5/100),0) -> 0 | AF34: =(AD34+AE34)*12 -> 0 | AG34: =W34+AF34 -> 0 | AK34: =AI34*AJ34 -> 0 | AL34: โปรดเลือก | AM34: โปรดเลือก | AO34: โปรดเลือก | AP34: โปรดเลือก | AR34: โปรดเลือก | AS34: โปรดเลือก | AU34: =AN34+AQ34+AT34 -> 0 | AV34: =AG34+AK34+AU34+(AH34*12) -> 0 | AW34: =U34+V34 -> 0 | AX34: =AV34 -> 0
... D1000: =IF(LEN(B1000)=0,"",IF(IFERROR(FIND("อัตราว่าง",B1000,1),0)=0,"อัตราคนครอง","อัตราว่าง")) | E1000: โปรดเลือก | F1000: โปรดเลือก | I1000: =H1000*3% -> 0 | J1000: =(H1000+I1000)*6% -> 0 | K1000: =H1000+J1000+I1000 -> 0 | O1000: 0 | P1000: 0 | Q1000: =VLOOKUP(E1000,$BA$15:$BC$22,2,FALSE) -> 0 | R1000: =VLOOKUP(E1000,$BA$15:$BC$22,3,FALSE) -> 0 | S1000: 0 | U1000: =IFERROR(VLOOKUP(B1000,คำนวณตกเบิกวิทยฐานะ!$B$9:$P$1016,14,FALSE),0) -> 0 | V1000: =IFERROR(VLOOKUP(B1000,คำนวณตกเบิกวิทยฐานะ!$B$9:$P$1016,15,FALSE),0) -> 0 | W1000: =(K1000+L1000+M1000+N1000+O1000+P1000+Q1000+R1000+S1000)*12+U1000+V1000+T1000 -> 0 | X1000: โปรดเลือก | Y1000: โปรดเลือก | AA1000: =IF(X1000="พนักงานจ้างตามภารกิจ",Z1000*4/100,0) -> 0 | AB1000: =Z1000+AA1000 -> 0 | AC1000: =IF(Z1000=0,0,IF(X1000="พนักงานจ้างทั่วไป",IF(AB1000>11000,0,IF(11000-AB1000<=2000,11000-AB1000,2000)),IF(AB1000>14600,0,IF(14600-AB1000<=2000,14600-AB1000,2000)))) -> 0 | AD1000: =AB1000+AC1000 -> 0 | AE1000: =IF(OR(X1000="พนักงานจ้างตามภารกิจ",X1000="พนักงานจ้างทั่วไป"),IF(AD1000*5/100>750,750,AD1000*5/100),0) -> 0 | AF1000: =(AD1000+AE1000)*12 -> 0 | AG1000: =W1000+AF1000 -> 0 | AK1000: =AI1000*AJ1000 -> 0 | AL1000: โปรดเลือก | AM1000: โปรดเลือก | AO1000: โปรดเลือก | AP1000: โปรดเลือก | AR1000: โปรดเลือก | AS1000: โปรดเลือก | AU1000: =AN1000+AQ1000+AT1000 -> 0 | AV1000: =AG1000+AK1000+AU1000+(AH1000*12) -> 0 | AW1000: =U1000+V1000 -> 0 | AX1000: =AV1000 -> 0
D1001: =IF(LEN(B1001)=0,"",IF(IFERROR(FIND("อัตราว่าง",B1001,1),0)=0,"อัตราคนครอง","อัตราว่าง")) | E1001: โปรดเลือก | F1001: โปรดเลือก | I1001: =H1001*3% -> 0 | J1001: =(H1001+I1001)*6% -> 0 | K1001: =H1001+J1001+I1001 -> 0 | O1001: 0 | P1001: 0 | Q1001: =VLOOKUP(E1001,$BA$15:$BC$22,2,FALSE) -> 0 | R1001: =VLOOKUP(E1001,$BA$15:$BC$22,3,FALSE) -> 0 | S1001: 0 | U1001: =IFERROR(VLOOKUP(B1001,#REF!,14,FALSE),0) -> 0 | V1001: =IFERROR(VLOOKUP(B1001,#REF!,15,FALSE),0) -> 0 | W1001: =(K1001+L1001+M1001+N1001+O1001+P1001+Q1001+R1001+S1001)*12+U1001+V1001+T1001 -> 0 | X1001: โปรดเลือก | Y1001: โปรดเลือก | AA1001: =IF(X1001="พนักงานจ้างตามภารกิจ",Z1001*4/100,0) -> 0 | AB1001: =Z1001+AA1001 -> 0 | AC1001: =IF(Z1001=0,0,IF(X1001="พนักงานจ้างทั่วไป",IF(AB1001>11000,0,IF(11000-AB1001<=2000,11000-AB1001,2000)),IF(AB1001>14600,0,IF(14600-AB1001<=2000,14600-AB1001,2000)))) -> 0 | AD1001: =AB1001+AC1001 -> 0 | AE1001: =IF(OR(X1001="พนักงานจ้างตามภารกิจ",X1001="พนักงานจ้างทั่วไป"),IF(AD1001*5/100>750,750,AD1001*5/100),0) -> 0 | AF1001: =(AD1001+AE1001)*12 -> 0 | AG1001: =W1001+AF1001 -> 0 | AK1001: =AI1001*AJ1001 -> 0 | AL1001: โปรดเลือก | AM1001: โปรดเลือก | AO1001: โปรดเลือก | AP1001: โปรดเลือก | AR1001: โปรดเลือก | AS1001: โปรดเลือก | AU1001: =AN1001+AQ1001+AT1001 -> 0 | AV1001: =AG1001+AK1001+AU1001+(AH1001*12) -> 0 | AW1001: =U1001+V1001 -> 0 | AX1001: =AV1001 -> 0
D1002: =IF(LEN(B1002)=0,"",IF(IFERROR(FIND("อัตราว่าง",B1002,1),0)=0,"อัตราคนครอง","อัตราว่าง")) | E1002: โปรดเลือก | F1002: โปรดเลือก | I1002: =H1002*3% -> 0 | J1002: =(H1002+I1002)*6% -> 0 | K1002: =H1002+J1002+I1002 -> 0 | O1002: 0 | P1002: 0 | Q1002: =VLOOKUP(E1002,$BA$15:$BC$22,2,FALSE) -> 0 | R1002: =VLOOKUP(E1002,$BA$15:$BC$22,3,FALSE) -> 0 | S1002: 0 | U1002: =IFERROR(VLOOKUP(B1002,#REF!,14,FALSE),0) -> 0 | V1002: =IFERROR(VLOOKUP(B1002,#REF!,15,FALSE),0) -> 0 | W1002: =(K1002+L1002+M1002+N1002+O1002+P1002+Q1002+R1002+S1002)*12+U1002+V1002+T1002 -> 0 | X1002: โปรดเลือก | Y1002: โปรดเลือก | AA1002: =IF(X1002="พนักงานจ้างตามภารกิจ",Z1002*4/100,0) -> 0 | AB1002: =Z1002+AA1002 -> 0 | AC1002: =IF(Z1002=0,0,IF(X1002="พนักงานจ้างทั่วไป",IF(AB1002>11000,0,IF(11000-AB1002<=2000,11000-AB1002,2000)),IF(AB1002>14600,0,IF(14600-AB1002<=2000,14600-AB1002,2000)))) -> 0 | AD1002: =AB1002+AC1002 -> 0 | AE1002: =IF(OR(X1002="พนักงานจ้างตามภารกิจ",X1002="พนักงานจ้างทั่วไป"),IF(AD1002*5/100>750,750,AD1002*5/100),0) -> 0 | AF1002: =(AD1002+AE1002)*12 -> 0 | AG1002: =W1002+AF1002 -> 0 | AK1002: =AI1002*AJ1002 -> 0 | AL1002: โปรดเลือก | AM1002: โปรดเลือก | AO1002: โปรดเลือก | AP1002: โปรดเลือก | AR1002: โปรดเลือก | AS1002: โปรดเลือก | AU1002: =AN1002+AQ1002+AT1002 -> 0 | AV1002: =AG1002+AK1002+AU1002+(AH1002*12) -> 0 | AW1002: =U1002+V1002 -> 0 | AX1002: =AV1002 -> 0
D1003: =IF(LEN(B1003)=0,"",IF(IFERROR(FIND("อัตราว่าง",B1003,1),0)=0,"อัตราคนครอง","อัตราว่าง")) | E1003: โปรดเลือก | F1003: โปรดเลือก | I1003: =H1003*3% -> 0 | J1003: =(H1003+I1003)*6% -> 0 | K1003: =H1003+J1003+I1003 -> 0 | O1003: 0 | P1003: 0 | Q1003: =VLOOKUP(E1003,$BA$15:$BC$22,2,FALSE) -> 0 | R1003: =VLOOKUP(E1003,$BA$15:$BC$22,3,FALSE) -> 0 | S1003: 0 | U1003: =IFERROR(VLOOKUP(B1003,#REF!,14,FALSE),0) -> 0 | V1003: =IFERROR(VLOOKUP(B1003,#REF!,15,FALSE),0) -> 0 | W1003: =(K1003+L1003+M1003+N1003+O1003+P1003+Q1003+R1003+S1003)*12+U1003+V1003+T1003 -> 0 | X1003: โปรดเลือก | Y1003: โปรดเลือก | AA1003: =IF(X1003="พนักงานจ้างตามภารกิจ",Z1003*4/100,0) -> 0 | AB1003: =Z1003+AA1003 -> 0 | AC1003: =IF(Z1003=0,0,IF(X1003="พนักงานจ้างทั่วไป",IF(AB1003>11000,0,IF(11000-AB1003<=2000,11000-AB1003,2000)),IF(AB1003>14600,0,IF(14600-AB1003<=2000,14600-AB1003,2000)))) -> 0 | AD1003: =AB1003+AC1003 -> 0 | AE1003: =IF(OR(X1003="พนักงานจ้างตามภารกิจ",X1003="พนักงานจ้างทั่วไป"),IF(AD1003*5/100>750,750,AD1003*5/100),0) -> 0 | AF1003: =(AD1003+AE1003)*12 -> 0 | AG1003: =W1003+AF1003 -> 0 | AK1003: =AI1003*AJ1003 -> 0 | AL1003: โปรดเลือก | AM1003: โปรดเลือก | AO1003: โปรดเลือก | AP1003: โปรดเลือก | AR1003: โปรดเลือก | AS1003: โปรดเลือก | AU1003: =AN1003+AQ1003+AT1003 -> 0 | AV1003: =AG1003+AK1003+AU1003+(AH1003*12) -> 0 | AW1003: =U1003+V1003 -> 0 | AX1003: =AV1003 -> 0
D1004: =IF(LEN(B1004)=0,"",IF(IFERROR(FIND("อัตราว่าง",B1004,1),0)=0,"อัตราคนครอง","อัตราว่าง")) | E1004: โปรดเลือก | F1004: โปรดเลือก | I1004: =H1004*3% -> 0 | J1004: =(H1004+I1004)*6% -> 0 | K1004: =H1004+J1004+I1004 -> 0 | O1004: 0 | P1004: 0 | Q1004: =VLOOKUP(E1004,$BA$15:$BC$22,2,FALSE) -> 0 | R1004: =VLOOKUP(E1004,$BA$15:$BC$22,3,FALSE) -> 0 | S1004: 0 | U1004: =IFERROR(VLOOKUP(B1004,#REF!,14,FALSE),0) -> 0 | V1004: =IFERROR(VLOOKUP(B1004,#REF!,15,FALSE),0) -> 0 | W1004: =(K1004+L1004+M1004+N1004+O1004+P1004+Q1004+R1004+S1004)*12+U1004+V1004+T1004 -> 0 | X1004: โปรดเลือก | Y1004: โปรดเลือก | AA1004: =IF(X1004="พนักงานจ้างตามภารกิจ",Z1004*4/100,0) -> 0 | AB1004: =Z1004+AA1004 -> 0 | AC1004: =IF(Z1004=0,0,IF(X1004="พนักงานจ้างทั่วไป",IF(AB1004>11000,0,IF(11000-AB1004<=2000,11000-AB1004,2000)),IF(AB1004>14600,0,IF(14600-AB1004<=2000,14600-AB1004,2000)))) -> 0 | AD1004: =AB1004+AC1004 -> 0 | AE1004: =IF(OR(X1004="พนักงานจ้างตามภารกิจ",X1004="พนักงานจ้างทั่วไป"),IF(AD1004*5/100>750,750,AD1004*5/100),0) -> 0 | AF1004: =(AD1004+AE1004)*12 -> 0 | AG1004: =W1004+AF1004 -> 0 | AK1004: =AI1004*AJ1004 -> 0 | AL1004: โปรดเลือก | AM1004: โปรดเลือก | AO1004: โปรดเลือก | AP1004: โปรดเลือก | AR1004: โปรดเลือก | AS1004: โปรดเลือก | AU1004: =AN1004+AQ1004+AT1004 -> 0 | AV1004: =AG1004+AK1004+AU1004+(AH1004*12) -> 0 | AW1004: =U1004+V1004 -> 0 | AX1004: =AV1004 -> 0
D1005: =IF(LEN(B1005)=0,"",IF(IFERROR(FIND("อัตราว่าง",B1005,1),0)=0,"อัตราคนครอง","อัตราว่าง")) | E1005: โปรดเลือก | F1005: โปรดเลือก | I1005: =H1005*3% -> 0 | J1005: =(H1005+I1005)*6% -> 0 | K1005: =H1005+J1005+I1005 -> 0 | O1005: 0 | P1005: 0 | Q1005: =VLOOKUP(E1005,$BA$15:$BC$22,2,FALSE) -> 0 | R1005: =VLOOKUP(E1005,$BA$15:$BC$22,3,FALSE) -> 0 | S1005: 0 | U1005: =IFERROR(VLOOKUP(B1005,#REF!,14,FALSE),0) -> 0 | V1005: =IFERROR(VLOOKUP(B1005,#REF!,15,FALSE),0) -> 0 | W1005: =(K1005+L1005+M1005+N1005+O1005+P1005+Q1005+R1005+S1005)*12+U1005+V1005+T1005 -> 0 | X1005: โปรดเลือก | Y1005: โปรดเลือก | AA1005: =IF(X1005="พนักงานจ้างตามภารกิจ",Z1005*4/100,0) -> 0 | AB1005: =Z1005+AA1005 -> 0 | AC1005: =IF(Z1005=0,0,IF(X1005="พนักงานจ้างทั่วไป",IF(AB1005>11000,0,IF(11000-AB1005<=2000,11000-AB1005,2000)),IF(AB1005>14600,0,IF(14600-AB1005<=2000,14600-AB1005,2000)))) -> 0 | AD1005: =AB1005+AC1005 -> 0 | AE1005: =IF(OR(X1005="พนักงานจ้างตามภารกิจ",X1005="พนักงานจ้างทั่วไป"),IF(AD1005*5/100>750,750,AD1005*5/100),0) -> 0 | AF1005: =(AD1005+AE1005)*12 -> 0 | AG1005: =W1005+AF1005 -> 0 | AK1005: =AI1005*AJ1005 -> 0 | AL1005: โปรดเลือก | AM1005: โปรดเลือก | AO1005: โปรดเลือก | AP1005: โปรดเลือก | AR1005: โปรดเลือก | AS1005: โปรดเลือก | AU1005: =AN1005+AQ1005+AT1005 -> 0 | AV1005: =AG1005+AK1005+AU1005+(AH1005*12) -> 0 | AW1005: =U1005+V1005 -> 0 | AX1005: =AV1005 -> 0
D1006: =IF(LEN(B1006)=0,"",IF(IFERROR(FIND("อัตราว่าง",B1006,1),0)=0,"อัตราคนครอง","อัตราว่าง")) | E1006: โปรดเลือก | F1006: โปรดเลือก | I1006: =H1006*3% -> 0 | J1006: =(H1006+I1006)*6% -> 0 | K1006: =H1006+J1006+I1006 -> 0 | O1006: 0 | P1006: 0 | Q1006: =VLOOKUP(E1006,$BA$15:$BC$22,2,FALSE) -> 0 | R1006: =VLOOKUP(E1006,$BA$15:$BC$22,3,FALSE) -> 0 | S1006: 0 | U1006: =IFERROR(VLOOKUP(B1006,#REF!,14,FALSE),0) -> 0 | V1006: =IFERROR(VLOOKUP(B1006,#REF!,15,FALSE),0) -> 0 | W1006: =(K1006+L1006+M1006+N1006+O1006+P1006+Q1006+R1006+S1006)*12+U1006+V1006+T1006 -> 0 | X1006: โปรดเลือก | Y1006: โปรดเลือก | AA1006: =IF(X1006="พนักงานจ้างตามภารกิจ",Z1006*4/100,0) -> 0 | AB1006: =Z1006+AA1006 -> 0 | AC1006: =IF(Z1006=0,0,IF(X1006="พนักงานจ้างทั่วไป",IF(AB1006>11000,0,IF(11000-AB1006<=2000,11000-AB1006,2000)),IF(AB1006>14600,0,IF(14600-AB1006<=2000,14600-AB1006,2000)))) -> 0 | AD1006: =AB1006+AC1006 -> 0 | AE1006: =IF(OR(X1006="พนักงานจ้างตามภารกิจ",X1006="พนักงานจ้างทั่วไป"),IF(AD1006*5/100>750,750,AD1006*5/100),0) -> 0 | AF1006: =(AD1006+AE1006)*12 -> 0 | AG1006: =W1006+AF1006 -> 0 | AK1006: =AI1006*AJ1006 -> 0 | AL1006: โปรดเลือก | AM1006: โปรดเลือก | AO1006: โปรดเลือก | AP1006: โปรดเลือก | AR1006: โปรดเลือก | AS1006: โปรดเลือก | AU1006: =AN1006+AQ1006+AT1006 -> 0 | AV1006: =AG1006+AK1006+AU1006+(AH1006*12) -> 0 | AW1006: =U1006+V1006 -> 0 | AX1006: =AV1006 -> 0
D1007: =IF(LEN(B1007)=0,"",IF(IFERROR(FIND("อัตราว่าง",B1007,1),0)=0,"อัตราคนครอง","อัตราว่าง")) | E1007: โปรดเลือก | F1007: โปรดเลือก | I1007: =H1007*3% -> 0 | J1007: =(H1007+I1007)*6% -> 0 | K1007: =H1007+J1007+I1007 -> 0 | O1007: 0 | P1007: 0 | Q1007: =VLOOKUP(E1007,$BA$15:$BC$22,2,FALSE) -> 0 | R1007: =VLOOKUP(E1007,$BA$15:$BC$22,3,FALSE) -> 0 | S1007: 0 | U1007: =IFERROR(VLOOKUP(B1007,#REF!,14,FALSE),0) -> 0 | V1007: =IFERROR(VLOOKUP(B1007,#REF!,15,FALSE),0) -> 0 | W1007: =(K1007+L1007+M1007+N1007+O1007+P1007+Q1007+R1007+S1007)*12+U1007+V1007+T1007 -> 0 | X1007: โปรดเลือก | Y1007: โปรดเลือก | AA1007: =IF(X1007="พนักงานจ้างตามภารกิจ",Z1007*4/100,0) -> 0 | AB1007: =Z1007+AA1007 -> 0 | AC1007: =IF(Z1007=0,0,IF(X1007="พนักงานจ้างทั่วไป",IF(AB1007>11000,0,IF(11000-AB1007<=2000,11000-AB1007,2000)),IF(AB1007>14600,0,IF(14600-AB1007<=2000,14600-AB1007,2000)))) -> 0 | AD1007: =AB1007+AC1007 -> 0 | AE1007: =IF(OR(X1007="พนักงานจ้างตามภารกิจ",X1007="พนักงานจ้างทั่วไป"),IF(AD1007*5/100>750,750,AD1007*5/100),0) -> 0 | AF1007: =(AD1007+AE1007)*12 -> 0 | AG1007: =W1007+AF1007 -> 0 | AK1007: =AI1007*AJ1007 -> 0 | AL1007: โปรดเลือก | AM1007: โปรดเลือก | AO1007: โปรดเลือก | AP1007: โปรดเลือก | AR1007: โปรดเลือก | AS1007: โปรดเลือก | AU1007: =AN1007+AQ1007+AT1007 -> 0 | AV1007: =AG1007+AK1007+AU1007+(AH1007*12) -> 0 | AW1007: =U1007+V1007 -> 0 | AX1007: =AV1007 -> 0
D1008: =IF(LEN(B1008)=0,"",IF(IFERROR(FIND("อัตราว่าง",B1008,1),0)=0,"อัตราคนครอง","อัตราว่าง")) | E1008: โปรดเลือก | F1008: โปรดเลือก | I1008: =H1008*3% -> 0 | J1008: =(H1008+I1008)*6% -> 0 | K1008: =H1008+J1008+I1008 -> 0 | O1008: 0 | P1008: 0 | Q1008: =VLOOKUP(E1008,$BA$15:$BC$22,2,FALSE) -> 0 | R1008: =VLOOKUP(E1008,$BA$15:$BC$22,3,FALSE) -> 0 | S1008: 0 | U1008: =IFERROR(VLOOKUP(B1008,#REF!,14,FALSE),0) -> 0 | V1008: =IFERROR(VLOOKUP(B1008,#REF!,15,FALSE),0) -> 0 | W1008: =(K1008+L1008+M1008+N1008+O1008+P1008+Q1008+R1008+S1008)*12+U1008+V1008+T1008 -> 0 | X1008: โปรดเลือก | Y1008: โปรดเลือก | AA1008: =IF(X1008="พนักงานจ้างตามภารกิจ",Z1008*4/100,0) -> 0 | AB1008: =Z1008+AA1008 -> 0 | AC1008: =IF(Z1008=0,0,IF(X1008="พนักงานจ้างทั่วไป",IF(AB1008>11000,0,IF(11000-AB1008<=2000,11000-AB1008,2000)),IF(AB1008>14600,0,IF(14600-AB1008<=2000,14600-AB1008,2000)))) -> 0 | AD1008: =AB1008+AC1008 -> 0 | AE1008: =IF(OR(X1008="พนักงานจ้างตามภารกิจ",X1008="พนักงานจ้างทั่วไป"),IF(AD1008*5/100>750,750,AD1008*5/100),0) -> 0 | AF1008: =(AD1008+AE1008)*12 -> 0 | AG1008: =W1008+AF1008 -> 0 | AK1008: =AI1008*AJ1008 -> 0 | AL1008: โปรดเลือก | AM1008: โปรดเลือก | AO1008: โปรดเลือก | AP1008: โปรดเลือก | AR1008: โปรดเลือก | AS1008: โปรดเลือก | AU1008: =AN1008+AQ1008+AT1008 -> 0 | AV1008: =AG1008+AK1008+AU1008+(AH1008*12) -> 0 | AW1008: =U1008+V1008 -> 0 | AX1008: =AV1008 -> 0
D1009: =IF(LEN(B1009)=0,"",IF(IFERROR(FIND("อัตราว่าง",B1009,1),0)=0,"อัตราคนครอง","อัตราว่าง")) | E1009: โปรดเลือก | F1009: โปรดเลือก | I1009: =H1009*3% -> 0 | J1009: =(H1009+I1009)*6% -> 0 | K1009: =H1009+J1009+I1009 -> 0 | O1009: 0 | P1009: 0 | Q1009: =VLOOKUP(E1009,$BA$15:$BC$22,2,FALSE) -> 0 | R1009: =VLOOKUP(E1009,$BA$15:$BC$22,3,FALSE) -> 0 | S1009: 0 | U1009: =IFERROR(VLOOKUP(B1009,#REF!,14,FALSE),0) -> 0 | V1009: =IFERROR(VLOOKUP(B1009,#REF!,15,FALSE),0) -> 0 | W1009: =(K1009+L1009+M1009+N1009+O1009+P1009+Q1009+R1009+S1009)*12+U1009+V1009+T1009 -> 0 | X1009: โปรดเลือก | Y1009: โปรดเลือก | AA1009: =IF(X1009="พนักงานจ้างตามภารกิจ",Z1009*4/100,0) -> 0 | AB1009: =Z1009+AA1009 -> 0 | AC1009: =IF(Z1009=0,0,IF(X1009="พนักงานจ้างทั่วไป",IF(AB1009>11000,0,IF(11000-AB1009<=2000,11000-AB1009,2000)),IF(AB1009>14600,0,IF(14600-AB1009<=2000,14600-AB1009,2000)))) -> 0 | AD1009: =AB1009+AC1009 -> 0 | AE1009: =IF(OR(X1009="พนักงานจ้างตามภารกิจ",X1009="พนักงานจ้างทั่วไป"),IF(AD1009*5/100>750,750,AD1009*5/100),0) -> 0 | AF1009: =(AD1009+AE1009)*12 -> 0 | AG1009: =W1009+AF1009 -> 0 | AK1009: =AI1009*AJ1009 -> 0 | AL1009: โปรดเลือก | AM1009: โปรดเลือก | AO1009: โปรดเลือก | AP1009: โปรดเลือก | AR1009: โปรดเลือก | AS1009: โปรดเลือก | AU1009: =AN1009+AQ1009+AT1009 -> 0 | AV1009: =AG1009+AK1009+AU1009+(AH1009*12) -> 0 | AW1009: =U1009+V1009 -> 0 | AX1009: =AV1009 -> 0
D1010: =IF(LEN(B1010)=0,"",IF(IFERROR(FIND("อัตราว่าง",B1010,1),0)=0,"อัตราคนครอง","อัตราว่าง")) | E1010: โปรดเลือก | F1010: โปรดเลือก | I1010: =H1010*3% -> 0 | J1010: =(H1010+I1010)*6% -> 0 | K1010: =H1010+J1010+I1010 -> 0 | O1010: 0 | P1010: 0 | Q1010: =VLOOKUP(E1010,$BA$15:$BC$22,2,FALSE) -> 0 | R1010: =VLOOKUP(E1010,$BA$15:$BC$22,3,FALSE) -> 0 | S1010: 0 | U1010: =IFERROR(VLOOKUP(B1010,#REF!,14,FALSE),0) -> 0 | V1010: =IFERROR(VLOOKUP(B1010,#REF!,15,FALSE),0) -> 0 | W1010: =(K1010+L1010+M1010+N1010+O1010+P1010+Q1010+R1010+S1010)*12+U1010+V1010+T1010 -> 0 | X1010: โปรดเลือก | Y1010: โปรดเลือก | AA1010: =IF(X1010="พนักงานจ้างตามภารกิจ",Z1010*4/100,0) -> 0 | AB1010: =Z1010+AA1010 -> 0 | AC1010: =IF(Z1010=0,0,IF(X1010="พนักงานจ้างทั่วไป",IF(AB1010>11000,0,IF(11000-AB1010<=2000,11000-AB1010,2000)),IF(AB1010>14600,0,IF(14600-AB1010<=2000,14600-AB1010,2000)))) -> 0 | AD1010: =AB1010+AC1010 -> 0 | AE1010: =IF(OR(X1010="พนักงานจ้างตามภารกิจ",X1010="พนักงานจ้างทั่วไป"),IF(AD1010*5/100>750,750,AD1010*5/100),0) -> 0 | AF1010: =(AD1010+AE1010)*12 -> 0 | AG1010: =W1010+AF1010 -> 0 | AK1010: =AI1010*AJ1010 -> 0 | AL1010: โปรดเลือก | AM1010: โปรดเลือก | AO1010: โปรดเลือก | AP1010: โปรดเลือก | AR1010: โปรดเลือก | AS1010: โปรดเลือก | AU1010: =AN1010+AQ1010+AT1010 -> 0 | AV1010: =AG1010+AK1010+AU1010+(AH1010*12) -> 0 | AW1010: =U1010+V1010 -> 0 | AX1010: =AV1010 -> 0
D1011: =IF(LEN(B1011)=0,"",IF(IFERROR(FIND("อัตราว่าง",B1011,1),0)=0,"อัตราคนครอง","อัตราว่าง")) | E1011: โปรดเลือก | F1011: โปรดเลือก | I1011: =H1011*3% -> 0 | J1011: =(H1011+I1011)*6% -> 0 | K1011: =H1011+J1011+I1011 -> 0 | O1011: 0 | P1011: 0 | Q1011: =VLOOKUP(E1011,$BA$15:$BC$22,2,FALSE) -> 0 | R1011: =VLOOKUP(E1011,$BA$15:$BC$22,3,FALSE) -> 0 | S1011: 0 | U1011: =IFERROR(VLOOKUP(B1011,#REF!,14,FALSE),0) -> 0 | V1011: =IFERROR(VLOOKUP(B1011,#REF!,15,FALSE),0) -> 0 | W1011: =(K1011+L1011+M1011+N1011+O1011+P1011+Q1011+R1011+S1011)*12+U1011+V1011+T1011 -> 0 | X1011: โปรดเลือก | Y1011: โปรดเลือก | AA1011: =IF(X1011="พนักงานจ้างตามภารกิจ",Z1011*4/100,0) -> 0 | AB1011: =Z1011+AA1011 -> 0 | AC1011: =IF(Z1011=0,0,IF(X1011="พนักงานจ้างทั่วไป",IF(AB1011>11000,0,IF(11000-AB1011<=2000,11000-AB1011,2000)),IF(AB1011>14600,0,IF(14600-AB1011<=2000,14600-AB1011,2000)))) -> 0 | AD1011: =AB1011+AC1011 -> 0 | AE1011: =IF(OR(X1011="พนักงานจ้างตามภารกิจ",X1011="พนักงานจ้างทั่วไป"),IF(AD1011*5/100>750,750,AD1011*5/100),0) -> 0 | AF1011: =(AD1011+AE1011)*12 -> 0 | AG1011: =W1011+AF1011 -> 0 | AK1011: =AI1011*AJ1011 -> 0 | AL1011: โปรดเลือก | AM1011: โปรดเลือก | AO1011: โปรดเลือก | AP1011: โปรดเลือก | AR1011: โปรดเลือก | AS1011: โปรดเลือก | AU1011: =AN1011+AQ1011+AT1011 -> 0 | AV1011: =AG1011+AK1011+AU1011+(AH1011*12) -> 0 | AW1011: =U1011+V1011 -> 0 | AX1011: =AV1011 -> 0
D1012: =IF(LEN(B1012)=0,"",IF(IFERROR(FIND("อัตราว่าง",B1012,1),0)=0,"อัตราคนครอง","อัตราว่าง")) | E1012: โปรดเลือก | F1012: โปรดเลือก | I1012: =H1012*3% -> 0 | J1012: =(H1012+I1012)*6% -> 0 | K1012: =H1012+J1012+I1012 -> 0 | O1012: 0 | P1012: 0 | Q1012: =VLOOKUP(E1012,$BA$15:$BC$22,2,FALSE) -> 0 | R1012: =VLOOKUP(E1012,$BA$15:$BC$22,3,FALSE) -> 0 | S1012: 0 | U1012: =IFERROR(VLOOKUP(B1012,#REF!,14,FALSE),0) -> 0 | V1012: =IFERROR(VLOOKUP(B1012,#REF!,15,FALSE),0) -> 0 | W1012: =(K1012+L1012+M1012+N1012+O1012+P1012+Q1012+R1012+S1012)*12+U1012+V1012+T1012 -> 0 | X1012: โปรดเลือก | Y1012: โปรดเลือก | AA1012: =IF(X1012="พนักงานจ้างตามภารกิจ",Z1012*4/100,0) -> 0 | AB1012: =Z1012+AA1012 -> 0 | AC1012: =IF(Z1012=0,0,IF(X1012="พนักงานจ้างทั่วไป",IF(AB1012>11000,0,IF(11000-AB1012<=2000,11000-AB1012,2000)),IF(AB1012>14600,0,IF(14600-AB1012<=2000,14600-AB1012,2000)))) -> 0 | AD1012: =AB1012+AC1012 -> 0 | AE1012: =IF(OR(X1012="พนักงานจ้างตามภารกิจ",X1012="พนักงานจ้างทั่วไป"),IF(AD1012*5/100>750,750,AD1012*5/100),0) -> 0 | AF1012: =(AD1012+AE1012)*12 -> 0 | AG1012: =W1012+AF1012 -> 0 | AK1012: =AI1012*AJ1012 -> 0 | AL1012: โปรดเลือก | AM1012: โปรดเลือก | AO1012: โปรดเลือก | AP1012: โปรดเลือก | AR1012: โปรดเลือก | AS1012: โปรดเลือก | AU1012: =AN1012+AQ1012+AT1012 -> 0 | AV1012: =AG1012+AK1012+AU1012+(AH1012*12) -> 0 | AW1012: =U1012+V1012 -> 0 | AX1012: =AV1012 -> 0
... D1014: =IF(LEN(B1014)=0,"",IF(IFERROR(FIND("อัตราว่าง",B1014,1),0)=0,"อัตราคนครอง","อัตราว่าง")) | E1014: โปรดเลือก | F1014: โปรดเลือก | I1014: =H1014*3% -> 0 | J1014: =(H1014+I1014)*6% -> 0 | K1014: =H1014+J1014+I1014 -> 0 | O1014: 0 | P1014: 0 | Q1014: =VLOOKUP(E1014,$BA$15:$BC$22,2,FALSE) -> 0 | R1014: =VLOOKUP(E1014,$BA$15:$BC$22,3,FALSE) -> 0 | S1014: 0 | U1014: =IFERROR(VLOOKUP(B1014,#REF!,14,FALSE),0) -> 0 | V1014: =IFERROR(VLOOKUP(B1014,#REF!,15,FALSE),0) -> 0 | W1014: =(K1014+L1014+M1014+N1014+O1014+P1014+Q1014+R1014+S1014)*12+U1014+V1014+T1014 -> 0 | X1014: โปรดเลือก | Y1014: โปรดเลือก | AA1014: =IF(X1014="พนักงานจ้างตามภารกิจ",Z1014*4/100,0) -> 0 | AB1014: =Z1014+AA1014 -> 0 | AC1014: =IF(Z1014=0,0,IF(X1014="พนักงานจ้างทั่วไป",IF(AB1014>11000,0,IF(11000-AB1014<=2000,11000-AB1014,2000)),IF(AB1014>14600,0,IF(14600-AB1014<=2000,14600-AB1014,2000)))) -> 0 | AD1014: =AB1014+AC1014 -> 0 | AE1014: =IF(OR(X1014="พนักงานจ้างตามภารกิจ",X1014="พนักงานจ้างทั่วไป"),IF(AD1014*5/100>750,750,AD1014*5/100),0) -> 0 | AF1014: =(AD1014+AE1014)*12 -> 0 | AG1014: =W1014+AF1014 -> 0 | AK1014: =AI1014*AJ1014 -> 0 | AL1014: โปรดเลือก | AM1014: โปรดเลือก | AO1014: โปรดเลือก | AP1014: โปรดเลือก | AR1014: โปรดเลือก | AS1014: โปรดเลือก | AU1014: =AN1014+AQ1014+AT1014 -> 0 | AV1014: =AG1014+AK1014+AU1014+(AH1014*12) -> 0 | AW1014: =U1014+V1014 -> 0 | AX1014: =AV1014 -> 0

Sheet อธิบาย ตบ.
A1: คำอธิบายแบบฟอร์มคำนวณตกเบิกวิทยฐานะ รายการ : เงินอุดหนุนสำหรับสนับสนุนศูนย์พัฒนาเด็กเล็ก (เงินเดือน ค่าตอบแทน เงินเพิ่มค่าครองชีพ และสวัสดิการ) คำนวณเงินตกเบิกวิทยฐานะ กรณีที่มีคำสั่งอนุมัติผลงานประเมินแล้ว
A3: คอลัมน์ | B3: รายการ | L3: กรอกข้อมูล | M3: ไม่ต้องกรอก (คำนวณอัตโนมัติ)
A4: (A) | B4: ลำดับ
A5: (B) | B5: รายชื่อ : (ระบุให้เหมือนกับชื่อ - นามสกุล ที่กรอกในชีทคำนวณเงินเดือน) เช่น นาย.... / นางสาว..... | L5: ü
A6: (C) | B6: ตำแหน่งที่ได้รับการเลื่อนวิทยฐานะแล้ว : โดยยึดตามคำสั่งให้พนักงานครูเทศบาลเลื่อนวิทยฐานะในอันดับที่สูงขึ้น | L6: ü
A7: (D) - ( E ) | B7: ค่าวิทยฐานะ : (D) ค่าวิทยฐานะเดิม ( E ) ค่าวิทยฐานะใหม่ | M7: ü
A8: (F) - (G) | B8: ค่าตอบแทนรายเดือน : (F) ค่าตอบแทนรายเดือนเดิม (G) ค่าตอบแทนรายเดือนใหม่ | M8: ü
A9: (H) - (P) | B9: คำนวณตกเบิกวิทยฐานะและค่าตอบแทนรายเดือน | M9: ü
A10: (H) - (I) | B10: ส่วนต่างค่าวิทยฐานะ : (H) ส่วนต่างค่าวิทยฐานะต่อเดือน ค่าวิทยฐานะใหม่ - ค่าวิทยฐานะเดิม (I) ส่วนต่างค่าวิทยฐานะต่อวัน ส่วนต่างค่าวิทยฐานะใหม่ - ค่าวิทยฐานะเดิม / 30 | M10: ü
A11: (J) - (K) | B11: ส่วนต่างค่าตอบแทนรายเดือน (J) ส่วนต่างค่าตอบแทนรายเดือนต่อเดือน ค่าตอบแทนรายเดือนใหม่ - ค่าตอบแทนรายเดือนเดิม (K) ส่วนต่างค่าตอบแทนรายเดือนต่อวัน ส่วนต่างค่าตอบแทนรายเดือนใหม่ - ค่าตอบแทนรายเดือนเดิม / 30 | M11: ü
A12: (L) | B12: วันที่มีผลบังคับใช้ : กรอกวันที่ตามที่ระบุในหนังสือคำสั่งให้พนักงานครูเทศบาลเลื่อนวิทยฐานะในอันดับที่สูงขึ้น | L12: ü
A13: (M) | B13: วันสิ้นปีงบประมาณ : วันสิ้นปีงบประมาณปีปัจจุบัน | M13: ü
A14: (N) | B14: คำนวณเวลา (วัน) : รวมจำนวนวันที่ตกเบิกทั้งสิ้น | M14: ü
A15: (O) - (P) | B15: เงินตกเบิกที่พึงได้รับ : (O) เงินวิทยฐานะตกเบิกที่พึงได้รับ : ส่วนต่างวิทยฐานะต่อวัน x จำนวนวันที่ตกเบิกทั้งสิ้น (P) เงินค่าตอบแทนรายเดือนตกเบิกที่พึงได้รับ : ส่วนต่างค่าตอบแทนรายเดือนต่อวัน x จำนวนวันที่ตกเบิกทั้งสิ้น | M15: ü

Sheet คำนวณตกเบิกวิทยฐานะ
A2: การคิดเงินตกเบิกวิทยฐานะ
A3: กรณีที่มีคำสั่งอนุมัติผลงานประเมินแล้ว
A5: ลำดับ (A) | B5: รายชื่อ (ระบุให้เหมือนกับชื่อนามสกุล ที่กรอกในชีทคำนวณเงินเดือน) (B) | C5: ตำแหน่งที่ได้รับ การเลื่อนวิทยฐานะแล้ว ( C ) | D5: ค่าวิทยฐานะ (D) - ( E ) | F5: ค่าตอบแทนรายเดือน (F) - (G) | H5: คำนวณตกเบิกวิทยฐานะและค่าตอบแทนรายเดือน
H6: ส่วนต่างค่าวิทยฐานะ (บาท) (H) - (I) | J6: ส่วนต่างค่าตอบแทน รายเดือน (บาท) (J) - (K) | L6: วันที่มีผลบังคับใช้ (L) | M6: สิ้นปี งบประมาณ 69 (M) | N6: คำนวณเวลา (วัน) (N) = (M) - (L) | O6: เงินตกเบิกที่พึงได้รับ (O) - (P)
D7: เดิม (D) | E7: ใหม่ ( E ) | F7: เดิม (F) | G7: ใหม่ (G) | H7: ต่อเดือน (H) = ( E ) - (D) | I7: ต่อวัน (I) = (H)/30 | J7: ต่อเดือน (J) = (G) - (F) | K7: ต่อวัน (K) = (J)/30 | O7: วิทยฐานะ (O) = (N) x (I) | P7: ตอบแทนรายเดือน (P) = (N) x (K) | W7: วันที่มีผลบังคับใช้ | Z7: จำนวนวัน | AA7: สิ้นปีงบประมาณ 67 | AD7: วัน | AE7: เดือน | AF7: ปี | AG7: จำนวนวันตกเบิก
D8: (1) | E8: (2) | F8: (3) | G8: (4) | H8: (5)= (2) - (1) | I8: (6) = (5)/30 | J8: (7)= (4) - (3) | K8: (8) = (7)/30 | L8: (9) | M8: (10) | N8: (11) = (10) - (9) | O8: (12) = (11) x (6) | P8: (13) = (11) x (8) | S8: เก่า | T8: ใหม่ 1 | U8: เก่า | V8: ใหม่ 2
A9: 1 | C9: โปรดเลือก | D9: =VLOOKUP($C9,$R$9:$V$16,2,0) -> 0 | E9: =VLOOKUP($C9,$R$9:$V$16,3,0) -> 0 | F9: =VLOOKUP($C9,$R$9:$V$16,4,0) -> 0 | G9: =VLOOKUP($C9,$R$9:$V$16,5,0) -> 0 | H9: =+E9-D9 -> 0 | I9: =+H9/30 -> 0 | J9: =+G9-F9 -> 0 | K9: =J9/30 -> 0 | M9: 30/09/2569 | N9: =AG9 -> 0 | O9: =N9*I9 -> 0 | P9: =K9*N9 -> 0 | R9: โปรดเลือก | S9: 0 | T9: 0 | U9: 0 | V9: 0 | W9: =IFERROR(VALUE(LEFT(L9,2)),0) -> 0 | X9: =IFERROR(VALUE(MID(L9,4,2)),0) -> 0 | Y9: =IFERROR(VALUE(RIGHT(L9,4)),0) -> 0 | Z9: {=IFERROR(VLOOKUP(AB-1,$AH$9:$AI$20,2,0),0)} -> 0 | AA9: =IFERROR(VALUE(LEFT(M9,2)),0) -> 30 | AB9: =IFERROR(VALUE(MID(M9,4,2)),0) -> 9 | AC9: =IFERROR(VALUE(RIGHT(M9,4)),0) -> 2569 | AD9: =IF(W9>0,IF(AA9<W9,Z9-W9+AA9,AA9-W9),0) -> 0 | AE9: =IF(W9>0,IF(AA9=W9,IF(AB9=X9,0,IF(AB9>X9,AB9-X9,12+AB9-X9)),IF(AA9>W9,IF(AB9>X9,AB9-X9,IF(AB9=X9,0,12+AB9-X9)),IF(AA9<W9,IF(AB9>X9,AB9-X9-1,IF(AB9=X9,0,12+AB9-X9-1))))),0) -> 0 | AF9: =IF(W9>0,IF(AND(W9=AA9,X9=AB9),AC9-Y9,IF(AND(W9>=AA9,X9>AB9),AC9-Y9-1,IF(AND(W9<AA9,X9>AB9),AC9-Y9-1,IF(AND(W9<AA9,X9<AB9),AC9-Y9,AC9-Y9)))),0) -> 0 | AG9: =ROUND((AD9+(AE9*$AI$21)+(AF9*365)),0) -> 0 | AH9: 1 | AI9: 31
A10: 2 | C10: โปรดเลือก | D10: =VLOOKUP($C10,$R$9:$V$16,2,0) -> 0 | E10: =VLOOKUP($C10,$R$9:$V$16,3,0) -> 0 | F10: =VLOOKUP($C10,$R$9:$V$16,4,0) -> 0 | G10: =VLOOKUP($C10,$R$9:$V$16,5,0) -> 0 | H10: =+E10-D10 -> 0 | I10: =+H10/30 -> 0 | J10: =+G10-F10 -> 0 | K10: =J10/30 -> 0 | M10: 30/09/2569 | N10: =AG10 -> 0 | O10: =N10*I10 -> 0 | P10: =K10*N10 -> 0 | R10: ครูผู้ช่วย | S10: 0 | T10: 0 | U10: 0 | V10: 0 | W10: =IFERROR(VALUE(LEFT(L10,2)),0) -> 0 | X10: =IFERROR(VALUE(MID(L10,4,2)),0) -> 0 | Y10: =IFERROR(VALUE(RIGHT(L10,4)),0) -> 0 | Z10: {=IFERROR(VLOOKUP(AB-1,$AH$9:$AI$20,2,0),0)} -> 0 | AA10: =IFERROR(VALUE(LEFT(M10,2)),0) -> 30 | AB10: =IFERROR(VALUE(MID(M10,4,2)),0) -> 9 | AC10: =IFERROR(VALUE(RIGHT(M10,4)),0) -> 2569 | AD10: =IF(W10>0,IF(AA10<W10,Z10-W10+AA10,AA10-W10),0) -> 0 | AE10: =IF(W10>0,IF(AA10=W10,IF(AB10=X10,0,IF(AB10>X10,AB10-X10,12+AB10-X10)),IF(AA10>W10,IF(AB10>X10,AB10-X10,IF(AB10=X10,0,12+AB10-X10)),IF(AA10<W10,IF(AB10>X10,AB10-X10-1,IF(AB10=X10,0,12+AB10-X10-1))))),0) -> 0 | AF10: =IF(W10>0,IF(AND(W10=AA10,X10=AB10),AC10-Y10,IF(AND(W10>=AA10,X10>AB10),AC10-Y10-1,IF(AND(W10<AA10,X10>AB10),AC10-Y10-1,IF(AND(W10<AA10,X10<AB10),AC10-Y10,AC10-Y10)))),0) -> 0 | AG10: =ROUND((AD10+(AE10*$AI$21)+(AF10*365)),0) -> 0 | AH10: 2 | AI10: 28
A11: 3 | C11: โปรดเลือก | D11: =VLOOKUP($C11,$R$9:$V$16,2,0) -> 0 | E11: =VLOOKUP($C11,$R$9:$V$16,3,0) -> 0 | F11: =VLOOKUP($C11,$R$9:$V$16,4,0) -> 0 | G11: =VLOOKUP($C11,$R$9:$V$16,5,0) -> 0 | H11: =+E11-D11 -> 0 | I11: =+H11/30 -> 0 | J11: =+G11-F11 -> 0 | K11: =J11/30 -> 0 | M11: 30/09/2569 | N11: =AG11 -> 0 | O11: =N11*I11 -> 0 | P11: =K11*N11 -> 0 | R11: คศ.1/ครู | S11: 0 | T11: 0 | U11: 0 | V11: 0 | W11: =IFERROR(VALUE(LEFT(L11,2)),0) -> 0 | X11: =IFERROR(VALUE(MID(L11,4,2)),0) -> 0 | Y11: =IFERROR(VALUE(RIGHT(L11,4)),0) -> 0 | Z11: {=IFERROR(VLOOKUP(AB-1,$AH$9:$AI$20,2,0),0)} -> 0 | AA11: =IFERROR(VALUE(LEFT(M11,2)),0) -> 30 | AB11: =IFERROR(VALUE(MID(M11,4,2)),0) -> 9 | AC11: =IFERROR(VALUE(RIGHT(M11,4)),0) -> 2569 | AD11: =IF(W11>0,IF(AA11<W11,Z11-W11+AA11,AA11-W11),0) -> 0 | AE11: =IF(W11>0,IF(AA11=W11,IF(AB11=X11,0,IF(AB11>X11,AB11-X11,12+AB11-X11)),IF(AA11>W11,IF(AB11>X11,AB11-X11,IF(AB11=X11,0,12+AB11-X11)),IF(AA11<W11,IF(AB11>X11,AB11-X11-1,IF(AB11=X11,0,12+AB11-X11-1))))),0) -> 0 | AF11: =IF(W11>0,IF(AND(W11=AA11,X11=AB11),AC11-Y11,IF(AND(W11>=AA11,X11>AB11),AC11-Y11-1,IF(AND(W11<AA11,X11>AB11),AC11-Y11-1,IF(AND(W11<AA11,X11<AB11),AC11-Y11,AC11-Y11)))),0) -> 0 | AG11: =ROUND((AD11+(AE11*$AI$21)+(AF11*365)),0) -> 0 | AH11: 3 | AI11: 31
A12: 4 | C12: โปรดเลือก | D12: =VLOOKUP($C12,$R$9:$V$16,2,0) -> 0 | E12: =VLOOKUP($C12,$R$9:$V$16,3,0) -> 0 | F12: =VLOOKUP($C12,$R$9:$V$16,4,0) -> 0 | G12: =VLOOKUP($C12,$R$9:$V$16,5,0) -> 0 | H12: =+E12-D12 -> 0 | I12: =+H12/30 -> 0 | J12: =+G12-F12 -> 0 | K12: =J12/30 -> 0 | M12: 30/09/2569 | N12: =AG12 -> 0 | O12: =N12*I12 -> 0 | P12: =K12*N12 -> 0 | R12: คศ.2/ครูชำนาญการ | S12: 0 | T12: 3500 | U12: 0 | V12: 0 | W12: =IFERROR(VALUE(LEFT(L12,2)),0) -> 0 | X12: =IFERROR(VALUE(MID(L12,4,2)),0) -> 0 | Y12: =IFERROR(VALUE(RIGHT(L12,4)),0) -> 0 | Z12: {=IFERROR(VLOOKUP(AB-1,$AH$9:$AI$20,2,0),0)} -> 0 | AA12: =IFERROR(VALUE(LEFT(M12,2)),0) -> 30 | AB12: =IFERROR(VALUE(MID(M12,4,2)),0) -> 9 | AC12: =IFERROR(VALUE(RIGHT(M12,4)),0) -> 2569 | AD12: =IF(W12>0,IF(AA12<W12,Z12-W12+AA12,AA12-W12),0) -> 0 | AE12: =IF(W12>0,IF(AA12=W12,IF(AB12=X12,0,IF(AB12>X12,AB12-X12,12+AB12-X12)),IF(AA12>W12,IF(AB12>X12,AB12-X12,IF(AB12=X12,0,12+AB12-X12)),IF(AA12<W12,IF(AB12>X12,AB12-X12-1,IF(AB12=X12,0,12+AB12-X12-1))))),0) -> 0 | AF12: =IF(W12>0,IF(AND(W12=AA12,X12=AB12),AC12-Y12,IF(AND(W12>=AA12,X12>AB12),AC12-Y12-1,IF(AND(W12<AA12,X12>AB12),AC12-Y12-1,IF(AND(W12<AA12,X12<AB12),AC12-Y12,AC12-Y12)))),0) -> 0 | AG12: =ROUND((AD12+(AE12*$AI$21)+(AF12*365)),0) -> 0 | AH12: 4 | AI12: 30
A13: 5 | C13: โปรดเลือก | D13: =VLOOKUP($C13,$R$9:$V$16,2,0) -> 0 | E13: =VLOOKUP($C13,$R$9:$V$16,3,0) -> 0 | F13: =VLOOKUP($C13,$R$9:$V$16,4,0) -> 0 | G13: =VLOOKUP($C13,$R$9:$V$16,5,0) -> 0 | H13: =+E13-D13 -> 0 | I13: =+H13/30 -> 0 | J13: =+G13-F13 -> 0 | K13: =J13/30 -> 0 | M13: 30/09/2569 | N13: =AG13 -> 0 | O13: =N13*I13 -> 0 | P13: =K13*N13 -> 0 | R13: คศ.3/ครูชำนาญการพิเศษ | S13: 3500 | T13: 5600 | U13: 0 | V13: 5600 | W13: =IFERROR(VALUE(LEFT(L13,2)),0) -> 0 | X13: =IFERROR(VALUE(MID(L13,4,2)),0) -> 0 | Y13: =IFERROR(VALUE(RIGHT(L13,4)),0) -> 0 | Z13: {=IFERROR(VLOOKUP(AB-1,$AH$9:$AI$20,2,0),0)} -> 0 | AA13: =IFERROR(VALUE(LEFT(M13,2)),0) -> 30 | AB13: =IFERROR(VALUE(MID(M13,4,2)),0) -> 9 | AC13: =IFERROR(VALUE(RIGHT(M13,4)),0) -> 2569 | AD13: =IF(W13>0,IF(AA13<W13,Z13-W13+AA13,AA13-W13),0) -> 0 | AE13: =IF(W13>0,IF(AA13=W13,IF(AB13=X13,0,IF(AB13>X13,AB13-X13,12+AB13-X13)),IF(AA13>W13,IF(AB13>X13,AB13-X13,IF(AB13=X13,0,12+AB13-X13)),IF(AA13<W13,IF(AB13>X13,AB13-X13-1,IF(AB13=X13,0,12+AB13-X13-1))))),0) -> 0 | AF13: =IF(W13>0,IF(AND(W13=AA13,X13=AB13),AC13-Y13,IF(AND(W13>=AA13,X13>AB13),AC13-Y13-1,IF(AND(W13<AA13,X13>AB13),AC13-Y13-1,IF(AND(W13<AA13,X13<AB13),AC13-Y13,AC13-Y13)))),0) -> 0 | AG13: =ROUND((AD13+(AE13*$AI$21)+(AF13*365)),0) -> 0 | AH13: 5 | AI13: 31
A14: 6 | C14: โปรดเลือก | D14: =VLOOKUP($C14,$R$9:$V$16,2,0) -> 0 | E14: =VLOOKUP($C14,$R$9:$V$16,3,0) -> 0 | F14: =VLOOKUP($C14,$R$9:$V$16,4,0) -> 0 | G14: =VLOOKUP($C14,$R$9:$V$16,5,0) -> 0 | H14: =+E14-D14 -> 0 | I14: =+H14/30 -> 0 | J14: =+G14-F14 -> 0 | K14: =J14/30 -> 0 | M14: 30/09/2569 | N14: =AG14 -> 0 | O14: =N14*I14 -> 0 | P14: =K14*N14 -> 0 | R14: คศ.4/ครูเชี่ยวชาญ | S14: 5600 | T14: 9900 | U14: 5600 | V14: 9900 | W14: =IFERROR(VALUE(LEFT(L14,2)),0) -> 0 | X14: =IFERROR(VALUE(MID(L14,4,2)),0) -> 0 | Y14: =IFERROR(VALUE(RIGHT(L14,4)),0) -> 0 | Z14: {=IFERROR(VLOOKUP(AB-1,$AH$9:$AI$20,2,0),0)} -> 0 | AA14: =IFERROR(VALUE(LEFT(M14,2)),0) -> 30 | AB14: =IFERROR(VALUE(MID(M14,4,2)),0) -> 9 | AC14: =IFERROR(VALUE(RIGHT(M14,4)),0) -> 2569 | AD14: =IF(W14>0,IF(AA14<W14,Z14-W14+AA14,AA14-W14),0) -> 0 | AE14: =IF(W14>0,IF(AA14=W14,IF(AB14=X14,0,IF(AB14>X14,AB14-X14,12+AB14-X14)),IF(AA14>W14,IF(AB14>X14,AB14-X14,IF(AB14=X14,0,12+AB14-X14)),IF(AA14<W14,IF(AB14>X14,AB14-X14-1,IF(AB14=X14,0,12+AB14-X14-1))))),0) -> 0 | AF14: =IF(W14>0,IF(AND(W14=AA14,X14=AB14),AC14-Y14,IF(AND(W14>=AA14,X14>AB14),AC14-Y14-1,IF(AND(W14<AA14,X14>AB14),AC14-Y14-1,IF(AND(W14<AA14,X14<AB14),AC14-Y14,AC14-Y14)))),0) -> 0 | AG14: =ROUND((AD14+(AE14*$AI$21)+(AF14*365)),0) -> 0 | AH14: 6 | AI14: 30
A15: 7 | C15: โปรดเลือก | D15: =VLOOKUP($C15,$R$9:$V$16,2,0) -> 0 | E15: =VLOOKUP($C15,$R$9:$V$16,3,0) -> 0 | F15: =VLOOKUP($C15,$R$9:$V$16,4,0) -> 0 | G15: =VLOOKUP($C15,$R$9:$V$16,5,0) -> 0 | H15: =+E15-D15 -> 0 | I15: =+H15/30 -> 0 | J15: =+G15-F15 -> 0 | K15: =J15/30 -> 0 | M15: 30/09/2569 | N15: =AG15 -> 0 | O15: =N15*I15 -> 0 | P15: =K15*N15 -> 0 | R15: คศ.5/ครูเชี่ยวชาญขึ้นไป | S15: 5600 | T15: 9900 | U15: 5600 | V15: 9900 | W15: =IFERROR(VALUE(LEFT(L15,2)),0) -> 0 | X15: =IFERROR(VALUE(MID(L15,4,2)),0) -> 0 | Y15: =IFERROR(VALUE(RIGHT(L15,4)),0) -> 0 | Z15: {=IFERROR(VLOOKUP(AB-1,$AH$9:$AI$20,2,0),0)} -> 0 | AA15: =IFERROR(VALUE(LEFT(M15,2)),0) -> 30 | AB15: =IFERROR(VALUE(MID(M15,4,2)),0) -> 9 | AC15: =IFERROR(VALUE(RIGHT(M15,4)),0) -> 2569 | AD15: =IF(W15>0,IF(AA15<W15,Z15-W15+AA15,AA15-W15),0) -> 0 | AE15: =IF(W15>0,IF(AA15=W15,IF(AB15=X15,0,IF(AB15>X15,AB15-X15,12+AB15-X15)),IF(AA15>W15,IF(AB15>X15,AB15-X15,IF(AB15=X15,0,12+AB15-X15)),IF(AA15<W15,IF(AB15>X15,AB15-X15-1,IF(AB15=X15,0,12+AB15-X15-1))))),0) -> 0 | AF15: =IF(W15>0,IF(AND(W15=AA15,X15=AB15),AC15-Y15,IF(AND(W15>=AA15,X15>AB15),AC15-Y15-1,IF(AND(W15<AA15,X15>AB15),AC15-Y15-1,IF(AND(W15<AA15,X15<AB15),AC15-Y15,AC15-Y15)))),0) -> 0 | AG15: =ROUND((AD15+(AE15*$AI$21)+(AF15*365)),0) -> 0 | AH15: 7 | AI15: 31
A16: 8 | C16: โปรดเลือก | D16: =VLOOKUP($C16,$R$9:$V$16,2,0) -> 0 | E16: =VLOOKUP($C16,$R$9:$V$16,3,0) -> 0 | F16: =VLOOKUP($C16,$R$9:$V$16,4,0) -> 0 | G16: =VLOOKUP($C16,$R$9:$V$16,5,0) -> 0 | H16: =+E16-D16 -> 0 | I16: =+H16/30 -> 0 | J16: =+G16-F16 -> 0 | K16: =J16/30 -> 0 | M16: 30/09/2569 | N16: =AG16 -> 0 | O16: =N16*I16 -> 0 | P16: =K16*N16 -> 0 | R16: ลูกจ้างประจำ | S16: 0 | T16: 0 | U16: 0 | V16: 0 | W16: =IFERROR(VALUE(LEFT(L16,2)),0) -> 0 | X16: =IFERROR(VALUE(MID(L16,4,2)),0) -> 0 | Y16: =IFERROR(VALUE(RIGHT(L16,4)),0) -> 0 | Z16: {=IFERROR(VLOOKUP(AB-1,$AH$9:$AI$20,2,0),0)} -> 0 | AA16: =IFERROR(VALUE(LEFT(M16,2)),0) -> 30 | AB16: =IFERROR(VALUE(MID(M16,4,2)),0) -> 9 | AC16: =IFERROR(VALUE(RIGHT(M16,4)),0) -> 2569 | AD16: =IF(W16>0,IF(AA16<W16,Z16-W16+AA16,AA16-W16),0) -> 0 | AE16: =IF(W16>0,IF(AA16=W16,IF(AB16=X16,0,IF(AB16>X16,AB16-X16,12+AB16-X16)),IF(AA16>W16,IF(AB16>X16,AB16-X16,IF(AB16=X16,0,12+AB16-X16)),IF(AA16<W16,IF(AB16>X16,AB16-X16-1,IF(AB16=X16,0,12+AB16-X16-1))))),0) -> 0 | AF16: =IF(W16>0,IF(AND(W16=AA16,X16=AB16),AC16-Y16,IF(AND(W16>=AA16,X16>AB16),AC16-Y16-1,IF(AND(W16<AA16,X16>AB16),AC16-Y16-1,IF(AND(W16<AA16,X16<AB16),AC16-Y16,AC16-Y16)))),0) -> 0 | AG16: =ROUND((AD16+(AE16*$AI$21)+(AF16*365)),0) -> 0 | AH16: 8 | AI16: 31
A17: 9 | C17: โปรดเลือก | D17: =VLOOKUP($C17,$R$9:$V$16,2,0) -> 0 | E17: =VLOOKUP($C17,$R$9:$V$16,3,0) -> 0 | F17: =VLOOKUP($C17,$R$9:$V$16,4,0) -> 0 | G17: =VLOOKUP($C17,$R$9:$V$16,5,0) -> 0 | H17: =+E17-D17 -> 0 | I17: =+H17/30 -> 0 | J17: =+G17-F17 -> 0 | K17: =J17/30 -> 0 | M17: 30/09/2569 | N17: =AG17 -> 0 | O17: =N17*I17 -> 0 | P17: =K17*N17 -> 0 | W17: =IFERROR(VALUE(LEFT(L17,2)),0) -> 0 | X17: =IFERROR(VALUE(MID(L17,4,2)),0) -> 0 | Y17: =IFERROR(VALUE(RIGHT(L17,4)),0) -> 0 | Z17: {=IFERROR(VLOOKUP(AB-1,$AH$9:$AI$20,2,0),0)} -> 0 | AA17: =IFERROR(VALUE(LEFT(M17,2)),0) -> 30 | AB17: =IFERROR(VALUE(MID(M17,4,2)),0) -> 9 | AC17: =IFERROR(VALUE(RIGHT(M17,4)),0) -> 2569 | AD17: =IF(W17>0,IF(AA17<W17,Z17-W17+AA17,AA17-W17),0) -> 0 | AE17: =IF(W17>0,IF(AA17=W17,IF(AB17=X17,0,IF(AB17>X17,AB17-X17,12+AB17-X17)),IF(AA17>W17,IF(AB17>X17,AB17-X17,IF(AB17=X17,0,12+AB17-X17)),IF(AA17<W17,IF(AB17>X17,AB17-X17-1,IF(AB17=X17,0,12+AB17-X17-1))))),0) -> 0 | AF17: =IF(W17>0,IF(AND(W17=AA17,X17=AB17),AC17-Y17,IF(AND(W17>=AA17,X17>AB17),AC17-Y17-1,IF(AND(W17<AA17,X17>AB17),AC17-Y17-1,IF(AND(W17<AA17,X17<AB17),AC17-Y17,AC17-Y17)))),0) -> 0 | AG17: =ROUND((AD17+(AE17*$AI$21)+(AF17*365)),0) -> 0 | AH17: 9 | AI17: 30
A18: 10 | C18: โปรดเลือก | D18: =VLOOKUP($C18,$R$9:$V$16,2,0) -> 0 | E18: =VLOOKUP($C18,$R$9:$V$16,3,0) -> 0 | F18: =VLOOKUP($C18,$R$9:$V$16,4,0) -> 0 | G18: =VLOOKUP($C18,$R$9:$V$16,5,0) -> 0 | H18: =+E18-D18 -> 0 | I18: =+H18/30 -> 0 | J18: =+G18-F18 -> 0 | K18: =J18/30 -> 0 | M18: 30/09/2569 | N18: =AG18 -> 0 | O18: =N18*I18 -> 0 | P18: =K18*N18 -> 0 | W18: =IFERROR(VALUE(LEFT(L18,2)),0) -> 0 | X18: =IFERROR(VALUE(MID(L18,4,2)),0) -> 0 | Y18: =IFERROR(VALUE(RIGHT(L18,4)),0) -> 0 | Z18: {=IFERROR(VLOOKUP(AB-1,$AH$9:$AI$20,2,0),0)} -> 0 | AA18: =IFERROR(VALUE(LEFT(M18,2)),0) -> 30 | AB18: =IFERROR(VALUE(MID(M18,4,2)),0) -> 9 | AC18: =IFERROR(VALUE(RIGHT(M18,4)),0) -> 2569 | AD18: =IF(W18>0,IF(AA18<W18,Z18-W18+AA18,AA18-W18),0) -> 0 | AE18: =IF(W18>0,IF(AA18=W18,IF(AB18=X18,0,IF(AB18>X18,AB18-X18,12+AB18-X18)),IF(AA18>W18,IF(AB18>X18,AB18-X18,IF(AB18=X18,0,12+AB18-X18)),IF(AA18<W18,IF(AB18>X18,AB18-X18-1,IF(AB18=X18,0,12+AB18-X18-1))))),0) -> 0 | AF18: =IF(W18>0,IF(AND(W18=AA18,X18=AB18),AC18-Y18,IF(AND(W18>=AA18,X18>AB18),AC18-Y18-1,IF(AND(W18<AA18,X18>AB18),AC18-Y18-1,IF(AND(W18<AA18,X18<AB18),AC18-Y18,AC18-Y18)))),0) -> 0 | AG18: =ROUND((AD18+(AE18*$AI$21)+(AF18*365)),0) -> 0 | AH18: 10 | AI18: 31
A19: 11 | C19: โปรดเลือก | D19: =VLOOKUP($C19,$R$9:$V$16,2,0) -> 0 | E19: =VLOOKUP($C19,$R$9:$V$16,3,0) -> 0 | F19: =VLOOKUP($C19,$R$9:$V$16,4,0) -> 0 | G19: =VLOOKUP($C19,$R$9:$V$16,5,0) -> 0 | H19: =+E19-D19 -> 0 | I19: =+H19/30 -> 0 | J19: =+G19-F19 -> 0 | K19: =J19/30 -> 0 | M19: 30/09/2569 | N19: =AG19 -> 0 | O19: =N19*I19 -> 0 | P19: =K19*N19 -> 0 | W19: =IFERROR(VALUE(LEFT(L19,2)),0) -> 0 | X19: =IFERROR(VALUE(MID(L19,4,2)),0) -> 0 | Y19: =IFERROR(VALUE(RIGHT(L19,4)),0) -> 0 | Z19: {=IFERROR(VLOOKUP(AB-1,$AH$9:$AI$20,2,0),0)} -> 0 | AA19: =IFERROR(VALUE(LEFT(M19,2)),0) -> 30 | AB19: =IFERROR(VALUE(MID(M19,4,2)),0) -> 9 | AC19: =IFERROR(VALUE(RIGHT(M19,4)),0) -> 2569 | AD19: =IF(W19>0,IF(AA19<W19,Z19-W19+AA19,AA19-W19),0) -> 0 | AE19: =IF(W19>0,IF(AA19=W19,IF(AB19=X19,0,IF(AB19>X19,AB19-X19,12+AB19-X19)),IF(AA19>W19,IF(AB19>X19,AB19-X19,IF(AB19=X19,0,12+AB19-X19)),IF(AA19<W19,IF(AB19>X19,AB19-X19-1,IF(AB19=X19,0,12+AB19-X19-1))))),0) -> 0 | AF19: =IF(W19>0,IF(AND(W19=AA19,X19=AB19),AC19-Y19,IF(AND(W19>=AA19,X19>AB19),AC19-Y19-1,IF(AND(W19<AA19,X19>AB19),AC19-Y19-1,IF(AND(W19<AA19,X19<AB19),AC19-Y19,AC19-Y19)))),0) -> 0 | AG19: =ROUND((AD19+(AE19*$AI$21)+(AF19*365)),0) -> 0 | AH19: 11 | AI19: 30
A20: 12 | C20: โปรดเลือก | D20: =VLOOKUP($C20,$R$9:$V$16,2,0) -> 0 | E20: =VLOOKUP($C20,$R$9:$V$16,3,0) -> 0 | F20: =VLOOKUP($C20,$R$9:$V$16,4,0) -> 0 | G20: =VLOOKUP($C20,$R$9:$V$16,5,0) -> 0 | H20: =+E20-D20 -> 0 | I20: =+H20/30 -> 0 | J20: =+G20-F20 -> 0 | K20: =J20/30 -> 0 | M20: 30/09/2569 | N20: =AG20 -> 0 | O20: =N20*I20 -> 0 | P20: =K20*N20 -> 0 | W20: =IFERROR(VALUE(LEFT(L20,2)),0) -> 0 | X20: =IFERROR(VALUE(MID(L20,4,2)),0) -> 0 | Y20: =IFERROR(VALUE(RIGHT(L20,4)),0) -> 0 | Z20: {=IFERROR(VLOOKUP(AB-1,$AH$9:$AI$20,2,0),0)} -> 0 | AA20: =IFERROR(VALUE(LEFT(M20,2)),0) -> 30 | AB20: =IFERROR(VALUE(MID(M20,4,2)),0) -> 9 | AC20: =IFERROR(VALUE(RIGHT(M20,4)),0) -> 2569 | AD20: =IF(W20>0,IF(AA20<W20,Z20-W20+AA20,AA20-W20),0) -> 0 | AE20: =IF(W20>0,IF(AA20=W20,IF(AB20=X20,0,IF(AB20>X20,AB20-X20,12+AB20-X20)),IF(AA20>W20,IF(AB20>X20,AB20-X20,IF(AB20=X20,0,12+AB20-X20)),IF(AA20<W20,IF(AB20>X20,AB20-X20-1,IF(AB20=X20,0,12+AB20-X20-1))))),0) -> 0 | AF20: =IF(W20>0,IF(AND(W20=AA20,X20=AB20),AC20-Y20,IF(AND(W20>=AA20,X20>AB20),AC20-Y20-1,IF(AND(W20<AA20,X20>AB20),AC20-Y20-1,IF(AND(W20<AA20,X20<AB20),AC20-Y20,AC20-Y20)))),0) -> 0 | AG20: =ROUND((AD20+(AE20*$AI$21)+(AF20*365)),0) -> 0 | AH20: 0 | AI20: 31
A21: 13 | C21: โปรดเลือก | D21: =VLOOKUP($C21,$R$9:$V$16,2,0) -> 0 | E21: =VLOOKUP($C21,$R$9:$V$16,3,0) -> 0 | F21: =VLOOKUP($C21,$R$9:$V$16,4,0) -> 0 | G21: =VLOOKUP($C21,$R$9:$V$16,5,0) -> 0 | H21: =+E21-D21 -> 0 | I21: =+H21/30 -> 0 | J21: =+G21-F21 -> 0 | K21: =J21/30 -> 0 | M21: 30/09/2569 | N21: =AG21 -> 0 | O21: =N21*I21 -> 0 | P21: =K21*N21 -> 0 | W21: =IFERROR(VALUE(LEFT(L21,2)),0) -> 0 | X21: =IFERROR(VALUE(MID(L21,4,2)),0) -> 0 | Y21: =IFERROR(VALUE(RIGHT(L21,4)),0) -> 0 | Z21: {=IFERROR(VLOOKUP(AB-1,$AH$9:$AI$20,2,0),0)} -> 0 | AA21: =IFERROR(VALUE(LEFT(M21,2)),0) -> 30 | AB21: =IFERROR(VALUE(MID(M21,4,2)),0) -> 9 | AC21: =IFERROR(VALUE(RIGHT(M21,4)),0) -> 2569 | AD21: =IF(W21>0,IF(AA21<W21,Z21-W21+AA21,AA21-W21),0) -> 0 | AE21: =IF(W21>0,IF(AA21=W21,IF(AB21=X21,0,IF(AB21>X21,AB21-X21,12+AB21-X21)),IF(AA21>W21,IF(AB21>X21,AB21-X21,IF(AB21=X21,0,12+AB21-X21)),IF(AA21<W21,IF(AB21>X21,AB21-X21-1,IF(AB21=X21,0,12+AB21-X21-1))))),0) -> 0 | AF21: =IF(W21>0,IF(AND(W21=AA21,X21=AB21),AC21-Y21,IF(AND(W21>=AA21,X21>AB21),AC21-Y21-1,IF(AND(W21<AA21,X21>AB21),AC21-Y21-1,IF(AND(W21<AA21,X21<AB21),AC21-Y21,AC21-Y21)))),0) -> 0 | AG21: =ROUND((AD21+(AE21*$AI$21)+(AF21*365)),0) -> 0 | AI21: =SUM(AI9:AI20)/12 -> 30.416667
A22: 14 | C22: โปรดเลือก | D22: =VLOOKUP($C22,$R$9:$V$16,2,0) -> 0 | E22: =VLOOKUP($C22,$R$9:$V$16,3,0) -> 0 | F22: =VLOOKUP($C22,$R$9:$V$16,4,0) -> 0 | G22: =VLOOKUP($C22,$R$9:$V$16,5,0) -> 0 | H22: =+E22-D22 -> 0 | I22: =+H22/30 -> 0 | J22: =+G22-F22 -> 0 | K22: =J22/30 -> 0 | M22: 30/09/2569 | N22: =AG22 -> 0 | O22: =N22*I22 -> 0 | P22: =K22*N22 -> 0 | W22: =IFERROR(VALUE(LEFT(L22,2)),0) -> 0 | X22: =IFERROR(VALUE(MID(L22,4,2)),0) -> 0 | Y22: =IFERROR(VALUE(RIGHT(L22,4)),0) -> 0 | Z22: {=IFERROR(VLOOKUP(AB-1,$AH$9:$AI$20,2,0),0)} -> 0 | AA22: =IFERROR(VALUE(LEFT(M22,2)),0) -> 30 | AB22: =IFERROR(VALUE(MID(M22,4,2)),0) -> 9 | AC22: =IFERROR(VALUE(RIGHT(M22,4)),0) -> 2569 | AD22: =IF(W22>0,IF(AA22<W22,Z22-W22+AA22,AA22-W22),0) -> 0 | AE22: =IF(W22>0,IF(AA22=W22,IF(AB22=X22,0,IF(AB22>X22,AB22-X22,12+AB22-X22)),IF(AA22>W22,IF(AB22>X22,AB22-X22,IF(AB22=X22,0,12+AB22-X22)),IF(AA22<W22,IF(AB22>X22,AB22-X22-1,IF(AB22=X22,0,12+AB22-X22-1))))),0) -> 0 | AF22: =IF(W22>0,IF(AND(W22=AA22,X22=AB22),AC22-Y22,IF(AND(W22>=AA22,X22>AB22),AC22-Y22-1,IF(AND(W22<AA22,X22>AB22),AC22-Y22-1,IF(AND(W22<AA22,X22<AB22),AC22-Y22,AC22-Y22)))),0) -> 0 | AG22: =ROUND((AD22+(AE22*$AI$21)+(AF22*365)),0) -> 0
A23: 15 | C23: โปรดเลือก | D23: =VLOOKUP($C23,$R$9:$V$16,2,0) -> 0 | E23: =VLOOKUP($C23,$R$9:$V$16,3,0) -> 0 | F23: =VLOOKUP($C23,$R$9:$V$16,4,0) -> 0 | G23: =VLOOKUP($C23,$R$9:$V$16,5,0) -> 0 | H23: =+E23-D23 -> 0 | I23: =+H23/30 -> 0 | J23: =+G23-F23 -> 0 | K23: =J23/30 -> 0 | M23: 30/09/2569 | N23: =AG23 -> 0 | O23: =N23*I23 -> 0 | P23: =K23*N23 -> 0 | W23: =IFERROR(VALUE(LEFT(L23,2)),0) -> 0 | X23: =IFERROR(VALUE(MID(L23,4,2)),0) -> 0 | Y23: =IFERROR(VALUE(RIGHT(L23,4)),0) -> 0 | Z23: {=IFERROR(VLOOKUP(AB-1,$AH$9:$AI$20,2,0),0)} -> 0 | AA23: =IFERROR(VALUE(LEFT(M23,2)),0) -> 30 | AB23: =IFERROR(VALUE(MID(M23,4,2)),0) -> 9 | AC23: =IFERROR(VALUE(RIGHT(M23,4)),0) -> 2569 | AD23: =IF(W23>0,IF(AA23<W23,Z23-W23+AA23,AA23-W23),0) -> 0 | AE23: =IF(W23>0,IF(AA23=W23,IF(AB23=X23,0,IF(AB23>X23,AB23-X23,12+AB23-X23)),IF(AA23>W23,IF(AB23>X23,AB23-X23,IF(AB23=X23,0,12+AB23-X23)),IF(AA23<W23,IF(AB23>X23,AB23-X23-1,IF(AB23=X23,0,12+AB23-X23-1))))),0) -> 0 | AF23: =IF(W23>0,IF(AND(W23=AA23,X23=AB23),AC23-Y23,IF(AND(W23>=AA23,X23>AB23),AC23-Y23-1,IF(AND(W23<AA23,X23>AB23),AC23-Y23-1,IF(AND(W23<AA23,X23<AB23),AC23-Y23,AC23-Y23)))),0) -> 0 | AG23: =ROUND((AD23+(AE23*$AI$21)+(AF23*365)),0) -> 0
A24: 16 | C24: โปรดเลือก | D24: =VLOOKUP($C24,$R$9:$V$16,2,0) -> 0 | E24: =VLOOKUP($C24,$R$9:$V$16,3,0) -> 0 | F24: =VLOOKUP($C24,$R$9:$V$16,4,0) -> 0 | G24: =VLOOKUP($C24,$R$9:$V$16,5,0) -> 0 | H24: =+E24-D24 -> 0 | I24: =+H24/30 -> 0 | J24: =+G24-F24 -> 0 | K24: =J24/30 -> 0 | M24: 30/09/2569 | N24: =AG24 -> 0 | O24: =N24*I24 -> 0 | P24: =K24*N24 -> 0 | W24: =IFERROR(VALUE(LEFT(L24,2)),0) -> 0 | X24: =IFERROR(VALUE(MID(L24,4,2)),0) -> 0 | Y24: =IFERROR(VALUE(RIGHT(L24,4)),0) -> 0 | Z24: {=IFERROR(VLOOKUP(AB-1,$AH$9:$AI$20,2,0),0)} -> 0 | AA24: =IFERROR(VALUE(LEFT(M24,2)),0) -> 30 | AB24: =IFERROR(VALUE(MID(M24,4,2)),0) -> 9 | AC24: =IFERROR(VALUE(RIGHT(M24,4)),0) -> 2569 | AD24: =IF(W24>0,IF(AA24<W24,Z24-W24+AA24,AA24-W24),0) -> 0 | AE24: =IF(W24>0,IF(AA24=W24,IF(AB24=X24,0,IF(AB24>X24,AB24-X24,12+AB24-X24)),IF(AA24>W24,IF(AB24>X24,AB24-X24,IF(AB24=X24,0,12+AB24-X24)),IF(AA24<W24,IF(AB24>X24,AB24-X24-1,IF(AB24=X24,0,12+AB24-X24-1))))),0) -> 0 | AF24: =IF(W24>0,IF(AND(W24=AA24,X24=AB24),AC24-Y24,IF(AND(W24>=AA24,X24>AB24),AC24-Y24-1,IF(AND(W24<AA24,X24>AB24),AC24-Y24-1,IF(AND(W24<AA24,X24<AB24),AC24-Y24,AC24-Y24)))),0) -> 0 | AG24: =ROUND((AD24+(AE24*$AI$21)+(AF24*365)),0) -> 0
A25: 17 | C25: โปรดเลือก | D25: =VLOOKUP($C25,$R$9:$V$16,2,0) -> 0 | E25: =VLOOKUP($C25,$R$9:$V$16,3,0) -> 0 | F25: =VLOOKUP($C25,$R$9:$V$16,4,0) -> 0 | G25: =VLOOKUP($C25,$R$9:$V$16,5,0) -> 0 | H25: =+E25-D25 -> 0 | I25: =+H25/30 -> 0 | J25: =+G25-F25 -> 0 | K25: =J25/30 -> 0 | M25: 30/09/2569 | N25: =AG25 -> 0 | O25: =N25*I25 -> 0 | P25: =K25*N25 -> 0 | W25: =IFERROR(VALUE(LEFT(L25,2)),0) -> 0 | X25: =IFERROR(VALUE(MID(L25,4,2)),0) -> 0 | Y25: =IFERROR(VALUE(RIGHT(L25,4)),0) -> 0 | Z25: {=IFERROR(VLOOKUP(AB-1,$AH$9:$AI$20,2,0),0)} -> 0 | AA25: =IFERROR(VALUE(LEFT(M25,2)),0) -> 30 | AB25: =IFERROR(VALUE(MID(M25,4,2)),0) -> 9 | AC25: =IFERROR(VALUE(RIGHT(M25,4)),0) -> 2569 | AD25: =IF(W25>0,IF(AA25<W25,Z25-W25+AA25,AA25-W25),0) -> 0 | AE25: =IF(W25>0,IF(AA25=W25,IF(AB25=X25,0,IF(AB25>X25,AB25-X25,12+AB25-X25)),IF(AA25>W25,IF(AB25>X25,AB25-X25,IF(AB25=X25,0,12+AB25-X25)),IF(AA25<W25,IF(AB25>X25,AB25-X25-1,IF(AB25=X25,0,12+AB25-X25-1))))),0) -> 0 | AF25: =IF(W25>0,IF(AND(W25=AA25,X25=AB25),AC25-Y25,IF(AND(W25>=AA25,X25>AB25),AC25-Y25-1,IF(AND(W25<AA25,X25>AB25),AC25-Y25-1,IF(AND(W25<AA25,X25<AB25),AC25-Y25,AC25-Y25)))),0) -> 0 | AG25: =ROUND((AD25+(AE25*$AI$21)+(AF25*365)),0) -> 0
A26: 18 | C26: โปรดเลือก | D26: =VLOOKUP($C26,$R$9:$V$16,2,0) -> 0 | E26: =VLOOKUP($C26,$R$9:$V$16,3,0) -> 0 | F26: =VLOOKUP($C26,$R$9:$V$16,4,0) -> 0 | G26: =VLOOKUP($C26,$R$9:$V$16,5,0) -> 0 | H26: =+E26-D26 -> 0 | I26: =+H26/30 -> 0 | J26: =+G26-F26 -> 0 | K26: =J26/30 -> 0 | M26: 30/09/2569 | N26: =AG26 -> 0 | O26: =N26*I26 -> 0 | P26: =K26*N26 -> 0 | W26: =IFERROR(VALUE(LEFT(L26,2)),0) -> 0 | X26: =IFERROR(VALUE(MID(L26,4,2)),0) -> 0 | Y26: =IFERROR(VALUE(RIGHT(L26,4)),0) -> 0 | Z26: {=IFERROR(VLOOKUP(AB-1,$AH$9:$AI$20,2,0),0)} -> 0 | AA26: =IFERROR(VALUE(LEFT(M26,2)),0) -> 30 | AB26: =IFERROR(VALUE(MID(M26,4,2)),0) -> 9 | AC26: =IFERROR(VALUE(RIGHT(M26,4)),0) -> 2569 | AD26: =IF(W26>0,IF(AA26<W26,Z26-W26+AA26,AA26-W26),0) -> 0 | AE26: =IF(W26>0,IF(AA26=W26,IF(AB26=X26,0,IF(AB26>X26,AB26-X26,12+AB26-X26)),IF(AA26>W26,IF(AB26>X26,AB26-X26,IF(AB26=X26,0,12+AB26-X26)),IF(AA26<W26,IF(AB26>X26,AB26-X26-1,IF(AB26=X26,0,12+AB26-X26-1))))),0) -> 0 | AF26: =IF(W26>0,IF(AND(W26=AA26,X26=AB26),AC26-Y26,IF(AND(W26>=AA26,X26>AB26),AC26-Y26-1,IF(AND(W26<AA26,X26>AB26),AC26-Y26-1,IF(AND(W26<AA26,X26<AB26),AC26-Y26,AC26-Y26)))),0) -> 0 | AG26: =ROUND((AD26+(AE26*$AI$21)+(AF26*365)),0) -> 0
A27: 19 | C27: โปรดเลือก | D27: =VLOOKUP($C27,$R$9:$V$16,2,0) -> 0 | E27: =VLOOKUP($C27,$R$9:$V$16,3,0) -> 0 | F27: =VLOOKUP($C27,$R$9:$V$16,4,0) -> 0 | G27: =VLOOKUP($C27,$R$9:$V$16,5,0) -> 0 | H27: =+E27-D27 -> 0 | I27: =+H27/30 -> 0 | J27: =+G27-F27 -> 0 | K27: =J27/30 -> 0 | M27: 30/09/2569 | N27: =AG27 -> 0 | O27: =N27*I27 -> 0 | P27: =K27*N27 -> 0 | W27: =IFERROR(VALUE(LEFT(L27,2)),0) -> 0 | X27: =IFERROR(VALUE(MID(L27,4,2)),0) -> 0 | Y27: =IFERROR(VALUE(RIGHT(L27,4)),0) -> 0 | Z27: {=IFERROR(VLOOKUP(AB-1,$AH$9:$AI$20,2,0),0)} -> 0 | AA27: =IFERROR(VALUE(LEFT(M27,2)),0) -> 30 | AB27: =IFERROR(VALUE(MID(M27,4,2)),0) -> 9 | AC27: =IFERROR(VALUE(RIGHT(M27,4)),0) -> 2569 | AD27: =IF(W27>0,IF(AA27<W27,Z27-W27+AA27,AA27-W27),0) -> 0 | AE27: =IF(W27>0,IF(AA27=W27,IF(AB27=X27,0,IF(AB27>X27,AB27-X27,12+AB27-X27)),IF(AA27>W27,IF(AB27>X27,AB27-X27,IF(AB27=X27,0,12+AB27-X27)),IF(AA27<W27,IF(AB27>X27,AB27-X27-1,IF(AB27=X27,0,12+AB27-X27-1))))),0) -> 0 | AF27: =IF(W27>0,IF(AND(W27=AA27,X27=AB27),AC27-Y27,IF(AND(W27>=AA27,X27>AB27),AC27-Y27-1,IF(AND(W27<AA27,X27>AB27),AC27-Y27-1,IF(AND(W27<AA27,X27<AB27),AC27-Y27,AC27-Y27)))),0) -> 0 | AG27: =ROUND((AD27+(AE27*$AI$21)+(AF27*365)),0) -> 0
A28: 20 | C28: โปรดเลือก | D28: =VLOOKUP($C28,$R$9:$V$16,2,0) -> 0 | E28: =VLOOKUP($C28,$R$9:$V$16,3,0) -> 0 | F28: =VLOOKUP($C28,$R$9:$V$16,4,0) -> 0 | G28: =VLOOKUP($C28,$R$9:$V$16,5,0) -> 0 | H28: =+E28-D28 -> 0 | I28: =+H28/30 -> 0 | J28: =+G28-F28 -> 0 | K28: =J28/30 -> 0 | M28: 30/09/2569 | N28: =AG28 -> 0 | O28: =N28*I28 -> 0 | P28: =K28*N28 -> 0 | W28: =IFERROR(VALUE(LEFT(L28,2)),0) -> 0 | X28: =IFERROR(VALUE(MID(L28,4,2)),0) -> 0 | Y28: =IFERROR(VALUE(RIGHT(L28,4)),0) -> 0 | Z28: {=IFERROR(VLOOKUP(AB-1,$AH$9:$AI$20,2,0),0)} -> 0 | AA28: =IFERROR(VALUE(LEFT(M28,2)),0) -> 30 | AB28: =IFERROR(VALUE(MID(M28,4,2)),0) -> 9 | AC28: =IFERROR(VALUE(RIGHT(M28,4)),0) -> 2569 | AD28: =IF(W28>0,IF(AA28<W28,Z28-W28+AA28,AA28-W28),0) -> 0 | AE28: =IF(W28>0,IF(AA28=W28,IF(AB28=X28,0,IF(AB28>X28,AB28-X28,12+AB28-X28)),IF(AA28>W28,IF(AB28>X28,AB28-X28,IF(AB28=X28,0,12+AB28-X28)),IF(AA28<W28,IF(AB28>X28,AB28-X28-1,IF(AB28=X28,0,12+AB28-X28-1))))),0) -> 0 | AF28: =IF(W28>0,IF(AND(W28=AA28,X28=AB28),AC28-Y28,IF(AND(W28>=AA28,X28>AB28),AC28-Y28-1,IF(AND(W28<AA28,X28>AB28),AC28-Y28-1,IF(AND(W28<AA28,X28<AB28),AC28-Y28,AC28-Y28)))),0) -> 0 | AG28: =ROUND((AD28+(AE28*$AI$21)+(AF28*365)),0) -> 0
A29: 21 | C29: โปรดเลือก | D29: =VLOOKUP($C29,$R$9:$V$16,2,0) -> 0 | E29: =VLOOKUP($C29,$R$9:$V$16,3,0) -> 0 | F29: =VLOOKUP($C29,$R$9:$V$16,4,0) -> 0 | G29: =VLOOKUP($C29,$R$9:$V$16,5,0) -> 0 | H29: =+E29-D29 -> 0 | I29: =+H29/30 -> 0 | J29: =+G29-F29 -> 0 | K29: =J29/30 -> 0 | M29: 30/09/2569 | N29: =AG29 -> 0 | O29: =N29*I29 -> 0 | P29: =K29*N29 -> 0 | W29: =IFERROR(VALUE(LEFT(L29,2)),0) -> 0 | X29: =IFERROR(VALUE(MID(L29,4,2)),0) -> 0 | Y29: =IFERROR(VALUE(RIGHT(L29,4)),0) -> 0 | Z29: {=IFERROR(VLOOKUP(AB-1,$AH$9:$AI$20,2,0),0)} -> 0 | AA29: =IFERROR(VALUE(LEFT(M29,2)),0) -> 30 | AB29: =IFERROR(VALUE(MID(M29,4,2)),0) -> 9 | AC29: =IFERROR(VALUE(RIGHT(M29,4)),0) -> 2569 | AD29: =IF(W29>0,IF(AA29<W29,Z29-W29+AA29,AA29-W29),0) -> 0 | AE29: =IF(W29>0,IF(AA29=W29,IF(AB29=X29,0,IF(AB29>X29,AB29-X29,12+AB29-X29)),IF(AA29>W29,IF(AB29>X29,AB29-X29,IF(AB29=X29,0,12+AB29-X29)),IF(AA29<W29,IF(AB29>X29,AB29-X29-1,IF(AB29=X29,0,12+AB29-X29-1))))),0) -> 0 | AF29: =IF(W29>0,IF(AND(W29=AA29,X29=AB29),AC29-Y29,IF(AND(W29>=AA29,X29>AB29),AC29-Y29-1,IF(AND(W29<AA29,X29>AB29),AC29-Y29-1,IF(AND(W29<AA29,X29<AB29),AC29-Y29,AC29-Y29)))),0) -> 0 | AG29: =ROUND((AD29+(AE29*$AI$21)+(AF29*365)),0) -> 0
A30: 22 | C30: โปรดเลือก | D30: =VLOOKUP($C30,$R$9:$V$16,2,0) -> 0 | E30: =VLOOKUP($C30,$R$9:$V$16,3,0) -> 0 | F30: =VLOOKUP($C30,$R$9:$V$16,4,0) -> 0 | G30: =VLOOKUP($C30,$R$9:$V$16,5,0) -> 0 | H30: =+E30-D30 -> 0 | I30: =+H30/30 -> 0 | J30: =+G30-F30 -> 0 | K30: =J30/30 -> 0 | M30: 30/09/2569 | N30: =AG30 -> 0 | O30: =N30*I30 -> 0 | P30: =K30*N30 -> 0 | W30: =IFERROR(VALUE(LEFT(L30,2)),0) -> 0 | X30: =IFERROR(VALUE(MID(L30,4,2)),0) -> 0 | Y30: =IFERROR(VALUE(RIGHT(L30,4)),0) -> 0 | Z30: {=IFERROR(VLOOKUP(AB-1,$AH$9:$AI$20,2,0),0)} -> 0 | AA30: =IFERROR(VALUE(LEFT(M30,2)),0) -> 30 | AB30: =IFERROR(VALUE(MID(M30,4,2)),0) -> 9 | AC30: =IFERROR(VALUE(RIGHT(M30,4)),0) -> 2569 | AD30: =IF(W30>0,IF(AA30<W30,Z30-W30+AA30,AA30-W30),0) -> 0 | AE30: =IF(W30>0,IF(AA30=W30,IF(AB30=X30,0,IF(AB30>X30,AB30-X30,12+AB30-X30)),IF(AA30>W30,IF(AB30>X30,AB30-X30,IF(AB30=X30,0,12+AB30-X30)),IF(AA30<W30,IF(AB30>X30,AB30-X30-1,IF(AB30=X30,0,12+AB30-X30-1))))),0) -> 0 | AF30: =IF(W30>0,IF(AND(W30=AA30,X30=AB30),AC30-Y30,IF(AND(W30>=AA30,X30>AB30),AC30-Y30-1,IF(AND(W30<AA30,X30>AB30),AC30-Y30-1,IF(AND(W30<AA30,X30<AB30),AC30-Y30,AC30-Y30)))),0) -> 0 | AG30: =ROUND((AD30+(AE30*$AI$21)+(AF30*365)),0) -> 0
A31: 23 | C31: โปรดเลือก | D31: =VLOOKUP($C31,$R$9:$V$16,2,0) -> 0 | E31: =VLOOKUP($C31,$R$9:$V$16,3,0) -> 0 | F31: =VLOOKUP($C31,$R$9:$V$16,4,0) -> 0 | G31: =VLOOKUP($C31,$R$9:$V$16,5,0) -> 0 | H31: =+E31-D31 -> 0 | I31: =+H31/30 -> 0 | J31: =+G31-F31 -> 0 | K31: =J31/30 -> 0 | M31: 30/09/2569 | N31: =AG31 -> 0 | O31: =N31*I31 -> 0 | P31: =K31*N31 -> 0 | W31: =IFERROR(VALUE(LEFT(L31,2)),0) -> 0 | X31: =IFERROR(VALUE(MID(L31,4,2)),0) -> 0 | Y31: =IFERROR(VALUE(RIGHT(L31,4)),0) -> 0 | Z31: {=IFERROR(VLOOKUP(AB-1,$AH$9:$AI$20,2,0),0)} -> 0 | AA31: =IFERROR(VALUE(LEFT(M31,2)),0) -> 30 | AB31: =IFERROR(VALUE(MID(M31,4,2)),0) -> 9 | AC31: =IFERROR(VALUE(RIGHT(M31,4)),0) -> 2569 | AD31: =IF(W31>0,IF(AA31<W31,Z31-W31+AA31,AA31-W31),0) -> 0 | AE31: =IF(W31>0,IF(AA31=W31,IF(AB31=X31,0,IF(AB31>X31,AB31-X31,12+AB31-X31)),IF(AA31>W31,IF(AB31>X31,AB31-X31,IF(AB31=X31,0,12+AB31-X31)),IF(AA31<W31,IF(AB31>X31,AB31-X31-1,IF(AB31=X31,0,12+AB31-X31-1))))),0) -> 0 | AF31: =IF(W31>0,IF(AND(W31=AA31,X31=AB31),AC31-Y31,IF(AND(W31>=AA31,X31>AB31),AC31-Y31-1,IF(AND(W31<AA31,X31>AB31),AC31-Y31-1,IF(AND(W31<AA31,X31<AB31),AC31-Y31,AC31-Y31)))),0) -> 0 | AG31: =ROUND((AD31+(AE31*$AI$21)+(AF31*365)),0) -> 0
A32: 24 | C32: โปรดเลือก | D32: =VLOOKUP($C32,$R$9:$V$16,2,0) -> 0 | E32: =VLOOKUP($C32,$R$9:$V$16,3,0) -> 0 | F32: =VLOOKUP($C32,$R$9:$V$16,4,0) -> 0 | G32: =VLOOKUP($C32,$R$9:$V$16,5,0) -> 0 | H32: =+E32-D32 -> 0 | I32: =+H32/30 -> 0 | J32: =+G32-F32 -> 0 | K32: =J32/30 -> 0 | M32: 30/09/2569 | N32: =AG32 -> 0 | O32: =N32*I32 -> 0 | P32: =K32*N32 -> 0 | W32: =IFERROR(VALUE(LEFT(L32,2)),0) -> 0 | X32: =IFERROR(VALUE(MID(L32,4,2)),0) -> 0 | Y32: =IFERROR(VALUE(RIGHT(L32,4)),0) -> 0 | Z32: {=IFERROR(VLOOKUP(AB-1,$AH$9:$AI$20,2,0),0)} -> 0 | AA32: =IFERROR(VALUE(LEFT(M32,2)),0) -> 30 | AB32: =IFERROR(VALUE(MID(M32,4,2)),0) -> 9 | AC32: =IFERROR(VALUE(RIGHT(M32,4)),0) -> 2569 | AD32: =IF(W32>0,IF(AA32<W32,Z32-W32+AA32,AA32-W32),0) -> 0 | AE32: =IF(W32>0,IF(AA32=W32,IF(AB32=X32,0,IF(AB32>X32,AB32-X32,12+AB32-X32)),IF(AA32>W32,IF(AB32>X32,AB32-X32,IF(AB32=X32,0,12+AB32-X32)),IF(AA32<W32,IF(AB32>X32,AB32-X32-1,IF(AB32=X32,0,12+AB32-X32-1))))),0) -> 0 | AF32: =IF(W32>0,IF(AND(W32=AA32,X32=AB32),AC32-Y32,IF(AND(W32>=AA32,X32>AB32),AC32-Y32-1,IF(AND(W32<AA32,X32>AB32),AC32-Y32-1,IF(AND(W32<AA32,X32<AB32),AC32-Y32,AC32-Y32)))),0) -> 0 | AG32: =ROUND((AD32+(AE32*$AI$21)+(AF32*365)),0) -> 0
A33: 25 | C33: โปรดเลือก | D33: =VLOOKUP($C33,$R$9:$V$16,2,0) -> 0 | E33: =VLOOKUP($C33,$R$9:$V$16,3,0) -> 0 | F33: =VLOOKUP($C33,$R$9:$V$16,4,0) -> 0 | G33: =VLOOKUP($C33,$R$9:$V$16,5,0) -> 0 | H33: =+E33-D33 -> 0 | I33: =+H33/30 -> 0 | J33: =+G33-F33 -> 0 | K33: =J33/30 -> 0 | M33: 30/09/2569 | N33: =AG33 -> 0 | O33: =N33*I33 -> 0 | P33: =K33*N33 -> 0 | W33: =IFERROR(VALUE(LEFT(L33,2)),0) -> 0 | X33: =IFERROR(VALUE(MID(L33,4,2)),0) -> 0 | Y33: =IFERROR(VALUE(RIGHT(L33,4)),0) -> 0 | Z33: {=IFERROR(VLOOKUP(AB-1,$AH$9:$AI$20,2,0),0)} -> 0 | AA33: =IFERROR(VALUE(LEFT(M33,2)),0) -> 30 | AB33: =IFERROR(VALUE(MID(M33,4,2)),0) -> 9 | AC33: =IFERROR(VALUE(RIGHT(M33,4)),0) -> 2569 | AD33: =IF(W33>0,IF(AA33<W33,Z33-W33+AA33,AA33-W33),0) -> 0 | AE33: =IF(W33>0,IF(AA33=W33,IF(AB33=X33,0,IF(AB33>X33,AB33-X33,12+AB33-X33)),IF(AA33>W33,IF(AB33>X33,AB33-X33,IF(AB33=X33,0,12+AB33-X33)),IF(AA33<W33,IF(AB33>X33,AB33-X33-1,IF(AB33=X33,0,12+AB33-X33-1))))),0) -> 0 | AF33: =IF(W33>0,IF(AND(W33=AA33,X33=AB33),AC33-Y33,IF(AND(W33>=AA33,X33>AB33),AC33-Y33-1,IF(AND(W33<AA33,X33>AB33),AC33-Y33-1,IF(AND(W33<AA33,X33<AB33),AC33-Y33,AC33-Y33)))),0) -> 0 | AG33: =ROUND((AD33+(AE33*$AI$21)+(AF33*365)),0) -> 0
... A1008: 1000 | C1008: โปรดเลือก | D1008: =VLOOKUP($C1008,$R$9:$V$16,2,0) -> 0 | E1008: =VLOOKUP($C1008,$R$9:$V$16,3,0) -> 0 | F1008: =VLOOKUP($C1008,$R$9:$V$16,4,0) -> 0 | G1008: =VLOOKUP($C1008,$R$9:$V$16,5,0) -> 0 | H1008: =+E1008-D1008 -> 0 | I1008: =+H1008/30 -> 0 | J1008: =+G1008-F1008 -> 0 | K1008: =J1008/30 -> 0 | M1008: 30/09/2569 | N1008: =AG1008 -> 0 | O1008: =N1008*I1008 -> 0 | P1008: =K1008*N1008 -> 0 | W1008: =IFERROR(VALUE(LEFT(L1008,2)),0) -> 0 | X1008: =IFERROR(VALUE(MID(L1008,4,2)),0) -> 0 | Y1008: =IFERROR(VALUE(RIGHT(L1008,4)),0) -> 0 | Z1008: {=IFERROR(VLOOKUP(AB-1,$AH$9:$AI$20,2,0),0)} -> 0 | AA1008: =IFERROR(VALUE(LEFT(M1008,2)),0) -> 30 | AB1008: =IFERROR(VALUE(MID(M1008,4,2)),0) -> 9 | AC1008: =IFERROR(VALUE(RIGHT(M1008,4)),0) -> 2569 | AD1008: =IF(W1008>0,IF(AA1008<W1008,Z1008-W1008+AA1008,AA1008-W1008),0) -> 0 | AE1008: =IF(W1008>0,IF(AA1008=W1008,IF(AB1008=X1008,0,IF(AB1008>X1008,AB1008-X1008,12+AB1008-X1008)),IF(AA1008>W1008,IF(AB1008>X1008,AB1008-X1008,IF(AB1008=X1008,0,12+AB1008-X1008)),IF(AA1008<W1008,IF(AB1008>X1008,AB1008-X1008-1,IF(AB1008=X1008,0,12+AB1008-X1008-1))))),0) -> 0 | AF1008: =IF(W1008>0,IF(AND(W1008=AA1008,X1008=AB1008),AC1008-Y1008,IF(AND(W1008>=AA1008,X1008>AB1008),AC1008-Y1008-1,IF(AND(W1008<AA1008,X1008>AB1008),AC1008-Y1008-1,IF(AND(W1008<AA1008,X1008<AB1008),AC1008-Y1008,AC1008-Y1008)))),0) -> 0 | AG1008: =ROUND((AD1008+(AE1008*$AI$21)+(AF1008*365)),0) -> 0
A1009: รวมทั้งสิ้น | O1009: =SUM(O9:O1008) -> 0 | P1009: =SUM(P9:P1008) -> 0

Sheet อธิบาย บน.
A1: คำอธิบายแบบฟอร์มคำนวณบำเหน็จบำนาญ รายการ : เงินอุดหนุนสำหรับสนับสนุนศูนย์พัฒนาเด็กเล็ก (บำเหน็จ บำนาญ)
A2: คอลัมน์ | B2: รายการ | M2: กรอกข้อมูล | N2: ไม่ต้องกรอก (คำนวณอัตโนมัติ)
A3: (A) | B3: ลำดับ
A4: (B) | B4: สถานะการเป็นสมาชิกกองทุนบำเหน็จบำนาญข้าราชการ (กบข.) : ต้องเลือกสถานะการเป็นสมาชิก หรือ ไม่เป็นสมาชิก กบข. | M4: ü
A5: (C) | B5: ชื่อ - นามสกุล : ใส่คำนำหน้านามแบบเต็ม (นาย/นาง/นางสาว) และต่อด้วยชื่อ และเว้นหนึ่งวรรคตามด้วยนามสกุล | M5: ü
A6: (E) | B6: เลขที่ตำแหน่ง : เป็นตัวเลขเท่านั้น ไม่ต้องใส่เครื่องหมายขีด (-) | M6: ü
A7: (D) | B7: วัน/เดือน/ปีเกิด : ใส่วันที่ในรูปแบบ วัน/เดือน/ปี พ.ศ. เช่น 14/02/2510 หรือ 01/05/2520 | M7: ü
A8: (F) | B8: วัน/เดือน/ปีที่บรรจุ : ใส่วันที่ในรูปแบบ วัน/เดือน/ปี พ.ศ. เช่น 15/01/2535 หรือ 08/12/2540 | M8: ü
A9: (G) | B9: วัน/เดือน/ปี ที่เกษียณ หรือวัน/เดือน/ปี ที่เสียชีวิตตามใบมรณะบัตร (กรณี ขรก. เสียชีวิตในระหว่างดำรงตำแหน่ง) | M9: ü
A10: (H) | B10: อายุราชการ (ปี) | N10: ü
A11: (I) | B11: อายุราชการ ทวีคูณ (ปี) : เช่น วันทวีคูณ 120 วัน ให้คิดโดย 120 วัน / 365 วัน = 0.32 ปี | M11: ü
A12: (J) | B12: กรณีรายเดิม เงินบำนาญรายเดือน (ไม่รวม ชคบ.) : กรอกข้อมูลเงินรายเดือนของผู้รับบำนาญรายเดิม | M12: ü
A13: (K) | B13: กรณีรายใหม่ เงินเดือน ณ 1 ต.ค. 68 (ที่เลื่อนขั้นแล้ว)/ เงินเดือนเฉลี่ย 60 เดือนสุดท้าย/ เงินเดือนเดือนล่าสุด : - กรณีเกษียณรายใหม่ ที่ไม่เป็นสมาชิก กบข. : กรอกเงินเดือน ณ 1 ต.ค. 2568 ที่ประมาณการเลื่อนขั้นทั้งปีงบประมาณ 2569 แล้ว โดยไม่รวม ชคบ. - กรณีเกษียณรายใหม่ ที่เป็นสมาชิก กบข. : กรอกเงินเดือนเฉลี่ย 60 เดือนสุดท้าย - กรณีเสียชีวิต : เพื่อรับบำเหน็จตกทอด กรอกเงินเดือนเดือนล่าสุด | M13: ü
A14: (L) | B14: เงินเพิ่มพิเศษสำหรับการสู้รบ (พ.ส.ร.) (ถ้ามี) | M14: ü
A15: (M) | B15: รวม = K + L | N15: ü
A16: (N) | B16: รวมบำนาญพึงได้รับ (รายเดือน) : = M x อายุราชการ (ปี) (H) / 50 | N16: ü
A17: (O) | B17: เงิน ชคบ. : คือ เงินช่วยค่าครองชีพผู้รับเบี้ยหวัดบำนาญ (ชคบ.) กรอกเป็นรายเดือน ที่รวมจาก ชคบ. ฉบับ 1-18 | M17: ü
A18: (P) | B18: เงินบำเหน็จ : กรณีผู้เกษียณเลือกรับบำเหน็จโดยไม่รับเงินบำนาญ = M x อายุราชการ (ปี) (H) | M18: ü
A19: (Q - U) | B19: บำเหน็จดำรงชีพ
A20: (Q) | B20: บำเหน็จดำรงชีพที่คาดจะได้รับตามสิทธิ : = เงินบำนาญรายเดือน ที่ไม่รวม ชคบ. (J หรือ N) x 15 ซึ่งไม่เกิน 500,000 บาท | N20: ü
A21: (R) | B21: บำเหน็จดำรงชีพที่เคยได้รับ : จำนวนเงินที่ผู้มีสิทธิ์เคยได้รับเงินบำเหน็จดำรงชีพ หากไม่เคยได้รับให้ใส่ "0" | M21: ü
A22: (S) | B22: บำเหน็จดำรงชีพที่จะขอก่อนอายุ 65 ปี | J22: เลือกกรอกจำนวนเงิน ช่องใดช่องหนึ่ง | M22: ü
A23: (T) | B23: บำเหน็จดำรงชีพที่จะขออายุครบ 65 ปี | M23: ü
A24: (U) | B24: บำเหน็จดำรงชีพที่จะขอตอนอายุครบ 70 ปี | M24: ü
A25: (V) | B25: วัน/เดือน/ปี ที่เสียชีวิต ตามใบมรณะบัตร (กรอกเฉพาะรายที่เสียชีวิตเท่านั้น) : ใส่วันที่ในรูปแบบ วัน/เดือน/ปี พ.ศ. เช่น 05/10/2565 หรือ 01/12/2565 โดยกรอกข้อมูลเฉพาะรายที่เสียชีวิตและมีคำขอบำเหน็จตกทอดและเงินช่วยพิเศษกรณีเสียชีวิต เท่านั้น | M25: ü
A26: (W) | B26: บำเหน็จตกทอด : - กรณี ขรก. เสียชีวิตในตำแหน่ง : = เงินเดือนเดือนสุดท้าย x อายุราชการ - กรณีผู้รับบำนาญเสียชีวิต : = เงินบำนาญรายเดือน + ชคบ. (ถ้ามี) x 30 - บำเหน็จดำรงชีพที่รับไปแล้ว | M26: ü
A27: (X) | B27: เงินช่วยพิเศษกรณีเสียชีวิต - กรณี ขรก. เสียชีวิตในตำแหน่ง : = เงินเดือนเดือนสุดท้าย x 3 - กรณีผู้รับบำนาญเสียชีวิต : = เงินบำนาญรายเดือน + ช.ค.บ. (ถ้ามี) x 3 | M27: ü
A28: (Y) | B28: รวมบำเหน็จบำนาญทั้งสิ้น | N28: ü
A29: (Z - AI) | B29: ค่าการศึกษาบุตร (บุตรคนที่ 1 - 3) | M29: ü
A30: (Z, AC, AF) | B30: ประเภทสถานศึกษา : กดเลือกว่าเป็นสถานศึกษาของทางราชการ สถานศึกษาเอกชนที่รับเงินอุดหนุน หรือสถานศึกษาเอกชน ที่ไม่รับเงินอุดหนุน | M30: ü
A31: (AA, AD, AG) | B31: ระดับชั้น : กดเลือกว่าเป็นอนุบาล ประถมศึกษา มัธยมต้น มัธยมปลาย ปวช. ปวส./อนุปริญญา หรือปริญญาตรี หากบุตรเลื่อนชั้นระหว่างปีงบประมาณ เช่น จาก ม.ต้น ไป ม.ปลาย ให้คลิกเลือกระดับสูงกว่า | M31: ü
A32: (AB, AE, AH) | B32: จำนวนเงิน : กรอกยอดรวมของค่าการศึกษาบุตรตามที่จ่ายจริงต่อปีต่อบุตรหนึ่งคน | M32: ü
A33: (AI) | B33: รวมค่าการศึกษาบุตร | M33: ü

Sheet คำนวณบำเหน็จบำนาญ
A1: แบบฟอร์มประกอบคำของบประมาณรายจ่ายประจำปีงบประมาณ พ.ศ. 2570
A2: เงินอุดหนุนทั่วไป
A3: ค่าบำเหน็จ บำนาญ
A4: รายการ : เงินอุดหนุนสำหรับสนับสนุนศูนย์พัฒนาเด็กเล็ก (บำเหน็จ บำนาญ)
R5: ประมาณการคำของบประมาณ (บำเหน็จ บำนาญ) | T5: =AJ11 -> 0 | U5: บาท
A6: หน่วยรับงบประมาณ : ...............................
J7: กรุณาเลือกกรอกกรณีรายเดิม หรือ รายใหม่ เท่านั้น
A8: ข้อมูลส่วนตัว | J8: กรณีรายเดิม | K8: กรณีรายใหม่ | P8: บำเหน็จ | Q8: บำเหน็จดำรงชีพ | V8: วัน/เดือน/ปี ที่เสียชีวิต ตามใบมรณะบัตร (กรอกเฉพาะราย ที่เสียชีวิตเท่านั้น) (V) | W8: บำเหน็จตกทอด ขรก.เสียชีวิตในตำแหน่ง : = เงินเดือน (คอลัมน์ M) x อายุราชการ (คอลัมน์ H) หรือ ขรก.บำนาญเสียชีวิต : = บำนาญ (คอลัมน์ J) + ชคบ. (ถ้ามี) x 30 - บำเหน็จดำรงชีพที่รับแล้ว (W) | X8: เงินช่วยพิเศษ กรณีเสียชีวิต ขรก. เสียชีวิตในตำแหน่ง : = เงินเดือน x 3 หรือ ขรก.บำนาญเสียชีวิต : = เงินบำนาญรายเดือน + ช.ค.บ. (ถ้ามี) x 3 (X) | Z8: ค่าการศึกษาบุตรคนที่ 1 (รวมยอด) | AC8: ค่าการศึกษาบุตรคนที่ 2 (รวมยอด) | AF8: ค่าการศึกษาบุตรคนที่ 3 (รวมยอด) | AI8: รวมค่า การศึกษาบุตร (AB + AE + AH) (AI) | AJ8: รวมทั้งสิ้น (หนึ่งปีงบประมาณ) (Y + AI) (AJ)
A9: ลำดับ (A) | B9: สถานะการเป็นสมาชิก กองทุนบำเหน็จบำนาญ ข้าราชการ (กบข.) (B) | C9: ชื่อ - นามสกุล (C) | D9: วัน/เดือน/ปีเกิด (D) | E9: เลขที่ตำแหน่ง (ถ้ามี) (E) | F9: วัน/เดือน/ปี ที่บรรจุ (F) | G9: วัน/เดือน/ปี ที่เกษียณ หรือ วัน/เดือน/ปี ที่เสียชีวิต (กรณี ขรก. เสียชีวิตในระหว่างดำรงตำแหน่ง) (G) | H9: อายุราชการ (ปี) (G - F + I) (H) | I9: อายุราชการ ทวีคูณ (ปี) (ถ้ามี) (I) | J9: เงินบำนาญรายเดือน (ไม่รวม ชคบ.) (J) | K9: - กรณีเกษียณที่ไม่เป็นสมาชิก กบข. : กรอกเงินเดือน ณ 1 ต.ค. 2568 ที่ประมาณการเลื่อนขั้นทั้งปีงบประมาณ 2569 แล้ว โดยไม่รวม ชคบ. - กรณีเกษียณที่เป็นสมาชิก กบข. : กรอกเงินเดือนเฉลี่ย 60 เดือนสุดท้าย - กรณีเสียชีวิต : เพื่อรับบำเหน็จตกทอด กรอกเงินเดือนเดือนล่าสุด | N9: รวมบำนาญพึงได้รับ (รายเดือน) (M x H / 50) (N) | O9: เงิน ชคบ. (ฉ.1-18) (รวมรายเดือน) (O) | P9: กรณีผู้เกษียณ เลือกรับบำเหน็จ โดยไม่รับเงินบำนาญ (ถ้ามี) (M x H) (P) | Q9: บำเหน็จดำรงชีพ ที่คาดจะได้รับตามสิทธิ (J หรือ N x 15) (Q) | R9: บำเหน็จดำรงชีพ ที่เคยได้รับ (ถ้ามี) กรณีที่ไม่เคยได้รับ ให้ใส่ "0" (R) | S9: บำเหน็จดำรงชีพ ที่จะขอก่อนอายุ 65 ปี (S) | T9: บำเหน็จดำรงชีพ ที่จะขออายุครบ 65 ปี (T) | U9: บำเหน็จดำรงชีพ ที่จะขออายุครบ 70 ปี (U) | Y9: รวมบำเหน็จบำนาญ ทั้งสิ้น (Y) | Z9: ประเภทสถานศึกษา 1 (Z) | AA9: ระดับชั้น 1 (AA) | AB9: จำนวนเงิน 1 (AB) | AC9: ประเภทสถานศึกษา 2 (AC) | AD9: ระดับชั้น 2 (AD) | AE9: จำนวนเงิน 2 (AE) | AF9: ประเภทสถานศึกษา 3 (AF) | AG9: ระดับชั้น 3 (AG) | AH9: จำนวนเงิน 3 (AH) | AT9: วัน | AU9: เดือน | AV9: ปี | AX9: เดือน กรณีวันเท่า | AY9: เดือน กรณีstart > | AZ9: เดือน กรณีstart <
K10: เงินเดือน ณ 1 ต.ค. 68 (ที่เลื่อนขั้นแล้ว)/ เงินเดือนเฉลี่ย 60 เดือนสุดท้าย/เงินเดือนเดือนล่าสุด (K) | L10: เงินเพิ่มพิเศษ สำหรับการสู้รบ (พ.ส.ร.) (ถ้ามี) (L) | M10: รวม (K + L) (M) | S10: ใส่เพียงช่องใดช่องหนึ่งที่จะของบในปีนั้นๆ | AS10: =IF(AND(AQ12=AU12,AR12=AV12),AW12-AS12,IF(AND(AQ12>=AU12,AR12>AV12),AW12-AS12-1,IF(AND(AQ12<AU12,AR12>AV12),AW12-AS12-1,IF(AND(AQ12<AU12,AR12<AV12),AW12-AS12,AW12-AS12)))) -> 0 | AT10: =IF(B12="เป็นสมาชิก กบข. ",DATEDIF(VALUE(F12),VALUE(G12),"md"),0) -> 0 | AU10: =DATEDIF(VALUE(F12),VALUE(G12),"ym") -> 0 | AV10: =DATEDIF(VALUE(F12),VALUE(G12),"Y") -> 0 | AX10: =IF(AU12=AQ12,IF(AV12=AR12,0,IF(AV12>AR12,AV12-AR12,12+AV12-AR12))) -> 0 | AY10: =IF(AU12>AQ12,IF(AV12>AR12,AV12-AR12,IF(AV12=AR12,0,12+AV12-AR12))) -> FALSE | AZ10: =IF(AU12<AQ12,IF(AV12>AR12,AV12-AR12-1,IF(AV12=AR12,0,12+AV12-AR12-1))) -> FALSE
B11: รวมทั้งสิ้น | J11: =SUM(J12:J1011) -> 0 | K11: =SUM(K12:K1011) -> 0 | L11: =SUM(L12:L1011) -> 0 | M11: =SUM(M12:M1011) -> 0 | N11: =SUM(N12:N1011) -> 0 | O11: =SUM(O12:O1011) -> 0 | P11: =SUM(P12:P1011) -> 0 | Q11: =SUM(Q12:Q1011) -> 0 | ... U11: =SUM(U12:U1011) -> 0 | W11: =SUM(W12:W1011) -> 0 | X11: =SUM(X12:X1011) -> 0 | Y11: =SUM(Y12:Y1011) -> 0 | AI11: =SUM(AI12:AI1011) -> 0 | AJ11: =Y11+AI11 -> 0 | AQ11: วัน | AR11: เดือน | AS11: ปี | AT11: จำนวนวัน | AU11: วัน | AV11: เดือน | AW11: ปี
A12: 1 | B12: โปรดเลือก | H12: =IFERROR(IF(B12="โปรดเลือก",0,IF(B12="ไม่เป็นสมาชิก กบข.",ROUND((DATEDIF(F12,G12,"Y")+DATEDIF(F12,G12,"Ym")/12)+I12,0),AN12)),0) -> 0 | M12: =L12+K12 -> 0 | N12: =IFERROR(IF(P12<>0,0,IF(B12="โปรดเลือก ","",(IF(B12="ไม่เป็นสมาชิก กบข.",M12*H12/50,IF(B12="เป็นสมาชิก กบข. ",(IF(M12*H12/50>0.7*M12,0.7*M12,M12*H12/50))))))),0) | Q12: =IF(AP12<500000,AP12,500000) -> 0 | Y12: =IF(B12="โปรดเลือก ",0,IF(P12<>0,P12,IF(W12>0,W12+X12,(J12+N12)*12+O12*12+P12+S12+T12+U12))) -> 0 | Z12: โปรดเลือก | AA12: โปรดเลือก | AC12: โปรดเลือก | AD12: โปรดเลือก | AF12: โปรดเลือก | AG12: โปรดเลือก | AI12: =AB12+AE12+AH12 -> 0 | AJ12: =Y12+AI12 -> 0 | AK12: =IF(AU12<AQ12,AT12-AQ12+AU12,AU12-AQ12) -> 0 | AL12: =IF(AU12=AQ12,IF(AV12=AR12,0,IF(AV12>AR12,AV12-AR12,12+AV12-AR12)),IF(AU12>AQ12,IF(AV12>AR12,AV12-AR12,IF(AV12=AR12,0,12+AV12-AR12)),IF(AU12<AQ12,IF(AV12>AR12,AV12-AR12-1,IF(AV12=AR12,0,12+AV12-AR12-1))))) -> 0 | AM12: =IF(AND(AQ12=AU12,AR12=AV12),AW12-AS12,IF(AND(AQ12>=AU12,AR12>AV12),AW12-AS12-1,IF(AND(AQ12<AU12,AR12>AV12),AW12-AS12-1,IF(AND(AQ12<AU12,AR12<AV12),AW12-AS12,AW12-AS12)))) -> 0 | AN12: =IF(B12="โปรดเลือก",0,IF(B12="เป็นสมาชิก กบข. ",(AK12/365)+(AL12/12)+AM12+I12,ROUND((AK12/365)+(AL12/12)+AM12,0))) -> 0 | AO12: =IFERROR(VALUE(MID(AA12,4,2)),0) -> 0 | AP12: =IFERROR(IF(AND(J12<>0,N12=0),J12*15,IF(AND(J12=0,N12<>0),N12*15,0)),0) -> 0 | AQ12: =IFERROR(VALUE(LEFT(F12,2)),0) -> 0 | AR12: =IFERROR(VALUE(MID(F12,4,2)),0) -> 0 | AS12: =IFERROR(VALUE(RIGHT(F12,4)),0) -> 0 | AT12: =IFERROR(VLOOKUP(AV12-1,$AY$12:$AZ$23,2,0),0) -> 0 | AU12: =IFERROR(VALUE(LEFT(G12,2)),0) -> 0 | AV12: =IFERROR(VALUE(MID(G12,4,2)),0) -> 0 | AW12: =IFERROR(VALUE(RIGHT(G12,4)),0) -> 0 | AY12: 1 | AZ12: 31
A13: 2 | B13: โปรดเลือก | H13: =IFERROR(IF(B13="โปรดเลือก",0,IF(B13="ไม่เป็นสมาชิก กบข.",ROUND((DATEDIF(F13,G13,"Y")+DATEDIF(F13,G13,"Ym")/12)+I13,0),AN13)),0) -> 0 | M13: =L13+K13 -> 0 | N13: =IFERROR(IF(P13<>0,0,IF(B13="โปรดเลือก ","",(IF(B13="ไม่เป็นสมาชิก กบข.",M13*H13/50,IF(B13="เป็นสมาชิก กบข. ",(IF(M13*H13/50>0.7*M13,0.7*M13,M13*H13/50))))))),0) | Q13: =IF(AP13<500000,AP13,500000) -> 0 | Y13: =IF(B13="โปรดเลือก ",0,IF(P13<>0,P13,IF(W13>0,W13+X13,(J13+N13)*12+O13*12+P13+S13+T13+U13))) -> 0 | Z13: โปรดเลือก | AA13: โปรดเลือก | AC13: โปรดเลือก | AD13: โปรดเลือก | AF13: โปรดเลือก | AG13: โปรดเลือก | AI13: =AB13+AE13+AH13 -> 0 | AJ13: =Y13+AI13 -> 0 | AK13: =IF(AU13<AQ13,AT13-AQ13+AU13,AU13-AQ13) -> 0 | AL13: =IF(AU13=AQ13,IF(AV13=AR13,0,IF(AV13>AR13,AV13-AR13,12+AV13-AR13)),IF(AU13>AQ13,IF(AV13>AR13,AV13-AR13,IF(AV13=AR13,0,12+AV13-AR13)),IF(AU13<AQ13,IF(AV13>AR13,AV13-AR13-1,IF(AV13=AR13,0,12+AV13-AR13-1))))) -> 0 | AM13: =IF(AND(AQ13=AU13,AR13=AV13),AW13-AS13,IF(AND(AQ13>=AU13,AR13>AV13),AW13-AS13-1,IF(AND(AQ13<AU13,AR13>AV13),AW13-AS13-1,IF(AND(AQ13<AU13,AR13<AV13),AW13-AS13,AW13-AS13)))) -> 0 | AN13: =IF(B13="โปรดเลือก",0,IF(B13="เป็นสมาชิก กบข. ",(AK13/365)+(AL13/12)+AM13+I13,ROUND((AK13/365)+(AL13/12)+AM13,0))) -> 0 | AP13: =IFERROR(IF(AND(J13<>0,N13=0),J13*15,IF(AND(J13=0,N13<>0),N13*15,0)),0) -> 0 | AQ13: =IFERROR(VALUE(LEFT(F13,2)),0) -> 0 | AR13: =IFERROR(VALUE(MID(F13,4,2)),0) -> 0 | AS13: =IFERROR(VALUE(RIGHT(F13,4)),0) -> 0 | AT13: =IFERROR(VLOOKUP(AV13-1,$AY$12:$AZ$23,2,0),0) -> 0 | AU13: =IFERROR(VALUE(LEFT(G13,2)),0) -> 0 | AV13: =IFERROR(VALUE(MID(G13,4,2)),0) -> 0 | AW13: =IFERROR(VALUE(RIGHT(G13,4)),0) -> 0 | AY13: 2 | AZ13: 28
A14: 3 | B14: โปรดเลือก | H14: =IFERROR(IF(B14="โปรดเลือก",0,IF(B14="ไม่เป็นสมาชิก กบข.",ROUND((DATEDIF(F14,G14,"Y")+DATEDIF(F14,G14,"Ym")/12)+I14,0),AN14)),0) -> 0 | M14: =L14+K14 -> 0 | N14: =IFERROR(IF(P14<>0,0,IF(B14="โปรดเลือก ","",(IF(B14="ไม่เป็นสมาชิก กบข.",M14*H14/50,IF(B14="เป็นสมาชิก กบข. ",(IF(M14*H14/50>0.7*M14,0.7*M14,M14*H14/50))))))),0) | Q14: =IF(AP14<500000,AP14,500000) -> 0 | Y14: =IF(B14="โปรดเลือก ",0,IF(P14<>0,P14,IF(W14>0,W14+X14,(J14+N14)*12+O14*12+P14+S14+T14+U14))) -> 0 | Z14: โปรดเลือก | AA14: โปรดเลือก | AC14: โปรดเลือก | AD14: โปรดเลือก | AF14: โปรดเลือก | AG14: โปรดเลือก | AI14: =AB14+AE14+AH14 -> 0 | AJ14: =Y14+AI14 -> 0 | AK14: =IF(AU14<AQ14,AT14-AQ14+AU14,AU14-AQ14) -> 0 | AL14: =IF(AU14=AQ14,IF(AV14=AR14,0,IF(AV14>AR14,AV14-AR14,12+AV14-AR14)),IF(AU14>AQ14,IF(AV14>AR14,AV14-AR14,IF(AV14=AR14,0,12+AV14-AR14)),IF(AU14<AQ14,IF(AV14>AR14,AV14-AR14-1,IF(AV14=AR14,0,12+AV14-AR14-1))))) -> 0 | AM14: =IF(AND(AQ14=AU14,AR14=AV14),AW14-AS14,IF(AND(AQ14>=AU14,AR14>AV14),AW14-AS14-1,IF(AND(AQ14<AU14,AR14>AV14),AW14-AS14-1,IF(AND(AQ14<AU14,AR14<AV14),AW14-AS14,AW14-AS14)))) -> 0 | AN14: =IF(B14="โปรดเลือก",0,IF(B14="เป็นสมาชิก กบข. ",(AK14/365)+(AL14/12)+AM14+I14,ROUND((AK14/365)+(AL14/12)+AM14,0))) -> 0 | AP14: =IFERROR(IF(AND(J14<>0,N14=0),J14*15,IF(AND(J14=0,N14<>0),N14*15,0)),0) -> 0 | AQ14: =IFERROR(VALUE(LEFT(F14,2)),0) -> 0 | AR14: =IFERROR(VALUE(MID(F14,4,2)),0) -> 0 | AS14: =IFERROR(VALUE(RIGHT(F14,4)),0) -> 0 | AT14: =IFERROR(VLOOKUP(AV14-1,$AY$12:$AZ$23,2,0),0) -> 0 | AU14: =IFERROR(VALUE(LEFT(G14,2)),0) -> 0 | AV14: =IFERROR(VALUE(MID(G14,4,2)),0) -> 0 | AW14: =IFERROR(VALUE(RIGHT(G14,4)),0) -> 0 | AY14: 3 | AZ14: 31
A15: 4 | B15: โปรดเลือก | H15: =IFERROR(IF(B15="โปรดเลือก",0,IF(B15="ไม่เป็นสมาชิก กบข.",ROUND((DATEDIF(F15,G15,"Y")+DATEDIF(F15,G15,"Ym")/12)+I15,0),AN15)),0) -> 0 | M15: =L15+K15 -> 0 | N15: =IFERROR(IF(P15<>0,0,IF(B15="โปรดเลือก ","",(IF(B15="ไม่เป็นสมาชิก กบข.",M15*H15/50,IF(B15="เป็นสมาชิก กบข. ",(IF(M15*H15/50>0.7*M15,0.7*M15,M15*H15/50))))))),0) | Q15: =IF(AP15<500000,AP15,500000) -> 0 | Y15: =IF(B15="โปรดเลือก ",0,IF(P15<>0,P15,IF(W15>0,W15+X15,(J15+N15)*12+O15*12+P15+S15+T15+U15))) -> 0 | Z15: โปรดเลือก | AA15: โปรดเลือก | AC15: โปรดเลือก | AD15: โปรดเลือก | AF15: โปรดเลือก | AG15: โปรดเลือก | AI15: =AB15+AE15+AH15 -> 0 | AJ15: =Y15+AI15 -> 0 | AK15: =IF(AU15<AQ15,AT15-AQ15+AU15,AU15-AQ15) -> 0 | AL15: =IF(AU15=AQ15,IF(AV15=AR15,0,IF(AV15>AR15,AV15-AR15,12+AV15-AR15)),IF(AU15>AQ15,IF(AV15>AR15,AV15-AR15,IF(AV15=AR15,0,12+AV15-AR15)),IF(AU15<AQ15,IF(AV15>AR15,AV15-AR15-1,IF(AV15=AR15,0,12+AV15-AR15-1))))) -> 0 | AM15: =IF(AND(AQ15=AU15,AR15=AV15),AW15-AS15,IF(AND(AQ15>=AU15,AR15>AV15),AW15-AS15-1,IF(AND(AQ15<AU15,AR15>AV15),AW15-AS15-1,IF(AND(AQ15<AU15,AR15<AV15),AW15-AS15,AW15-AS15)))) -> 0 | AN15: =IF(B15="โปรดเลือก",0,IF(B15="เป็นสมาชิก กบข. ",(AK15/365)+(AL15/12)+AM15+I15,ROUND((AK15/365)+(AL15/12)+AM15,0))) -> 0 | AP15: =IFERROR(IF(AND(J15<>0,N15=0),J15*15,IF(AND(J15=0,N15<>0),N15*15,0)),0) -> 0 | AQ15: =IFERROR(VALUE(LEFT(F15,2)),0) -> 0 | AR15: =IFERROR(VALUE(MID(F15,4,2)),0) -> 0 | AS15: =IFERROR(VALUE(RIGHT(F15,4)),0) -> 0 | AT15: =IFERROR(VLOOKUP(AV15-1,$AY$12:$AZ$23,2,0),0) -> 0 | AU15: =IFERROR(VALUE(LEFT(G15,2)),0) -> 0 | AV15: =IFERROR(VALUE(MID(G15,4,2)),0) -> 0 | AW15: =IFERROR(VALUE(RIGHT(G15,4)),0) -> 0 | AY15: 4 | AZ15: 30
A16: 5 | B16: โปรดเลือก | H16: =IFERROR(IF(B16="โปรดเลือก",0,IF(B16="ไม่เป็นสมาชิก กบข.",ROUND((DATEDIF(F16,G16,"Y")+DATEDIF(F16,G16,"Ym")/12)+I16,0),AN16)),0) -> 0 | M16: =L16+K16 -> 0 | N16: =IFERROR(IF(P16<>0,0,IF(B16="โปรดเลือก ","",(IF(B16="ไม่เป็นสมาชิก กบข.",M16*H16/50,IF(B16="เป็นสมาชิก กบข. ",(IF(M16*H16/50>0.7*M16,0.7*M16,M16*H16/50))))))),0) | Q16: =IF(AP16<500000,AP16,500000) -> 0 | Y16: =IF(B16="โปรดเลือก ",0,IF(P16<>0,P16,IF(W16>0,W16+X16,(J16+N16)*12+O16*12+P16+S16+T16+U16))) -> 0 | Z16: โปรดเลือก | AA16: โปรดเลือก | AC16: โปรดเลือก | AD16: โปรดเลือก | AF16: โปรดเลือก | AG16: โปรดเลือก | AI16: =AB16+AE16+AH16 -> 0 | AJ16: =Y16+AI16 -> 0 | AK16: =IF(AU16<AQ16,AT16-AQ16+AU16,AU16-AQ16) -> 0 | AL16: =IF(AU16=AQ16,IF(AV16=AR16,0,IF(AV16>AR16,AV16-AR16,12+AV16-AR16)),IF(AU16>AQ16,IF(AV16>AR16,AV16-AR16,IF(AV16=AR16,0,12+AV16-AR16)),IF(AU16<AQ16,IF(AV16>AR16,AV16-AR16-1,IF(AV16=AR16,0,12+AV16-AR16-1))))) -> 0 | AM16: =IF(AND(AQ16=AU16,AR16=AV16),AW16-AS16,IF(AND(AQ16>=AU16,AR16>AV16),AW16-AS16-1,IF(AND(AQ16<AU16,AR16>AV16),AW16-AS16-1,IF(AND(AQ16<AU16,AR16<AV16),AW16-AS16,AW16-AS16)))) -> 0 | AN16: =IF(B16="โปรดเลือก",0,IF(B16="เป็นสมาชิก กบข. ",(AK16/365)+(AL16/12)+AM16+I16,ROUND((AK16/365)+(AL16/12)+AM16,0))) -> 0 | AP16: =IFERROR(IF(AND(J16<>0,N16=0),J16*15,IF(AND(J16=0,N16<>0),N16*15,0)),0) -> 0 | AQ16: =IFERROR(VALUE(LEFT(F16,2)),0) -> 0 | AR16: =IFERROR(VALUE(MID(F16,4,2)),0) -> 0 | AS16: =IFERROR(VALUE(RIGHT(F16,4)),0) -> 0 | AT16: =IFERROR(VLOOKUP(AV16-1,$AY$12:$AZ$23,2,0),0) -> 0 | AU16: =IFERROR(VALUE(LEFT(G16,2)),0) -> 0 | AV16: =IFERROR(VALUE(MID(G16,4,2)),0) -> 0 | AW16: =IFERROR(VALUE(RIGHT(G16,4)),0) -> 0 | AY16: 5 | AZ16: 31
A17: 6 | B17: โปรดเลือก | H17: =IFERROR(IF(B17="โปรดเลือก",0,IF(B17="ไม่เป็นสมาชิก กบข.",ROUND((DATEDIF(F17,G17,"Y")+DATEDIF(F17,G17,"Ym")/12)+I17,0),AN17)),0) -> 0 | M17: =L17+K17 -> 0 | N17: =IFERROR(IF(P17<>0,0,IF(B17="โปรดเลือก ","",(IF(B17="ไม่เป็นสมาชิก กบข.",M17*H17/50,IF(B17="เป็นสมาชิก กบข. ",(IF(M17*H17/50>0.7*M17,0.7*M17,M17*H17/50))))))),0) | Q17: =IF(AP17<500000,AP17,500000) -> 0 | Y17: =IF(B17="โปรดเลือก ",0,IF(P17<>0,P17,IF(W17>0,W17+X17,(J17+N17)*12+O17*12+P17+S17+T17+U17))) -> 0 | Z17: โปรดเลือก | AA17: โปรดเลือก | AC17: โปรดเลือก | AD17: โปรดเลือก | AF17: โปรดเลือก | AG17: โปรดเลือก | AI17: =AB17+AE17+AH17 -> 0 | AJ17: =Y17+AI17 -> 0 | AK17: =IF(AU17<AQ17,AT17-AQ17+AU17,AU17-AQ17) -> 0 | AL17: =IF(AU17=AQ17,IF(AV17=AR17,0,IF(AV17>AR17,AV17-AR17,12+AV17-AR17)),IF(AU17>AQ17,IF(AV17>AR17,AV17-AR17,IF(AV17=AR17,0,12+AV17-AR17)),IF(AU17<AQ17,IF(AV17>AR17,AV17-AR17-1,IF(AV17=AR17,0,12+AV17-AR17-1))))) -> 0 | AM17: =IF(AND(AQ17=AU17,AR17=AV17),AW17-AS17,IF(AND(AQ17>=AU17,AR17>AV17),AW17-AS17-1,IF(AND(AQ17<AU17,AR17>AV17),AW17-AS17-1,IF(AND(AQ17<AU17,AR17<AV17),AW17-AS17,AW17-AS17)))) -> 0 | AN17: =IF(B17="โปรดเลือก",0,IF(B17="เป็นสมาชิก กบข. ",(AK17/365)+(AL17/12)+AM17+I17,ROUND((AK17/365)+(AL17/12)+AM17,0))) -> 0 | AP17: =IFERROR(IF(AND(J17<>0,N17=0),J17*15,IF(AND(J17=0,N17<>0),N17*15,0)),0) -> 0 | AQ17: =IFERROR(VALUE(LEFT(F17,2)),0) -> 0 | AR17: =IFERROR(VALUE(MID(F17,4,2)),0) -> 0 | AS17: =IFERROR(VALUE(RIGHT(F17,4)),0) -> 0 | AT17: =IFERROR(VLOOKUP(AV17-1,$AY$12:$AZ$23,2,0),0) -> 0 | AU17: =IFERROR(VALUE(LEFT(G17,2)),0) -> 0 | AV17: =IFERROR(VALUE(MID(G17,4,2)),0) -> 0 | AW17: =IFERROR(VALUE(RIGHT(G17,4)),0) -> 0 | AY17: 6 | AZ17: 30
A18: 7 | B18: โปรดเลือก | H18: =IFERROR(IF(B18="โปรดเลือก",0,IF(B18="ไม่เป็นสมาชิก กบข.",ROUND((DATEDIF(F18,G18,"Y")+DATEDIF(F18,G18,"Ym")/12)+I18,0),AN18)),0) -> 0 | M18: =L18+K18 -> 0 | N18: =IFERROR(IF(P18<>0,0,IF(B18="โปรดเลือก ","",(IF(B18="ไม่เป็นสมาชิก กบข.",M18*H18/50,IF(B18="เป็นสมาชิก กบข. ",(IF(M18*H18/50>0.7*M18,0.7*M18,M18*H18/50))))))),0) | Q18: =IF(AP18<500000,AP18,500000) -> 0 | Y18: =IF(B18="โปรดเลือก ",0,IF(P18<>0,P18,IF(W18>0,W18+X18,(J18+N18)*12+O18*12+P18+S18+T18+U18))) -> 0 | Z18: โปรดเลือก | AA18: โปรดเลือก | AC18: โปรดเลือก | AD18: โปรดเลือก | AF18: โปรดเลือก | AG18: โปรดเลือก | AI18: =AB18+AE18+AH18 -> 0 | AJ18: =Y18+AI18 -> 0 | AK18: =IF(AU18<AQ18,AT18-AQ18+AU18,AU18-AQ18) -> 0 | AL18: =IF(AU18=AQ18,IF(AV18=AR18,0,IF(AV18>AR18,AV18-AR18,12+AV18-AR18)),IF(AU18>AQ18,IF(AV18>AR18,AV18-AR18,IF(AV18=AR18,0,12+AV18-AR18)),IF(AU18<AQ18,IF(AV18>AR18,AV18-AR18-1,IF(AV18=AR18,0,12+AV18-AR18-1))))) -> 0 | AM18: =IF(AND(AQ18=AU18,AR18=AV18),AW18-AS18,IF(AND(AQ18>=AU18,AR18>AV18),AW18-AS18-1,IF(AND(AQ18<AU18,AR18>AV18),AW18-AS18-1,IF(AND(AQ18<AU18,AR18<AV18),AW18-AS18,AW18-AS18)))) -> 0 | AN18: =IF(B18="โปรดเลือก",0,IF(B18="เป็นสมาชิก กบข. ",(AK18/365)+(AL18/12)+AM18+I18,ROUND((AK18/365)+(AL18/12)+AM18,0))) -> 0 | AP18: =IFERROR(IF(AND(J18<>0,N18=0),J18*15,IF(AND(J18=0,N18<>0),N18*15,0)),0) -> 0 | AQ18: =IFERROR(VALUE(LEFT(F18,2)),0) -> 0 | AR18: =IFERROR(VALUE(MID(F18,4,2)),0) -> 0 | AS18: =IFERROR(VALUE(RIGHT(F18,4)),0) -> 0 | AT18: =IFERROR(VLOOKUP(AV18-1,$AY$12:$AZ$23,2,0),0) -> 0 | AU18: =IFERROR(VALUE(LEFT(G18,2)),0) -> 0 | AV18: =IFERROR(VALUE(MID(G18,4,2)),0) -> 0 | AW18: =IFERROR(VALUE(RIGHT(G18,4)),0) -> 0 | AY18: 7 | AZ18: 31
A19: 8 | B19: โปรดเลือก | H19: =IFERROR(IF(B19="โปรดเลือก",0,IF(B19="ไม่เป็นสมาชิก กบข.",ROUND((DATEDIF(F19,G19,"Y")+DATEDIF(F19,G19,"Ym")/12)+I19,0),AN19)),0) -> 0 | M19: =L19+K19 -> 0 | N19: =IFERROR(IF(P19<>0,0,IF(B19="โปรดเลือก ","",(IF(B19="ไม่เป็นสมาชิก กบข.",M19*H19/50,IF(B19="เป็นสมาชิก กบข. ",(IF(M19*H19/50>0.7*M19,0.7*M19,M19*H19/50))))))),0) | Q19: =IF(AP19<500000,AP19,500000) -> 0 | Y19: =IF(B19="โปรดเลือก ",0,IF(P19<>0,P19,IF(W19>0,W19+X19,(J19+N19)*12+O19*12+P19+S19+T19+U19))) -> 0 | Z19: โปรดเลือก | AA19: โปรดเลือก | AC19: โปรดเลือก | AD19: โปรดเลือก | AF19: โปรดเลือก | AG19: โปรดเลือก | AI19: =AB19+AE19+AH19 -> 0 | AJ19: =Y19+AI19 -> 0 | AK19: =IF(AU19<AQ19,AT19-AQ19+AU19,AU19-AQ19) -> 0 | AL19: =IF(AU19=AQ19,IF(AV19=AR19,0,IF(AV19>AR19,AV19-AR19,12+AV19-AR19)),IF(AU19>AQ19,IF(AV19>AR19,AV19-AR19,IF(AV19=AR19,0,12+AV19-AR19)),IF(AU19<AQ19,IF(AV19>AR19,AV19-AR19-1,IF(AV19=AR19,0,12+AV19-AR19-1))))) -> 0 | AM19: =IF(AND(AQ19=AU19,AR19=AV19),AW19-AS19,IF(AND(AQ19>=AU19,AR19>AV19),AW19-AS19-1,IF(AND(AQ19<AU19,AR19>AV19),AW19-AS19-1,IF(AND(AQ19<AU19,AR19<AV19),AW19-AS19,AW19-AS19)))) -> 0 | AN19: =IF(B19="โปรดเลือก",0,IF(B19="เป็นสมาชิก กบข. ",(AK19/365)+(AL19/12)+AM19+I19,ROUND((AK19/365)+(AL19/12)+AM19,0))) -> 0 | AP19: =IFERROR(IF(AND(J19<>0,N19=0),J19*15,IF(AND(J19=0,N19<>0),N19*15,0)),0) -> 0 | AQ19: =IFERROR(VALUE(LEFT(F19,2)),0) -> 0 | AR19: =IFERROR(VALUE(MID(F19,4,2)),0) -> 0 | AS19: =IFERROR(VALUE(RIGHT(F19,4)),0) -> 0 | AT19: =IFERROR(VLOOKUP(AV19-1,$AY$12:$AZ$23,2,0),0) -> 0 | AU19: =IFERROR(VALUE(LEFT(G19,2)),0) -> 0 | AV19: =IFERROR(VALUE(MID(G19,4,2)),0) -> 0 | AW19: =IFERROR(VALUE(RIGHT(G19,4)),0) -> 0 | AY19: 8 | AZ19: 31
A20: 9 | B20: โปรดเลือก | H20: =IFERROR(IF(B20="โปรดเลือก",0,IF(B20="ไม่เป็นสมาชิก กบข.",ROUND((DATEDIF(F20,G20,"Y")+DATEDIF(F20,G20,"Ym")/12)+I20,0),AN20)),0) -> 0 | M20: =L20+K20 -> 0 | N20: =IFERROR(IF(P20<>0,0,IF(B20="โปรดเลือก ","",(IF(B20="ไม่เป็นสมาชิก กบข.",M20*H20/50,IF(B20="เป็นสมาชิก กบข. ",(IF(M20*H20/50>0.7*M20,0.7*M20,M20*H20/50))))))),0) | Q20: =IF(AP20<500000,AP20,500000) -> 0 | Y20: =IF(B20="โปรดเลือก ",0,IF(P20<>0,P20,IF(W20>0,W20+X20,(J20+N20)*12+O20*12+P20+S20+T20+U20))) -> 0 | Z20: โปรดเลือก | AA20: โปรดเลือก | AC20: โปรดเลือก | AD20: โปรดเลือก | AF20: โปรดเลือก | AG20: โปรดเลือก | AI20: =AB20+AE20+AH20 -> 0 | AJ20: =Y20+AI20 -> 0 | AK20: =IF(AU20<AQ20,AT20-AQ20+AU20,AU20-AQ20) -> 0 | AL20: =IF(AU20=AQ20,IF(AV20=AR20,0,IF(AV20>AR20,AV20-AR20,12+AV20-AR20)),IF(AU20>AQ20,IF(AV20>AR20,AV20-AR20,IF(AV20=AR20,0,12+AV20-AR20)),IF(AU20<AQ20,IF(AV20>AR20,AV20-AR20-1,IF(AV20=AR20,0,12+AV20-AR20-1))))) -> 0 | AM20: =IF(AND(AQ20=AU20,AR20=AV20),AW20-AS20,IF(AND(AQ20>=AU20,AR20>AV20),AW20-AS20-1,IF(AND(AQ20<AU20,AR20>AV20),AW20-AS20-1,IF(AND(AQ20<AU20,AR20<AV20),AW20-AS20,AW20-AS20)))) -> 0 | AN20: =IF(B20="โปรดเลือก",0,IF(B20="เป็นสมาชิก กบข. ",(AK20/365)+(AL20/12)+AM20+I20,ROUND((AK20/365)+(AL20/12)+AM20,0))) -> 0 | AP20: =IFERROR(IF(AND(J20<>0,N20=0),J20*15,IF(AND(J20=0,N20<>0),N20*15,0)),0) -> 0 | AQ20: =IFERROR(VALUE(LEFT(F20,2)),0) -> 0 | AR20: =IFERROR(VALUE(MID(F20,4,2)),0) -> 0 | AS20: =IFERROR(VALUE(RIGHT(F20,4)),0) -> 0 | AT20: =IFERROR(VLOOKUP(AV20-1,$AY$12:$AZ$23,2,0),0) -> 0 | AU20: =IFERROR(VALUE(LEFT(G20,2)),0) -> 0 | AV20: =IFERROR(VALUE(MID(G20,4,2)),0) -> 0 | AW20: =IFERROR(VALUE(RIGHT(G20,4)),0) -> 0 | AY20: 9 | AZ20: 30
A21: 10 | B21: โปรดเลือก | H21: =IFERROR(IF(B21="โปรดเลือก",0,IF(B21="ไม่เป็นสมาชิก กบข.",ROUND((DATEDIF(F21,G21,"Y")+DATEDIF(F21,G21,"Ym")/12)+I21,0),AN21)),0) -> 0 | M21: =L21+K21 -> 0 | N21: =IFERROR(IF(P21<>0,0,IF(B21="โปรดเลือก ","",(IF(B21="ไม่เป็นสมาชิก กบข.",M21*H21/50,IF(B21="เป็นสมาชิก กบข. ",(IF(M21*H21/50>0.7*M21,0.7*M21,M21*H21/50))))))),0) | Q21: =IF(AP21<500000,AP21,500000) -> 0 | Y21: =IF(B21="โปรดเลือก ",0,IF(P21<>0,P21,IF(W21>0,W21+X21,(J21+N21)*12+O21*12+P21+S21+T21+U21))) -> 0 | Z21: โปรดเลือก | AA21: โปรดเลือก | AC21: โปรดเลือก | AD21: โปรดเลือก | AF21: โปรดเลือก | AG21: โปรดเลือก | AI21: =AB21+AE21+AH21 -> 0 | AJ21: =Y21+AI21 -> 0 | AK21: =IF(AU21<AQ21,AT21-AQ21+AU21,AU21-AQ21) -> 0 | AL21: =IF(AU21=AQ21,IF(AV21=AR21,0,IF(AV21>AR21,AV21-AR21,12+AV21-AR21)),IF(AU21>AQ21,IF(AV21>AR21,AV21-AR21,IF(AV21=AR21,0,12+AV21-AR21)),IF(AU21<AQ21,IF(AV21>AR21,AV21-AR21-1,IF(AV21=AR21,0,12+AV21-AR21-1))))) -> 0 | AM21: =IF(AND(AQ21=AU21,AR21=AV21),AW21-AS21,IF(AND(AQ21>=AU21,AR21>AV21),AW21-AS21-1,IF(AND(AQ21<AU21,AR21>AV21),AW21-AS21-1,IF(AND(AQ21<AU21,AR21<AV21),AW21-AS21,AW21-AS21)))) -> 0 | AN21: =IF(B21="โปรดเลือก",0,IF(B21="เป็นสมาชิก กบข. ",(AK21/365)+(AL21/12)+AM21+I21,ROUND((AK21/365)+(AL21/12)+AM21,0))) -> 0 | AP21: =IFERROR(IF(AND(J21<>0,N21=0),J21*15,IF(AND(J21=0,N21<>0),N21*15,0)),0) -> 0 | AQ21: =IFERROR(VALUE(LEFT(F21,2)),0) -> 0 | AR21: =IFERROR(VALUE(MID(F21,4,2)),0) -> 0 | AS21: =IFERROR(VALUE(RIGHT(F21,4)),0) -> 0 | AT21: =IFERROR(VLOOKUP(AV21-1,$AY$12:$AZ$23,2,0),0) -> 0 | AU21: =IFERROR(VALUE(LEFT(G21,2)),0) -> 0 | AV21: =IFERROR(VALUE(MID(G21,4,2)),0) -> 0 | AW21: =IFERROR(VALUE(RIGHT(G21,4)),0) -> 0 | AY21: 10 | AZ21: 31
A22: 11 | B22: โปรดเลือก | H22: =IFERROR(IF(B22="โปรดเลือก",0,IF(B22="ไม่เป็นสมาชิก กบข.",ROUND((DATEDIF(F22,G22,"Y")+DATEDIF(F22,G22,"Ym")/12)+I22,0),AN22)),0) -> 0 | M22: =L22+K22 -> 0 | N22: =IFERROR(IF(P22<>0,0,IF(B22="โปรดเลือก ","",(IF(B22="ไม่เป็นสมาชิก กบข.",M22*H22/50,IF(B22="เป็นสมาชิก กบข. ",(IF(M22*H22/50>0.7*M22,0.7*M22,M22*H22/50))))))),0) | Q22: =IF(AP22<500000,AP22,500000) -> 0 | Y22: =IF(B22="โปรดเลือก ",0,IF(P22<>0,P22,IF(W22>0,W22+X22,(J22+N22)*12+O22*12+P22+S22+T22+U22))) -> 0 | Z22: โปรดเลือก | AA22: โปรดเลือก | AC22: โปรดเลือก | AD22: โปรดเลือก | AF22: โปรดเลือก | AG22: โปรดเลือก | AI22: =AB22+AE22+AH22 -> 0 | AJ22: =Y22+AI22 -> 0 | AK22: =IF(AU22<AQ22,AT22-AQ22+AU22,AU22-AQ22) -> 0 | AL22: =IF(AU22=AQ22,IF(AV22=AR22,0,IF(AV22>AR22,AV22-AR22,12+AV22-AR22)),IF(AU22>AQ22,IF(AV22>AR22,AV22-AR22,IF(AV22=AR22,0,12+AV22-AR22)),IF(AU22<AQ22,IF(AV22>AR22,AV22-AR22-1,IF(AV22=AR22,0,12+AV22-AR22-1))))) -> 0 | AM22: =IF(AND(AQ22=AU22,AR22=AV22),AW22-AS22,IF(AND(AQ22>=AU22,AR22>AV22),AW22-AS22-1,IF(AND(AQ22<AU22,AR22>AV22),AW22-AS22-1,IF(AND(AQ22<AU22,AR22<AV22),AW22-AS22,AW22-AS22)))) -> 0 | AN22: =IF(B22="โปรดเลือก",0,IF(B22="เป็นสมาชิก กบข. ",(AK22/365)+(AL22/12)+AM22+I22,ROUND((AK22/365)+(AL22/12)+AM22,0))) -> 0 | AP22: =IFERROR(IF(AND(J22<>0,N22=0),J22*15,IF(AND(J22=0,N22<>0),N22*15,0)),0) -> 0 | AQ22: =IFERROR(VALUE(LEFT(F22,2)),0) -> 0 | AR22: =IFERROR(VALUE(MID(F22,4,2)),0) -> 0 | AS22: =IFERROR(VALUE(RIGHT(F22,4)),0) -> 0 | AT22: =IFERROR(VLOOKUP(AV22-1,$AY$12:$AZ$23,2,0),0) -> 0 | AU22: =IFERROR(VALUE(LEFT(G22,2)),0) -> 0 | AV22: =IFERROR(VALUE(MID(G22,4,2)),0) -> 0 | AW22: =IFERROR(VALUE(RIGHT(G22,4)),0) -> 0 | AY22: 11 | AZ22: 30
A23: 12 | B23: โปรดเลือก | H23: =IFERROR(IF(B23="โปรดเลือก",0,IF(B23="ไม่เป็นสมาชิก กบข.",ROUND((DATEDIF(F23,G23,"Y")+DATEDIF(F23,G23,"Ym")/12)+I23,0),AN23)),0) -> 0 | M23: =L23+K23 -> 0 | N23: =IFERROR(IF(P23<>0,0,IF(B23="โปรดเลือก ","",(IF(B23="ไม่เป็นสมาชิก กบข.",M23*H23/50,IF(B23="เป็นสมาชิก กบข. ",(IF(M23*H23/50>0.7*M23,0.7*M23,M23*H23/50))))))),0) | Q23: =IF(AP23<500000,AP23,500000) -> 0 | Y23: =IF(B23="โปรดเลือก ",0,IF(P23<>0,P23,IF(W23>0,W23+X23,(J23+N23)*12+O23*12+P23+S23+T23+U23))) -> 0 | Z23: โปรดเลือก | AA23: โปรดเลือก | AC23: โปรดเลือก | AD23: โปรดเลือก | AF23: โปรดเลือก | AG23: โปรดเลือก | AI23: =AB23+AE23+AH23 -> 0 | AJ23: =Y23+AI23 -> 0 | AK23: =IF(AU23<AQ23,AT23-AQ23+AU23,AU23-AQ23) -> 0 | AL23: =IF(AU23=AQ23,IF(AV23=AR23,0,IF(AV23>AR23,AV23-AR23,12+AV23-AR23)),IF(AU23>AQ23,IF(AV23>AR23,AV23-AR23,IF(AV23=AR23,0,12+AV23-AR23)),IF(AU23<AQ23,IF(AV23>AR23,AV23-AR23-1,IF(AV23=AR23,0,12+AV23-AR23-1))))) -> 0 | AM23: =IF(AND(AQ23=AU23,AR23=AV23),AW23-AS23,IF(AND(AQ23>=AU23,AR23>AV23),AW23-AS23-1,IF(AND(AQ23<AU23,AR23>AV23),AW23-AS23-1,IF(AND(AQ23<AU23,AR23<AV23),AW23-AS23,AW23-AS23)))) -> 0 | AN23: =IF(B23="โปรดเลือก",0,IF(B23="เป็นสมาชิก กบข. ",(AK23/365)+(AL23/12)+AM23+I23,ROUND((AK23/365)+(AL23/12)+AM23,0))) -> 0 | AP23: =IFERROR(IF(AND(J23<>0,N23=0),J23*15,IF(AND(J23=0,N23<>0),N23*15,0)),0) -> 0 | AQ23: =IFERROR(VALUE(LEFT(F23,2)),0) -> 0 | AR23: =IFERROR(VALUE(MID(F23,4,2)),0) -> 0 | AS23: =IFERROR(VALUE(RIGHT(F23,4)),0) -> 0 | AT23: =IFERROR(VLOOKUP(AV23-1,$AY$12:$AZ$23,2,0),0) -> 0 | AU23: =IFERROR(VALUE(LEFT(G23,2)),0) -> 0 | AV23: =IFERROR(VALUE(MID(G23,4,2)),0) -> 0 | AW23: =IFERROR(VALUE(RIGHT(G23,4)),0) -> 0 | AY23: 0 | AZ23: 31
A24: 13 | B24: โปรดเลือก | H24: =IFERROR(IF(B24="โปรดเลือก",0,IF(B24="ไม่เป็นสมาชิก กบข.",ROUND((DATEDIF(F24,G24,"Y")+DATEDIF(F24,G24,"Ym")/12)+I24,0),AN24)),0) -> 0 | M24: =L24+K24 -> 0 | N24: =IFERROR(IF(P24<>0,0,IF(B24="โปรดเลือก ","",(IF(B24="ไม่เป็นสมาชิก กบข.",M24*H24/50,IF(B24="เป็นสมาชิก กบข. ",(IF(M24*H24/50>0.7*M24,0.7*M24,M24*H24/50))))))),0) | Q24: =IF(AP24<500000,AP24,500000) -> 0 | Y24: =IF(B24="โปรดเลือก ",0,IF(P24<>0,P24,IF(W24>0,W24+X24,(J24+N24)*12+O24*12+P24+S24+T24+U24))) -> 0 | Z24: โปรดเลือก | AA24: โปรดเลือก | AC24: โปรดเลือก | AD24: โปรดเลือก | AF24: โปรดเลือก | AG24: โปรดเลือก | AI24: =AB24+AE24+AH24 -> 0 | AJ24: =Y24+AI24 -> 0 | AK24: =IF(AU24<AQ24,AT24-AQ24+AU24,AU24-AQ24) -> 0 | AL24: =IF(AU24=AQ24,IF(AV24=AR24,0,IF(AV24>AR24,AV24-AR24,12+AV24-AR24)),IF(AU24>AQ24,IF(AV24>AR24,AV24-AR24,IF(AV24=AR24,0,12+AV24-AR24)),IF(AU24<AQ24,IF(AV24>AR24,AV24-AR24-1,IF(AV24=AR24,0,12+AV24-AR24-1))))) -> 0 | AM24: =IF(AND(AQ24=AU24,AR24=AV24),AW24-AS24,IF(AND(AQ24>=AU24,AR24>AV24),AW24-AS24-1,IF(AND(AQ24<AU24,AR24>AV24),AW24-AS24-1,IF(AND(AQ24<AU24,AR24<AV24),AW24-AS24,AW24-AS24)))) -> 0 | AN24: =IF(B24="โปรดเลือก",0,IF(B24="เป็นสมาชิก กบข. ",(AK24/365)+(AL24/12)+AM24+I24,ROUND((AK24/365)+(AL24/12)+AM24,0))) -> 0 | AP24: =IFERROR(IF(AND(J24<>0,N24=0),J24*15,IF(AND(J24=0,N24<>0),N24*15,0)),0) -> 0 | AQ24: =IFERROR(VALUE(LEFT(F24,2)),0) -> 0 | AR24: =IFERROR(VALUE(MID(F24,4,2)),0) -> 0 | AS24: =IFERROR(VALUE(RIGHT(F24,4)),0) -> 0 | AT24: =IFERROR(VLOOKUP(AV24-1,$AY$12:$AZ$23,2,0),0) -> 0 | AU24: =IFERROR(VALUE(LEFT(G24,2)),0) -> 0 | AV24: =IFERROR(VALUE(MID(G24,4,2)),0) -> 0 | AW24: =IFERROR(VALUE(RIGHT(G24,4)),0) -> 0
A25: 14 | B25: โปรดเลือก | H25: =IFERROR(IF(B25="โปรดเลือก",0,IF(B25="ไม่เป็นสมาชิก กบข.",ROUND((DATEDIF(F25,G25,"Y")+DATEDIF(F25,G25,"Ym")/12)+I25,0),AN25)),0) -> 0 | M25: =L25+K25 -> 0 | N25: =IFERROR(IF(P25<>0,0,IF(B25="โปรดเลือก ","",(IF(B25="ไม่เป็นสมาชิก กบข.",M25*H25/50,IF(B25="เป็นสมาชิก กบข. ",(IF(M25*H25/50>0.7*M25,0.7*M25,M25*H25/50))))))),0) | Q25: =IF(AP25<500000,AP25,500000) -> 0 | Y25: =IF(B25="โปรดเลือก ",0,IF(P25<>0,P25,IF(W25>0,W25+X25,(J25+N25)*12+O25*12+P25+S25+T25+U25))) -> 0 | Z25: โปรดเลือก | AA25: โปรดเลือก | AC25: โปรดเลือก | AD25: โปรดเลือก | AF25: โปรดเลือก | AG25: โปรดเลือก | AI25: =AB25+AE25+AH25 -> 0 | AJ25: =Y25+AI25 -> 0 | AK25: =IF(AU25<AQ25,AT25-AQ25+AU25,AU25-AQ25) -> 0 | AL25: =IF(AU25=AQ25,IF(AV25=AR25,0,IF(AV25>AR25,AV25-AR25,12+AV25-AR25)),IF(AU25>AQ25,IF(AV25>AR25,AV25-AR25,IF(AV25=AR25,0,12+AV25-AR25)),IF(AU25<AQ25,IF(AV25>AR25,AV25-AR25-1,IF(AV25=AR25,0,12+AV25-AR25-1))))) -> 0 | AM25: =IF(AND(AQ25=AU25,AR25=AV25),AW25-AS25,IF(AND(AQ25>=AU25,AR25>AV25),AW25-AS25-1,IF(AND(AQ25<AU25,AR25>AV25),AW25-AS25-1,IF(AND(AQ25<AU25,AR25<AV25),AW25-AS25,AW25-AS25)))) -> 0 | AN25: =IF(B25="โปรดเลือก",0,IF(B25="เป็นสมาชิก กบข. ",(AK25/365)+(AL25/12)+AM25+I25,ROUND((AK25/365)+(AL25/12)+AM25,0))) -> 0 | AP25: =IFERROR(IF(AND(J25<>0,N25=0),J25*15,IF(AND(J25=0,N25<>0),N25*15,0)),0) -> 0 | AQ25: =IFERROR(VALUE(LEFT(F25,2)),0) -> 0 | AR25: =IFERROR(VALUE(MID(F25,4,2)),0) -> 0 | AS25: =IFERROR(VALUE(RIGHT(F25,4)),0) -> 0 | AT25: =IFERROR(VLOOKUP(AV25-1,$AY$12:$AZ$23,2,0),0) -> 0 | AU25: =IFERROR(VALUE(LEFT(G25,2)),0) -> 0 | AV25: =IFERROR(VALUE(MID(G25,4,2)),0) -> 0 | AW25: =IFERROR(VALUE(RIGHT(G25,4)),0) -> 0
A26: 15 | B26: โปรดเลือก | H26: =IFERROR(IF(B26="โปรดเลือก",0,IF(B26="ไม่เป็นสมาชิก กบข.",ROUND((DATEDIF(F26,G26,"Y")+DATEDIF(F26,G26,"Ym")/12)+I26,0),AN26)),0) -> 0 | M26: =L26+K26 -> 0 | N26: =IFERROR(IF(P26<>0,0,IF(B26="โปรดเลือก ","",(IF(B26="ไม่เป็นสมาชิก กบข.",M26*H26/50,IF(B26="เป็นสมาชิก กบข. ",(IF(M26*H26/50>0.7*M26,0.7*M26,M26*H26/50))))))),0) | Q26: =IF(AP26<500000,AP26,500000) -> 0 | Y26: =IF(B26="โปรดเลือก ",0,IF(P26<>0,P26,IF(W26>0,W26+X26,(J26+N26)*12+O26*12+P26+S26+T26+U26))) -> 0 | Z26: โปรดเลือก | AA26: โปรดเลือก | AC26: โปรดเลือก | AD26: โปรดเลือก | AF26: โปรดเลือก | AG26: โปรดเลือก | AI26: =AB26+AE26+AH26 -> 0 | AJ26: =Y26+AI26 -> 0 | AK26: =IF(AU26<AQ26,AT26-AQ26+AU26,AU26-AQ26) -> 0 | AL26: =IF(AU26=AQ26,IF(AV26=AR26,0,IF(AV26>AR26,AV26-AR26,12+AV26-AR26)),IF(AU26>AQ26,IF(AV26>AR26,AV26-AR26,IF(AV26=AR26,0,12+AV26-AR26)),IF(AU26<AQ26,IF(AV26>AR26,AV26-AR26-1,IF(AV26=AR26,0,12+AV26-AR26-1))))) -> 0 | AM26: =IF(AND(AQ26=AU26,AR26=AV26),AW26-AS26,IF(AND(AQ26>=AU26,AR26>AV26),AW26-AS26-1,IF(AND(AQ26<AU26,AR26>AV26),AW26-AS26-1,IF(AND(AQ26<AU26,AR26<AV26),AW26-AS26,AW26-AS26)))) -> 0 | AN26: =IF(B26="โปรดเลือก",0,IF(B26="เป็นสมาชิก กบข. ",(AK26/365)+(AL26/12)+AM26+I26,ROUND((AK26/365)+(AL26/12)+AM26,0))) -> 0 | AP26: =IFERROR(IF(AND(J26<>0,N26=0),J26*15,IF(AND(J26=0,N26<>0),N26*15,0)),0) -> 0 | AQ26: =IFERROR(VALUE(LEFT(F26,2)),0) -> 0 | AR26: =IFERROR(VALUE(MID(F26,4,2)),0) -> 0 | AS26: =IFERROR(VALUE(RIGHT(F26,4)),0) -> 0 | AT26: =IFERROR(VLOOKUP(AV26-1,$AY$12:$AZ$23,2,0),0) -> 0 | AU26: =IFERROR(VALUE(LEFT(G26,2)),0) -> 0 | AV26: =IFERROR(VALUE(MID(G26,4,2)),0) -> 0 | AW26: =IFERROR(VALUE(RIGHT(G26,4)),0) -> 0
A27: 16 | B27: โปรดเลือก | H27: =IFERROR(IF(B27="โปรดเลือก",0,IF(B27="ไม่เป็นสมาชิก กบข.",ROUND((DATEDIF(F27,G27,"Y")+DATEDIF(F27,G27,"Ym")/12)+I27,0),AN27)),0) -> 0 | M27: =L27+K27 -> 0 | N27: =IFERROR(IF(P27<>0,0,IF(B27="โปรดเลือก ","",(IF(B27="ไม่เป็นสมาชิก กบข.",M27*H27/50,IF(B27="เป็นสมาชิก กบข. ",(IF(M27*H27/50>0.7*M27,0.7*M27,M27*H27/50))))))),0) | Q27: =IF(AP27<500000,AP27,500000) -> 0 | Y27: =IF(B27="โปรดเลือก ",0,IF(P27<>0,P27,IF(W27>0,W27+X27,(J27+N27)*12+O27*12+P27+S27+T27+U27))) -> 0 | Z27: โปรดเลือก | AA27: โปรดเลือก | AC27: โปรดเลือก | AD27: โปรดเลือก | AF27: โปรดเลือก | AG27: โปรดเลือก | AI27: =AB27+AE27+AH27 -> 0 | AJ27: =Y27+AI27 -> 0 | AK27: =IF(AU27<AQ27,AT27-AQ27+AU27,AU27-AQ27) -> 0 | AL27: =IF(AU27=AQ27,IF(AV27=AR27,0,IF(AV27>AR27,AV27-AR27,12+AV27-AR27)),IF(AU27>AQ27,IF(AV27>AR27,AV27-AR27,IF(AV27=AR27,0,12+AV27-AR27)),IF(AU27<AQ27,IF(AV27>AR27,AV27-AR27-1,IF(AV27=AR27,0,12+AV27-AR27-1))))) -> 0 | AM27: =IF(AND(AQ27=AU27,AR27=AV27),AW27-AS27,IF(AND(AQ27>=AU27,AR27>AV27),AW27-AS27-1,IF(AND(AQ27<AU27,AR27>AV27),AW27-AS27-1,IF(AND(AQ27<AU27,AR27<AV27),AW27-AS27,AW27-AS27)))) -> 0 | AN27: =IF(B27="โปรดเลือก",0,IF(B27="เป็นสมาชิก กบข. ",(AK27/365)+(AL27/12)+AM27+I27,ROUND((AK27/365)+(AL27/12)+AM27,0))) -> 0 | AP27: =IFERROR(IF(AND(J27<>0,N27=0),J27*15,IF(AND(J27=0,N27<>0),N27*15,0)),0) -> 0 | AQ27: =IFERROR(VALUE(LEFT(F27,2)),0) -> 0 | AR27: =IFERROR(VALUE(MID(F27,4,2)),0) -> 0 | AS27: =IFERROR(VALUE(RIGHT(F27,4)),0) -> 0 | AT27: =IFERROR(VLOOKUP(AV27-1,$AY$12:$AZ$23,2,0),0) -> 0 | AU27: =IFERROR(VALUE(LEFT(G27,2)),0) -> 0 | AV27: =IFERROR(VALUE(MID(G27,4,2)),0) -> 0 | AW27: =IFERROR(VALUE(RIGHT(G27,4)),0) -> 0
A28: 17 | B28: โปรดเลือก | H28: =IFERROR(IF(B28="โปรดเลือก",0,IF(B28="ไม่เป็นสมาชิก กบข.",ROUND((DATEDIF(F28,G28,"Y")+DATEDIF(F28,G28,"Ym")/12)+I28,0),AN28)),0) -> 0 | M28: =L28+K28 -> 0 | N28: =IFERROR(IF(P28<>0,0,IF(B28="โปรดเลือก ","",(IF(B28="ไม่เป็นสมาชิก กบข.",M28*H28/50,IF(B28="เป็นสมาชิก กบข. ",(IF(M28*H28/50>0.7*M28,0.7*M28,M28*H28/50))))))),0) | Q28: =IF(AP28<500000,AP28,500000) -> 0 | Y28: =IF(B28="โปรดเลือก ",0,IF(P28<>0,P28,IF(W28>0,W28+X28,(J28+N28)*12+O28*12+P28+S28+T28+U28))) -> 0 | Z28: โปรดเลือก | AA28: โปรดเลือก | AC28: โปรดเลือก | AD28: โปรดเลือก | AF28: โปรดเลือก | AG28: โปรดเลือก | AI28: =AB28+AE28+AH28 -> 0 | AJ28: =Y28+AI28 -> 0 | AK28: =IF(AU28<AQ28,AT28-AQ28+AU28,AU28-AQ28) -> 0 | AL28: =IF(AU28=AQ28,IF(AV28=AR28,0,IF(AV28>AR28,AV28-AR28,12+AV28-AR28)),IF(AU28>AQ28,IF(AV28>AR28,AV28-AR28,IF(AV28=AR28,0,12+AV28-AR28)),IF(AU28<AQ28,IF(AV28>AR28,AV28-AR28-1,IF(AV28=AR28,0,12+AV28-AR28-1))))) -> 0 | AM28: =IF(AND(AQ28=AU28,AR28=AV28),AW28-AS28,IF(AND(AQ28>=AU28,AR28>AV28),AW28-AS28-1,IF(AND(AQ28<AU28,AR28>AV28),AW28-AS28-1,IF(AND(AQ28<AU28,AR28<AV28),AW28-AS28,AW28-AS28)))) -> 0 | AN28: =IF(B28="โปรดเลือก",0,IF(B28="เป็นสมาชิก กบข. ",(AK28/365)+(AL28/12)+AM28+I28,ROUND((AK28/365)+(AL28/12)+AM28,0))) -> 0 | AP28: =IFERROR(IF(AND(J28<>0,N28=0),J28*15,IF(AND(J28=0,N28<>0),N28*15,0)),0) -> 0 | AQ28: =IFERROR(VALUE(LEFT(F28,2)),0) -> 0 | AR28: =IFERROR(VALUE(MID(F28,4,2)),0) -> 0 | AS28: =IFERROR(VALUE(RIGHT(F28,4)),0) -> 0 | AT28: =IFERROR(VLOOKUP(AV28-1,$AY$12:$AZ$23,2,0),0) -> 0 | AU28: =IFERROR(VALUE(LEFT(G28,2)),0) -> 0 | AV28: =IFERROR(VALUE(MID(G28,4,2)),0) -> 0 | AW28: =IFERROR(VALUE(RIGHT(G28,4)),0) -> 0
A29: 18 | B29: โปรดเลือก | H29: =IFERROR(IF(B29="โปรดเลือก",0,IF(B29="ไม่เป็นสมาชิก กบข.",ROUND((DATEDIF(F29,G29,"Y")+DATEDIF(F29,G29,"Ym")/12)+I29,0),AN29)),0) -> 0 | M29: =L29+K29 -> 0 | N29: =IFERROR(IF(P29<>0,0,IF(B29="โปรดเลือก ","",(IF(B29="ไม่เป็นสมาชิก กบข.",M29*H29/50,IF(B29="เป็นสมาชิก กบข. ",(IF(M29*H29/50>0.7*M29,0.7*M29,M29*H29/50))))))),0) | Q29: =IF(AP29<500000,AP29,500000) -> 0 | Y29: =IF(B29="โปรดเลือก ",0,IF(P29<>0,P29,IF(W29>0,W29+X29,(J29+N29)*12+O29*12+P29+S29+T29+U29))) -> 0 | Z29: โปรดเลือก | AA29: โปรดเลือก | AC29: โปรดเลือก | AD29: โปรดเลือก | AF29: โปรดเลือก | AG29: โปรดเลือก | AI29: =AB29+AE29+AH29 -> 0 | AJ29: =Y29+AI29 -> 0 | AK29: =IF(AU29<AQ29,AT29-AQ29+AU29,AU29-AQ29) -> 0 | AL29: =IF(AU29=AQ29,IF(AV29=AR29,0,IF(AV29>AR29,AV29-AR29,12+AV29-AR29)),IF(AU29>AQ29,IF(AV29>AR29,AV29-AR29,IF(AV29=AR29,0,12+AV29-AR29)),IF(AU29<AQ29,IF(AV29>AR29,AV29-AR29-1,IF(AV29=AR29,0,12+AV29-AR29-1))))) -> 0 | AM29: =IF(AND(AQ29=AU29,AR29=AV29),AW29-AS29,IF(AND(AQ29>=AU29,AR29>AV29),AW29-AS29-1,IF(AND(AQ29<AU29,AR29>AV29),AW29-AS29-1,IF(AND(AQ29<AU29,AR29<AV29),AW29-AS29,AW29-AS29)))) -> 0 | AN29: =IF(B29="โปรดเลือก",0,IF(B29="เป็นสมาชิก กบข. ",(AK29/365)+(AL29/12)+AM29+I29,ROUND((AK29/365)+(AL29/12)+AM29,0))) -> 0 | AP29: =IFERROR(IF(AND(J29<>0,N29=0),J29*15,IF(AND(J29=0,N29<>0),N29*15,0)),0) -> 0 | AQ29: =IFERROR(VALUE(LEFT(F29,2)),0) -> 0 | AR29: =IFERROR(VALUE(MID(F29,4,2)),0) -> 0 | AS29: =IFERROR(VALUE(RIGHT(F29,4)),0) -> 0 | AT29: =IFERROR(VLOOKUP(AV29-1,$AY$12:$AZ$23,2,0),0) -> 0 | AU29: =IFERROR(VALUE(LEFT(G29,2)),0) -> 0 | AV29: =IFERROR(VALUE(MID(G29,4,2)),0) -> 0 | AW29: =IFERROR(VALUE(RIGHT(G29,4)),0) -> 0
A30: 19 | B30: โปรดเลือก | H30: =IFERROR(IF(B30="โปรดเลือก",0,IF(B30="ไม่เป็นสมาชิก กบข.",ROUND((DATEDIF(F30,G30,"Y")+DATEDIF(F30,G30,"Ym")/12)+I30,0),AN30)),0) -> 0 | M30: =L30+K30 -> 0 | N30: =IFERROR(IF(P30<>0,0,IF(B30="โปรดเลือก ","",(IF(B30="ไม่เป็นสมาชิก กบข.",M30*H30/50,IF(B30="เป็นสมาชิก กบข. ",(IF(M30*H30/50>0.7*M30,0.7*M30,M30*H30/50))))))),0) | Q30: =IF(AP30<500000,AP30,500000) -> 0 | Y30: =IF(B30="โปรดเลือก ",0,IF(P30<>0,P30,IF(W30>0,W30+X30,(J30+N30)*12+O30*12+P30+S30+T30+U30))) -> 0 | Z30: โปรดเลือก | AA30: โปรดเลือก | AC30: โปรดเลือก | AD30: โปรดเลือก | AF30: โปรดเลือก | AG30: โปรดเลือก | AI30: =AB30+AE30+AH30 -> 0 | AJ30: =Y30+AI30 -> 0 | AK30: =IF(AU30<AQ30,AT30-AQ30+AU30,AU30-AQ30) -> 0 | AL30: =IF(AU30=AQ30,IF(AV30=AR30,0,IF(AV30>AR30,AV30-AR30,12+AV30-AR30)),IF(AU30>AQ30,IF(AV30>AR30,AV30-AR30,IF(AV30=AR30,0,12+AV30-AR30)),IF(AU30<AQ30,IF(AV30>AR30,AV30-AR30-1,IF(AV30=AR30,0,12+AV30-AR30-1))))) -> 0 | AM30: =IF(AND(AQ30=AU30,AR30=AV30),AW30-AS30,IF(AND(AQ30>=AU30,AR30>AV30),AW30-AS30-1,IF(AND(AQ30<AU30,AR30>AV30),AW30-AS30-1,IF(AND(AQ30<AU30,AR30<AV30),AW30-AS30,AW30-AS30)))) -> 0 | AN30: =IF(B30="โปรดเลือก",0,IF(B30="เป็นสมาชิก กบข. ",(AK30/365)+(AL30/12)+AM30+I30,ROUND((AK30/365)+(AL30/12)+AM30,0))) -> 0 | AP30: =IFERROR(IF(AND(J30<>0,N30=0),J30*15,IF(AND(J30=0,N30<>0),N30*15,0)),0) -> 0 | AQ30: =IFERROR(VALUE(LEFT(F30,2)),0) -> 0 | AR30: =IFERROR(VALUE(MID(F30,4,2)),0) -> 0 | AS30: =IFERROR(VALUE(RIGHT(F30,4)),0) -> 0 | AT30: =IFERROR(VLOOKUP(AV30-1,$AY$12:$AZ$23,2,0),0) -> 0 | AU30: =IFERROR(VALUE(LEFT(G30,2)),0) -> 0 | AV30: =IFERROR(VALUE(MID(G30,4,2)),0) -> 0 | AW30: =IFERROR(VALUE(RIGHT(G30,4)),0) -> 0
A31: 20 | B31: โปรดเลือก | H31: =IFERROR(IF(B31="โปรดเลือก",0,IF(B31="ไม่เป็นสมาชิก กบข.",ROUND((DATEDIF(F31,G31,"Y")+DATEDIF(F31,G31,"Ym")/12)+I31,0),AN31)),0) -> 0 | M31: =L31+K31 -> 0 | N31: =IFERROR(IF(P31<>0,0,IF(B31="โปรดเลือก ","",(IF(B31="ไม่เป็นสมาชิก กบข.",M31*H31/50,IF(B31="เป็นสมาชิก กบข. ",(IF(M31*H31/50>0.7*M31,0.7*M31,M31*H31/50))))))),0) | Q31: =IF(AP31<500000,AP31,500000) -> 0 | Y31: =IF(B31="โปรดเลือก ",0,IF(P31<>0,P31,IF(W31>0,W31+X31,(J31+N31)*12+O31*12+P31+S31+T31+U31))) -> 0 | Z31: โปรดเลือก | AA31: โปรดเลือก | AC31: โปรดเลือก | AD31: โปรดเลือก | AF31: โปรดเลือก | AG31: โปรดเลือก | AI31: =AB31+AE31+AH31 -> 0 | AJ31: =Y31+AI31 -> 0 | AK31: =IF(AU31<AQ31,AT31-AQ31+AU31,AU31-AQ31) -> 0 | AL31: =IF(AU31=AQ31,IF(AV31=AR31,0,IF(AV31>AR31,AV31-AR31,12+AV31-AR31)),IF(AU31>AQ31,IF(AV31>AR31,AV31-AR31,IF(AV31=AR31,0,12+AV31-AR31)),IF(AU31<AQ31,IF(AV31>AR31,AV31-AR31-1,IF(AV31=AR31,0,12+AV31-AR31-1))))) -> 0 | AM31: =IF(AND(AQ31=AU31,AR31=AV31),AW31-AS31,IF(AND(AQ31>=AU31,AR31>AV31),AW31-AS31-1,IF(AND(AQ31<AU31,AR31>AV31),AW31-AS31-1,IF(AND(AQ31<AU31,AR31<AV31),AW31-AS31,AW31-AS31)))) -> 0 | AN31: =IF(B31="โปรดเลือก",0,IF(B31="เป็นสมาชิก กบข. ",(AK31/365)+(AL31/12)+AM31+I31,ROUND((AK31/365)+(AL31/12)+AM31,0))) -> 0 | AP31: =IFERROR(IF(AND(J31<>0,N31=0),J31*15,IF(AND(J31=0,N31<>0),N31*15,0)),0) -> 0 | AQ31: =IFERROR(VALUE(LEFT(F31,2)),0) -> 0 | AR31: =IFERROR(VALUE(MID(F31,4,2)),0) -> 0 | AS31: =IFERROR(VALUE(RIGHT(F31,4)),0) -> 0 | AT31: =IFERROR(VLOOKUP(AV31-1,$AY$12:$AZ$23,2,0),0) -> 0 | AU31: =IFERROR(VALUE(LEFT(G31,2)),0) -> 0 | AV31: =IFERROR(VALUE(MID(G31,4,2)),0) -> 0 | AW31: =IFERROR(VALUE(RIGHT(G31,4)),0) -> 0
A32: 21 | B32: โปรดเลือก | H32: =IFERROR(IF(B32="โปรดเลือก",0,IF(B32="ไม่เป็นสมาชิก กบข.",ROUND((DATEDIF(F32,G32,"Y")+DATEDIF(F32,G32,"Ym")/12)+I32,0),AN32)),0) -> 0 | M32: =L32+K32 -> 0 | N32: =IFERROR(IF(P32<>0,0,IF(B32="โปรดเลือก ","",(IF(B32="ไม่เป็นสมาชิก กบข.",M32*H32/50,IF(B32="เป็นสมาชิก กบข. ",(IF(M32*H32/50>0.7*M32,0.7*M32,M32*H32/50))))))),0) | Q32: =IF(AP32<500000,AP32,500000) -> 0 | Y32: =IF(B32="โปรดเลือก ",0,IF(P32<>0,P32,IF(W32>0,W32+X32,(J32+N32)*12+O32*12+P32+S32+T32+U32))) -> 0 | Z32: โปรดเลือก | AA32: โปรดเลือก | AC32: โปรดเลือก | AD32: โปรดเลือก | AF32: โปรดเลือก | AG32: โปรดเลือก | AI32: =AB32+AE32+AH32 -> 0 | AJ32: =Y32+AI32 -> 0 | AK32: =IF(AU32<AQ32,AT32-AQ32+AU32,AU32-AQ32) -> 0 | AL32: =IF(AU32=AQ32,IF(AV32=AR32,0,IF(AV32>AR32,AV32-AR32,12+AV32-AR32)),IF(AU32>AQ32,IF(AV32>AR32,AV32-AR32,IF(AV32=AR32,0,12+AV32-AR32)),IF(AU32<AQ32,IF(AV32>AR32,AV32-AR32-1,IF(AV32=AR32,0,12+AV32-AR32-1))))) -> 0 | AM32: =IF(AND(AQ32=AU32,AR32=AV32),AW32-AS32,IF(AND(AQ32>=AU32,AR32>AV32),AW32-AS32-1,IF(AND(AQ32<AU32,AR32>AV32),AW32-AS32-1,IF(AND(AQ32<AU32,AR32<AV32),AW32-AS32,AW32-AS32)))) -> 0 | AN32: =IF(B32="โปรดเลือก",0,IF(B32="เป็นสมาชิก กบข. ",(AK32/365)+(AL32/12)+AM32+I32,ROUND((AK32/365)+(AL32/12)+AM32,0))) -> 0 | AP32: =IFERROR(IF(AND(J32<>0,N32=0),J32*15,IF(AND(J32=0,N32<>0),N32*15,0)),0) -> 0 | AQ32: =IFERROR(VALUE(LEFT(F32,2)),0) -> 0 | AR32: =IFERROR(VALUE(MID(F32,4,2)),0) -> 0 | AS32: =IFERROR(VALUE(RIGHT(F32,4)),0) -> 0 | AT32: =IFERROR(VLOOKUP(AV32-1,$AY$12:$AZ$23,2,0),0) -> 0 | AU32: =IFERROR(VALUE(LEFT(G32,2)),0) -> 0 | AV32: =IFERROR(VALUE(MID(G32,4,2)),0) -> 0 | AW32: =IFERROR(VALUE(RIGHT(G32,4)),0) -> 0
A33: 22 | B33: โปรดเลือก | H33: =IFERROR(IF(B33="โปรดเลือก",0,IF(B33="ไม่เป็นสมาชิก กบข.",ROUND((DATEDIF(F33,G33,"Y")+DATEDIF(F33,G33,"Ym")/12)+I33,0),AN33)),0) -> 0 | M33: =L33+K33 -> 0 | N33: =IFERROR(IF(P33<>0,0,IF(B33="โปรดเลือก ","",(IF(B33="ไม่เป็นสมาชิก กบข.",M33*H33/50,IF(B33="เป็นสมาชิก กบข. ",(IF(M33*H33/50>0.7*M33,0.7*M33,M33*H33/50))))))),0) | Q33: =IF(AP33<500000,AP33,500000) -> 0 | Y33: =IF(B33="โปรดเลือก ",0,IF(P33<>0,P33,IF(W33>0,W33+X33,(J33+N33)*12+O33*12+P33+S33+T33+U33))) -> 0 | Z33: โปรดเลือก | AA33: โปรดเลือก | AC33: โปรดเลือก | AD33: โปรดเลือก | AF33: โปรดเลือก | AG33: โปรดเลือก | AI33: =AB33+AE33+AH33 -> 0 | AJ33: =Y33+AI33 -> 0 | AK33: =IF(AU33<AQ33,AT33-AQ33+AU33,AU33-AQ33) -> 0 | AL33: =IF(AU33=AQ33,IF(AV33=AR33,0,IF(AV33>AR33,AV33-AR33,12+AV33-AR33)),IF(AU33>AQ33,IF(AV33>AR33,AV33-AR33,IF(AV33=AR33,0,12+AV33-AR33)),IF(AU33<AQ33,IF(AV33>AR33,AV33-AR33-1,IF(AV33=AR33,0,12+AV33-AR33-1))))) -> 0 | AM33: =IF(AND(AQ33=AU33,AR33=AV33),AW33-AS33,IF(AND(AQ33>=AU33,AR33>AV33),AW33-AS33-1,IF(AND(AQ33<AU33,AR33>AV33),AW33-AS33-1,IF(AND(AQ33<AU33,AR33<AV33),AW33-AS33,AW33-AS33)))) -> 0 | AN33: =IF(B33="โปรดเลือก",0,IF(B33="เป็นสมาชิก กบข. ",(AK33/365)+(AL33/12)+AM33+I33,ROUND((AK33/365)+(AL33/12)+AM33,0))) -> 0 | AP33: =IFERROR(IF(AND(J33<>0,N33=0),J33*15,IF(AND(J33=0,N33<>0),N33*15,0)),0) -> 0 | AQ33: =IFERROR(VALUE(LEFT(F33,2)),0) -> 0 | AR33: =IFERROR(VALUE(MID(F33,4,2)),0) -> 0 | AS33: =IFERROR(VALUE(RIGHT(F33,4)),0) -> 0 | AT33: =IFERROR(VLOOKUP(AV33-1,$AY$12:$AZ$23,2,0),0) -> 0 | AU33: =IFERROR(VALUE(LEFT(G33,2)),0) -> 0 | AV33: =IFERROR(VALUE(MID(G33,4,2)),0) -> 0 | AW33: =IFERROR(VALUE(RIGHT(G33,4)),0) -> 0
A34: 23 | B34: โปรดเลือก | H34: =IFERROR(IF(B34="โปรดเลือก",0,IF(B34="ไม่เป็นสมาชิก กบข.",ROUND((DATEDIF(F34,G34,"Y")+DATEDIF(F34,G34,"Ym")/12)+I34,0),AN34)),0) -> 0 | M34: =L34+K34 -> 0 | N34: =IFERROR(IF(P34<>0,0,IF(B34="โปรดเลือก ","",(IF(B34="ไม่เป็นสมาชิก กบข.",M34*H34/50,IF(B34="เป็นสมาชิก กบข. ",(IF(M34*H34/50>0.7*M34,0.7*M34,M34*H34/50))))))),0) | Q34: =IF(AP34<500000,AP34,500000) -> 0 | Y34: =IF(B34="โปรดเลือก ",0,IF(P34<>0,P34,IF(W34>0,W34+X34,(J34+N34)*12+O34*12+P34+S34+T34+U34))) -> 0 | Z34: โปรดเลือก | AA34: โปรดเลือก | AC34: โปรดเลือก | AD34: โปรดเลือก | AF34: โปรดเลือก | AG34: โปรดเลือก | AI34: =AB34+AE34+AH34 -> 0 | AJ34: =Y34+AI34 -> 0 | AK34: =IF(AU34<AQ34,AT34-AQ34+AU34,AU34-AQ34) -> 0 | AL34: =IF(AU34=AQ34,IF(AV34=AR34,0,IF(AV34>AR34,AV34-AR34,12+AV34-AR34)),IF(AU34>AQ34,IF(AV34>AR34,AV34-AR34,IF(AV34=AR34,0,12+AV34-AR34)),IF(AU34<AQ34,IF(AV34>AR34,AV34-AR34-1,IF(AV34=AR34,0,12+AV34-AR34-1))))) -> 0 | AM34: =IF(AND(AQ34=AU34,AR34=AV34),AW34-AS34,IF(AND(AQ34>=AU34,AR34>AV34),AW34-AS34-1,IF(AND(AQ34<AU34,AR34>AV34),AW34-AS34-1,IF(AND(AQ34<AU34,AR34<AV34),AW34-AS34,AW34-AS34)))) -> 0 | AN34: =IF(B34="โปรดเลือก",0,IF(B34="เป็นสมาชิก กบข. ",(AK34/365)+(AL34/12)+AM34+I34,ROUND((AK34/365)+(AL34/12)+AM34,0))) -> 0 | AP34: =IFERROR(IF(AND(J34<>0,N34=0),J34*15,IF(AND(J34=0,N34<>0),N34*15,0)),0) -> 0 | AQ34: =IFERROR(VALUE(LEFT(F34,2)),0) -> 0 | AR34: =IFERROR(VALUE(MID(F34,4,2)),0) -> 0 | AS34: =IFERROR(VALUE(RIGHT(F34,4)),0) -> 0 | AT34: =IFERROR(VLOOKUP(AV34-1,$AY$12:$AZ$23,2,0),0) -> 0 | AU34: =IFERROR(VALUE(LEFT(G34,2)),0) -> 0 | AV34: =IFERROR(VALUE(MID(G34,4,2)),0) -> 0 | AW34: =IFERROR(VALUE(RIGHT(G34,4)),0) -> 0
A35: 24 | B35: โปรดเลือก | H35: =IFERROR(IF(B35="โปรดเลือก",0,IF(B35="ไม่เป็นสมาชิก กบข.",ROUND((DATEDIF(F35,G35,"Y")+DATEDIF(F35,G35,"Ym")/12)+I35,0),AN35)),0) -> 0 | M35: =L35+K35 -> 0 | N35: =IFERROR(IF(P35<>0,0,IF(B35="โปรดเลือก ","",(IF(B35="ไม่เป็นสมาชิก กบข.",M35*H35/50,IF(B35="เป็นสมาชิก กบข. ",(IF(M35*H35/50>0.7*M35,0.7*M35,M35*H35/50))))))),0) | Q35: =IF(AP35<500000,AP35,500000) -> 0 | Y35: =IF(B35="โปรดเลือก ",0,IF(P35<>0,P35,IF(W35>0,W35+X35,(J35+N35)*12+O35*12+P35+S35+T35+U35))) -> 0 | Z35: โปรดเลือก | AA35: โปรดเลือก | AC35: โปรดเลือก | AD35: โปรดเลือก | AF35: โปรดเลือก | AG35: โปรดเลือก | AI35: =AB35+AE35+AH35 -> 0 | AJ35: =Y35+AI35 -> 0 | AK35: =IF(AU35<AQ35,AT35-AQ35+AU35,AU35-AQ35) -> 0 | AL35: =IF(AU35=AQ35,IF(AV35=AR35,0,IF(AV35>AR35,AV35-AR35,12+AV35-AR35)),IF(AU35>AQ35,IF(AV35>AR35,AV35-AR35,IF(AV35=AR35,0,12+AV35-AR35)),IF(AU35<AQ35,IF(AV35>AR35,AV35-AR35-1,IF(AV35=AR35,0,12+AV35-AR35-1))))) -> 0 | AM35: =IF(AND(AQ35=AU35,AR35=AV35),AW35-AS35,IF(AND(AQ35>=AU35,AR35>AV35),AW35-AS35-1,IF(AND(AQ35<AU35,AR35>AV35),AW35-AS35-1,IF(AND(AQ35<AU35,AR35<AV35),AW35-AS35,AW35-AS35)))) -> 0 | AN35: =IF(B35="โปรดเลือก",0,IF(B35="เป็นสมาชิก กบข. ",(AK35/365)+(AL35/12)+AM35+I35,ROUND((AK35/365)+(AL35/12)+AM35,0))) -> 0 | AP35: =IFERROR(IF(AND(J35<>0,N35=0),J35*15,IF(AND(J35=0,N35<>0),N35*15,0)),0) -> 0 | AQ35: =IFERROR(VALUE(LEFT(F35,2)),0) -> 0 | AR35: =IFERROR(VALUE(MID(F35,4,2)),0) -> 0 | AS35: =IFERROR(VALUE(RIGHT(F35,4)),0) -> 0 | AT35: =IFERROR(VLOOKUP(AV35-1,$AY$12:$AZ$23,2,0),0) -> 0 | AU35: =IFERROR(VALUE(LEFT(G35,2)),0) -> 0 | AV35: =IFERROR(VALUE(MID(G35,4,2)),0) -> 0 | AW35: =IFERROR(VALUE(RIGHT(G35,4)),0) -> 0
... A2010: 1999 | B2010: โปรดเลือก | H2010: =IFERROR(IF(B2010="โปรดเลือก",0,IF(B2010="ไม่เป็นสมาชิก กบข.",ROUND((DATEDIF(F2010,G2010,"Y")+DATEDIF(F2010,G2010,"Ym")/12)+I2010,0),AN2010)),0) -> 0 | M2010: =L2010+K2010 -> 0 | N2010: =IFERROR(IF(P2010<>0,0,IF(B2010="โปรดเลือก ","",(IF(B2010="ไม่เป็นสมาชิก กบข.",M2010*H2010/50,IF(B2010="เป็นสมาชิก กบข. ",(IF(M2010*H2010/50>0.7*M2010,0.7*M2010,M2010*H2010/50))))))),0) | Q2010: =IF(AP2010<500000,AP2010,500000) -> 0 | Y2010: =IF(B2010="โปรดเลือก ",0,IF(P2010<>0,P2010,IF(W2010>0,W2010+X2010,(J2010+N2010)*12+O2010*12+P2010+S2010+T2010+U2010))) -> 0 | Z2010: โปรดเลือก | AA2010: โปรดเลือก | AC2010: โปรดเลือก | AD2010: โปรดเลือก | AF2010: โปรดเลือก | AG2010: โปรดเลือก | AI2010: =AB2010+AE2010+AH2010 -> 0 | AJ2010: =Y2010+AI2010 -> 0 | AK2010: =IF(AU2010<AQ2010,AT2010-AQ2010+AU2010,AU2010-AQ2010) -> 0 | AL2010: =IF(AU2010=AQ2010,IF(AV2010=AR2010,0,IF(AV2010>AR2010,AV2010-AR2010,12+AV2010-AR2010)),IF(AU2010>AQ2010,IF(AV2010>AR2010,AV2010-AR2010,IF(AV2010=AR2010,0,12+AV2010-AR2010)),IF(AU2010<AQ2010,IF(AV2010>AR2010,AV2010-AR2010-1,IF(AV2010=AR2010,0,12+AV2010-AR2010-1))))) -> 0 | AM2010: =IF(AND(AQ2010=AU2010,AR2010=AV2010),AW2010-AS2010,IF(AND(AQ2010>=AU2010,AR2010>AV2010),AW2010-AS2010-1,IF(AND(AQ2010<AU2010,AR2010>AV2010),AW2010-AS2010-1,IF(AND(AQ2010<AU2010,AR2010<AV2010),AW2010-AS2010,AW2010-AS2010)))) -> 0 | AN2010: =IF(B2010="โปรดเลือก",0,IF(B2010="เป็นสมาชิก กบข. ",(AK2010/365)+(AL2010/12)+AM2010+I2010,ROUND((AK2010/365)+(AL2010/12)+AM2010,0))) -> 0 | AP2010: =IFERROR(IF(AND(J2010<>0,N2010=0),J2010*15,IF(AND(J2010=0,N2010<>0),N2010*15,0)),0) -> 0 | AQ2010: =IFERROR(VALUE(LEFT(F2010,2)),0) -> 0 | AR2010: =IFERROR(VALUE(MID(F2010,4,2)),0) -> 0 | AS2010: =IFERROR(VALUE(RIGHT(F2010,4)),0) -> 0 | AT2010: =IFERROR(VLOOKUP(AV2010-1,$AY$12:$AZ$23,2,0),0) -> 0 | AU2010: =IFERROR(VALUE(LEFT(G2010,2)),0) -> 0 | AV2010: =IFERROR(VALUE(MID(G2010,4,2)),0) -> 0 | AW2010: =IFERROR(VALUE(RIGHT(G2010,4)),0) -> 0
A2011: 2000 | B2011: โปรดเลือก | H2011: =IFERROR(IF(B2011="โปรดเลือก",0,IF(B2011="ไม่เป็นสมาชิก กบข.",ROUND((DATEDIF(F2011,G2011,"Y")+DATEDIF(F2011,G2011,"Ym")/12)+I2011,0),AN2011)),0) -> 0 | M2011: =L2011+K2011 -> 0 | N2011: =IFERROR(IF(P2011<>0,0,IF(B2011="โปรดเลือก ","",(IF(B2011="ไม่เป็นสมาชิก กบข.",M2011*H2011/50,IF(B2011="เป็นสมาชิก กบข. ",(IF(M2011*H2011/50>0.7*M2011,0.7*M2011,M2011*H2011/50))))))),0) | Q2011: =IF(AP2011<500000,AP2011,500000) -> 0 | R2011: 0 | Y2011: =IF(B2011="โปรดเลือก ",0,IF(P2011<>0,P2011,IF(W2011>0,W2011+X2011,(J2011+N2011)*12+O2011*12+P2011+S2011+T2011+U2011))) -> 0 | Z2011: โปรดเลือก | AA2011: โปรดเลือก | AC2011: โปรดเลือก | AD2011: โปรดเลือก | AF2011: โปรดเลือก | AG2011: โปรดเลือก | AI2011: =AB2011+AE2011+AH2011 -> 0 | AJ2011: =Y2011+AI2011 -> 0 | AK2011: =IF(AU2011<AQ2011,AT2011-AQ2011+AU2011,AU2011-AQ2011) -> 0 | AL2011: =IF(AU2011=AQ2011,IF(AV2011=AR2011,0,IF(AV2011>AR2011,AV2011-AR2011,12+AV2011-AR2011)),IF(AU2011>AQ2011,IF(AV2011>AR2011,AV2011-AR2011,IF(AV2011=AR2011,0,12+AV2011-AR2011)),IF(AU2011<AQ2011,IF(AV2011>AR2011,AV2011-AR2011-1,IF(AV2011=AR2011,0,12+AV2011-AR2011-1))))) -> 0 | AM2011: =IF(AND(AQ2011=AU2011,AR2011=AV2011),AW2011-AS2011,IF(AND(AQ2011>=AU2011,AR2011>AV2011),AW2011-AS2011-1,IF(AND(AQ2011<AU2011,AR2011>AV2011),AW2011-AS2011-1,IF(AND(AQ2011<AU2011,AR2011<AV2011),AW2011-AS2011,AW2011-AS2011)))) -> 0 | AN2011: =IF(B2011="โปรดเลือก",0,IF(B2011="เป็นสมาชิก กบข. ",(AK2011/365)+(AL2011/12)+AM2011+I2011,ROUND((AK2011/365)+(AL2011/12)+AM2011,0))) -> 0 | AP2011: =IFERROR(IF(AND(J2011<>0,N2011=0),J2011*15,IF(AND(J2011=0,N2011<>0),N2011*15,0)),0) -> 0 | AQ2011: =IFERROR(VALUE(LEFT(F2011,2)),0) -> 0 | AR2011: =IFERROR(VALUE(MID(F2011,4,2)),0) -> 0 | AS2011: =IFERROR(VALUE(RIGHT(F2011,4)),0) -> 0 | AT2011: =IFERROR(VLOOKUP(AV2011-1,$AY$12:$AZ$23,2,0),0) -> 0 | AU2011: =IFERROR(VALUE(LEFT(G2011,2)),0) -> 0 | AV2011: =IFERROR(VALUE(MID(G2011,4,2)),0) -> 0 | AW2011: =IFERROR(VALUE(RIGHT(G2011,4)),0) -> 0
