Workbook

Sheet รายละเอียด
A1: หน่วยรับงบประมาณ : ……… เงินอุดหนุนทั่วไป รายการ : เงินอุดหนุนสำหรับการจัดการศึกษาภาคบังคับ (เงินเดือนครู ค่าจ้างประจำ)
A2: 1. หลักการและเหตุผล : พระราชบัญญัติกำหนดแผนและขั้นตอนการกระจายอำนาจให้แก่องค์กรปกครองส่วนท้องถิ่น พ.ศ. 2542 ประกอบกับ แผนปฏิบัติการกำหนดขั้นตอนการกระจายอำนาจให้แก่องค์กรปกครองส่วนท้องถิ่น ดำเนินการถ่ายโอนภารกิจเงิน บุคลากรให้แก่องค์กรปกครอง ส่วนท้องถิ่น เพื่อสร้างความเข้มแข็งให้องค์กรปกครองส่วนท้องถิ่น มีจำนวนและคุณภาพที่เพียงพอเพื่อการปฏิบัติภารกิจหน้าที่ตามที่กฏหมาย กำหนดได้อย่างมีประสิทธิภาพและประสิทธิผล
A3: 2. วัตถุประสงค์ : เพื่อให้สถานศึกษาขององค์กรปกครองส่วนท้องถิ่น มีการบริหารและจัดการเรียนการสอนให้เป็นไปตามมาตรฐานการศึกษา อย่างมีคุณภาพประสิทธิภาพและเพื่อให้ครูและบุคลากรทางการศึกษาขององค์กรปกครองส่วนท้องถิ่น มีมาตรฐานวิชาชีพ มีคุณภาพ ประสิทธิภาพและการพัฒนาอย่างต่อเนื่องเกิดความก้าวหน้า ความมั่นคง
A4: 3. เป้าหมาย : ข้าราชการครู ลูกจ้างประจำ และพนักงานครู ของสถานศึกษาในสังกัดองค์กรปกครองส่วนท้องถิ่น
A5: 4. หลักเกณฑ์การจัดสรร : ตามหลักเกณฑ์การตั้งงบประมาณค่าใช้จ่ายบุคลากรภาครัฐ โดยใช้ข้อมูลการเบิกจ่ายจริงเป็นฐาน เป็นค่าใช้จ่าย หักอัตราเกษียณและบวกเงินเลื่อนขั้นประจำปีไม่เกินร้อยละ 6 สำหรับข้าราชการและลูกจ้างประจำ และไม่เกินร้อยละ 4 สำหรับพนักงานจ้างตามภารกิจ
A6: 5. ลักษณะการจัดสรรงบประมาณ : เป็นการจัดสรรให้กับบุคลากรในสังกัดองค์กรปกครองส่วนท้องถิ่น
A7: 6. ข้อมูลประกอบการพิจารณา 6.1 ผลการเบิกจ่ายงบประมาณ พ.ศ. 2566 – พ.ศ. 2568 6.2 ได้รับจัดสรรงบประมาณ พ.ศ. 2569 บุคลากร จำนวน.......................คน เป็นเงิน..........................บาท ผลการเบิกจ่าย ต.ค. – พ.ย. 2568 จำนวน.................................บาท

Sheet อธิบาย งด. +ส่วนควบ
B1: คำอธิบายแบบฟอร์มข้อมูลประกอบคำของบประมาณรายจ่ายประจำปีงบประมาณ พ.ศ. 2567
A2: คำอธิบายแบบฟอร์มคำนวณเงินเดือน รายการ : เงินอุดหนุนสำหรับการศึกษาภาคบังคับ (เงินเดือนครู ค่าจ้างประจำ)
A5: คอลัมน์ | B5: รายการ | L5: กรอกข้อมูล | M5: ไม่ต้องกรอก (คำนวณอัตโนมัติ)
A6: ข้อมูลส่วนตัว สำหรับการกรอกข้อมูลทั้งข้าราชการ/ลูกจ้างประจำ หรือ พนักงานราชการ ดังนี้
A7: (A) | B7: โรงเรียน / ศพด. / สถานที่ทำงาน ระบุชื่อโรงเรียน / ศพด. / สถานที่ทำงาน ที่สังกัด | L7: ü
A8: (B) | B8: ชื่อ - นามสกุล(หากเป็นอัตราว่างให้ระบุคำว่า "อัตราว่าง" ในช่องนี้) ใส่คำนำหน้านามแบบเต็ม (นาย/นาง/นางสาว) และต่อด้วยชื่อ และเว้นหนึ่งวรรคตามด้วยนามสกุล | L8: ü
A9: (C) | B9: เลขที่ตำแหน่ง เป็นตัวเลขเท่านั้น | L9: ü
A10: (D) | B10: อัตราคนครอง/อัตราว่าง จะสัมพันธ์กับคอลัมน์ (B) หากคอลัมน์ (B) ใส่ชื่อ นามสกุล คอลัมน์ (D) จะปรากฎว่า "อัตราคนครอง" แต่หากใส่คำว่า อัตราว่าง คอลัมน์ (D) จะปรากฎว่า "อัตราว่าง" | M10: ü
A11: ข้าราชการ/ลูกจ้างประจำ สำหรับการกรอกข้อมูลของข้าราชการหรือลูกจ้างประจำ ดังนี้
A12: (E) | B12: ตำแหน่ง ขั้น/ระดับ กรณีเป็นข้าราชการครูภาคบังคับหรือครูศูนย์พัฒนาเด็กเล็ก กดเลือกว่าเป็นครูผู้ช่วย, ครู, ครูชำนาญการ, ครูชำนาญการพิเศษ, ครูเชี่ยวชาญ, ลูกจ้างประจำ อย่างใดอย่างหนึ่ง | L12: ü
A13: (F) | B13: ตำแหน่ง หัวหน้าศูนย์/ผู้ดูแลเด็ก (สำหรับ ศพด.) ไม่ต้องกรอกข้อมูล
A14: (G) | B14: วัน/เดือน/ปีที่บรรจุ ใส่วันที่ในรูปแบบ วัน/เดือน/ปี พ.ศ. เช่น 15/01/2535 08/12/2540 | L14: ü
A15: (H) | B15: เงินเดือน ณ 1 ตุลาคม 2568 : จำนวนเงินเป็นรายเดือนที่เลื่อนขั้นในรอบที่ 2 ของปีงบประมาณ 2568 แล้ว | L15: ü
A16: (I) | B16: เลื่อนขั้น ร้อยละ 3 (ปี 2569) : ประมาณการเงินเลื่อนขั้นรอบที่ 2 ของปีงบประมาณ 2569 = เงินเดือน ณ 1 ต.ค. 2568 x 3% | M16: ü
A17: (J) | B17: เลื่อนขั้น ร้อยละ 6 (ปี 2570) : ประมาณการเงินเลื่อนขั้นของปีงบประมาณ 2570 = (เงินเดือน 1 ต.ค. 2568 + เลื่อนขั้น ร้อยละ 3) x 6% | M17: ü
A18: (K) | B18: รวมเงินเดือน + เลื่อนขั้น (รายเดือน) : เงินรายเดือนของปีงบประมาณ 2569 = เงินเดือน 1 ต.ค. 2567 + เลื่อนขั้น ร้อยละ 3 + เลื่อนขั้น ร้อยละ 6 | M18: ü
A19: (L) | B19: เงิน กบข. (รายเดือน) คือ เงินที่ต้องสมทบกองทุนบำเหน็จบำนาญข้าราชการ (กบข.) เป็นรายเดือน | L19: ü
A20: (M) | B20: เงิน กสจ. (รายเดือน) คือ กองทุนสํารองเลี้ยงชีพสําหรับลูกจ้างประจําของส่วนราชการ (กสจ.) เป็นรายเดือน | L20: ü
A21: (N) | B21: เงิน พสร. (รายเดือน) คือ เงินเพิ่มพิเศษสำหรับการสู้รบ (พสร.) เป็นรายเดือน | L21: ü
A22: (O) | B22: เงิน พตส. (รายเดือน) ไม่ต้องกรอกข้อมูล | G22: ข้อมูลเฉพาะ รพ.สต.
A23: (P) | B23: เงิน ฉ.11 (รายเดือน) ไม่ต้องกรอกข้อมูล
A24: (Q) | B24: ส่วนควบ (รายเดือน) ค่าวิทยฐานะ/ เงินประจำตำแหน่ง คือเงินค่าวิทยฐานะรายเดือนของครู | M24: ü
A25: (R) | B25: ส่วนควบ (รายเดือน) ค่าตอบแทนรายเดือน/เงินเพิ่มต่างๆ ของบุคลากรถ่ายโอน คือเงินค่าตอบแทนรายเดือนของครู | M25: ü
A26: (S) | B26: ค่าตอบแทนอื่น (รายเดือน) รพ.สต. คือ เงินค่าตอบแทนอื่น ๆ เป็นรายเดือนที่นอกเหนือจากเงินประจำตำแหน่ง และเงินเพิ่มต่างๆ ของบุคลากรถ่ายโอน เช่น ผู้ปฏิบัติงาน รพ.สต. ไม่ต้องกรอกข้อมูล
A27: (T) | B27: ค่าตอบแทนคณะกรรมการประเมินผลงาน (รวมยอด) กรอกจำนวนเงินของผู้มีสิทธิ์ได้รับต่อราย | L27: ü
A28: (U) | B28: ตกเบิก (รวมยอด) ค่าวิทยฐานะตกเบิก จำนวนเงินตกเบิกทั้งสิ้นของผู้มีสิทธิ์ได้รับต่อราย | M28: ü
A29: (V) | B29: ตกเบิก (รวมยอด) ค่าตอบแทนตกเบิก จำนวนเงินตกเบิกทั้งสิ้นของผู้มีสิทธิ์ได้รับต่อราย | M29: ü
A30: (W) | B30: รวมเงินเดือนข้าราชการและลูกจ้างประจำ | M30: ü
A31: พนักงานจ้างตามภารกิจ / พนักงานจ้างทั่วไป สำหรับการกรอกข้อมูลพนักงานราชการ ดังนี้
A32: (X) | B32: ตำแหน่ง กดเลือกว่าเป็นพนักงานจ้างตามภารกิจ หรือ พนักงานจ้างทั่วไป อย่างใดอย่างหนึ่ง | L32: ü
A33: (Y) | B33: หัวหน้าศูนย์/ผู้ดูแลเด็ก (สำหรับ ศพด.) ไม่ต้องกรอกข้อมูล
A34: (Z) | B34: เงินเดือน ณ 1 ต.ค. 2568 (รายเดือน) : จำนวนเงินรายเดือนที่รวมประมาณการเงินเลื่อนขั้นของปีงบประมาณ 2569 แล้ว | L34: ü
A35: (AA) | B35: เงินเลื่อนขั้น ร้อยละ 4 ของปี 2570 : ประมาณการเงินเลื่อนขั้นของปีงบประมาณ 2570 = เงินเดือน ณ 1 ต.ค. 2568 x 4% | M35: ü
A36: (AB) | B36: รวมเงินเดือน + เลื่อนขั้น (รายเดือน) : เงินรายเดือนของปีงบประมาณ 2570 = เงินเดือน ณ 1 ต.ค. 2568 + เงินเลื่อนขั้น ร้อยละ 4 ของปี 2569 | M36: ü
A37: (AC) | B37: เงินเพิ่มค่าครองชีพ (รายเดือน) : - พนักงานจ้างตามภารกิจ : ไม่เกิน 2,000 บาท/เดือน เมื่อรวมเงินเดือน + เงินเลื่อนขั้น + เงินค่าครองชีพแล้ว จะต้องไม่เกิน 14,600 บาท - พนักงานจ้างทั่วไป : เงินเดือน + เงินค่าครองชีพแล้ว จะต้องไม่เกิน 11,000 บาท/เดือน | M37: ü
A38: (AD) | B38: รวมเงินเดือน + เงินเพิ่มค่าครองชีพ (รายเดือน) | M38: ü
A39: (AE) | B39: เงินกองทุนประกันสังคมร้อยละ 5 (รายเดือน) : = รวมเงินเดือน + เลื่อนขั้น (รายเดือน) x 5% ซึ่งไม่เกิน 750 บาทต่อเดือน | M39: ü
A40: (AF) | B40: รวมเงินเดือนพนักงาน | M40: ü
A41: (AG) | B41: รวมเงินเดือนข้าราชการ , ลูกจ้างประจำ และพนักงาน | M41: ü
A43: สิทธิประโยชน์ต่างๆ สำหรับการกรอกข้อมูลของบุคลากรที่สิทธิ์ได้รับ ดังนี้
...

Sheet คำนวณเงินเดือน
A1: แบบฟอร์มประกอบคำของบประมาณรายจ่ายประจำปีงบประมาณ พ.ศ. 2570
A2: เงินอุดหนุนทั่วไป
A3: รายการ : เงินอุดหนุนสำหรับการศึกษาภาคบังคับ (เงินเดือนครู ค่าจ้างประจำ)
U4: ประมาณการคำของบประมาณ รายการเงินอุดหนุน ภาคบังคับ ฯ รวมทั้งสิ้น | Z4: =ROUND(Z5+Z8,-2) -> 0 | AA4: บาท | AB4: *ใช้จำนวนเงินในบรรทัดนี้กรอกระบบ BBL
X5: ประมาณการคำของบประมาณ เงินเดือนและส่วนควบ | Z5: =AV14 -> 0 | AA5: บาท
X6: ประมาณการคำของบประมาณ ค่าเช่าบ้าน | Z6: =AK14 -> 0 | AA6: บาท
X7: ประมาณการคำของบประมาณ ค่าการศึกษาบุตร | Z7: =AU14 -> 0 | AA7: บาท
X8: ประมาณการคำของบประมาณ บำเหน็จบำนาญ | Z8: =คำนวณบำเหน็จบำนาญ!T5 -> 0 | AA8: บาท
A9: หน่วยรับงบประมาณ : ....................................
A11: ข้อมูลส่วนตัว | E11: ข้าราชการ / ลูกจ้างประจำ | W11: รวมเงินเดือน ข้าราชการและลูกจ้างประจำ (W) | X11: พนักงานจ้างตามภารกิจ / พนักงานจ้างทั่วไป | AF11: รวมเงินเดือน พนักงาน (AF = (AD+AE)*12) | AG11: รวมเงินเดือน ข้าราชการ , ลูกจ้างประจำ และพนักงาน (AG = W + AF) | AH11: เงินค่าตอบแทนพิเศษชายแดนใต้ (รายเดือน) (AH) | AI11: สิทธิ์ประโยชน์ ค่าเช่าบ้าน | AL11: ค่าการศึกษาบุตรคนที่ 1 (รวมยอด) | AO11: ค่าการศึกษาบุตรคนที่ 2 (รวมยอด) | AR11: ค่าการศึกษาบุตรคนที่ 3 (รวมยอด) | AU11: รวม ค่าการศึกษาบุตร (รวมยอด) (AU = AN + AQ + AT) | AV11: รวม (เงินรายเดือน) (AV = AG + AK + AU (AH*12)) | AW11: รวมเงินตกเบิก (AW = U + V) | AX11: รวมทั้งสิ้น (หนึ่งปี งบประมาณ) (AX = AV)
A12: โรงเรียน / ศพด. / สถานที่ทำงาน (A) | B12: ชื่อ - นามสกุล (หากเป็นอัตราว่างให้ระบุคำว่า "อัตราว่าง" ในช่องนี้) (B) | C12: เลขที่ตำแหน่ง (C) | D12: อัตราคนครอง /อัตราว่าง (D) | E12: ตำแหน่ง | G12: วันเดือนปี ที่บรรจุ (G) | H12: เงินเดือน ณ 1 ตุลาคม 2568 ที่เลื่อนขั้นแล้ว (รายเดือน) (H) | I12: เลื่อนขั้น ร้อยละ 3 (ปี 2569) (I) | J12: เลื่อนขั้น ร้อยละ 6 (ทั้งปี 2570) (J) | K12: รวมเงินเดือน + เลื่อนขั้น (รายเดือน) (K = H + I + J) | L12: เงิน กบข. (รายเดือน) (L) | M12: เงิน กสจ. (รายเดือน) ของลูกจ้างประจำ (M) | N12: เงิน พสร. (รายเดือน) (N) | O12: เงิน พตส. (สอน./รพ.สต.) (รายเดือน) (O) (ไม่ต้องกรอกข้อมูล) | P12: เงิน ฉ.11 (สอน./รพ.สต.) (รายเดือน) (P) (ไม่ต้องกรอกข้อมูล) | Q12: ส่วนควบ (รายเดือน) | S12: ค่าตอบแทนอื่น (รายเดือน) รพ.สต. (S) (ไม่ต้องกรอกข้อมูล) | T12: ค่าตอบแทน คณะกรรมการ ประเมินผลงาน (รวมยอด) (T) | U12: ตกเบิก (รวมยอด) | X12: ตำแหน่ง (X) | Y12: หัวหน้าศูนย์/ ผู้ดูแลเด็ก (สำหรับ ศพด.) (Y) (ไม่ต้องกรอกข้อมูล) | Z12: เงินเดือนพนักงาน ณ 1 ต.ค. 2568 ที่เลื่อนขั้นแล้ว ของปี 2569 (รายเดือน) (Z) | AA12: เลื่อนขั้น ร้อยละ 4 ของปี 2570 (AA) | AB12: รวมเงินเดือน + เลื่อนขั้น (รายเดือน) (AB = Z + AA) | AC12: เงินเพิ่มค่าครองชีพ (รายเดือน) (AC) | AD12: รวมเงินเดือน + เงินเพิ่มค่าครองชีพ (รายเดือน) (AD = AB +AC) | AE12: เงินกองทุน ประกันสังคม ร้อยละ 5 (รายเดือน) (AE = AB x 5%) | AL12: ประเภทสถานศึกษา 1 (AL) | AM12: ระดับชั้น 1 (AM) | AN12: จำนวนเงิน 1 (AN) | AO12: ประเภทสถานศึกษา 2 (AO) | AP12: ระดับชั้น 2 (AP) | AQ12: จำนวนเงิน 2 (AQ) | AR12: ประเภทสถานศึกษา 3 (AR) | AS12: ระดับชั้น 3 (AS) | AT12: จำนวนเงิน 3 (AT)
E13: ชื่อตำแหน่ง (E) | F13: ประเภท/ระดับ (F) | Q13: ค่าวิทยฐานะ / เงินประจำตำแหน่ง (Q) | R13: ค่าตอบแทนรายเดือน /เงินเพิ่มต่างๆ ของบุคลากรถ่ายโอน (R) | U13: ค่าวิทยฐานะตกเบิก (U) | V13: ค่าตอบแทนตกเบิก (V) | AI13: ค่าเช่าบ้าน รายเดือน (AI) | AJ13: จำนวนเดือน ที่ขอ (AJ) | AK13: รวมค่าเช่าบ้าน (AK = AI * AJ)
A14: รวมทั้งสิ้น | H14: =SUM(H15:H2514) -> 0 | I14: =SUM(I15:I2514) -> 0 | J14: =SUM(J15:J2514) -> 0 | K14: =SUM(K15:K2514) -> 0 | L14: =SUM(L15:L2514) -> 0 | M14: =SUM(M15:M2514) -> 0 | N14: =SUM(N15:N2514) -> 0 | O14: =SUM(O15:O2514) -> 0 | ... W14: =SUM(W15:W2514) -> 0 | Z14: =SUM(Z15:Z2514) -> 0 | AA14: =SUM(AA15:AA2514) -> 0 | AB14: =SUM(AB15:AB2514) -> 0 | AC14: =SUM(AC15:AC2514) -> 0 | AD14: =SUM(AD15:AD2514) -> 0 | AE14: =SUM(AE15:AE2514) -> 0 | AF14: =SUM(AF15:AF2514) -> 0 | AG14: =SUM(AG15:AG2514) -> 0 | ... AK14: =SUM(AK15:AK2514) -> 0 | AN14: =SUM(AN15:AN2514) -> 0 | AQ14: =SUM(AQ15:AQ2514) -> 0 | AT14: =SUM(AT15:AT2514) -> 0 | AU14: =SUM(AU15:AU2514) -> 0 | AV14: =SUM(AV15:AV2514) -> 0 | AW14: =SUM(AW15:AW2514) -> 0 | AX14: =SUM(AX15:AX2514) -> 0
D15: =IF(LEN(B15)=0,"",IF(IFERROR(FIND("อัตราว่าง",B15,1),0)=0,"อัตราคนครอง","อัตราว่าง")) | E15: โปรดเลือก | I15: =H15*3% -> 0 | J15: =(H15+I15)*6% -> 0 | K15: =H15+J15+I15 -> 0 | O15: 0 | P15: 0 | Q15: =VLOOKUP(E15,$BA$15:$BC$22,2,FALSE) -> 0 | R15: =VLOOKUP(E15,$BA$15:$BC$22,3,FALSE) -> 0 | S15: 0 | U15: =IFERROR(VLOOKUP(B15,คำนวณตกเบิกวิทยฐานะ!$B$9:$P$1008,14,FALSE),0) -> 0 | V15: =IFERROR(VLOOKUP(B15,คำนวณตกเบิกวิทยฐานะ!$B$9:$P$1008,15,FALSE),0) -> 0 | W15: =(K15+L15+M15+N15+O15+P15+Q15+R15+S15)*12+U15+V15+T15 -> 0 | X15: โปรดเลือก | Y15: โปรดเลือก | AA15: =IF(X15="พนักงานจ้างตามภารกิจ",Z15*4/100,0) -> 0 | AB15: =Z15+AA15 -> 0 | AC15: =IF(Z15=0,0,IF(X15="พนักงานจ้างทั่วไป",IF(AB15>11000,0,IF(11000-AB15<=2000,11000-AB15,2000)),IF(AB15>14600,0,IF(14600-AB15<=2000,14600-AB15,2000)))) -> 0 | AD15: =AB15+AC15 -> 0 | AE15: =IF(OR(X15="พนักงานจ้างตามภารกิจ",X15="พนักงานจ้างทั่วไป"),IF(AD15*5/100>750,750,AD15*5/100),0) -> 0 | AF15: =(AD15+AE15)*12 -> 0 | AG15: =W15+AF15 -> 0 | AK15: =AI15*AJ15 -> 0 | AL15: โปรดเลือก | AM15: โปรดเลือก | AO15: โปรดเลือก | AP15: โปรดเลือก | AR15: โปรดเลือก | AS15: โปรดเลือก | AU15: =AN15+AQ15+AT15 -> 0 | AV15: =AG15+AK15+AU15+(AH15*12) -> 0 | AW15: =U15+V15 -> 0 | AX15: =AV15 -> 0 | BA15: โปรดเลือก | BB15: 0 | BC15: 0
D16: =IF(LEN(B16)=0,"",IF(IFERROR(FIND("อัตราว่าง",B16,1),0)=0,"อัตราคนครอง","อัตราว่าง")) | E16: โปรดเลือก | F16: โปรดเลือก | I16: =H16*3% -> 0 | J16: =(H16+I16)*6% -> 0 | K16: =H16+J16+I16 -> 0 | O16: 0 | P16: 0 | Q16: =VLOOKUP(E16,$BA$15:$BC$22,2,FALSE) -> 0 | R16: =VLOOKUP(E16,$BA$15:$BC$22,3,FALSE) -> 0 | S16: 0 | U16: =IFERROR(VLOOKUP(B16,คำนวณตกเบิกวิทยฐานะ!$B$9:$P$1008,14,FALSE),0) -> 0 | V16: =IFERROR(VLOOKUP(B16,คำนวณตกเบิกวิทยฐานะ!$B$9:$P$1008,15,FALSE),0) -> 0 | W16: =(K16+L16+M16+N16+O16+P16+Q16+R16+S16)*12+U16+V16+T16 -> 0 | X16: โปรดเลือก | Y16: โปรดเลือก | AA16: =IF(X16="พนักงานจ้างตามภารกิจ",Z16*4/100,0) -> 0 | AB16: =Z16+AA16 -> 0 | AC16: =IF(Z16=0,0,IF(X16="พนักงานจ้างทั่วไป",IF(AB16>11000,0,IF(11000-AB16<=2000,11000-AB16,2000)),IF(AB16>14600,0,IF(14600-AB16<=2000,14600-AB16,2000)))) -> 0 | AD16: =AB16+AC16 -> 0 | AE16: =IF(OR(X16="พนักงานจ้างตามภารกิจ",X16="พนักงานจ้างทั่วไป"),IF(AD16*5/100>750,750,AD16*5/100),0) -> 0 | AF16: =(AD16+AE16)*12 -> 0 | AG16: =W16+AF16 -> 0 | AK16: =AI16*AJ16 -> 0 | AL16: โปรดเลือก | AM16: โปรดเลือก | AO16: โปรดเลือก | AP16: โปรดเลือก | AR16: โปรดเลือก | AS16: โปรดเลือก | AU16: =AN16+AQ16+AT16 -> 0 | AV16: =AG16+AK16+AU16+(AH16*12) -> 0 | AW16: =U16+V16 -> 0 | AX16: =AV16 -> 0 | BA16: ครูผู้ช่วย | BB16: 0 | BC16: 0
D17: =IF(LEN(B17)=0,"",IF(IFERROR(FIND("อัตราว่าง",B17,1),0)=0,"อัตราคนครอง","อัตราว่าง")) | E17: โปรดเลือก | F17: โปรดเลือก | I17: =H17*3% -> 0 | J17: =(H17+I17)*6% -> 0 | K17: =H17+J17+I17 -> 0 | O17: 0 | P17: 0 | Q17: =VLOOKUP(E17,$BA$15:$BC$22,2,FALSE) -> 0 | R17: =VLOOKUP(E17,$BA$15:$BC$22,3,FALSE) -> 0 | S17: 0 | U17: =IFERROR(VLOOKUP(B17,คำนวณตกเบิกวิทยฐานะ!$B$9:$P$1008,14,FALSE),0) -> 0 | V17: =IFERROR(VLOOKUP(B17,คำนวณตกเบิกวิทยฐานะ!$B$9:$P$1008,15,FALSE),0) -> 0 | W17: =(K17+L17+M17+N17+O17+P17+Q17+R17+S17)*12+U17+V17+T17 -> 0 | X17: โปรดเลือก | Y17: โปรดเลือก | AA17: =IF(X17="พนักงานจ้างตามภารกิจ",Z17*4/100,0) -> 0 | AB17: =Z17+AA17 -> 0 | AC17: =IF(Z17=0,0,IF(X17="พนักงานจ้างทั่วไป",IF(AB17>11000,0,IF(11000-AB17<=2000,11000-AB17,2000)),IF(AB17>14600,0,IF(14600-AB17<=2000,14600-AB17,2000)))) -> 0 | AD17: =AB17+AC17 -> 0 | AE17: =IF(OR(X17="พนักงานจ้างตามภารกิจ",X17="พนักงานจ้างทั่วไป"),IF(AD17*5/100>750,750,AD17*5/100),0) -> 0 | AF17: =(AD17+AE17)*12 -> 0 | AG17: =W17+AF17 -> 0 | AK17: =AI17*AJ17 -> 0 | AL17: โปรดเลือก | AM17: โปรดเลือก | AO17: โปรดเลือก | AP17: โปรดเลือก | AR17: โปรดเลือก | AS17: โปรดเลือก | AU17: =AN17+AQ17+AT17 -> 0 | AV17: =AG17+AK17+AU17+(AH17*12) -> 0 | AW17: =U17+V17 -> 0 | AX17: =AV17 -> 0 | BA17: คศ.1/ครู | BB17: 0 | BC17: 0
D18: =IF(LEN(B18)=0,"",IF(IFERROR(FIND("อัตราว่าง",B18,1),0)=0,"อัตราคนครอง","อัตราว่าง")) | E18: โปรดเลือก | F18: โปรดเลือก | I18: =H18*3% -> 0 | J18: =(H18+I18)*6% -> 0 | K18: =H18+J18+I18 -> 0 | O18: 0 | P18: 0 | Q18: =VLOOKUP(E18,$BA$15:$BC$22,2,FALSE) -> 0 | R18: =VLOOKUP(E18,$BA$15:$BC$22,3,FALSE) -> 0 | S18: 0 | U18: =IFERROR(VLOOKUP(B18,คำนวณตกเบิกวิทยฐานะ!$B$9:$P$1008,14,FALSE),0) -> 0 | V18: =IFERROR(VLOOKUP(B18,คำนวณตกเบิกวิทยฐานะ!$B$9:$P$1008,15,FALSE),0) -> 0 | W18: =(K18+L18+M18+N18+O18+P18+Q18+R18+S18)*12+U18+V18+T18 -> 0 | X18: โปรดเลือก | Y18: โปรดเลือก | AA18: =IF(X18="พนักงานจ้างตามภารกิจ",Z18*4/100,0) -> 0 | AB18: =Z18+AA18 -> 0 | AC18: =IF(Z18=0,0,IF(X18="พนักงานจ้างทั่วไป",IF(AB18>11000,0,IF(11000-AB18<=2000,11000-AB18,2000)),IF(AB18>14600,0,IF(14600-AB18<=2000,14600-AB18,2000)))) -> 0 | AD18: =AB18+AC18 -> 0 | AE18: =IF(OR(X18="พนักงานจ้างตามภารกิจ",X18="พนักงานจ้างทั่วไป"),IF(AD18*5/100>750,750,AD18*5/100),0) -> 0 | AF18: =(AD18+AE18)*12 -> 0 | AG18: =W18+AF18 -> 0 | AK18: =AI18*AJ18 -> 0 | AL18: โปรดเลือก | AM18: โปรดเลือก | AO18: โปรดเลือก | AP18: โปรดเลือก | AR18: โปรดเลือก | AS18: โปรดเลือก | AU18: =AN18+AQ18+AT18 -> 0 | AV18: =AG18+AK18+AU18+(AH18*12) -> 0 | AW18: =U18+V18 -> 0 | AX18: =AV18 -> 0 | BA18: คศ.2/ครูชำนาญการ | BB18: 3500 | BC18: 0
D19: =IF(LEN(B19)=0,"",IF(IFERROR(FIND("อัตราว่าง",B19,1),0)=0,"อัตราคนครอง","อัตราว่าง")) | E19: โปรดเลือก | F19: โปรดเลือก | I19: =H19*3% -> 0 | J19: =(H19+I19)*6% -> 0 | K19: =H19+J19+I19 -> 0 | O19: 0 | P19: 0 | Q19: =VLOOKUP(E19,$BA$15:$BC$22,2,FALSE) -> 0 | R19: =VLOOKUP(E19,$BA$15:$BC$22,3,FALSE) -> 0 | S19: 0 | U19: =IFERROR(VLOOKUP(B19,คำนวณตกเบิกวิทยฐานะ!$B$9:$P$1008,14,FALSE),0) -> 0 | V19: =IFERROR(VLOOKUP(B19,คำนวณตกเบิกวิทยฐานะ!$B$9:$P$1008,15,FALSE),0) -> 0 | W19: =(K19+L19+M19+N19+O19+P19+Q19+R19+S19)*12+U19+V19+T19 -> 0 | X19: โปรดเลือก | Y19: โปรดเลือก | AA19: =IF(X19="พนักงานจ้างตามภารกิจ",Z19*4/100,0) -> 0 | AB19: =Z19+AA19 -> 0 | AC19: =IF(Z19=0,0,IF(X19="พนักงานจ้างทั่วไป",IF(AB19>11000,0,IF(11000-AB19<=2000,11000-AB19,2000)),IF(AB19>14600,0,IF(14600-AB19<=2000,14600-AB19,2000)))) -> 0 | AD19: =AB19+AC19 -> 0 | AE19: =IF(OR(X19="พนักงานจ้างตามภารกิจ",X19="พนักงานจ้างทั่วไป"),IF(AD19*5/100>750,750,AD19*5/100),0) -> 0 | AF19: =(AD19+AE19)*12 -> 0 | AG19: =W19+AF19 -> 0 | AK19: =AI19*AJ19 -> 0 | AL19: โปรดเลือก | AM19: โปรดเลือก | AO19: โปรดเลือก | AP19: โปรดเลือก | AR19: โปรดเลือก | AS19: โปรดเลือก | AU19: =AN19+AQ19+AT19 -> 0 | AV19: =AG19+AK19+AU19+(AH19*12) -> 0 | AW19: =U19+V19 -> 0 | AX19: =AV19 -> 0 | BA19: คศ.3/ครูชำนาญการพิเศษ | BB19: 5600 | BC19: 5600
D20: =IF(LEN(B20)=0,"",IF(IFERROR(FIND("อัตราว่าง",B20,1),0)=0,"อัตราคนครอง","อัตราว่าง")) | E20: โปรดเลือก | F20: โปรดเลือก | I20: =H20*3% -> 0 | J20: =(H20+I20)*6% -> 0 | K20: =H20+J20+I20 -> 0 | O20: 0 | P20: 0 | Q20: =VLOOKUP(E20,$BA$15:$BC$22,2,FALSE) -> 0 | R20: =VLOOKUP(E20,$BA$15:$BC$22,3,FALSE) -> 0 | S20: 0 | U20: =IFERROR(VLOOKUP(B20,คำนวณตกเบิกวิทยฐานะ!$B$9:$P$1008,14,FALSE),0) -> 0 | V20: =IFERROR(VLOOKUP(B20,คำนวณตกเบิกวิทยฐานะ!$B$9:$P$1008,15,FALSE),0) -> 0 | W20: =(K20+L20+M20+N20+O20+P20+Q20+R20+S20)*12+U20+V20+T20 -> 0 | X20: โปรดเลือก | Y20: โปรดเลือก | AA20: =IF(X20="พนักงานจ้างตามภารกิจ",Z20*4/100,0) -> 0 | AB20: =Z20+AA20 -> 0 | AC20: =IF(Z20=0,0,IF(X20="พนักงานจ้างทั่วไป",IF(AB20>11000,0,IF(11000-AB20<=2000,11000-AB20,2000)),IF(AB20>14600,0,IF(14600-AB20<=2000,14600-AB20,2000)))) -> 0 | AD20: =AB20+AC20 -> 0 | AE20: =IF(OR(X20="พนักงานจ้างตามภารกิจ",X20="พนักงานจ้างทั่วไป"),IF(AD20*5/100>750,750,AD20*5/100),0) -> 0 | AF20: =(AD20+AE20)*12 -> 0 | AG20: =W20+AF20 -> 0 | AK20: =AI20*AJ20 -> 0 | AL20: โปรดเลือก | AM20: โปรดเลือก | AO20: โปรดเลือก | AP20: โปรดเลือก | AR20: โปรดเลือก | AS20: โปรดเลือก | AU20: =AN20+AQ20+AT20 -> 0 | AV20: =AG20+AK20+AU20+(AH20*12) -> 0 | AW20: =U20+V20 -> 0 | AX20: =AV20 -> 0 | BA20: คศ.4/ครูเชี่ยวชาญ | BB20: 9900 | BC20: 9900
D21: =IF(LEN(B21)=0,"",IF(IFERROR(FIND("อัตราว่าง",B21,1),0)=0,"อัตราคนครอง","อัตราว่าง")) | E21: โปรดเลือก | F21: โปรดเลือก | I21: =H21*3% -> 0 | J21: =(H21+I21)*6% -> 0 | K21: =H21+J21+I21 -> 0 | O21: 0 | P21: 0 | Q21: =VLOOKUP(E21,$BA$15:$BC$22,2,FALSE) -> 0 | R21: =VLOOKUP(E21,$BA$15:$BC$22,3,FALSE) -> 0 | S21: 0 | U21: =IFERROR(VLOOKUP(B21,คำนวณตกเบิกวิทยฐานะ!$B$9:$P$1008,14,FALSE),0) -> 0 | V21: =IFERROR(VLOOKUP(B21,คำนวณตกเบิกวิทยฐานะ!$B$9:$P$1008,15,FALSE),0) -> 0 | W21: =(K21+L21+M21+N21+O21+P21+Q21+R21+S21)*12+U21+V21+T21 -> 0 | X21: โปรดเลือก | Y21: โปรดเลือก | AA21: =IF(X21="พนักงานจ้างตามภารกิจ",Z21*4/100,0) -> 0 | AB21: =Z21+AA21 -> 0 | AC21: =IF(Z21=0,0,IF(X21="พนักงานจ้างทั่วไป",IF(AB21>11000,0,IF(11000-AB21<=2000,11000-AB21,2000)),IF(AB21>14600,0,IF(14600-AB21<=2000,14600-AB21,2000)))) -> 0 | AD21: =AB21+AC21 -> 0 | AE21: =IF(OR(X21="พนักงานจ้างตามภารกิจ",X21="พนักงานจ้างทั่วไป"),IF(AD21*5/100>750,750,AD21*5/100),0) -> 0 | AF21: =(AD21+AE21)*12 -> 0 | AG21: =W21+AF21 -> 0 | AK21: =AI21*AJ21 -> 0 | AL21: โปรดเลือก | AM21: โปรดเลือก | AO21: โปรดเลือก | AP21: โปรดเลือก | AR21: โปรดเลือก | AS21: โปรดเลือก | AU21: =AN21+AQ21+AT21 -> 0 | AV21: =AG21+AK21+AU21+(AH21*12) -> 0 | AW21: =U21+V21 -> 0 | AX21: =AV21 -> 0 | BA21: คศ.5/ครูเชี่ยวชาญขึ้นไป | BB21: 9900 | BC21: 9900
D22: =IF(LEN(B22)=0,"",IF(IFERROR(FIND("อัตราว่าง",B22,1),0)=0,"อัตราคนครอง","อัตราว่าง")) | E22: โปรดเลือก | F22: โปรดเลือก | I22: =H22*3% -> 0 | J22: =(H22+I22)*6% -> 0 | K22: =H22+J22+I22 -> 0 | O22: 0 | P22: 0 | Q22: =VLOOKUP(E22,$BA$15:$BC$22,2,FALSE) -> 0 | R22: =VLOOKUP(E22,$BA$15:$BC$22,3,FALSE) -> 0 | S22: 0 | U22: =IFERROR(VLOOKUP(B22,คำนวณตกเบิกวิทยฐานะ!$B$9:$P$1008,14,FALSE),0) -> 0 | V22: =IFERROR(VLOOKUP(B22,คำนวณตกเบิกวิทยฐานะ!$B$9:$P$1008,15,FALSE),0) -> 0 | W22: =(K22+L22+M22+N22+O22+P22+Q22+R22+S22)*12+U22+V22+T22 -> 0 | X22: โปรดเลือก | Y22: โปรดเลือก | AA22: =IF(X22="พนักงานจ้างตามภารกิจ",Z22*4/100,0) -> 0 | AB22: =Z22+AA22 -> 0 | AC22: =IF(Z22=0,0,IF(X22="พนักงานจ้างทั่วไป",IF(AB22>11000,0,IF(11000-AB22<=2000,11000-AB22,2000)),IF(AB22>14600,0,IF(14600-AB22<=2000,14600-AB22,2000)))) -> 0 | AD22: =AB22+AC22 -> 0 | AE22: =IF(OR(X22="พนักงานจ้างตามภารกิจ",X22="พนักงานจ้างทั่วไป"),IF(AD22*5/100>750,750,AD22*5/100),0) -> 0 | AF22: =(AD22+AE22)*12 -> 0 | AG22: =W22+AF22 -> 0 | AK22: =AI22*AJ22 -> 0 | AL22: โปรดเลือก | AM22: โปรดเลือก | AO22: โปรดเลือก | AP22: โปรดเลือก | AR22: โปรดเลือก | AS22: โปรดเลือก | AU22: =AN22+AQ22+AT22 -> 0 | AV22: =AG22+AK22+AU22+(AH22*12) -> 0 | AW22: =U22+V22 -> 0 | AX22: =AV22 -> 0 | BA22: ลูกจ้างประจำ | BB22: 0 | BC22: 0
D23: =IF(LEN(B23)=0,"",IF(IFERROR(FIND("อัตราว่าง",B23,1),0)=0,"อัตราคนครอง","อัตราว่าง")) | E23: โปรดเลือก | F23: โปรดเลือก | I23: =H23*3% -> 0 | J23: =(H23+I23)*6% -> 0 | K23: =H23+J23+I23 -> 0 | O23: 0 | P23: 0 | Q23: =VLOOKUP(E23,$BA$15:$BC$22,2,FALSE) -> 0 | R23: =VLOOKUP(E23,$BA$15:$BC$22,3,FALSE) -> 0 | S23: 0 | U23: =IFERROR(VLOOKUP(B23,คำนวณตกเบิกวิทยฐานะ!$B$9:$P$1008,14,FALSE),0) -> 0 | V23: =IFERROR(VLOOKUP(B23,คำนวณตกเบิกวิทยฐานะ!$B$9:$P$1008,15,FALSE),0) -> 0 | W23: =(K23+L23+M23+N23+O23+P23+Q23+R23+S23)*12+U23+V23+T23 -> 0 | X23: โปรดเลือก | Y23: โปรดเลือก | AA23: =IF(X23="พนักงานจ้างตามภารกิจ",Z23*4/100,0) -> 0 | AB23: =Z23+AA23 -> 0 | AC23: =IF(Z23=0,0,IF(X23="พนักงานจ้างทั่วไป",IF(AB23>11000,0,IF(11000-AB23<=2000,11000-AB23,2000)),IF(AB23>14600,0,IF(14600-AB23<=2000,14600-AB23,2000)))) -> 0 | AD23: =AB23+AC23 -> 0 | AE23: =IF(OR(X23="พนักงานจ้างตามภารกิจ",X23="พนักงานจ้างทั่วไป"),IF(AD23*5/100>750,750,AD23*5/100),0) -> 0 | AF23: =(AD23+AE23)*12 -> 0 | AG23: =W23+AF23 -> 0 | AK23: =AI23*AJ23 -> 0 | AL23: โปรดเลือก | AM23: โปรดเลือก | AO23: โปรดเลือก | AP23: โปรดเลือก | AR23: โปรดเลือก | AS23: โปรดเลือก | AU23: =AN23+AQ23+AT23 -> 0 | AV23: =AG23+AK23+AU23+(AH23*12) -> 0 | AW23: =U23+V23 -> 0 | AX23: =AV23 -> 0
D24: =IF(LEN(B24)=0,"",IF(IFERROR(FIND("อัตราว่าง",B24,1),0)=0,"อัตราคนครอง","อัตราว่าง")) | E24: โปรดเลือก | F24: โปรดเลือก | I24: =H24*3% -> 0 | J24: =(H24+I24)*6% -> 0 | K24: =H24+J24+I24 -> 0 | O24: 0 | P24: 0 | Q24: =VLOOKUP(E24,$BA$15:$BC$22,2,FALSE) -> 0 | R24: =VLOOKUP(E24,$BA$15:$BC$22,3,FALSE) -> 0 | S24: 0 | U24: =IFERROR(VLOOKUP(B24,คำนวณตกเบิกวิทยฐานะ!$B$9:$P$1008,14,FALSE),0) -> 0 | V24: =IFERROR(VLOOKUP(B24,คำนวณตกเบิกวิทยฐานะ!$B$9:$P$1008,15,FALSE),0) -> 0 | W24: =(K24+L24+M24+N24+O24+P24+Q24+R24+S24)*12+U24+V24+T24 -> 0 | X24: โปรดเลือก | Y24: โปรดเลือก | AA24: =IF(X24="พนักงานจ้างตามภารกิจ",Z24*4/100,0) -> 0 | AB24: =Z24+AA24 -> 0 | AC24: =IF(Z24=0,0,IF(X24="พนักงานจ้างทั่วไป",IF(AB24>11000,0,IF(11000-AB24<=2000,11000-AB24,2000)),IF(AB24>14600,0,IF(14600-AB24<=2000,14600-AB24,2000)))) -> 0 | AD24: =AB24+AC24 -> 0 | AE24: =IF(OR(X24="พนักงานจ้างตามภารกิจ",X24="พนักงานจ้างทั่วไป"),IF(AD24*5/100>750,750,AD24*5/100),0) -> 0 | AF24: =(AD24+AE24)*12 -> 0 | AG24: =W24+AF24 -> 0 | AK24: =AI24*AJ24 -> 0 | AL24: โปรดเลือก | AM24: โปรดเลือก | AO24: โปรดเลือก | AP24: โปรดเลือก | AR24: โปรดเลือก | AS24: โปรดเลือก | AU24: =AN24+AQ24+AT24 -> 0 | AV24: =AG24+AK24+AU24+(AH24*12) -> 0 | AW24: =U24+V24 -> 0 | AX24: =AV24 -> 0
D25: =IF(LEN(B25)=0,"",IF(IFERROR(FIND("อัตราว่าง",B25,1),0)=0,"อัตราคนครอง","อัตราว่าง")) | E25: โปรดเลือก | F25: โปรดเลือก | I25: =H25*3% -> 0 | J25: =(H25+I25)*6% -> 0 | K25: =H25+J25+I25 -> 0 | O25: 0 | P25: 0 | Q25: =VLOOKUP(E25,$BA$15:$BC$22,2,FALSE) -> 0 | R25: =VLOOKUP(E25,$BA$15:$BC$22,3,FALSE) -> 0 | S25: 0 | U25: =IFERROR(VLOOKUP(B25,คำนวณตกเบิกวิทยฐานะ!$B$9:$P$1008,14,FALSE),0) -> 0 | V25: =IFERROR(VLOOKUP(B25,คำนวณตกเบิกวิทยฐานะ!$B$9:$P$1008,15,FALSE),0) -> 0 | W25: =(K25+L25+M25+N25+O25+P25+Q25+R25+S25)*12+U25+V25+T25 -> 0 | X25: โปรดเลือก | Y25: โปรดเลือก | AA25: =IF(X25="พนักงานจ้างตามภารกิจ",Z25*4/100,0) -> 0 | AB25: =Z25+AA25 -> 0 | AC25: =IF(Z25=0,0,IF(X25="พนักงานจ้างทั่วไป",IF(AB25>11000,0,IF(11000-AB25<=2000,11000-AB25,2000)),IF(AB25>14600,0,IF(14600-AB25<=2000,14600-AB25,2000)))) -> 0 | AD25: =AB25+AC25 -> 0 | AE25: =IF(OR(X25="พนักงานจ้างตามภารกิจ",X25="พนักงานจ้างทั่วไป"),IF(AD25*5/100>750,750,AD25*5/100),0) -> 0 | AF25: =(AD25+AE25)*12 -> 0 | AG25: =W25+AF25 -> 0 | AK25: =AI25*AJ25 -> 0 | AL25: โปรดเลือก | AM25: โปรดเลือก | AO25: โปรดเลือก | AP25: โปรดเลือก | AR25: โปรดเลือก | AS25: โปรดเลือก | AU25: =AN25+AQ25+AT25 -> 0 | AV25: =AG25+AK25+AU25+(AH25*12) -> 0 | AW25: =U25+V25 -> 0 | AX25: =AV25 -> 0
D26: =IF(LEN(B26)=0,"",IF(IFERROR(FIND("อัตราว่าง",B26,1),0)=0,"อัตราคนครอง","อัตราว่าง")) | E26: โปรดเลือก | F26: โปรดเลือก | I26: =H26*3% -> 0 | J26: =(H26+I26)*6% -> 0 | K26: =H26+J26+I26 -> 0 | O26: 0 | P26: 0 | Q26: =VLOOKUP(E26,$BA$15:$BC$22,2,FALSE) -> 0 | R26: =VLOOKUP(E26,$BA$15:$BC$22,3,FALSE) -> 0 | S26: 0 | U26: =IFERROR(VLOOKUP(B26,คำนวณตกเบิกวิทยฐานะ!$B$9:$P$1008,14,FALSE),0) -> 0 | V26: =IFERROR(VLOOKUP(B26,คำนวณตกเบิกวิทยฐานะ!$B$9:$P$1008,15,FALSE),0) -> 0 | W26: =(K26+L26+M26+N26+O26+P26+Q26+R26+S26)*12+U26+V26+T26 -> 0 | X26: โปรดเลือก | Y26: โปรดเลือก | AA26: =IF(X26="พนักงานจ้างตามภารกิจ",Z26*4/100,0) -> 0 | AB26: =Z26+AA26 -> 0 | AC26: =IF(Z26=0,0,IF(X26="พนักงานจ้างทั่วไป",IF(AB26>11000,0,IF(11000-AB26<=2000,11000-AB26,2000)),IF(AB26>14600,0,IF(14600-AB26<=2000,14600-AB26,2000)))) -> 0 | AD26: =AB26+AC26 -> 0 | AE26: =IF(OR(X26="พนักงานจ้างตามภารกิจ",X26="พนักงานจ้างทั่วไป"),IF(AD26*5/100>750,750,AD26*5/100),0) -> 0 | AF26: =(AD26+AE26)*12 -> 0 | AG26: =W26+AF26 -> 0 | AK26: =AI26*AJ26 -> 0 | AL26: โปรดเลือก | AM26: โปรดเลือก | AO26: โปรดเลือก | AP26: โปรดเลือก | AR26: โปรดเลือก | AS26: โปรดเลือก | AU26: =AN26+AQ26+AT26 -> 0 | AV26: =AG26+AK26+AU26+(AH26*12) -> 0 | AW26: =U26+V26 -> 0 | AX26: =AV26 -> 0
D27: =IF(LEN(B27)=0,"",IF(IFERROR(FIND("อัตราว่าง",B27,1),0)=0,"อัตราคนครอง","อัตราว่าง")) | E27: โปรดเลือก | F27: โปรดเลือก | I27: =H27*3% -> 0 | J27: =(H27+I27)*6% -> 0 | K27: =H27+J27+I27 -> 0 | O27: 0 | P27: 0 | Q27: =VLOOKUP(E27,$BA$15:$BC$22,2,FALSE) -> 0 | R27: =VLOOKUP(E27,$BA$15:$BC$22,3,FALSE) -> 0 | S27: 0 | U27: =IFERROR(VLOOKUP(B27,คำนวณตกเบิกวิทยฐานะ!$B$9:$P$1008,14,FALSE),0) -> 0 | V27: =IFERROR(VLOOKUP(B27,คำนวณตกเบิกวิทยฐานะ!$B$9:$P$1008,15,FALSE),0) -> 0 | W27: =(K27+L27+M27+N27+O27+P27+Q27+R27+S27)*12+U27+V27+T27 -> 0 | X27: โปรดเลือก | Y27: โปรดเลือก | AA27: =IF(X27="พนักงานจ้างตามภารกิจ",Z27*4/100,0) -> 0 | AB27: =Z27+AA27 -> 0 | AC27: =IF(Z27=0,0,IF(X27="พนักงานจ้างทั่วไป",IF(AB27>11000,0,IF(11000-AB27<=2000,11000-AB27,2000)),IF(AB27>14600,0,IF(14600-AB27<=2000,14600-AB27,2000)))) -> 0 | AD27: =AB27+AC27 -> 0 | AE27: =IF(OR(X27="พนักงานจ้างตามภารกิจ",X27="พนักงานจ้างทั่วไป"),IF(AD27*5/100>750,750,AD27*5/100),0) -> 0 | AF27: =(AD27+AE27)*12 -> 0 | AG27: =W27+AF27 -> 0 | AK27: =AI27*AJ27 -> 0 | AL27: โปรดเลือก | AM27: โปรดเลือก | AO27: โปรดเลือก | AP27: โปรดเลือก | AR27: โปรดเลือก | AS27: โปรดเลือก | AU27: =AN27+AQ27+AT27 -> 0 | AV27: =AG27+AK27+AU27+(AH27*12) -> 0 | AW27: =U27+V27 -> 0 | AX27: =AV27 -> 0
D28: =IF(LEN(B28)=0,"",IF(IFERROR(FIND("อัตราว่าง",B28,1),0)=0,"อัตราคนครอง","อัตราว่าง")) | E28: โปรดเลือก | F28: โปรดเลือก | I28: =H28*3% -> 0 | J28: =(H28+I28)*6% -> 0 | K28: =H28+J28+I28 -> 0 | O28: 0 | P28: 0 | Q28: =VLOOKUP(E28,$BA$15:$BC$22,2,FALSE) -> 0 | R28: =VLOOKUP(E28,$BA$15:$BC$22,3,FALSE) -> 0 | S28: 0 | U28: =IFERROR(VLOOKUP(B28,คำนวณตกเบิกวิทยฐานะ!$B$9:$P$1008,14,FALSE),0) -> 0 | V28: =IFERROR(VLOOKUP(B28,คำนวณตกเบิกวิทยฐานะ!$B$9:$P$1008,15,FALSE),0) -> 0 | W28: =(K28+L28+M28+N28+O28+P28+Q28+R28+S28)*12+U28+V28+T28 -> 0 | X28: โปรดเลือก | Y28: โปรดเลือก | AA28: =IF(X28="พนักงานจ้างตามภารกิจ",Z28*4/100,0) -> 0 | AB28: =Z28+AA28 -> 0 | AC28: =IF(Z28=0,0,IF(X28="พนักงานจ้างทั่วไป",IF(AB28>11000,0,IF(11000-AB28<=2000,11000-AB28,2000)),IF(AB28>14600,0,IF(14600-AB28<=2000,14600-AB28,2000)))) -> 0 | AD28: =AB28+AC28 -> 0 | AE28: =IF(OR(X28="พนักงานจ้างตามภารกิจ",X28="พนักงานจ้างทั่วไป"),IF(AD28*5/100>750,750,AD28*5/100),0) -> 0 | AF28: =(AD28+AE28)*12 -> 0 | AG28: =W28+AF28 -> 0 | AK28: =AI28*AJ28 -> 0 | AL28: โปรดเลือก | AM28: โปรดเลือก | AO28: โปรดเลือก | AP28: โปรดเลือก | AR28: โปรดเลือก | AS28: โปรดเลือก | AU28: =AN28+AQ28+AT28 -> 0 | AV28: =AG28+AK28+AU28+(AH28*12) -> 0 | AW28: =U28+V28 -> 0 | AX28: =AV28 -> 0
D29: =IF(LEN(B29)=0,"",IF(IFERROR(FIND("อัตราว่าง",B29,1),0)=0,"อัตราคนครอง","อัตราว่าง")) | E29: โปรดเลือก | F29: โปรดเลือก | I29: =H29*3% -> 0 | J29: =(H29+I29)*6% -> 0 | K29: =H29+J29+I29 -> 0 | O29: 0 | P29: 0 | Q29: =VLOOKUP(E29,$BA$15:$BC$22,2,FALSE) -> 0 | R29: =VLOOKUP(E29,$BA$15:$BC$22,3,FALSE) -> 0 | S29: 0 | U29: =IFERROR(VLOOKUP(B29,คำนวณตกเบิกวิทยฐานะ!$B$9:$P$1008,14,FALSE),0) -> 0 | V29: =IFERROR(VLOOKUP(B29,คำนวณตกเบิกวิทยฐานะ!$B$9:$P$1008,15,FALSE),0) -> 0 | W29: =(K29+L29+M29+N29+O29+P29+Q29+R29+S29)*12+U29+V29+T29 -> 0 | X29: โปรดเลือก | Y29: โปรดเลือก | AA29: =IF(X29="พนักงานจ้างตามภารกิจ",Z29*4/100,0) -> 0 | AB29: =Z29+AA29 -> 0 | AC29: =IF(Z29=0,0,IF(X29="พนักงานจ้างทั่วไป",IF(AB29>11000,0,IF(11000-AB29<=2000,11000-AB29,2000)),IF(AB29>14600,0,IF(14600-AB29<=2000,14600-AB29,2000)))) -> 0 | AD29: =AB29+AC29 -> 0 | AE29: =IF(OR(X29="พนักงานจ้างตามภารกิจ",X29="พนักงานจ้างทั่วไป"),IF(AD29*5/100>750,750,AD29*5/100),0) -> 0 | AF29: =(AD29+AE29)*12 -> 0 | AG29: =W29+AF29 -> 0 | AK29: =AI29*AJ29 -> 0 | AL29: โปรดเลือก | AM29: โปรดเลือก | AO29: โปรดเลือก | AP29: โปรดเลือก | AR29: โปรดเลือก | AS29: โปรดเลือก | AU29: =AN29+AQ29+AT29 -> 0 | AV29: =AG29+AK29+AU29+(AH29*12) -> 0 | AW29: =U29+V29 -> 0 | AX29: =AV29 -> 0
D30: =IF(LEN(B30)=0,"",IF(IFERROR(FIND("อัตราว่าง",B30,1),0)=0,"อัตราคนครอง","อัตราว่าง")) | E30: โปรดเลือก | F30: โปรดเลือก | I30: =H30*3% -> 0 | J30: =(H30+I30)*6% -> 0 | K30: =H30+J30+I30 -> 0 | O30: 0 | P30: 0 | Q30: =VLOOKUP(E30,$BA$15:$BC$22,2,FALSE) -> 0 | R30: =VLOOKUP(E30,$BA$15:$BC$22,3,FALSE) -> 0 | S30: 0 | U30: =IFERROR(VLOOKUP(B30,คำนวณตกเบิกวิทยฐานะ!$B$9:$P$1008,14,FALSE),0) -> 0 | V30: =IFERROR(VLOOKUP(B30,คำนวณตกเบิกวิทยฐานะ!$B$9:$P$1008,15,FALSE),0) -> 0 | W30: =(K30+L30+M30+N30+O30+P30+Q30+R30+S30)*12+U30+V30+T30 -> 0 | X30: โปรดเลือก | Y30: โปรดเลือก | AA30: =IF(X30="พนักงานจ้างตามภารกิจ",Z30*4/100,0) -> 0 | AB30: =Z30+AA30 -> 0 | AC30: =IF(Z30=0,0,IF(X30="พนักงานจ้างทั่วไป",IF(AB30>11000,0,IF(11000-AB30<=2000,11000-AB30,2000)),IF(AB30>14600,0,IF(14600-AB30<=2000,14600-AB30,2000)))) -> 0 | AD30: =AB30+AC30 -> 0 | AE30: =IF(OR(X30="พนักงานจ้างตามภารกิจ",X30="พนักงานจ้างทั่วไป"),IF(AD30*5/100>750,750,AD30*5/100),0) -> 0 | AF30: =(AD30+AE30)*12 -> 0 | AG30: =W30+AF30 -> 0 | AK30: =AI30*AJ30 -> 0 | AL30: โปรดเลือก | AM30: โปรดเลือก | AO30: โปรดเลือก | AP30: โปรดเลือก | AR30: โปรดเลือก | AS30: โปรดเลือก | AU30: =AN30+AQ30+AT30 -> 0 | AV30: =AG30+AK30+AU30+(AH30*12) -> 0 | AW30: =U30+V30 -> 0 | AX30: =AV30 -> 0
D31: =IF(LEN(B31)=0,"",IF(IFERROR(FIND("อัตราว่าง",B31,1),0)=0,"อัตราคนครอง","อัตราว่าง")) | E31: โปรดเลือก | F31: โปรดเลือก | I31: =H31*3% -> 0 | J31: =(H31+I31)*6% -> 0 | K31: =H31+J31+I31 -> 0 | O31: 0 | P31: 0 | Q31: =VLOOKUP(E31,$BA$15:$BC$22,2,FALSE) -> 0 | R31: =VLOOKUP(E31,$BA$15:$BC$22,3,FALSE) -> 0 | S31: 0 | U31: =IFERROR(VLOOKUP(B31,คำนวณตกเบิกวิทยฐานะ!$B$9:$P$1008,14,FALSE),0) -> 0 | V31: =IFERROR(VLOOKUP(B31,คำนวณตกเบิกวิทยฐานะ!$B$9:$P$1008,15,FALSE),0) -> 0 | W31: =(K31+L31+M31+N31+O31+P31+Q31+R31+S31)*12+U31+V31+T31 -> 0 | X31: โปรดเลือก | Y31: โปรดเลือก | AA31: =IF(X31="พนักงานจ้างตามภารกิจ",Z31*4/100,0) -> 0 | AB31: =Z31+AA31 -> 0 | AC31: =IF(Z31=0,0,IF(X31="พนักงานจ้างทั่วไป",IF(AB31>11000,0,IF(11000-AB31<=2000,11000-AB31,2000)),IF(AB31>14600,0,IF(14600-AB31<=2000,14600-AB31,2000)))) -> 0 | AD31: =AB31+AC31 -> 0 | AE31: =IF(OR(X31="พนักงานจ้างตามภารกิจ",X31="พนักงานจ้างทั่วไป"),IF(AD31*5/100>750,750,AD31*5/100),0) -> 0 | AF31: =(AD31+AE31)*12 -> 0 | AG31: =W31+AF31 -> 0 | AK31: =AI31*AJ31 -> 0 | AL31: โปรดเลือก | AM31: โปรดเลือก | AO31: โปรดเลือก | AP31: โปรดเลือก | AR31: โปรดเลือก | AS31: โปรดเลือก | AU31: =AN31+AQ31+AT31 -> 0 | AV31: =AG31+AK31+AU31+(AH31*12) -> 0 | AW31: =U31+V31 -> 0 | AX31: =AV31 -> 0
D32: =IF(LEN(B32)=0,"",IF(IFERROR(FIND("อัตราว่าง",B32,1),0)=0,"อัตราคนครอง","อัตราว่าง")) | E32: โปรดเลือก | F32: โปรดเลือก | I32: =H32*3% -> 0 | J32: =(H32+I32)*6% -> 0 | K32: =H32+J32+I32 -> 0 | O32: 0 | P32: 0 | Q32: =VLOOKUP(E32,$BA$15:$BC$22,2,FALSE) -> 0 | R32: =VLOOKUP(E32,$BA$15:$BC$22,3,FALSE) -> 0 | S32: 0 | U32: =IFERROR(VLOOKUP(B32,คำนวณตกเบิกวิทยฐานะ!$B$9:$P$1008,14,FALSE),0) -> 0 | V32: =IFERROR(VLOOKUP(B32,คำนวณตกเบิกวิทยฐานะ!$B$9:$P$1008,15,FALSE),0) -> 0 | W32: =(K32+L32+M32+N32+O32+P32+Q32+R32+S32)*12+U32+V32+T32 -> 0 | X32: โปรดเลือก | Y32: โปรดเลือก | AA32: =IF(X32="พนักงานจ้างตามภารกิจ",Z32*4/100,0) -> 0 | AB32: =Z32+AA32 -> 0 | AC32: =IF(Z32=0,0,IF(X32="พนักงานจ้างทั่วไป",IF(AB32>11000,0,IF(11000-AB32<=2000,11000-AB32,2000)),IF(AB32>14600,0,IF(14600-AB32<=2000,14600-AB32,2000)))) -> 0 | AD32: =AB32+AC32 -> 0 | AE32: =IF(OR(X32="พนักงานจ้างตามภารกิจ",X32="พนักงานจ้างทั่วไป"),IF(AD32*5/100>750,750,AD32*5/100),0) -> 0 | AF32: =(AD32+AE32)*12 -> 0 | AG32: =W32+AF32 -> 0 | AK32: =AI32*AJ32 -> 0 | AL32: โปรดเลือก | AM32: โปรดเลือก | AO32: โปรดเลือก | AP32: โปรดเลือก | AR32: โปรดเลือก | AS32: โปรดเลือก | AU32: =AN32+AQ32+AT32 -> 0 | AV32: =AG32+AK32+AU32+(AH32*12) -> 0 | AW32: =U32+V32 -> 0 | AX32: =AV32 -> 0
D33: =IF(LEN(B33)=0,"",IF(IFERROR(FIND("อัตราว่าง",B33,1),0)=0,"อัตราคนครอง","อัตราว่าง")) | E33: โปรดเลือก | F33: โปรดเลือก | I33: =H33*3% -> 0 | J33: =(H33+I33)*6% -> 0 | K33: =H33+J33+I33 -> 0 | O33: 0 | P33: 0 | Q33: =VLOOKUP(E33,$BA$15:$BC$22,2,FALSE) -> 0 | R33: =VLOOKUP(E33,$BA$15:$BC$22,3,FALSE) -> 0 | S33: 0 | U33: =IFERROR(VLOOKUP(B33,คำนวณตกเบิกวิทยฐานะ!$B$9:$P$1008,14,FALSE),0) -> 0 | V33: =IFERROR(VLOOKUP(B33,คำนวณตกเบิกวิทยฐานะ!$B$9:$P$1008,15,FALSE),0) -> 0 | W33: =(K33+L33+M33+N33+O33+P33+Q33+R33+S33)*12+U33+V33+T33 -> 0 | X33: โปรดเลือก | Y33: โปรดเลือก | AA33: =IF(X33="พนักงานจ้างตามภารกิจ",Z33*4/100,0) -> 0 | AB33: =Z33+AA33 -> 0 | AC33: =IF(Z33=0,0,IF(X33="พนักงานจ้างทั่วไป",IF(AB33>11000,0,IF(11000-AB33<=2000,11000-AB33,2000)),IF(AB33>14600,0,IF(14600-AB33<=2000,14600-AB33,2000)))) -> 0 | AD33: =AB33+AC33 -> 0 | AE33: =IF(OR(X33="พนักงานจ้างตามภารกิจ",X33="พนักงานจ้างทั่วไป"),IF(AD33*5/100>750,750,AD33*5/100),0) -> 0 | AF33: =(AD33+AE33)*12 -> 0 | AG33: =W33+AF33 -> 0 | AK33: =AI33*AJ33 -> 0 | AL33: โปรดเลือก | AM33: โปรดเลือก | AO33: โปรดเลือก | AP33: โปรดเลือก | AR33: โปรดเลือก | AS33: โปรดเลือก | AU33: =AN33+AQ33+AT33 -> 0 | AV33: =AG33+AK33+AU33+(AH33*12) -> 0 | AW33: =U33+V33 -> 0 | AX33: =AV33 -> 0
D34: =IF(LEN(B34)=0,"",IF(IFERROR(FIND("อัตราว่าง",B34,1),0)=0,"อัตราคนครอง","อัตราว่าง")) | E34: โปรดเลือก | F34: โปรดเลือก | I34: =H34*3% -> 0 | J34: =(H34+I34)*6% -> 0 | K34: =H34+J34+I34 -> 0 | O34: 0 | P34: 0 | Q34: =VLOOKUP(E34,$BA$15:$BC$22,2,FALSE) -> 0 | R34: =VLOOKUP(E34,$BA$15:$BC$22,3,FALSE) -> 0 | S34: 0 | U34: =IFERROR(VLOOKUP(B34,คำนวณตกเบิกวิทยฐานะ!$B$9:$P$1008,14,FALSE),0) -> 0 | V34: =IFERROR(VLOOKUP(B34,คำนวณตกเบิกวิทยฐานะ!$B$9:$P$1008,15,FALSE),0) -> 0 | W34: =(K34+L34+M34+N34+O34+P34+Q34+R34+S34)*12+U34+V34+T34 -> 0 | X34: โปรดเลือก | Y34: โปรดเลือก | AA34: =IF(X34="พนักงานจ้างตามภารกิจ",Z34*4/100,0) -> 0 | AB34: =Z34+AA34 -> 0 | AC34: =IF(Z34=0,0,IF(X34="พนักงานจ้างทั่วไป",IF(AB34>11000,0,IF(11000-AB34<=2000,11000-AB34,2000)),IF(AB34>14600,0,IF(14600-AB34<=2000,14600-AB34,2000)))) -> 0 | AD34: =AB34+AC34 -> 0 | AE34: =IF(OR(X34="พนักงานจ้างตามภารกิจ",X34="พนักงานจ้างทั่วไป"),IF(AD34*5/100>750,750,AD34*5/100),0) -> 0 | AF34: =(AD34+AE34)*12 -> 0 | AG34: =W34+AF34 -> 0 | AK34: =AI34*AJ34 -> 0 | AL34: โปรดเลือก | AM34: โปรดเลือก | AO34: โปรดเลือก | AP34: โปรดเลือก | AR34: โปรดเลือก | AS34: โปรดเลือก | AU34: =AN34+AQ34+AT34 -> 0 | AV34: =AG34+AK34+AU34+(AH34*12) -> 0 | AW34: =U34+V34 -> 0 | AX34: =AV34 -> 0
... D2514: =IF(LEN(B2514)=0,"",IF(IFERROR(FIND("อัตราว่าง",B2514,1),0)=0,"อัตราคนครอง","อัตราว่าง")) | E2514: โปรดเลือก | F2514: โปรดเลือก | I2514: =H2514*3% -> 0 | J2514: =(H2514+I2514)*6% -> 0 | K2514: =H2514+J2514+I2514 -> 0 | O2514: 0 | P2514: 0 | Q2514: =VLOOKUP(E2514,$BA$15:$BC$22,2,FALSE) -> 0 | R2514: =VLOOKUP(E2514,$BA$15:$BC$22,3,FALSE) -> 0 | S2514: 0 | U2514: =IFERROR(VLOOKUP(B2514,คำนวณตกเบิกวิทยฐานะ!$B$9:$P$1008,14,FALSE),0) -> 0 | V2514: =IFERROR(VLOOKUP(B2514,คำนวณตกเบิกวิทยฐานะ!$B$9:$P$1008,15,FALSE),0) -> 0 | W2514: =(K2514+L2514+M2514+N2514+O2514+P2514+Q2514+R2514+S2514)*12+U2514+V2514+T2514 -> 0 | X2514: โปรดเลือก | Y2514: โปรดเลือก | AA2514: =IF(X2514="พนักงานจ้างตามภารกิจ",Z2514*4/100,0) -> 0 | AB2514: =Z2514+AA2514 -> 0 | AC2514: =IF(Z2514=0,0,IF(X2514="พนักงานจ้างทั่วไป",IF(AB2514>11000,0,IF(11000-AB2514<=2000,11000-AB2514,2000)),IF(AB2514>14600,0,IF(14600-AB2514<=2000,14600-AB2514,2000)))) -> 0 | AD2514: =AB2514+AC2514 -> 0 | AE2514: =IF(OR(X2514="พนักงานจ้างตามภารกิจ",X2514="พนักงานจ้างทั่วไป"),IF(AD2514*5/100>750,750,AD2514*5/100),0) -> 0 | AF2514: =(AD2514+AE2514)*12 -> 0 | AG2514: =W2514+AF2514 -> 0 | AK2514: =AI2514*AJ2514 -> 0 | AL2514: โปรดเลือก | AM2514: โปรดเลือก | AO2514: โปรดเลือก | AP2514: โปรดเลือก | AR2514: โปรดเลือก | AS2514: โปรดเลือก | AU2514: =AN2514+AQ2514+AT2514 -> 0 | AV2514: =AG2514+AK2514+AU2514+(AH2514*12) -> 0 | AW2514: =U2514+V2514 -> 0 | AX2514: =AV2514 -> 0

Sheet อธิบาย ตบ.
A1: คำอธิบายแบบฟอร์มคำนวณตกเบิกวิทยฐานะ รายการ : เงินอุดหนุนสำหรับการศึกษาภาคบังคับ คำนวณเงินตกเบิกวิทยฐานะ กรณีที่มีคำสั่งอนุมัติผลงานประเมินแล้ว
A4: คอลัมน์ | B4: รายการ | L4: กรอกข้อมูล | M4: ไม่ต้องกรอก (คำนวณอัตโนมัติ)
A5: (A) | B5: ลำดับที่
A6: (B) | B6: รายชื่อ (ระบุให้เหมือนกับชื่อ - นามสกุล ที่กรอกในชีทคำนวณเงินเดือน) เช่น นาย.... / นางสาว..... | L6: ü
A7: (C) | B7: ตำแหน่งที่ได้รับการเลื่อนวิทยฐานะแล้ว โดยยึดตามคำสั่งให้พนักงานครูเทศบาลเลื่อนวิทยฐานะในอันดับที่สูงขึ้น | L7: ü
A8: (D) - ( E ) | B8: ค่าวิทยฐานะ (D) ค่าวิทยฐานะเดิม ( E ) ค่าวิทยฐานะใหม่ | M8: ü
A9: (F) - (G) | B9: ค่าตอบแทนรายเดือน (F) ค่าตอบแทนรายเดือนเดิม (G) ค่าตอบแทนรายเดือนใหม่ | M9: ü
A10: (H) - (P) | B10: คำนวณตกเบิกวิทยฐานะและค่าตอบแทนรายเดือน | M10: ü
A11: (H) - (I) | B11: ส่วนต่างค่าวิทยฐานะ (H) ส่วนต่างค่าวิทยฐานะต่อเดือน ค่าวิทยฐานะใหม่ - ค่าวิทยฐานะเดิม (I) ส่วนต่างค่าวิทยฐานะต่อวัน ส่วนต่างค่าวิทยฐานะใหม่ - ค่าวิทยฐานะเดิม / 30 | M11: ü
A12: (J) - (K) | B12: ส่วนต่างค่าตอบแทนรายเดือน (J) ส่วนต่างค่าตอบแทนรายเดือนต่อเดือน ค่าตอบแทนรายเดือนใหม่ - ค่าตอบแทนรายเดือนเดิม (K) ส่วนต่างค่าตอบแทนรายเดือนต่อวัน ส่วนต่างค่าตอบแทนรายเดือนใหม่ - ค่าตอบแทนรายเดือนเดิม / 30 | M12: ü
A13: (L) | B13: วันที่มีผลบังคับใช้ กรอกวันที่ตามที่ระบุในหนังสือคำสั่งให้พนักงานครูเทศบาลเลื่อนวิทยฐานะในอันดับที่สูงขึ้น | L13: ü
A14: (M) | B14: วันสิ้นปีงบประมาณ วันสิ้นปีงบประมาณปีปัจจุบัน | M14: ü
A15: (N) | B15: คำนวณเวลา (วัน) รวมจำนวนวันที่ตกเบิกทั้งสิ้น | M15: ü
A16: (O) - (P) | B16: เงินตกเบิกที่พึงได้รับ (O) เงินวิทยฐานะตกเบิกที่พึงได้รับ ส่วนต่างวิทยฐานะต่อวัน x จำนวนวันที่ตกเบิกทั้งสิ้น (P) เงินค่าตอบแทนรายเดือนตกเบิกที่พึงได้รับ ส่วนต่างค่าตอบแทนรายเดือนต่อวัน x จำนวนวันที่ตกเบิกทั้งสิ้น | M16: ü

Sheet คำนวณตกเบิกวิทยฐานะ
A2: การคิดเงินตกเบิกวิทยฐานะ
A3: กรณีที่มีคำสั่งอนุมัติผลงานประเมินแล้ว
A5: ลำดับที่ (A) | B5: รายชื่อ (ระบุให้เหมือนกับชื่อนามสกุลที่กรอกในชีทคำนวณเงินเดือน) (B) | C5: ตำแหน่งที่ได้รับ การเลื่อนวิทยฐานะแล้ว ( C ) | D5: ค่าวิทยฐานะ (D) - ( E ) | F5: ค่าตอบแทนรายเดือน (F) - (G) | H5: คำนวณตกเบิกวิทยฐานะและค่าตอบแทนรายเดือน
H6: ส่วนต่างค่าวิทยฐานะ (บาท) (H) - (I) | J6: ส่วนต่างค่าตอบแทน รายเดือน (บาท) (J) - (K) | L6: วันที่มีผลบังคับใช้ (L) | M6: สิ้นปี งบประมาณ 2569 (M) | N6: คำนวณเวลา (วัน) (N) = (M) - (L) | O6: เงินตกเบิกที่พึงได้รับ (O) - (P)
D7: เดิม (D) | E7: ใหม่ ( E ) | F7: เดิม (F) | G7: ใหม่ (G) | H7: ต่อเดือน (H) = ( E ) - (D) | I7: ต่อวัน (I) = (H)/30 | J7: ต่อเดือน (J) = (G) - (F) | K7: ต่อวัน (K) = (J)/30 | O7: วิทยฐานะ (O) = (N) x (I) | P7: ตอบแทนรายเดือน (P) = (N) x (K) | W7: วันที่มีผลบังคับใช้ | Z7: จำนวนวัน | AA7: สิ้นปีงบประมาณ 67 | AD7: วัน | AE7: เดือน | AF7: ปี | AG7: จำนวนวันตกเบิก
D8: (1) | E8: (2) | F8: (3) | G8: (4) | H8: (5)= (2) - (1) | I8: (6) = (5)/30 | J8: (7)= (4) - (3) | K8: (8) = (7)/30 | L8: (9) | M8: (10) | N8: (11) = (10) - (9) | O8: (12) = (11) x (6) | P8: (13) = (11) x (8) | S8: เก่า | T8: ใหม่ 1 | U8: เก่า | V8: ใหม่ 2
A9: 1 | C9: โปรดเลือก | D9: =VLOOKUP($C9,$R$9:$V$16,2,0) -> 0 | E9: =VLOOKUP($C9,$R$9:$V$16,3,0) -> 0 | F9: =VLOOKUP($C9,$R$9:$V$16,4,0) -> 0 | G9: =VLOOKUP($C9,$R$9:$V$16,5,0) -> 0 | H9: =+E9-D9 -> 0 | I9: =+H9/30 -> 0 | J9: =+G9-F9 -> 0 | K9: =J9/30 -> 0 | M9: 30/09/2569 | N9: =AG9 -> 0 | O9: =N9*I9 -> 0 | P9: =K9*N9 -> 0 | R9: โปรดเลือก | S9: 0 | T9: 0 | U9: 0 | V9: 0 | W9: =IFERROR(VALUE(LEFT(L9,2)),0) -> 0 | X9: =IFERROR(VALUE(MID(L9,4,2)),0) -> 0 | Y9: =IFERROR(VALUE(RIGHT(L9,4)),0) -> 0 | Z9: {=IFERROR(VLOOKUP(AB-1,$AH$9:$AI$20,2,0),0)} -> 0 | AA9: =IFERROR(VALUE(LEFT(M9,2)),0) -> 30 | AB9: =IFERROR(VALUE(MID(M9,4,2)),0) -> 9 | AC9: =IFERROR(VALUE(RIGHT(M9,4)),0) -> 2569 | AD9: =IF(W9>0,IF(AA9<W9,Z9-W9+AA9,AA9-W9),0) -> 0 | AE9: =IF(W9>0,IF(AA9=W9,IF(AB9=X9,0,IF(AB9>X9,AB9-X9,12+AB9-X9)),IF(AA9>W9,IF(AB9>X9,AB9-X9,IF(AB9=X9,0,12+AB9-X9)),IF(AA9<W9,IF(AB9>X9,AB9-X9-1,IF(AB9=X9,0,12+AB9-X9-1))))),0) -> 0 | AF9: =IF(W9>0,IF(AND(W9=AA9,X9=AB9),AC9-Y9,IF(AND(W9>=AA9,X9>AB9),AC9-Y9-1,IF(AND(W9<AA9,X9>AB9),AC9-Y9-1,IF(AND(W9<AA9,X9<AB9),AC9-Y9,AC9-Y9)))),0) -> 0 | AG9: =ROUND((AD9+(AE9*$AI$21)+(AF9*365)),0) -> 0 | AH9: 1 | AI9: 31
A10: 2 | C10: โปรดเลือก | D10: =VLOOKUP($C10,$R$9:$V$16,2,0) -> 0 | E10: =VLOOKUP($C10,$R$9:$V$16,3,0) -> 0 | F10: =VLOOKUP($C10,$R$9:$V$16,4,0) -> 0 | G10: =VLOOKUP($C10,$R$9:$V$16,5,0) -> 0 | H10: =+E10-D10 -> 0 | I10: =+H10/30 -> 0 | J10: =+G10-F10 -> 0 | K10: =J10/30 -> 0 | M10: 30/09/2569 | N10: =AG10 -> 0 | O10: =N10*I10 -> 0 | P10: =K10*N10 -> 0 | R10: ครูผู้ช่วย | S10: 0 | T10: 0 | U10: 0 | V10: 0 | W10: =IFERROR(VALUE(LEFT(L10,2)),0) -> 0 | X10: =IFERROR(VALUE(MID(L10,4,2)),0) -> 0 | Y10: =IFERROR(VALUE(RIGHT(L10,4)),0) -> 0 | Z10: {=IFERROR(VLOOKUP(AB-1,$AH$9:$AI$20,2,0),0)} -> 0 | AA10: =IFERROR(VALUE(LEFT(M10,2)),0) -> 30 | AB10: =IFERROR(VALUE(MID(M10,4,2)),0) -> 9 | AC10: =IFERROR(VALUE(RIGHT(M10,4)),0) -> 2569 | AD10: =IF(W10>0,IF(AA10<W10,Z10-W10+AA10,AA10-W10),0) -> 0 | AE10: =IF(W10>0,IF(AA10=W10,IF(AB10=X10,0,IF(AB10>X10,AB10-X10,12+AB10-X10)),IF(AA10>W10,IF(AB10>X10,AB10-X10,IF(AB10=X10,0,12+AB10-X10)),IF(AA10<W10,IF(AB10>X10,AB10-X10-1,IF(AB10=X10,0,12+AB10-X10-1))))),0) -> 0 | AF10: =IF(W10>0,IF(AND(W10=AA10,X10=AB10),AC10-Y10,IF(AND(W10>=AA10,X10>AB10),AC10-Y10-1,IF(AND(W10<AA10,X10>AB10),AC10-Y10-1,IF(AND(W10<AA10,X10<AB10),AC10-Y10,AC10-Y10)))),0) -> 0 | AG10: =ROUND((AD10+(AE10*$AI$21)+(AF10*365)),0) -> 0 | AH10: 2 | AI10: 28
A11: 3 | C11: โปรดเลือก | D11: =VLOOKUP($C11,$R$9:$V$16,2,0) -> 0 | E11: =VLOOKUP($C11,$R$9:$V$16,3,0) -> 0 | F11: =VLOOKUP($C11,$R$9:$V$16,4,0) -> 0 | G11: =VLOOKUP($C11,$R$9:$V$16,5,0) -> 0 | H11: =+E11-D11 -> 0 | I11: =+H11/30 -> 0 | J11: =+G11-F11 -> 0 | K11: =J11/30 -> 0 | M11: 30/09/2569 | N11: =AG11 -> 0 | O11: =N11*I11 -> 0 | P11: =K11*N11 -> 0 | R11: คศ.1/ครู | S11: 0 | T11: 0 | U11: 0 | V11: 0 | W11: =IFERROR(VALUE(LEFT(L11,2)),0) -> 0 | X11: =IFERROR(VALUE(MID(L11,4,2)),0) -> 0 | Y11: =IFERROR(VALUE(RIGHT(L11,4)),0) -> 0 | Z11: {=IFERROR(VLOOKUP(AB-1,$AH$9:$AI$20,2,0),0)} -> 0 | AA11: =IFERROR(VALUE(LEFT(M11,2)),0) -> 30 | AB11: =IFERROR(VALUE(MID(M11,4,2)),0) -> 9 | AC11: =IFERROR(VALUE(RIGHT(M11,4)),0) -> 2569 | AD11: =IF(W11>0,IF(AA11<W11,Z11-W11+AA11,AA11-W11),0) -> 0 | AE11: =IF(W11>0,IF(AA11=W11,IF(AB11=X11,0,IF(AB11>X11,AB11-X11,12+AB11-X11)),IF(AA11>W11,IF(AB11>X11,AB11-X11,IF(AB11=X11,0,12+AB11-X11)),IF(AA11<W11,IF(AB11>X11,AB11-X11-1,IF(AB11=X11,0,12+AB11-X11-1))))),0) -> 0 | AF11: =IF(W11>0,IF(AND(W11=AA11,X11=AB11),AC11-Y11,IF(AND(W11>=AA11,X11>AB11),AC11-Y11-1,IF(AND(W11<AA11,X11>AB11),AC11-Y11-1,IF(AND(W11<AA11,X11<AB11),AC11-Y11,AC11-Y11)))),0) -> 0 | AG11: =ROUND((AD11+(AE11*$AI$21)+(AF11*365)),0) -> 0 | AH11: 3 | AI11: 31
A12: 4 | C12: โปรดเลือก | D12: =VLOOKUP($C12,$R$9:$V$16,2,0) -> 0 | E12: =VLOOKUP($C12,$R$9:$V$16,3,0) -> 0 | F12: =VLOOKUP($C12,$R$9:$V$16,4,0) -> 0 | G12: =VLOOKUP($C12,$R$9:$V$16,5,0) -> 0 | H12: =+E12-D12 -> 0 | I12: =+H12/30 -> 0 | J12: =+G12-F12 -> 0 | K12: =J12/30 -> 0 | M12: 30/09/2569 | N12: =AG12 -> 0 | O12: =N12*I12 -> 0 | P12: =K12*N12 -> 0 | R12: คศ.2/ครูชำนาญการ | S12: 0 | T12: 3500 | U12: 0 | V12: 0 | W12: =IFERROR(VALUE(LEFT(L12,2)),0) -> 0 | X12: =IFERROR(VALUE(MID(L12,4,2)),0) -> 0 | Y12: =IFERROR(VALUE(RIGHT(L12,4)),0) -> 0 | Z12: {=IFERROR(VLOOKUP(AB-1,$AH$9:$AI$20,2,0),0)} -> 0 | AA12: =IFERROR(VALUE(LEFT(M12,2)),0) -> 30 | AB12: =IFERROR(VALUE(MID(M12,4,2)),0) -> 9 | AC12: =IFERROR(VALUE(RIGHT(M12,4)),0) -> 2569 | AD12: =IF(W12>0,IF(AA12<W12,Z12-W12+AA12,AA12-W12),0) -> 0 | AE12: =IF(W12>0,IF(AA12=W12,IF(AB12=X12,0,IF(AB12>X12,AB12-X12,12+AB12-X12)),IF(AA12>W12,IF(AB12>X12,AB12-X12,IF(AB12=X12,0,12+AB12-X12)),IF(AA12<W12,IF(AB12>X12,AB12-X12-1,IF(AB12=X12,0,12+AB12-X12-1))))),0) -> 0 | AF12: =IF(W12>0,IF(AND(W12=AA12,X12=AB12),AC12-Y12,IF(AND(W12>=AA12,X12>AB12),AC12-Y12-1,IF(AND(W12<AA12,X12>AB12),AC12-Y12-1,IF(AND(W12<AA12,X12<AB12),AC12-Y12,AC12-Y12)))),0) -> 0 | AG12: =ROUND((AD12+(AE12*$AI$21)+(AF12*365)),0) -> 0 | AH12: 4 | AI12: 30
A13: 5 | C13: โปรดเลือก | D13: =VLOOKUP($C13,$R$9:$V$16,2,0) -> 0 | E13: =VLOOKUP($C13,$R$9:$V$16,3,0) -> 0 | F13: =VLOOKUP($C13,$R$9:$V$16,4,0) -> 0 | G13: =VLOOKUP($C13,$R$9:$V$16,5,0) -> 0 | H13: =+E13-D13 -> 0 | I13: =+H13/30 -> 0 | J13: =+G13-F13 -> 0 | K13: =J13/30 -> 0 | M13: 30/09/2569 | N13: =AG13 -> 0 | O13: =N13*I13 -> 0 | P13: =K13*N13 -> 0 | R13: คศ.3/ครูชำนาญการพิเศษ | S13: 3500 | T13: 5600 | U13: 0 | V13: 5600 | W13: =IFERROR(VALUE(LEFT(L13,2)),0) -> 0 | X13: =IFERROR(VALUE(MID(L13,4,2)),0) -> 0 | Y13: =IFERROR(VALUE(RIGHT(L13,4)),0) -> 0 | Z13: {=IFERROR(VLOOKUP(AB-1,$AH$9:$AI$20,2,0),0)} -> 0 | AA13: =IFERROR(VALUE(LEFT(M13,2)),0) -> 30 | AB13: =IFERROR(VALUE(MID(M13,4,2)),0) -> 9 | AC13: =IFERROR(VALUE(RIGHT(M13,4)),0) -> 2569 | AD13: =IF(W13>0,IF(AA13<W13,Z13-W13+AA13,AA13-W13),0) -> 0 | AE13: =IF(W13>0,IF(AA13=W13,IF(AB13=X13,0,IF(AB13>X13,AB13-X13,12+AB13-X13)),IF(AA13>W13,IF(AB13>X13,AB13-X13,IF(AB13=X13,0,12+AB13-X13)),IF(AA13<W13,IF(AB13>X13,AB13-X13-1,IF(AB13=X13,0,12+AB13-X13-1))))),0) -> 0 | AF13: =IF(W13>0,IF(AND(W13=AA13,X13=AB13),AC13-Y13,IF(AND(W13>=AA13,X13>AB13),AC13-Y13-1,IF(AND(W13<AA13,X13>AB13),AC13-Y13-1,IF(AND(W13<AA13,X13<AB13),AC13-Y13,AC13-Y13)))),0) -> 0 | AG13: =ROUND((AD13+(AE13*$AI$21)+(AF13*365)),0) -> 0 | AH13: 5 | AI13: 31
A14: 6 | C14: โปรดเลือก | D14: =VLOOKUP($C14,$R$9:$V$16,2,0) -> 0 | E14: =VLOOKUP($C14,$R$9:$V$16,3,0) -> 0 | F14: =VLOOKUP($C14,$R$9:$V$16,4,0) -> 0 | G14: =VLOOKUP($C14,$R$9:$V$16,5,0) -> 0 | H14: =+E14-D14 -> 0 | I14: =+H14/30 -> 0 | J14: =+G14-F14 -> 0 | K14: =J14/30 -> 0 | M14: 30/09/2569 | N14: =AG14 -> 0 | O14: =N14*I14 -> 0 | P14: =K14*N14 -> 0 | R14: คศ.4/ครูเชี่ยวชาญ | S14: 5600 | T14: 9900 | U14: 5600 | V14: 9900 | W14: =IFERROR(VALUE(LEFT(L14,2)),0) -> 0 | X14: =IFERROR(VALUE(MID(L14,4,2)),0) -> 0 | Y14: =IFERROR(VALUE(RIGHT(L14,4)),0) -> 0 | Z14: {=IFERROR(VLOOKUP(AB-1,$AH$9:$AI$20,2,0),0)} -> 0 | AA14: =IFERROR(VALUE(LEFT(M14,2)),0) -> 30 | AB14: =IFERROR(VALUE(MID(M14,4,2)),0) -> 9 | AC14: =IFERROR(VALUE(RIGHT(M14,4)),0) -> 2569 | AD14: =IF(W14>0,IF(AA14<W14,Z14-W14+AA14,AA14-W14),0) -> 0 | AE14: =IF(W14>0,IF(AA14=W14,IF(AB14=X14,0,IF(AB14>X14,AB14-X14,12+AB14-X14)),IF(AA14>W14,IF(AB14>X14,AB14-X14,IF(AB14=X14,0,12+AB14-X14)),IF(AA14<W14,IF(AB14>X14,AB14-X14-1,IF(AB14=X14,0,12+AB14-X14-1))))),0) -> 0 | AF14: =IF(W14>0,IF(AND(W14=AA14,X14=AB14),AC14-Y14,IF(AND(W14>=AA14,X14>AB14),AC14-Y14-1,IF(AND(W14<AA14,X14>AB14),AC14-Y14-1,IF(AND(W14<AA14,X14<AB14),AC14-Y14,AC14-Y14)))),0) -> 0 | AG14: =ROUND((AD14+(AE14*$AI$21)+(AF14*365)),0) -> 0 | AH14: 6 | AI14: 30
A15: 7 | C15: โปรดเลือก | D15: =VLOOKUP($C15,$R$9:$V$16,2,0) -> 0 | E15: =VLOOKUP($C15,$R$9:$V$16,3,0) -> 0 | F15: =VLOOKUP($C15,$R$9:$V$16,4,0) -> 0 | G15: =VLOOKUP($C15,$R$9:$V$16,5,0) -> 0 | H15: =+E15-D15 -> 0 | I15: =+H15/30 -> 0 | J15: =+G15-F15 -> 0 | K15: =J15/30 -> 0 | M15: 30/09/2569 | N15: =AG15 -> 0 | O15: =N15*I15 -> 0 | P15: =K15*N15 -> 0 | R15: คศ.5/ครูเชี่ยวชาญขึ้นไป | S15: 5600 | T15: 9900 | U15: 5600 | V15: 9900 | W15: =IFERROR(VALUE(LEFT(L15,2)),0) -> 0 | X15: =IFERROR(VALUE(MID(L15,4,2)),0) -> 0 | Y15: =IFERROR(VALUE(RIGHT(L15,4)),0) -> 0 | Z15: {=IFERROR(VLOOKUP(AB-1,$AH$9:$AI$20,2,0),0)} -> 0 | AA15: =IFERROR(VALUE(LEFT(M15,2)),0) -> 30 | AB15: =IFERROR(VALUE(MID(M15,4,2)),0) -> 9 | AC15: =IFERROR(VALUE(RIGHT(M15,4)),0) -> 2569 | AD15: =IF(W15>0,IF(AA15<W15,Z15-W15+AA15,AA15-W15),0) -> 0 | AE15: =IF(W15>0,IF(AA15=W15,IF(AB15=X15,0,IF(AB15>X15,AB15-X15,12+AB15-X15)),IF(AA15>W15,IF(AB15>X15,AB15-X15,IF(AB15=X15,0,12+AB15-X15)),IF(AA15<W15,IF(AB15>X15,AB15-X15-1,IF(AB15=X15,0,12+AB15-X15-1))))),0) -> 0 | AF15: =IF(W15>0,IF(AND(W15=AA15,X15=AB15),AC15-Y15,IF(AND(W15>=AA15,X15>AB15),AC15-Y15-1,IF(AND(W15<AA15,X15>AB15),AC15-Y15-1,IF(AND(W15<AA15,X15<AB15),AC15-Y15,AC15-Y15)))),0) -> 0 | AG15: =ROUND((AD15+(AE15*$AI$21)+(AF15*365)),0) -> 0 | AH15: 7 | AI15: 31
A16: 8 | C16: โปรดเลือก | D16: =VLOOKUP($C16,$R$9:$V$16,2,0) -> 0 | E16: =VLOOKUP($C16,$R$9:$V$16,3,0) -> 0 | F16: =VLOOKUP($C16,$R$9:$V$16,4,0) -> 0 | G16: =VLOOKUP($C16,$R$9:$V$16,5,0) -> 0 | H16: =+E16-D16 -> 0 | I16: =+H16/30 -> 0 | J16: =+G16-F16 -> 0 | K16: =J16/30 -> 0 | M16: 30/09/2569 | N16: =AG16 -> 0 | O16: =N16*I16 -> 0 | P16: =K16*N16 -> 0 | R16: ลูกจ้างประจำ | S16: 0 | T16: 0 | U16: 0 | V16: 0 | W16: =IFERROR(VALUE(LEFT(L16,2)),0) -> 0 | X16: =IFERROR(VALUE(MID(L16,4,2)),0) -> 0 | Y16: =IFERROR(VALUE(RIGHT(L16,4)),0) -> 0 | Z16: {=IFERROR(VLOOKUP(AB-1,$AH$9:$AI$20,2,0),0)} -> 0 | AA16: =IFERROR(VALUE(LEFT(M16,2)),0) -> 30 | AB16: =IFERROR(VALUE(MID(M16,4,2)),0) -> 9 | AC16: =IFERROR(VALUE(RIGHT(M16,4)),0) -> 2569 | AD16: =IF(W16>0,IF(AA16<W16,Z16-W16+AA16,AA16-W16),0) -> 0 | AE16: =IF(W16>0,IF(AA16=W16,IF(AB16=X16,0,IF(AB16>X16,AB16-X16,12+AB16-X16)),IF(AA16>W16,IF(AB16>X16,AB16-X16,IF(AB16=X16,0,12+AB16-X16)),IF(AA16<W16,IF(AB16>X16,AB16-X16-1,IF(AB16=X16,0,12+AB16-X16-1))))),0) -> 0 | AF16: =IF(W16>0,IF(AND(W16=AA16,X16=AB16),AC16-Y16,IF(AND(W16>=AA16,X16>AB16),AC16-Y16-1,IF(AND(W16<AA16,X16>AB16),AC16-Y16-1,IF(AND(W16<AA16,X16<AB16),AC16-Y16,AC16-Y16)))),0) -> 0 | AG16: =ROUND((AD16+(AE16*$AI$21)+(AF16*365)),0) -> 0 | AH16: 8 | AI16: 31
A17: 9 | C17: โปรดเลือก | D17: =VLOOKUP($C17,$R$9:$V$16,2,0) -> 0 | E17: =VLOOKUP($C17,$R$9:$V$16,3,0) -> 0 | F17: =VLOOKUP($C17,$R$9:$V$16,4,0) -> 0 | G17: =VLOOKUP($C17,$R$9:$V$16,5,0) -> 0 | H17: =+E17-D17 -> 0 | I17: =+H17/30 -> 0 | J17: =+G17-F17 -> 0 | K17: =J17/30 -> 0 | M17: 30/09/2569 | N17: =AG17 -> 0 | O17: =N17*I17 -> 0 | P17: =K17*N17 -> 0 | W17: =IFERROR(VALUE(LEFT(L17,2)),0) -> 0 | X17: =IFERROR(VALUE(MID(L17,4,2)),0) -> 0 | Y17: =IFERROR(VALUE(RIGHT(L17,4)),0) -> 0 | Z17: {=IFERROR(VLOOKUP(AB-1,$AH$9:$AI$20,2,0),0)} -> 0 | AA17: =IFERROR(VALUE(LEFT(M17,2)),0) -> 30 | AB17: =IFERROR(VALUE(MID(M17,4,2)),0) -> 9 | AC17: =IFERROR(VALUE(RIGHT(M17,4)),0) -> 2569 | AD17: =IF(W17>0,IF(AA17<W17,Z17-W17+AA17,AA17-W17),0) -> 0 | AE17: =IF(W17>0,IF(AA17=W17,IF(AB17=X17,0,IF(AB17>X17,AB17-X17,12+AB17-X17)),IF(AA17>W17,IF(AB17>X17,AB17-X17,IF(AB17=X17,0,12+AB17-X17)),IF(AA17<W17,IF(AB17>X17,AB17-X17-1,IF(AB17=X17,0,12+AB17-X17-1))))),0) -> 0 | AF17: =IF(W17>0,IF(AND(W17=AA17,X17=AB17),AC17-Y17,IF(AND(W17>=AA17,X17>AB17),AC17-Y17-1,IF(AND(W17<AA17,X17>AB17),AC17-Y17-1,IF(AND(W17<AA17,X17<AB17),AC17-Y17,AC17-Y17)))),0) -> 0 | AG17: =ROUND((AD17+(AE17*$AI$21)+(AF17*365)),0) -> 0 | AH17: 9 | AI17: 30
A18: 10 | C18: โปรดเลือก | D18: =VLOOKUP($C18,$R$9:$V$16,2,0) -> 0 | E18: =VLOOKUP($C18,$R$9:$V$16,3,0) -> 0 | F18: =VLOOKUP($C18,$R$9:$V$16,4,0) -> 0 | G18: =VLOOKUP($C18,$R$9:$V$16,5,0) -> 0 | H18: =+E18-D18 -> 0 | I18: =+H18/30 -> 0 | J18: =+G18-F18 -> 0 | K18: =J18/30 -> 0 | M18: 30/09/2569 | N18: =AG18 -> 0 | O18: =N18*I18 -> 0 | P18: =K18*N18 -> 0 | W18: =IFERROR(VALUE(LEFT(L18,2)),0) -> 0 | X18: =IFERROR(VALUE(MID(L18,4,2)),0) -> 0 | Y18: =IFERROR(VALUE(RIGHT(L18,4)),0) -> 0 | Z18: {=IFERROR(VLOOKUP(AB-1,$AH$9:$AI$20,2,0),0)} -> 0 | AA18: =IFERROR(VALUE(LEFT(M18,2)),0) -> 30 | AB18: =IFERROR(VALUE(MID(M18,4,2)),0) -> 9 | AC18: =IFERROR(VALUE(RIGHT(M18,4)),0) -> 2569 | AD18: =IF(W18>0,IF(AA18<W18,Z18-W18+AA18,AA18-W18),0) -> 0 | AE18: =IF(W18>0,IF(AA18=W18,IF(AB18=X18,0,IF(AB18>X18,AB18-X18,12+AB18-X18)),IF(AA18>W18,IF(AB18>X18,AB18-X18,IF(AB18=X18,0,12+AB18-X18)),IF(AA18<W18,IF(AB18>X18,AB18-X18-1,IF(AB18=X18,0,12+AB18-X18-1))))),0) -> 0 | AF18: =IF(W18>0,IF(AND(W18=AA18,X18=AB18),AC18-Y18,IF(AND(W18>=AA18,X18>AB18),AC18-Y18-1,IF(AND(W18<AA18,X18>AB18),AC18-Y18-1,IF(AND(W18<AA18,X18<AB18),AC18-Y18,AC18-Y18)))),0) -> 0 | AG18: =ROUND((AD18+(AE18*$AI$21)+(AF18*365)),0) -> 0 | AH18: 10 | AI18: 31
A19: 11 | C19: โปรดเลือก | D19: =VLOOKUP($C19,$R$9:$V$16,2,0) -> 0 | E19: =VLOOKUP($C19,$R$9:$V$16,3,0) -> 0 | F19: =VLOOKUP($C19,$R$9:$V$16,4,0) -> 0 | G19: =VLOOKUP($C19,$R$9:$V$16,5,0) -> 0 | H19: =+E19-D19 -> 0 | I19: =+H19/30 -> 0 | J19: =+G19-F19 -> 0 | K19: =J19/30 -> 0 | M19: 30/09/2569 | N19: =AG19 -> 0 | O19: =N19*I19 -> 0 | P19: =K19*N19 -> 0 | W19: =IFERROR(VALUE(LEFT(L19,2)),0) -> 0 | X19: =IFERROR(VALUE(MID(L19,4,2)),0) -> 0 | Y19: =IFERROR(VALUE(RIGHT(L19,4)),0) -> 0 | Z19: {=IFERROR(VLOOKUP(AB-1,$AH$9:$AI$20,2,0),0)} -> 0 | AA19: =IFERROR(VALUE(LEFT(M19,2)),0) -> 30 | AB19: =IFERROR(VALUE(MID(M19,4,2)),0) -> 9 | AC19: =IFERROR(VALUE(RIGHT(M19,4)),0) -> 2569 | AD19: =IF(W19>0,IF(AA19<W19,Z19-W19+AA19,AA19-W19),0) -> 0 | AE19: =IF(W19>0,IF(AA19=W19,IF(AB19=X19,0,IF(AB19>X19,AB19-X19,12+AB19-X19)),IF(AA19>W19,IF(AB19>X19,AB19-X19,IF(AB19=X19,0,12+AB19-X19)),IF(AA19<W19,IF(AB19>X19,AB19-X19-1,IF(AB19=X19,0,12+AB19-X19-1))))),0) -> 0 | AF19: =IF(W19>0,IF(AND(W19=AA19,X19=AB19),AC19-Y19,IF(AND(W19>=AA19,X19>AB19),AC19-Y19-1,IF(AND(W19<AA19,X19>AB19),AC19-Y19-1,IF(AND(W19<AA19,X19<AB19),AC19-Y19,AC19-Y19)))),0) -> 0 | AG19: =ROUND((AD19+(AE19*$AI$21)+(AF19*365)),0) -> 0 | AH19: 11 | AI19: 30
A20: 12 | C20: โปรดเลือก | D20: =VLOOKUP($C20,$R$9:$V$16,2,0) -> 0 | E20: =VLOOKUP($C20,$R$9:$V$16,3,0) -> 0 | F20: =VLOOKUP($C20,$R$9:$V$16,4,0) -> 0 | G20: =VLOOKUP($C20,$R$9:$V$16,5,0) -> 0 | H20: =+E20-D20 -> 0 | I20: =+H20/30 -> 0 | J20: =+G20-F20 -> 0 | K20: =J20/30 -> 0 | M20: 30/09/2569 | N20: =AG20 -> 0 | O20: =N20*I20 -> 0 | P20: =K20*N20 -> 0 | W20: =IFERROR(VALUE(LEFT(L20,2)),0) -> 0 | X20: =IFERROR(VALUE(MID(L20,4,2)),0) -> 0 | Y20: =IFERROR(VALUE(RIGHT(L20,4)),0) -> 0 | Z20: {=IFERROR(VLOOKUP(AB-1,$AH$9:$AI$20,2,0),0)} -> 0 | AA20: =IFERROR(VALUE(LEFT(M20,2)),0) -> 30 | AB20: =IFERROR(VALUE(MID(M20,4,2)),0) -> 9 | AC20: =IFERROR(VALUE(RIGHT(M20,4)),0) -> 2569 | AD20: =IF(W20>0,IF(AA20<W20,Z20-W20+AA20,AA20-W20),0) -> 0 | AE20: =IF(W20>0,IF(AA20=W20,IF(AB20=X20,0,IF(AB20>X20,AB20-X20,12+AB20-X20)),IF(AA20>W20,IF(AB20>X20,AB20-X20,IF(AB20=X20,0,12+AB20-X20)),IF(AA20<W20,IF(AB20>X20,AB20-X20-1,IF(AB20=X20,0,12+AB20-X20-1))))),0) -> 0 | AF20: =IF(W20>0,IF(AND(W20=AA20,X20=AB20),AC20-Y20,IF(AND(W20>=AA20,X20>AB20),AC20-Y20-1,IF(AND(W20<AA20,X20>AB20),AC20-Y20-1,IF(AND(W20<AA20,X20<AB20),AC20-Y20,AC20-Y20)))),0) -> 0 | AG20: =ROUND((AD20+(AE20*$AI$21)+(AF20*365)),0) -> 0 | AH20: 0 | AI20: 31
A21: 13 | C21: โปรดเลือก | D21: =VLOOKUP($C21,$R$9:$V$16,2,0) -> 0 | E21: =VLOOKUP($C21,$R$9:$V$16,3,0) -> 0 | F21: =VLOOKUP($C21,$R$9:$V$16,4,0) -> 0 | G21: =VLOOKUP($C21,$R$9:$V$16,5,0) -> 0 | H21: =+E21-D21 -> 0 | I21: =+H21/30 -> 0 | J21: =+G21-F21 -> 0 | K21: =J21/30 -> 0 | M21: 30/09/2569 | N21: =AG21 -> 0 | O21: =N21*I21 -> 0 | P21: =K21*N21 -> 0 | W21: =IFERROR(VALUE(LEFT(L21,2)),0) -> 0 | X21: =IFERROR(VALUE(MID(L21,4,2)),0) -> 0 | Y21: =IFERROR(VALUE(RIGHT(L21,4)),0) -> 0 | Z21: {=IFERROR(VLOOKUP(AB-1,$AH$9:$AI$20,2,0),0)} -> 0 | AA21: =IFERROR(VALUE(LEFT(M21,2)),0) -> 30 | AB21: =IFERROR(VALUE(MID(M21,4,2)),0) -> 9 | AC21: =IFERROR(VALUE(RIGHT(M21,4)),0) -> 2569 | AD21: =IF(W21>0,IF(AA21<W21,Z21-W21+AA21,AA21-W21),0) -> 0 | AE21: =IF(W21>0,IF(AA21=W21,IF(AB21=X21,0,IF(AB21>X21,AB21-X21,12+AB21-X21)),IF(AA21>W21,IF(AB21>X21,AB21-X21,IF(AB21=X21,0,12+AB21-X21)),IF(AA21<W21,IF(AB21>X21,AB21-X21-1,IF(AB21=X21,0,12+AB21-X21-1))))),0) -> 0 | AF21: =IF(W21>0,IF(AND(W21=AA21,X21=AB21),AC21-Y21,IF(AND(W21>=AA21,X21>AB21),AC21-Y21-1,IF(AND(W21<AA21,X21>AB21),AC21-Y21-1,IF(AND(W21<AA21,X21<AB21),AC21-Y21,AC21-Y21)))),0) -> 0 | AG21: =ROUND((AD21+(AE21*$AI$21)+(AF21*365)),0) -> 0 | AI21: =SUM(AI9:AI20)/12 -> 30.416667
A22: 14 | C22: โปรดเลือก | D22: =VLOOKUP($C22,$R$9:$V$16,2,0) -> 0 | E22: =VLOOKUP($C22,$R$9:$V$16,3,0) -> 0 | F22: =VLOOKUP($C22,$R$9:$V$16,4,0) -> 0 | G22: =VLOOKUP($C22,$R$9:$V$16,5,0) -> 0 | H22: =+E22-D22 -> 0 | I22: =+H22/30 -> 0 | J22: =+G22-F22 -> 0 | K22: =J22/30 -> 0 | M22: 30/09/2569 | N22: =AG22 -> 0 | O22: =N22*I22 -> 0 | P22: =K22*N22 -> 0 | W22: =IFERROR(VALUE(LEFT(L22,2)),0) -> 0 | X22: =IFERROR(VALUE(MID(L22,4,2)),0) -> 0 | Y22: =IFERROR(VALUE(RIGHT(L22,4)),0) -> 0 | Z22: {=IFERROR(VLOOKUP(AB-1,$AH$9:$AI$20,2,0),0)} -> 0 | AA22: =IFERROR(VALUE(LEFT(M22,2)),0) -> 30 | AB22: =IFERROR(VALUE(MID(M22,4,2)),0) -> 9 | AC22: =IFERROR(VALUE(RIGHT(M22,4)),0) -> 2569 | AD22: =IF(W22>0,IF(AA22<W22,Z22-W22+AA22,AA22-W22),0) -> 0 | AE22: =IF(W22>0,IF(AA22=W22,IF(AB22=X22,0,IF(AB22>X22,AB22-X22,12+AB22-X22)),IF(AA22>W22,IF(AB22>X22,AB22-X22,IF(AB22=X22,0,12+AB22-X22)),IF(AA22<W22,IF(AB22>X22,AB22-X22-1,IF(AB22=X22,0,12+AB22-X22-1))))),0) -> 0 | AF22: =IF(W22>0,IF(AND(W22=AA22,X22=AB22),AC22-Y22,IF(AND(W22>=AA22,X22>AB22),AC22-Y22-1,IF(AND(W22<AA22,X22>AB22),AC22-Y22-1,IF(AND(W22<AA22,X22<AB22),AC22-Y22,AC22-Y22)))),0) -> 0 | AG22: =ROUND((AD22+(AE22*$AI$21)+(AF22*365)),0) -> 0
A23: 15 | C23: โปรดเลือก | D23: =VLOOKUP($C23,$R$9:$V$16,2,0) -> 0 | E23: =VLOOKUP($C23,$R$9:$V$16,3,0) -> 0 | F23: =VLOOKUP($C23,$R$9:$V$16,4,0) -> 0 | G23: =VLOOKUP($C23,$R$9:$V$16,5,0) -> 0 | H23: =+E23-D23 -> 0 | I23: =+H23/30 -> 0 | J23: =+G23-F23 -> 0 | K23: =J23/30 -> 0 | M23: 30/09/2569 | N23: =AG23 -> 0 | O23: =N23*I23 -> 0 | P23: =K23*N23 -> 0 | W23: =IFERROR(VALUE(LEFT(L23,2)),0) -> 0 | X23: =IFERROR(VALUE(MID(L23,4,2)),0) -> 0 | Y23: =IFERROR(VALUE(RIGHT(L23,4)),0) -> 0 | Z23: {=IFERROR(VLOOKUP(AB-1,$AH$9:$AI$20,2,0),0)} -> 0 | AA23: =IFERROR(VALUE(LEFT(M23,2)),0) -> 30 | AB23: =IFERROR(VALUE(MID(M23,4,2)),0) -> 9 | AC23: =IFERROR(VALUE(RIGHT(M23,4)),0) -> 2569 | AD23: =IF(W23>0,IF(AA23<W23,Z23-W23+AA23,AA23-W23),0) -> 0 | AE23: =IF(W23>0,IF(AA23=W23,IF(AB23=X23,0,IF(AB23>X23,AB23-X23,12+AB23-X23)),IF(AA23>W23,IF(AB23>X23,AB23-X23,IF(AB23=X23,0,12+AB23-X23)),IF(AA23<W23,IF(AB23>X23,AB23-X23-1,IF(AB23=X23,0,12+AB23-X23-1))))),0) -> 0 | AF23: =IF(W23>0,IF(AND(W23=AA23,X23=AB23),AC23-Y23,IF(AND(W23>=AA23,X23>AB23),AC23-Y23-1,IF(AND(W23<AA23,X23>AB23),AC23-Y23-1,IF(AND(W23<AA23,X23<AB23),AC23-Y23,AC23-Y23)))),0) -> 0 | AG23: =ROUND((AD23+(AE23*$AI$21)+(AF23*365)),0) -> 0
A24: 16 | C24: โปรดเลือก | D24: =VLOOKUP($C24,$R$9:$V$16,2,0) -> 0 | E24: =VLOOKUP($C24,$R$9:$V$16,3,0) -> 0 | F24: =VLOOKUP($C24,$R$9:$V$16,4,0) -> 0 | G24: =VLOOKUP($C24,$R$9:$V$16,5,0) -> 0 | H24: =+E24-D24 -> 0 | I24: =+H24/30 -> 0 | J24: =+G24-F24 -> 0 | K24: =J24/30 -> 0 | M24: 30/09/2569 | N24: =AG24 -> 0 | O24: =N24*I24 -> 0 | P24: =K24*N24 -> 0 | W24: =IFERROR(VALUE(LEFT(L24,2)),0) -> 0 | X24: =IFERROR(VALUE(MID(L24,4,2)),0) -> 0 | Y24: =IFERROR(VALUE(RIGHT(L24,4)),0) -> 0 | Z24: {=IFERROR(VLOOKUP(AB-1,$AH$9:$AI$20,2,0),0)} -> 0 | AA24: =IFERROR(VALUE(LEFT(M24,2)),0) -> 30 | AB24: =IFERROR(VALUE(MID(M24,4,2)),0) -> 9 | AC24: =IFERROR(VALUE(RIGHT(M24,4)),0) -> 2569 | AD24: =IF(W24>0,IF(AA24<W24,Z24-W24+AA24,AA24-W24),0) -> 0 | AE24: =IF(W24>0,IF(AA24=W24,IF(AB24=X24,0,IF(AB24>X24,AB24-X24,12+AB24-X24)),IF(AA24>W24,IF(AB24>X24,AB24-X24,IF(AB24=X24,0,12+AB24-X24)),IF(AA24<W24,IF(AB24>X24,AB24-X24-1,IF(AB24=X24,0,12+AB24-X24-1))))),0) -> 0 | AF24: =IF(W24>0,IF(AND(W24=AA24,X24=AB24),AC24-Y24,IF(AND(W24>=AA24,X24>AB24),AC24-Y24-1,IF(AND(W24<AA24,X24>AB24),AC24-Y24-1,IF(AND(W24<AA24,X24<AB24),AC24-Y24,AC24-Y24)))),0) -> 0 | AG24: =ROUND((AD24+(AE24*$AI$21)+(AF24*365)),0) -> 0
