Workbook
Name \a: #REF!
Name \a: #REF!
Name \a: #REF!
Name \a: #REF!
Name \a: #REF!
Name \a: #REF!
Name \a: #REF!
Name \a: #REF!
Name \a: #REF!
Name \a: #REF!
Name \a: #REF!
Name \a: #REF!
Name \a: #REF!
Name \a: #REF!
Name \a: #REF!
Name \a: #REF!
Name \a: #REF!
Name \a: #REF!
Name \a: #REF!
Name \a: #REF!
Name \a: #REF!
Name \a: #REF!
Name \a: #REF!
Name \a: #REF!
Name \a: #REF!
Name \a: #REF!
Name \a: #REF!
Name \a: #REF!
Name \a: #REF!
Name \a: #REF!
Name \a: #REF!
Name \a: #REF!
Name \a: #REF!
Name \a: #REF!
Name \a: #REF!
Name \a: #REF!
Name \a: #REF!
Name \a: #REF!
Name \a: #REF!
Name \a: #REF!
Name \a: #REF!
Name \a: #REF!
Name \a: #REF!
Name \a: #REF!
Name \a: #REF!
Name \a: #REF!
Name \a: #REF!
Name \a: #REF!
Name \a: #REF!
Name \a: #REF!
Name \a: #REF!
Name \a: #REF!
Name \a: #REF!
Name \a: #REF!
Name \a: #REF!
Name \a: #REF!
Name \a: #REF!
Name \a: #REF!
Name \a: #REF!
Name \a: #REF!

Sheet คำอธิบายแบบฟอร์ม
A2: คำอธิบายแบบฟอร์ม
A4: 1. สำหรับองค์กรปกครองส่วนท้องถิ่นที่มีการจัดการศึกษาปกติ
A5: ให้ดำเนินการกรอกแบบฟอร์ม 1.1.1 ประมาณการนักเรียนและแผนการรับนักเรียน (ชั้นเคลื่อน) เท่านั้น
A6: 1) ให้ดำเนินการกรอกข้อมูล ประมาณการนักเรียนและแผนการรับนักเรียน (ชั้นเคลื่อน) แบบแยกรายโรงเรียน
A7: ตามแบบฟอร์ม 1.1.1 รร. อปท. 1 - 1.1.1 รร. อปท. 60
A8: 2) ให้นำข้อมูลจำนวนนักเรียน ที่ประมาณการนักเรียนและแผนการรับนักเรียน (ชั้นเคลื่อน) แบบแยกรายโรงเรียน ตามข้อ 1) มารวมกัน
A9: แล้วนำไปดำเนินการกรอกข้อมูลในแบบฟอร์ม 1.1 แบบชั้นเคลื่อน (ภาพรวม) และแบบคำนวณ (ภาพรวม)
A10: หมายเหตุ : 1. หากหน่วยรับงบประมาณมีโรงเรียนมากกว่าตัวอย่าง ตามข้อ 1) สามารถเพิ่มแบบฟอร์ม เพื่อกรอกข้อมูลประมาณการนักเรียน
A11: และแผนการรับนักเรียน (ชั้นเคลื่อน) ได้
A12: 2. ได้ดำเนินการรวมข้อมูลการคำนวณตาม ข้อ 2) ในแบบฟอร์ม 1.1 แบบชั้นเคลื่อน (ภาพรวม) และแบบคำนวณ (ภาพรวม) เรียบร้อยแล้ว
A13: 2. สำหรับองค์กรปกครองส่วนท้องถิ่นที่มีการจัดการศึกษาลักษณะพิเศษ (โรงเรียนกีฬา)
A14: ให้ใช้จำนวนนักเรียนโรงเรียนกีฬาเฉพาะที่เรียนในหลักสูตรปกติเท่านั้น
... A25: 5.2 รายชื่อนักเรียนโรงเรียนกีฬาเฉพาะที่เรียนในหลักสูตรปกติ เท่านั้น

Sheet 1.เรียนฟรี 15 ปี
A1: หน่วยรับงบประมาณ : ...............
A2: เงินอุดหนุนทั่วไป
A3: รายการ เงินอุดหนุนสำหรับการจัดการศึกษาตั้งแต่ระดับอนุบาลจนจบการศึกษาขั้นพื้นฐาน
A4: 1. หลักการและเหตุผล โครงการสนับสนุนค่าใช้จ่ายในการจัดการศึกษาตั้งแต่ระดับอนุบาลจนจบการศึกษาขั้นพื้นฐาน หรือโครงการเรียนฟรี 15 ปี อย่างมีคุณภาพ เป็นโครงการที่สนับสนุนนโยบายเร่งด่วนของรัฐบาล ให้ผู้เรียนได้รับการศึกษาขั้นพื้นฐาน 15 ปี ตั้งแต่ชั้นอนุบาล 1 ถึงชั้นมัธยมศึกษาตอนปลาย ทั้งประเภทสามัญศึกษาและประเภทอาชีวศึกษา อย่างทั่วถึงและมีคุณภาพ โดยไม่เสียค่าใช้จ่าย ตามสิทธิที่กำหนดไว้ในรัฐธรรมนูญแห่งราชอาณาจักรไทย พุทธศักราช 2560 โดยอัตราค่าเงินอุดหนุนค่าใช้จ่ายต่อหัว และค่าใช้จ่ายตามนโยบายเรียนฟรี 15 ปี อย่างมีคุณภาพ ได้แก่ ค่าหนังสือเรียน ค่าอุปกรณ์การเรียน ค่าเครื่องแบบนักเรียน และค่ากิจกรรมพัฒนาคุณภาพผู้เรียน เป็นไปตามเกณฑ์ของกระทรวงศึกษาธิการ
A5: 2. วัตถุประสงค์ เพื่อสร้างโอกาสและขยายโอกาสทางการศึกษาให้เด็ก เยาวชน และประชาชนอย่างทั่วถึง มีคุณภาพ และเป็นธรรมตามนโยบายเร่งด่วนของรัฐบาล โดยให้นักเรียนทุกคนมีโอกาสได้รับการศึกษาขั้นพื้นฐาน โดยไม่เสียค่าใช้จ่ายและลดภาระค่าใช้จ่ายของผู้ปกครอง
A6: 3. เป้าหมาย 1. โรงเรียนองค์กรปกครองส่วนท้องถิ่น จำนวน .......... แห่ง 2. นักเรียน จำนวน .......... คน (ใช้จำนวนนักเรียนภาคเรียนที่ 1/2570 ที่ได้จากการทำข้อมูลชั้นเคลื่อนแล้ว)
A7: 4. หลักเกณฑ์การจัดสรร ค่าใช้จ่ายตามโครงการสนับสนุนการจัดการศึกษาตั้งแต่ระดับอนุบาลจนจบการศึกษาขั้นพื้นฐาน 4.1 ค่าจัดการเรียนการสอน 4.1.1 รายหัว (1) ระดับอนุบาลศึกษา คนละ 1,020 บาท/ภาคเรียน (2) ระดับประถมศึกษา คนละ 1,140 บาท/ภาคเรียน (3) ระดับมัธยมศึกษาตอนต้น คนละ 2,100 บาท/ภาคเรียน (4) ระดับมัธยมศึกษาตอนปลาย คนละ 2,280 บาท/ภาคเรียน (5) ระดับอาชีวศึกษา (ปวช.) - สาขาช่างอุตสาหกรรม คนละ 3,900 บาท/ภาคเรียน - สาขาพาณิชยกรรม คนละ 2,940 บาท/ภาคเรียน - สาขาคหกรรม คนละ 3,300 บาท/ภาคเรียน 4.1.2 รายหัวส่วนเพิ่ม (Top up) (1) ระดับประถมศึกษา คนละ 250 บาท/ภาคเรียน - โรงเรียนประถมศึกษาขนาดเล็กที่มีนักเรียน 120 คน ลงมา ให้เพิ่มจากรายหัวที่ได้รับปกติ (2) ระดับมัธยมศึกษาตอนต้น คนละ 500 บาท/ภาคเรียน - โรงเรียนมัธยมศึกษาขนาดเล็กที่มีนักเรียน 300 คน ลงมา ให้เพิ่มจากรายหัวที่ได้รับปกติ
A8: 4.2 ค่าหนังสือเรียน 1.1 ระดับอนุบาลศึกษา คนละ 200 บาท/ปี 1.2 ระดับประถมศึกษา จำแนกเป็น (1) ประถมศึกษาปีที่ 1 คนละ 656.25 บาท/ปี (2) ประถมศึกษาปีที่ 2 คนละ 649.95 บาท/ปี (3) ประถมศึกษาปีที่ 3 คนละ 653.10 บาท/ปี (4) ประถมศึกษาปีที่ 4 คนละ 706.65 บาท/ปี (5) ประถมศึกษาปีที่ 5 คนละ 846.30 บาท/ปี (6) ประถมศึกษาปีที่ 6 คนละ 858.90 บาท/ปี 1.3 ระดับมัธยมศึกษาตอนต้น จำแนกเป็น (1) มัธยมศึกษาปีที่ 1 คนละ 808.20 บาท/ปี (2) มัธยมศึกษาปีที่ 2 คนละ 920.85 บาท/ปี (3) มัธยมศึกษาปีที่ 3 คนละ 996.45 บาท/ปี 1.4 ระดับมัธยมศึกษาตอนปลาย จำแนกเป็น (1) มัธยมศึกษาปีที่ 4 คนละ 1,383.90 บาท/ปี (2) มัธยมศึกษาปีที่ 5 คนละ 1,326.15 บาท/ปี (3) มัธยมศึกษาปีที่ 6 คนละ 1,164.45 บาท/ปี 1.5 ระดับอาชีวศึกษา (ปวช.) คนละ 2,000 บาท/ปี
A9: 4.3 ค่าอุปกรณ์การเรียน (1) ระดับอนุบาลศึกษา คนละ 145 บาท/ภาคเรียน (2) ระดับประถมศึกษา คนละ 220 บาท/ภาคเรียน (3) ระดับมัธยมศึกษาตอนต้น คนละ 260 บาท/ภาคเรียน (4) ระดับมัธยมศึกษาตอนปลาย คนละ 260 บาท/ภาคเรียน (5) ระดับอาชีวศึกษา (ปวช.) คนละ 260 บาท/ภาคเรียน
A10: 4.4 ค่าเครื่องแบบนักเรียน (1) ระดับอนุบาลศึกษา คนละ 325 บาท/ปี (2) ระดับประถมศึกษา คนละ 400 บาท/ปี (3) ระดับมัธยมศึกษาตอนต้น คนละ 500 บาท/ปี (4) ระดับมัธยมศึกษาตอนปลาย คนละ 550 บาท/ปี (5) ระดับอาชีวศึกษา (ปวช.) คนละ 950 บาท/ปี
A11: 4.5 ค่ากิจกรรมพัฒนาคุณภาพผู้เรียน (1) ระดับอนุบาลศึกษา คนละ 285 บาท/ภาคเรียน (2) ระดับประถมศึกษา คนละ 315 บาท/ภาคเรียน (3) ระดับมัธยมศึกษาตอนต้น คนละ 590 บาท/ภาคเรียน (4) ระดับมัธยมศึกษาตอนปลาย คนละ 630 บาท/ภาคเรียน (5) ระดับอาชีวศึกษา (ปวช.) คนละ 630 บาท/ภาคเรียน
A12: 5. ลักษณะการใช้งบประมาณ เพื่อเป็นค่าใช้จ่ายในการจัดการศึกษาตั้งแต่ระดับอนุบาลจนจบการศึกษาขั้นพื้นฐาน การจัดการเรียนการสอนและการบริหารงานทั่วไปของสถานศึกษา ค่าหนังสือเรียน ค่าอุปกรณ์การเรียน ค่าเครื่องแบบนักเรียน ค่ากิจกรรมพัฒนาคุณภาพผู้เรียน
... A14: หมายเหตุ : กรอกข้อมูลเฉพาะช่องสีเหลือง

Sheet 1.1 แบบชั้นเคลื่อน (ภาพรวม)
A1: แบบฟอร์มประมาณการนักเรียนและแผนการรับนักเรียน (ชั้นเคลื่อน) | E1: แบบฟอร์ม 1.1 แบบชั้นเคลื่อน (ภาพรวม)
A2: ประจำปีงบประมาณ พ.ศ. 2570
A3: ระดับชั้น | B3: งบประมาณปี 2569 | D3: งบประมาณปี 2570
B4: จำนวนนักเรียนรับจริง (ณ พฤศจิกายน 2568) | C4: ประมาณการนักเรียน | D4: ประมาณการนักเรียน | E4: ประมาณการนักเรียน
B5: ภาคเรียน 2/2568 | C5: ภาคเรียน 1/2569 | D5: ภาคเรียน 2/2569 | E5: ภาคเรียน 1/2570
B6: หน่วยนับ (คน) | C6: หน่วยนับ (คน) | D6: หน่วยนับ (คน) | E6: หน่วยนับ (คน)
A7: อนุบาล 1 | B7: =SUM('1.1.1 รร. อปท. 1:1.1.1 รร. อปท. 60'!B7)+'1.1.2 แบบชั้นเคลื่อน (รร. กีฬา)'!B7 -> 0 | C7: =SUM('1.1.1 รร. อปท. 1:1.1.1 รร. อปท. 60'!C7)+'1.1.2 แบบชั้นเคลื่อน (รร. กีฬา)'!C7 -> 0 | D7: =SUM('1.1.1 รร. อปท. 1:1.1.1 รร. อปท. 60'!D7)+'1.1.2 แบบชั้นเคลื่อน (รร. กีฬา)'!D7 -> 0 | E7: =SUM('1.1.1 รร. อปท. 1:1.1.1 รร. อปท. 60'!E7)+'1.1.2 แบบชั้นเคลื่อน (รร. กีฬา)'!E7 -> 0 | F7: =IF(AND(B7>0,B8>0,B9>0),IF(OR(C7=0,E7=0)," <-----!!! กรอกข้อมูลยังไม่ครบถ้วนใน เซลล์ C7 หรือ E7",""),"")
A8: อนุบาล 2 | B8: =SUM('1.1.1 รร. อปท. 1:1.1.1 รร. อปท. 60'!B8)+'1.1.2 แบบชั้นเคลื่อน (รร. กีฬา)'!B8 -> 0 | C8: =SUM('1.1.1 รร. อปท. 1:1.1.1 รร. อปท. 60'!C8)+'1.1.2 แบบชั้นเคลื่อน (รร. กีฬา)'!C8 -> 0 | D8: =SUM('1.1.1 รร. อปท. 1:1.1.1 รร. อปท. 60'!D8)+'1.1.2 แบบชั้นเคลื่อน (รร. กีฬา)'!D8 -> 0 | E8: =SUM('1.1.1 รร. อปท. 1:1.1.1 รร. อปท. 60'!E8)+'1.1.2 แบบชั้นเคลื่อน (รร. กีฬา)'!E8 -> 0
A9: อนุบาล 3 | B9: =SUM('1.1.1 รร. อปท. 1:1.1.1 รร. อปท. 60'!B9)+'1.1.2 แบบชั้นเคลื่อน (รร. กีฬา)'!B9 -> 0 | C9: =SUM('1.1.1 รร. อปท. 1:1.1.1 รร. อปท. 60'!C9)+'1.1.2 แบบชั้นเคลื่อน (รร. กีฬา)'!C9 -> 0 | D9: =SUM('1.1.1 รร. อปท. 1:1.1.1 รร. อปท. 60'!D9)+'1.1.2 แบบชั้นเคลื่อน (รร. กีฬา)'!D9 -> 0 | E9: =SUM('1.1.1 รร. อปท. 1:1.1.1 รร. อปท. 60'!E9)+'1.1.2 แบบชั้นเคลื่อน (รร. กีฬา)'!E9 -> 0
A10: รวมระดับก่อนประถมศึกษา | B10: =SUM(B7:B9) -> 0 | C10: =SUM(C7:C9) -> 0 | D10: =SUM(D7:D9) -> 0 | E10: =SUM(E7:E9) -> 0
A11: ประถมศึกษาปีที่ 1 | B11: =SUM('1.1.1 รร. อปท. 1:1.1.1 รร. อปท. 60'!B11)+'1.1.2 แบบชั้นเคลื่อน (รร. กีฬา)'!B11 -> 0 | C11: =SUM('1.1.1 รร. อปท. 1:1.1.1 รร. อปท. 60'!C11)+'1.1.2 แบบชั้นเคลื่อน (รร. กีฬา)'!C11 -> 0 | D11: =SUM('1.1.1 รร. อปท. 1:1.1.1 รร. อปท. 60'!D11)+'1.1.2 แบบชั้นเคลื่อน (รร. กีฬา)'!D11 -> 0 | E11: =SUM('1.1.1 รร. อปท. 1:1.1.1 รร. อปท. 60'!E11)+'1.1.2 แบบชั้นเคลื่อน (รร. กีฬา)'!E11 -> 0 | F11: =IF(AND(B11>0,B12>0,B13>0,B16>0),IF(OR(C11=0,E11=0)," <---- !!! กรอกข้อมูลยังไม่ครบถ้วนใน เซลล์ C11 หรือ E11",""),"")
A12: ประถมศึกษาปีที่ 2 | B12: =SUM('1.1.1 รร. อปท. 1:1.1.1 รร. อปท. 60'!B12)+'1.1.2 แบบชั้นเคลื่อน (รร. กีฬา)'!B12 -> 0 | C12: =SUM('1.1.1 รร. อปท. 1:1.1.1 รร. อปท. 60'!C12)+'1.1.2 แบบชั้นเคลื่อน (รร. กีฬา)'!C12 -> 0 | D12: =SUM('1.1.1 รร. อปท. 1:1.1.1 รร. อปท. 60'!D12)+'1.1.2 แบบชั้นเคลื่อน (รร. กีฬา)'!D12 -> 0 | E12: =SUM('1.1.1 รร. อปท. 1:1.1.1 รร. อปท. 60'!E12)+'1.1.2 แบบชั้นเคลื่อน (รร. กีฬา)'!E12 -> 0
A13: ประถมศึกษาปีที่ 3 | B13: =SUM('1.1.1 รร. อปท. 1:1.1.1 รร. อปท. 60'!B13)+'1.1.2 แบบชั้นเคลื่อน (รร. กีฬา)'!B13 -> 0 | C13: =SUM('1.1.1 รร. อปท. 1:1.1.1 รร. อปท. 60'!C13)+'1.1.2 แบบชั้นเคลื่อน (รร. กีฬา)'!C13 -> 0 | D13: =SUM('1.1.1 รร. อปท. 1:1.1.1 รร. อปท. 60'!D13)+'1.1.2 แบบชั้นเคลื่อน (รร. กีฬา)'!D13 -> 0 | E13: =SUM('1.1.1 รร. อปท. 1:1.1.1 รร. อปท. 60'!E13)+'1.1.2 แบบชั้นเคลื่อน (รร. กีฬา)'!E13 -> 0
A14: ประถมศึกษาปีที่ 4 | B14: =SUM('1.1.1 รร. อปท. 1:1.1.1 รร. อปท. 60'!B14)+'1.1.2 แบบชั้นเคลื่อน (รร. กีฬา)'!B14 -> 0 | C14: =SUM('1.1.1 รร. อปท. 1:1.1.1 รร. อปท. 60'!C14)+'1.1.2 แบบชั้นเคลื่อน (รร. กีฬา)'!C14 -> 0 | D14: =SUM('1.1.1 รร. อปท. 1:1.1.1 รร. อปท. 60'!D14)+'1.1.2 แบบชั้นเคลื่อน (รร. กีฬา)'!D14 -> 0 | E14: =SUM('1.1.1 รร. อปท. 1:1.1.1 รร. อปท. 60'!E14)+'1.1.2 แบบชั้นเคลื่อน (รร. กีฬา)'!E14 -> 0
A15: ประถมศึกษาปีที่ 5 | B15: =SUM('1.1.1 รร. อปท. 1:1.1.1 รร. อปท. 60'!B15)+'1.1.2 แบบชั้นเคลื่อน (รร. กีฬา)'!B15 -> 0 | C15: =SUM('1.1.1 รร. อปท. 1:1.1.1 รร. อปท. 60'!C15)+'1.1.2 แบบชั้นเคลื่อน (รร. กีฬา)'!C15 -> 0 | D15: =SUM('1.1.1 รร. อปท. 1:1.1.1 รร. อปท. 60'!D15)+'1.1.2 แบบชั้นเคลื่อน (รร. กีฬา)'!D15 -> 0 | E15: =SUM('1.1.1 รร. อปท. 1:1.1.1 รร. อปท. 60'!E15)+'1.1.2 แบบชั้นเคลื่อน (รร. กีฬา)'!E15 -> 0
A16: ประถมศึกษาปีที่ 6 | B16: =SUM('1.1.1 รร. อปท. 1:1.1.1 รร. อปท. 60'!B16)+'1.1.2 แบบชั้นเคลื่อน (รร. กีฬา)'!B16 -> 0 | C16: =SUM('1.1.1 รร. อปท. 1:1.1.1 รร. อปท. 60'!C16)+'1.1.2 แบบชั้นเคลื่อน (รร. กีฬา)'!C16 -> 0 | D16: =SUM('1.1.1 รร. อปท. 1:1.1.1 รร. อปท. 60'!D16)+'1.1.2 แบบชั้นเคลื่อน (รร. กีฬา)'!D16 -> 0 | E16: =SUM('1.1.1 รร. อปท. 1:1.1.1 รร. อปท. 60'!E16)+'1.1.2 แบบชั้นเคลื่อน (รร. กีฬา)'!E16 -> 0
A17: รวมระดับประถมศึกษา | B17: =SUM(B11:B16) -> 0 | C17: =SUM(C11:C16) -> 0 | D17: =SUM(D11:D16) -> 0 | E17: =SUM(E11:E16) -> 0 | F17: =40%*E17 -> 0
A18: มัธยมศึกษาปีที่ 1 | B18: =SUM('1.1.1 รร. อปท. 1:1.1.1 รร. อปท. 60'!B18)+'1.1.2 แบบชั้นเคลื่อน (รร. กีฬา)'!B18 -> 0 | C18: =SUM('1.1.1 รร. อปท. 1:1.1.1 รร. อปท. 60'!C18)+'1.1.2 แบบชั้นเคลื่อน (รร. กีฬา)'!C18 -> 0 | D18: =SUM('1.1.1 รร. อปท. 1:1.1.1 รร. อปท. 60'!D18)+'1.1.2 แบบชั้นเคลื่อน (รร. กีฬา)'!D18 -> 0 | E18: =SUM('1.1.1 รร. อปท. 1:1.1.1 รร. อปท. 60'!E18)+'1.1.2 แบบชั้นเคลื่อน (รร. กีฬา)'!E18 -> 0 | F18: =IF(AND(B18>0,B19>0,B20>0),IF(OR(C18=0,E18=0)," <-----!!! กรอกข้อมูลยังไม่ครบถ้วนใน เซลล์ C18 หรือ E18",""),"")
A19: มัธยมศึกษาปีที่ 2 | B19: =SUM('1.1.1 รร. อปท. 1:1.1.1 รร. อปท. 60'!B19)+'1.1.2 แบบชั้นเคลื่อน (รร. กีฬา)'!B19 -> 0 | C19: =SUM('1.1.1 รร. อปท. 1:1.1.1 รร. อปท. 60'!C19)+'1.1.2 แบบชั้นเคลื่อน (รร. กีฬา)'!C19 -> 0 | D19: =SUM('1.1.1 รร. อปท. 1:1.1.1 รร. อปท. 60'!D19)+'1.1.2 แบบชั้นเคลื่อน (รร. กีฬา)'!D19 -> 0 | E19: =SUM('1.1.1 รร. อปท. 1:1.1.1 รร. อปท. 60'!E19)+'1.1.2 แบบชั้นเคลื่อน (รร. กีฬา)'!E19 -> 0
A20: มัธยมศึกษาปีที่ 3 | B20: =SUM('1.1.1 รร. อปท. 1:1.1.1 รร. อปท. 60'!B20)+'1.1.2 แบบชั้นเคลื่อน (รร. กีฬา)'!B20 -> 0 | C20: =SUM('1.1.1 รร. อปท. 1:1.1.1 รร. อปท. 60'!C20)+'1.1.2 แบบชั้นเคลื่อน (รร. กีฬา)'!C20 -> 0 | D20: =SUM('1.1.1 รร. อปท. 1:1.1.1 รร. อปท. 60'!D20)+'1.1.2 แบบชั้นเคลื่อน (รร. กีฬา)'!D20 -> 0 | E20: =SUM('1.1.1 รร. อปท. 1:1.1.1 รร. อปท. 60'!E20)+'1.1.2 แบบชั้นเคลื่อน (รร. กีฬา)'!E20 -> 0
A21: รวมระดับมัธยมศึกษาตอนต้น | B21: =SUM(B18:B20) -> 0 | C21: =SUM(C18:C20) -> 0 | D21: =SUM(D18:D20) -> 0 | E21: =SUM(E18:E20) -> 0 | F21: =30%*E21 -> 0
A22: มัธยมศึกษาปีที่ 4 | B22: =SUM('1.1.1 รร. อปท. 1:1.1.1 รร. อปท. 60'!B22)+'1.1.2 แบบชั้นเคลื่อน (รร. กีฬา)'!B22 -> 0 | C22: =SUM('1.1.1 รร. อปท. 1:1.1.1 รร. อปท. 60'!C22)+'1.1.2 แบบชั้นเคลื่อน (รร. กีฬา)'!C22 -> 0 | D22: =SUM('1.1.1 รร. อปท. 1:1.1.1 รร. อปท. 60'!D22)+'1.1.2 แบบชั้นเคลื่อน (รร. กีฬา)'!D22 -> 0 | E22: =SUM('1.1.1 รร. อปท. 1:1.1.1 รร. อปท. 60'!E22)+'1.1.2 แบบชั้นเคลื่อน (รร. กีฬา)'!E22 -> 0 | F22: =IF(AND(B22>0,B23>0,B24>0),IF(OR(C22=0,E22=0)," <-----!!! กรอกข้อมูลยังไม่ครบถ้วนใน เซลล์ C22 หรือ E22",""),"")
A23: มัธยมศึกษาปีที่ 5 | B23: =SUM('1.1.1 รร. อปท. 1:1.1.1 รร. อปท. 60'!B23)+'1.1.2 แบบชั้นเคลื่อน (รร. กีฬา)'!B23 -> 0 | C23: =SUM('1.1.1 รร. อปท. 1:1.1.1 รร. อปท. 60'!C23)+'1.1.2 แบบชั้นเคลื่อน (รร. กีฬา)'!C23 -> 0 | D23: =SUM('1.1.1 รร. อปท. 1:1.1.1 รร. อปท. 60'!D23)+'1.1.2 แบบชั้นเคลื่อน (รร. กีฬา)'!D23 -> 0 | E23: =SUM('1.1.1 รร. อปท. 1:1.1.1 รร. อปท. 60'!E23)+'1.1.2 แบบชั้นเคลื่อน (รร. กีฬา)'!E23 -> 0
A24: มัธยมศึกษาปีที่ 6 | B24: =SUM('1.1.1 รร. อปท. 1:1.1.1 รร. อปท. 60'!B24)+'1.1.2 แบบชั้นเคลื่อน (รร. กีฬา)'!B24 -> 0 | C24: =SUM('1.1.1 รร. อปท. 1:1.1.1 รร. อปท. 60'!C24)+'1.1.2 แบบชั้นเคลื่อน (รร. กีฬา)'!C24 -> 0 | D24: =SUM('1.1.1 รร. อปท. 1:1.1.1 รร. อปท. 60'!D24)+'1.1.2 แบบชั้นเคลื่อน (รร. กีฬา)'!D24 -> 0 | E24: =SUM('1.1.1 รร. อปท. 1:1.1.1 รร. อปท. 60'!E24)+'1.1.2 แบบชั้นเคลื่อน (รร. กีฬา)'!E24 -> 0
A25: รวมระดับมัธยมศึกษาตอนปลาย | B25: =SUM(B22:B24) -> 0 | C25: =SUM(C22:C24) -> 0 | D25: =SUM(D22:D24) -> 0 | E25: =SUM(E22:E24) -> 0
A26: สาขาช่าง | B26: =B27+B28+B29 -> 0 | C26: =C27+C28+C29 -> 0 | D26: =D27+D28+D29 -> 0 | E26: =E27+E28+E29 -> 0
A27: ปวช.1 | B27: =SUM('1.1.1 รร. อปท. 1:1.1.1 รร. อปท. 60'!B27)+'1.1.2 แบบชั้นเคลื่อน (รร. กีฬา)'!B27 -> 0 | C27: =SUM('1.1.1 รร. อปท. 1:1.1.1 รร. อปท. 60'!C27)+'1.1.2 แบบชั้นเคลื่อน (รร. กีฬา)'!C27 -> 0 | D27: =SUM('1.1.1 รร. อปท. 1:1.1.1 รร. อปท. 60'!D27)+'1.1.2 แบบชั้นเคลื่อน (รร. กีฬา)'!D27 -> 0 | E27: =SUM('1.1.1 รร. อปท. 1:1.1.1 รร. อปท. 60'!E27)+'1.1.2 แบบชั้นเคลื่อน (รร. กีฬา)'!E27 -> 0 | F27: =IF(AND(B27>0,B28>0,B29>0),IF(OR(C27=0,E27=0)," <-----!!! กรอกข้อมูลยังไม่ครบถ้วนใน เซลล์ C27 หรือ E27",""),"")
A28: ปวช.2 | B28: =SUM('1.1.1 รร. อปท. 1:1.1.1 รร. อปท. 60'!B28)+'1.1.2 แบบชั้นเคลื่อน (รร. กีฬา)'!B28 -> 0 | C28: =SUM('1.1.1 รร. อปท. 1:1.1.1 รร. อปท. 60'!C28)+'1.1.2 แบบชั้นเคลื่อน (รร. กีฬา)'!C28 -> 0 | D28: =SUM('1.1.1 รร. อปท. 1:1.1.1 รร. อปท. 60'!D28)+'1.1.2 แบบชั้นเคลื่อน (รร. กีฬา)'!D28 -> 0 | E28: =SUM('1.1.1 รร. อปท. 1:1.1.1 รร. อปท. 60'!E28)+'1.1.2 แบบชั้นเคลื่อน (รร. กีฬา)'!E28 -> 0
A29: ปวช.3 | B29: =SUM('1.1.1 รร. อปท. 1:1.1.1 รร. อปท. 60'!B29)+'1.1.2 แบบชั้นเคลื่อน (รร. กีฬา)'!B29 -> 0 | C29: =SUM('1.1.1 รร. อปท. 1:1.1.1 รร. อปท. 60'!C29)+'1.1.2 แบบชั้นเคลื่อน (รร. กีฬา)'!C29 -> 0 | D29: =SUM('1.1.1 รร. อปท. 1:1.1.1 รร. อปท. 60'!D29)+'1.1.2 แบบชั้นเคลื่อน (รร. กีฬา)'!D29 -> 0 | E29: =SUM('1.1.1 รร. อปท. 1:1.1.1 รร. อปท. 60'!E29)+'1.1.2 แบบชั้นเคลื่อน (รร. กีฬา)'!E29 -> 0
A30: สาขาพาณิชยกรรม | B30: =B31+B32+B33 -> 0 | C30: =C31+C32+C33 -> 0 | D30: =D31+D32+D33 -> 0 | E30: =E31+E32+E33 -> 0
A31: ปวช.1 | B31: =SUM('1.1.1 รร. อปท. 1:1.1.1 รร. อปท. 60'!B31)+'1.1.2 แบบชั้นเคลื่อน (รร. กีฬา)'!B31 -> 0 | C31: =SUM('1.1.1 รร. อปท. 1:1.1.1 รร. อปท. 60'!C31)+'1.1.2 แบบชั้นเคลื่อน (รร. กีฬา)'!C31 -> 0 | D31: =SUM('1.1.1 รร. อปท. 1:1.1.1 รร. อปท. 60'!D31)+'1.1.2 แบบชั้นเคลื่อน (รร. กีฬา)'!D31 -> 0 | E31: =SUM('1.1.1 รร. อปท. 1:1.1.1 รร. อปท. 60'!E31)+'1.1.2 แบบชั้นเคลื่อน (รร. กีฬา)'!E31 -> 0 | F31: =IF(AND(B31>0,B32>0,B33>0),IF(OR(C31=0,E31=0)," <-----!!! กรอกข้อมูลยังไม่ครบถ้วนใน เซลล์ C31 หรือ E31",""),"")
A32: ปวช.2 | B32: =SUM('1.1.1 รร. อปท. 1:1.1.1 รร. อปท. 60'!B32)+'1.1.2 แบบชั้นเคลื่อน (รร. กีฬา)'!B32 -> 0 | C32: =SUM('1.1.1 รร. อปท. 1:1.1.1 รร. อปท. 60'!C32)+'1.1.2 แบบชั้นเคลื่อน (รร. กีฬา)'!C32 -> 0 | D32: =SUM('1.1.1 รร. อปท. 1:1.1.1 รร. อปท. 60'!D32)+'1.1.2 แบบชั้นเคลื่อน (รร. กีฬา)'!D32 -> 0 | E32: =SUM('1.1.1 รร. อปท. 1:1.1.1 รร. อปท. 60'!E32)+'1.1.2 แบบชั้นเคลื่อน (รร. กีฬา)'!E32 -> 0
A33: ปวช.3 | B33: =SUM('1.1.1 รร. อปท. 1:1.1.1 รร. อปท. 60'!B33)+'1.1.2 แบบชั้นเคลื่อน (รร. กีฬา)'!B33 -> 0 | C33: =SUM('1.1.1 รร. อปท. 1:1.1.1 รร. อปท. 60'!C33)+'1.1.2 แบบชั้นเคลื่อน (รร. กีฬา)'!C33 -> 0 | D33: =SUM('1.1.1 รร. อปท. 1:1.1.1 รร. อปท. 60'!D33)+'1.1.2 แบบชั้นเคลื่อน (รร. กีฬา)'!D33 -> 0 | E33: =SUM('1.1.1 รร. อปท. 1:1.1.1 รร. อปท. 60'!E33)+'1.1.2 แบบชั้นเคลื่อน (รร. กีฬา)'!E33 -> 0
A34: สาขาคหกรรม | B34: =B35+B36+B37 -> 0 | C34: =C35+C36+C37 -> 0 | D34: =D35+D36+D37 -> 0 | E34: =E35+E36+E37 -> 0
A35: ปวช.1 | B35: =SUM('1.1.1 รร. อปท. 1:1.1.1 รร. อปท. 60'!B35)+'1.1.2 แบบชั้นเคลื่อน (รร. กีฬา)'!B35 -> 0 | C35: =SUM('1.1.1 รร. อปท. 1:1.1.1 รร. อปท. 60'!C35)+'1.1.2 แบบชั้นเคลื่อน (รร. กีฬา)'!C35 -> 0 | D35: =SUM('1.1.1 รร. อปท. 1:1.1.1 รร. อปท. 60'!D35)+'1.1.2 แบบชั้นเคลื่อน (รร. กีฬา)'!D35 -> 0 | E35: =SUM('1.1.1 รร. อปท. 1:1.1.1 รร. อปท. 60'!E35)+'1.1.2 แบบชั้นเคลื่อน (รร. กีฬา)'!E35 -> 0 | F35: =IF(AND(B35>0,B36>0,B37>0),IF(OR(C35=0,E35=0)," <-----!!! กรอกข้อมูลยังไม่ครบถ้วนใน เซลล์ C35 หรือ E35",""),"")
A36: ปวช.2 | B36: =SUM('1.1.1 รร. อปท. 1:1.1.1 รร. อปท. 60'!B36)+'1.1.2 แบบชั้นเคลื่อน (รร. กีฬา)'!B36 -> 0 | C36: =SUM('1.1.1 รร. อปท. 1:1.1.1 รร. อปท. 60'!C36)+'1.1.2 แบบชั้นเคลื่อน (รร. กีฬา)'!C36 -> 0 | D36: =SUM('1.1.1 รร. อปท. 1:1.1.1 รร. อปท. 60'!D36)+'1.1.2 แบบชั้นเคลื่อน (รร. กีฬา)'!D36 -> 0 | E36: =SUM('1.1.1 รร. อปท. 1:1.1.1 รร. อปท. 60'!E36)+'1.1.2 แบบชั้นเคลื่อน (รร. กีฬา)'!E36 -> 0
A37: ปวช.3 | B37: =SUM('1.1.1 รร. อปท. 1:1.1.1 รร. อปท. 60'!B37)+'1.1.2 แบบชั้นเคลื่อน (รร. กีฬา)'!B37 -> 0 | C37: =SUM('1.1.1 รร. อปท. 1:1.1.1 รร. อปท. 60'!C37)+'1.1.2 แบบชั้นเคลื่อน (รร. กีฬา)'!C37 -> 0 | D37: =SUM('1.1.1 รร. อปท. 1:1.1.1 รร. อปท. 60'!D37)+'1.1.2 แบบชั้นเคลื่อน (รร. กีฬา)'!D37 -> 0 | E37: =SUM('1.1.1 รร. อปท. 1:1.1.1 รร. อปท. 60'!E37)+'1.1.2 แบบชั้นเคลื่อน (รร. กีฬา)'!E37 -> 0
A38: รวมระดับอาชีวศึกษา | B38: =B26+B30+B34 -> 0 | C38: =C26+C30+C34 -> 0 | D38: =D26+D30+D34 -> 0 | E38: =E26+E30+E34 -> 0
A39: รวมทุกระดับชั้น | B39: =SUM(B38,B25,B21,B17,B10) -> 0 | C39: =SUM(C38,C25,C21,C17,C10) -> 0 | D39: =SUM(D38,D25,D21,D17,D10) -> 0 | E39: =SUM(E38,E25,E21,E17,E10) -> 0
A41: โรงเรียนขนาดเล็ก ส่วนเพิ่ม (Top up)
A42: 1. ประถมศึกษา | D42: =SUM('1.1.1 รร. อปท. 1:1.1.1 รร. อปท. 60'!D42)+'1.1.2 แบบชั้นเคลื่อน (รร. กีฬา)'!D42 -> 0 | E42: =SUM('1.1.1 รร. อปท. 1:1.1.1 รร. อปท. 60'!E42)+'1.1.2 แบบชั้นเคลื่อน (รร. กีฬา)'!E42 -> 0
A43: 2. มัธยมศึกษาตอนต้น | D43: =SUM('1.1.1 รร. อปท. 1:1.1.1 รร. อปท. 60'!D43)+'1.1.2 แบบชั้นเคลื่อน (รร. กีฬา)'!D43 -> 0 | E43: =SUM('1.1.1 รร. อปท. 1:1.1.1 รร. อปท. 60'!E43)+'1.1.2 แบบชั้นเคลื่อน (รร. กีฬา)'!E43 -> 0
A44: หมายเหตุ :
A45: 1. ข้อมูลนักเรียนที่ใช้เป็นฐานในการคำนวณจะใช้นักเรียน ณ พฤศจิกายน 2568 2. ระดับอนุบาล เด็กของแต่ละโรงเรียนจะแตกต่างกันตามระดับชั้นที่เปิด ขอให้กรอกข้อมูลให้ถูกต้อง 1.อายุ 3 ปี คือ อนุบาล 1 2.อายุ 4 ปี คือ อนุบาล 2 และ 3. อายุ 5 ปี คือ อนุบาล 3

Sheet แบบคำนวณ (ภาพรวม)
A1: แบบฟอร์มคำนวณประมาณการค่าใช้จ่าย | J1: แบบคำนวณ (ภาพรวม)
A2: รายการ : เงินอุดหนุนสำหรับการจัดการศึกษาตั้งแต่ระดับอนุบาลจนจบการศึกษาขั้นพื้นฐาน
A4: สรุปเงินอุดหนุนสำหรับการจัดการศึกษา ตั้งแต่ระดับอนุบาลจนจบการศึกษาขั้นพื้นฐาน | F4: เป้าหมาย (คน) | I4: งบประมาณ (บาท)
A5: 1) ค่าจัดการเรียนการสอน | F5: =J18 -> 0 | I5: =K18 -> 0
A6: 2) ค่าหนังสือเรียน | F6: =J53 -> 0 | I6: =K53 -> 0
A7: 3) ค่าอุปกรณ์การเรียน | F7: =J86 -> 0 | I7: =K86 -> 0
A8: 4) ค่าเครื่องแบบนักเรียน | F8: =J119 -> 0 | I8: =K119 -> 0
A9: 5) ค่ากิจกรรมพัฒนาคุณภาพผู้เรียน | F9: =J152 -> 0 | I9: =K152 -> 0
A10: รวมทั้งสิ้น | F10: =F5 -> 0 | I10: =SUM(I5:K9) -> 0
A12: ที่ | B12: รายละเอียดค่าใช้จ่าย | C12: หน่วยนับ | D12: คำนวณปี 2570
D14: (1) | E14: (2) | F14: (3)=(1)x(2) | G14: (4) | H14: (5) | I14: (6)=(4)x(5) | J14: (7)=(4) | K14: (8)=(3)+(6)
D15: เทอม 2/2569 | G15: เทอม 1/2570 | J15: รวมทั้งสิ้น
D16: เป้าหมาย | E16: หน่วยละ | F16: งบประมาณ | G16: เป้าหมาย | H16: หน่วยละ | I16: งบประมาณ | J16: เป้าหมาย | K16: รวมงบประมาณ
A17: รวมทั้งสิ้น | D17: =D18 -> 0 | F17: =F18+F53+F86+F119+F152 -> 0 | G17: =G18 -> 0 | I17: =I18+I53+I86+I119+I152 -> 0 | J17: =J18 -> 0 | K17: =K18+K53+K86+K119+K152 -> 0
A18: 1 | B18: ค่าจัดการเรียนการสอน | C18: คน | D18: =D19+D23+D31+D36+D40 -> 0 | F18: =F19+F23+F31+F36+F40 -> 0 | G18: =G19+G23+G31+G36+G40 -> 0 | I18: =I19+I23+I31+I36+I40 -> 0 | J18: =J19+J23+J31+J36+J40 -> 0 | K18: =K19+K23+K31+K36+K40 -> 0
B19: 1.1 อนุบาลศึกษา | C19: คน | D19: =SUM(D20:D22) -> 0 | F19: =SUM(F20:F22) -> 0 | G19: =SUM(G20:G22) -> 0 | I19: =SUM(I20:I22) -> 0 | J19: =SUM(J20:J22) -> 0 | K19: =ROUNDUP(SUM(K20:K22),-2) -> 0
B20: อนุบาล 1 | C20: คน | D20: ='1.1 แบบชั้นเคลื่อน (ภาพรวม)'!D7 -> 0 | E20: 1020 | F20: =D20*E20 -> 0 | G20: ='1.1 แบบชั้นเคลื่อน (ภาพรวม)'!E7 -> 0 | H20: 1020 | I20: =G20*H20 -> 0 | J20: =G20 -> 0 | K20: =F20+I20 -> 0
B21: อนุบาล 2 | C21: คน | D21: ='1.1 แบบชั้นเคลื่อน (ภาพรวม)'!D8 -> 0 | E21: 1020 | F21: =D21*E21 -> 0 | G21: ='1.1 แบบชั้นเคลื่อน (ภาพรวม)'!E8 -> 0 | H21: 1020 | I21: =G21*H21 -> 0 | J21: =G21 -> 0 | K21: =F21+I21 -> 0
B22: อนุบาล 3 | C22: คน | D22: ='1.1 แบบชั้นเคลื่อน (ภาพรวม)'!D9 -> 0 | E22: 1020 | F22: =D22*E22 -> 0 | G22: ='1.1 แบบชั้นเคลื่อน (ภาพรวม)'!E9 -> 0 | H22: 1020 | I22: =G22*H22 -> 0 | J22: =G22 -> 0 | K22: =F22+I22 -> 0
B23: 1.2 ประถมศึกษา | C23: คน | D23: =SUM(D24:D29) -> 0 | F23: =SUM(F24:F30) -> 0 | G23: =SUM(G24:G29) -> 0 | I23: =SUM(I24:I30) -> 0 | J23: =SUM(J24:J29) -> 0 | K23: =ROUNDUP(SUM(K24:K30),-2) -> 0
B24: (1) ป.1 | C24: คน | D24: ='1.1 แบบชั้นเคลื่อน (ภาพรวม)'!D11 -> 0 | E24: 1140 | F24: =D24*E24 -> 0 | G24: ='1.1 แบบชั้นเคลื่อน (ภาพรวม)'!E11 -> 0 | H24: 1140 | I24: =G24*H24 -> 0 | J24: =G24 -> 0 | K24: =F24+I24 -> 0
B25: (2) ป.2 | C25: คน | D25: ='1.1 แบบชั้นเคลื่อน (ภาพรวม)'!D12 -> 0 | E25: 1140 | F25: =D25*E25 -> 0 | G25: ='1.1 แบบชั้นเคลื่อน (ภาพรวม)'!E12 -> 0 | H25: 1140 | I25: =G25*H25 -> 0 | J25: =G25 -> 0 | K25: =F25+I25 -> 0
B26: (3) ป.3 | C26: คน | D26: ='1.1 แบบชั้นเคลื่อน (ภาพรวม)'!D13 -> 0 | E26: 1140 | F26: =D26*E26 -> 0 | G26: ='1.1 แบบชั้นเคลื่อน (ภาพรวม)'!E13 -> 0 | H26: 1140 | I26: =G26*H26 -> 0 | J26: =G26 -> 0 | K26: =F26+I26 -> 0
B27: (4) ป.4 | C27: คน | D27: ='1.1 แบบชั้นเคลื่อน (ภาพรวม)'!D14 -> 0 | E27: 1140 | F27: =D27*E27 -> 0 | G27: ='1.1 แบบชั้นเคลื่อน (ภาพรวม)'!E14 -> 0 | H27: 1140 | I27: =G27*H27 -> 0 | J27: =G27 -> 0 | K27: =F27+I27 -> 0
B28: (5) ป.5 | C28: คน | D28: ='1.1 แบบชั้นเคลื่อน (ภาพรวม)'!D15 -> 0 | E28: 1140 | F28: =D28*E28 -> 0 | G28: ='1.1 แบบชั้นเคลื่อน (ภาพรวม)'!E15 -> 0 | H28: 1140 | I28: =G28*H28 -> 0 | J28: =G28 -> 0 | K28: =F28+I28 -> 0
B29: (6) ป.6 | C29: คน | D29: ='1.1 แบบชั้นเคลื่อน (ภาพรวม)'!D16 -> 0 | E29: 1140 | F29: =D29*E29 -> 0 | G29: ='1.1 แบบชั้นเคลื่อน (ภาพรวม)'!E16 -> 0 | H29: 1140 | I29: =G29*H29 -> 0 | J29: =G29 -> 0 | K29: =F29+I29 -> 0
B30: * ร.ร.ขนาดเล็ก (ส่วนเพิ่ม) | D30: ='1.1 แบบชั้นเคลื่อน (ภาพรวม)'!D42 -> 0 | E30: 250 | F30: =D30*E30 -> 0 | G30: ='1.1 แบบชั้นเคลื่อน (ภาพรวม)'!E42 -> 0 | H30: 250 | I30: =G30*H30 -> 0 | J30: =G30 -> 0 | K30: =F30+I30 -> 0
B31: 1.3 มัธยมศึกษาตอนต้น | C31: คน | D31: =SUM(D32:D34) -> 0 | F31: =SUM(F32:F35) -> 0 | G31: =SUM(G32:G34) -> 0 | I31: =SUM(I32:I35) -> 0 | J31: =SUM(J32:J34) -> 0 | K31: =ROUNDUP(SUM(K32:K35),-2) -> 0
B32: (1) ม.1 | C32: คน | D32: ='1.1 แบบชั้นเคลื่อน (ภาพรวม)'!D18 -> 0 | E32: 2100 | F32: =D32*E32 -> 0 | G32: ='1.1 แบบชั้นเคลื่อน (ภาพรวม)'!E18 -> 0 | H32: 2100 | I32: =G32*H32 -> 0 | J32: =G32 -> 0 | K32: =F32+I32 -> 0
B33: (2) ม.2 | C33: คน | D33: ='1.1 แบบชั้นเคลื่อน (ภาพรวม)'!D19 -> 0 | E33: 2100 | F33: =D33*E33 -> 0 | G33: ='1.1 แบบชั้นเคลื่อน (ภาพรวม)'!E19 -> 0 | H33: 2100 | I33: =G33*H33 -> 0 | J33: =G33 -> 0 | K33: =F33+I33 -> 0
B34: (3) ม.3 | C34: คน | D34: ='1.1 แบบชั้นเคลื่อน (ภาพรวม)'!D20 -> 0 | E34: 2100 | F34: =D34*E34 -> 0 | G34: ='1.1 แบบชั้นเคลื่อน (ภาพรวม)'!E20 -> 0 | H34: 2100 | I34: =G34*H34 -> 0 | J34: =G34 -> 0 | K34: =F34+I34 -> 0
B35: * ร.ร.ขนาดเล็ก (ส่วนเพิ่ม) | D35: ='1.1 แบบชั้นเคลื่อน (ภาพรวม)'!D43 -> 0 | E35: 500 | F35: =D35*E35 -> 0 | G35: ='1.1 แบบชั้นเคลื่อน (ภาพรวม)'!E43 -> 0 | H35: 500 | I35: =G35*H35 -> 0 | J35: =G35 -> 0 | K35: =F35+I35 -> 0
B36: 1.4 มัธยมศึกษาตอนปลาย | C36: คน | D36: =SUM(D37:D39) -> 0 | F36: =SUM(F37:F39) -> 0 | G36: =SUM(G37:G39) -> 0 | I36: =SUM(I37:I39) -> 0 | J36: =SUM(J37:J39) -> 0 | K36: =ROUNDUP(SUM(K37:K39),-2) -> 0
B37: (1) ม.4 | C37: คน | D37: ='1.1 แบบชั้นเคลื่อน (ภาพรวม)'!D22 -> 0 | E37: 2280 | F37: =D37*E37 -> 0 | G37: ='1.1 แบบชั้นเคลื่อน (ภาพรวม)'!E22 -> 0 | H37: 2280 | I37: =G37*H37 -> 0 | J37: =G37 -> 0 | K37: =F37+I37 -> 0
B38: (2) ม.5 | C38: คน | D38: ='1.1 แบบชั้นเคลื่อน (ภาพรวม)'!D23 -> 0 | E38: 2280 | F38: =D38*E38 -> 0 | G38: ='1.1 แบบชั้นเคลื่อน (ภาพรวม)'!E23 -> 0 | H38: 2280 | I38: =G38*H38 -> 0 | J38: =G38 -> 0 | K38: =F38+I38 -> 0
B39: (3) ม.6 | C39: คน | D39: ='1.1 แบบชั้นเคลื่อน (ภาพรวม)'!D24 -> 0 | E39: 2280 | F39: =D39*E39 -> 0 | G39: ='1.1 แบบชั้นเคลื่อน (ภาพรวม)'!E24 -> 0 | H39: 2280 | I39: =G39*H39 -> 0 | J39: =G39 -> 0 | K39: =F39+I39 -> 0
B40: 1.5 อาชีวศึกษา (ปวช) | D40: =D41+D45+D49 -> 0 | F40: =F41+F45+F49 -> 0 | G40: =G41+G45+G49 -> 0 | I40: =I41+I45+I49 -> 0 | J40: =J41+J45+J49 -> 0 | K40: =ROUNDUP(K41+K45+K49,-2) -> 0
B41: (1) สาขาช่าง | C41: คน | D41: =SUM(D42:D44) -> 0 | F41: =SUM(F42:F44) -> 0 | G41: =SUM(G42:G44) -> 0 | I41: =SUM(I42:I44) -> 0 | J41: =SUM(J42:J44) -> 0 | K41: =SUM(K42:K44) -> 0
B42: ปวช.1 | C42: คน | D42: ='1.1 แบบชั้นเคลื่อน (ภาพรวม)'!D27 -> 0 | E42: 3900 | F42: =D42*E42 -> 0 | G42: ='1.1 แบบชั้นเคลื่อน (ภาพรวม)'!E27 -> 0 | H42: 3900 | I42: =G42*H42 -> 0 | J42: =G42 -> 0 | K42: =F42+I42 -> 0
B43: ปวช.2 | C43: คน | D43: ='1.1 แบบชั้นเคลื่อน (ภาพรวม)'!D28 -> 0 | E43: 3900 | F43: =D43*E43 -> 0 | G43: ='1.1 แบบชั้นเคลื่อน (ภาพรวม)'!E28 -> 0 | H43: 3900 | I43: =G43*H43 -> 0 | J43: =G43 -> 0 | K43: =F43+I43 -> 0
B44: ปวช.3 | C44: คน | D44: ='1.1 แบบชั้นเคลื่อน (ภาพรวม)'!D29 -> 0 | E44: 3900 | F44: =D44*E44 -> 0 | G44: ='1.1 แบบชั้นเคลื่อน (ภาพรวม)'!E29 -> 0 | H44: 3900 | I44: =G44*H44 -> 0 | J44: =G44 -> 0 | K44: =F44+I44 -> 0
B45: (2) สาขาพาณิชยกรรม | C45: คน | D45: =SUM(D46:D48) -> 0 | F45: =SUM(F46:F48) -> 0 | G45: =SUM(G46:G48) -> 0 | I45: =SUM(I46:I48) -> 0 | J45: =SUM(J46:J48) -> 0 | K45: =SUM(K46:K48) -> 0
B46: ปวช.1 | C46: คน | D46: ='1.1 แบบชั้นเคลื่อน (ภาพรวม)'!D31 -> 0 | E46: 2940 | F46: =D46*E46 -> 0 | G46: ='1.1 แบบชั้นเคลื่อน (ภาพรวม)'!E31 -> 0 | H46: 2940 | I46: =G46*H46 -> 0 | J46: =G46 -> 0 | K46: =F46+I46 -> 0
B47: ปวช.2 | C47: คน | D47: ='1.1 แบบชั้นเคลื่อน (ภาพรวม)'!D32 -> 0 | E47: 2940 | F47: =D47*E47 -> 0 | G47: ='1.1 แบบชั้นเคลื่อน (ภาพรวม)'!E32 -> 0 | H47: 2940 | I47: =G47*H47 -> 0 | J47: =G47 -> 0 | K47: =F47+I47 -> 0
B48: ปวช.3 | C48: คน | D48: ='1.1 แบบชั้นเคลื่อน (ภาพรวม)'!D33 -> 0 | E48: 2940 | F48: =D48*E48 -> 0 | G48: ='1.1 แบบชั้นเคลื่อน (ภาพรวม)'!E33 -> 0 | H48: 2940 | I48: =G48*H48 -> 0 | J48: =G48 -> 0 | K48: =F48+I48 -> 0
B49: (3) สาขาคหกรรม | C49: คน | D49: =SUM(D50:D52) -> 0 | F49: =SUM(F50:F52) -> 0 | G49: =SUM(G50:G52) -> 0 | I49: =SUM(I50:I52) -> 0 | J49: =SUM(J50:J52) -> 0 | K49: =SUM(K50:K52) -> 0
B50: ปวช.1 | C50: คน | D50: ='1.1 แบบชั้นเคลื่อน (ภาพรวม)'!D35 -> 0 | E50: 3300 | F50: =D50*E50 -> 0 | G50: ='1.1 แบบชั้นเคลื่อน (ภาพรวม)'!E35 -> 0 | H50: 3300 | I50: =G50*H50 -> 0 | J50: =G50 -> 0 | K50: =F50+I50 -> 0
B51: ปวช.2 | C51: คน | D51: ='1.1 แบบชั้นเคลื่อน (ภาพรวม)'!D36 -> 0 | E51: 3300 | F51: =D51*E51 -> 0 | G51: ='1.1 แบบชั้นเคลื่อน (ภาพรวม)'!E36 -> 0 | H51: 3300 | I51: =G51*H51 -> 0 | J51: =G51 -> 0 | K51: =F51+I51 -> 0
B52: ปวช.3 | C52: คน | D52: ='1.1 แบบชั้นเคลื่อน (ภาพรวม)'!D37 -> 0 | E52: 3300 | F52: =D52*E52 -> 0 | G52: ='1.1 แบบชั้นเคลื่อน (ภาพรวม)'!E37 -> 0 | H52: 3300 | I52: =G52*H52 -> 0 | J52: =G52 -> 0 | K52: =F52+I52 -> 0
A53: 2 | B53: ค่าหนังสือเรียน | C53: คน | G53: =G54+G58+G65+G69+G73 -> 0 | I53: =I54+I58+I65+I69+I73 -> 0 | J53: =J54+J58+J65+J69+J73 -> 0 | K53: =K54+K58+K65+K69+K73 -> 0
B54: 1.1 อนุบาลศึกษา | C54: คน | G54: =SUM(G55:G57) -> 0 | I54: =SUM(I55:I57) -> 0 | J54: =SUM(J55:J57) -> 0 | K54: =ROUNDUP(SUM(K55:K57),-2) -> 0
B55: อนุบาล 1 | C55: คน | G55: ='1.1 แบบชั้นเคลื่อน (ภาพรวม)'!E7 -> 0 | H55: 200 | I55: =G55*H55 -> 0 | J55: =G55 -> 0 | K55: =I55 -> 0
B56: อนุบาล 2 | C56: คน | G56: ='1.1 แบบชั้นเคลื่อน (ภาพรวม)'!E8 -> 0 | H56: 200 | I56: =G56*H56 -> 0 | J56: =G56 -> 0 | K56: =I56 -> 0
B57: อนุบาล 3 | C57: คน | G57: ='1.1 แบบชั้นเคลื่อน (ภาพรวม)'!E9 -> 0 | H57: 200 | I57: =G57*H57 -> 0 | J57: =G57 -> 0 | K57: =I57 -> 0
B58: 1.2 ประถมศึกษา | C58: คน | G58: =SUM(G59:G64) -> 0 | I58: =SUM(I59:I64) -> 0 | J58: =SUM(J59:J64) -> 0 | K58: =ROUNDUP(SUM(K59:K64),-2) -> 0
B59: (1) ป.1 | C59: คน | G59: ='1.1 แบบชั้นเคลื่อน (ภาพรวม)'!E11 -> 0 | H59: 656.25 | I59: =G59*H59 -> 0 | J59: =G59 -> 0 | K59: =I59 -> 0
B60: (2) ป.2 | C60: คน | G60: ='1.1 แบบชั้นเคลื่อน (ภาพรวม)'!E12 -> 0 | H60: 649.95 | I60: =G60*H60 -> 0 | J60: =G60 -> 0 | K60: =I60 -> 0
B61: (3) ป.3 | C61: คน | G61: ='1.1 แบบชั้นเคลื่อน (ภาพรวม)'!E13 -> 0 | H61: 653.1 | I61: =G61*H61 -> 0 | J61: =G61 -> 0 | K61: =I61 -> 0
B62: (4) ป.4 | C62: คน | G62: ='1.1 แบบชั้นเคลื่อน (ภาพรวม)'!E14 -> 0 | H62: 706.65 | I62: =G62*H62 -> 0 | J62: =G62 -> 0 | K62: =I62 -> 0
B63: (5) ป.5 | C63: คน | G63: ='1.1 แบบชั้นเคลื่อน (ภาพรวม)'!E15 -> 0 | H63: 846.3 | I63: =G63*H63 -> 0 | J63: =G63 -> 0 | K63: =I63 -> 0
B64: (6) ป.6 | C64: คน | G64: ='1.1 แบบชั้นเคลื่อน (ภาพรวม)'!E16 -> 0 | H64: 858.9 | I64: =G64*H64 -> 0 | J64: =G64 -> 0 | K64: =I64 -> 0
B65: 1.3 มัธยมศึกษาตอนต้น | C65: คน | G65: =SUM(G66:G68) -> 0 | I65: =SUM(I66:I68) -> 0 | J65: =SUM(J66:J68) -> 0 | K65: =ROUNDUP(SUM(K66:K68),-2) -> 0
B66: (1) ม.1 | C66: คน | G66: ='1.1 แบบชั้นเคลื่อน (ภาพรวม)'!E18 -> 0 | H66: 808.2 | I66: =G66*H66 -> 0 | J66: =G66 -> 0 | K66: =I66 -> 0
B67: (2) ม.2 | C67: คน | G67: ='1.1 แบบชั้นเคลื่อน (ภาพรวม)'!E19 -> 0 | H67: 920.85 | I67: =G67*H67 -> 0 | J67: =G67 -> 0 | K67: =I67 -> 0
B68: (3) ม.3 | C68: คน | G68: ='1.1 แบบชั้นเคลื่อน (ภาพรวม)'!E20 -> 0 | H68: 996.45 | I68: =G68*H68 -> 0 | J68: =G68 -> 0 | K68: =I68 -> 0
B69: 1.4 มัธยมศึกษาตอนปลาย | C69: คน | G69: =SUM(G70:G72) -> 0 | I69: =SUM(I70:I72) -> 0 | J69: =SUM(J70:J72) -> 0 | K69: =ROUNDUP(SUM(K70:K72),-2) -> 0
B70: (1) ม.4 | C70: คน | G70: ='1.1 แบบชั้นเคลื่อน (ภาพรวม)'!E22 -> 0 | H70: 1383.9 | I70: =G70*H70 -> 0 | J70: =G70 -> 0 | K70: =I70 -> 0
B71: (2) ม.5 | C71: คน | G71: ='1.1 แบบชั้นเคลื่อน (ภาพรวม)'!E23 -> 0 | H71: 1326.15 | I71: =G71*H71 -> 0 | J71: =G71 -> 0 | K71: =I71 -> 0
B72: (3) ม.6 | C72: คน | G72: ='1.1 แบบชั้นเคลื่อน (ภาพรวม)'!E24 -> 0 | H72: 1164.45 | I72: =G72*H72 -> 0 | J72: =G72 -> 0 | K72: =I72 -> 0
B73: 1.5 อาชีวศึกษา (ปวช.) | G73: =G74+G78+G82 -> 0 | H73: =H74+H78+H82 -> 0 | I73: =I74+I78+I82 -> 0 | J73: =J74+J78+J82 -> 0 | K73: =ROUNDUP(K74+K78+K82,-2) -> 0
B74: (1) สาขาช่าง | C74: คน | G74: =SUM(G75:G77) -> 0 | I74: =SUM(I75:I77) -> 0 | J74: =SUM(J75:J77) -> 0 | K74: =SUM(K75:K77) -> 0
B75: ปวช.1 | C75: คน | G75: ='1.1 แบบชั้นเคลื่อน (ภาพรวม)'!E27 -> 0 | H75: 2000 | I75: =G75*H75 -> 0 | J75: =G75 -> 0 | K75: =I75 -> 0
B76: ปวช.2 | C76: คน | G76: ='1.1 แบบชั้นเคลื่อน (ภาพรวม)'!E28 -> 0 | H76: 2000 | I76: =G76*H76 -> 0 | J76: =G76 -> 0 | K76: =I76 -> 0
B77: ปวช.3 | C77: คน | G77: ='1.1 แบบชั้นเคลื่อน (ภาพรวม)'!E29 -> 0 | H77: 2000 | I77: =G77*H77 -> 0 | J77: =G77 -> 0 | K77: =I77 -> 0
B78: (2) สาขาพาณิชยกรรม | C78: คน | G78: =SUM(G79:G81) -> 0 | I78: =SUM(I79:I81) -> 0 | J78: =SUM(J79:J81) -> 0 | K78: =SUM(K79:K81) -> 0
B79: ปวช.1 | C79: คน | G79: ='1.1 แบบชั้นเคลื่อน (ภาพรวม)'!E31 -> 0 | H79: 2000 | I79: =G79*H79 -> 0 | J79: =G79 -> 0 | K79: =I79 -> 0
B80: ปวช.2 | C80: คน | G80: ='1.1 แบบชั้นเคลื่อน (ภาพรวม)'!E32 -> 0 | H80: 2000 | I80: =G80*H80 -> 0 | J80: =G80 -> 0 | K80: =I80 -> 0
B81: ปวช.3 | C81: คน | G81: ='1.1 แบบชั้นเคลื่อน (ภาพรวม)'!E33 -> 0 | H81: 2000 | I81: =G81*H81 -> 0 | J81: =G81 -> 0 | K81: =I81 -> 0
B82: (3) สาขาคหกรรม | C82: คน | G82: =SUM(G83:G85) -> 0 | I82: =SUM(I83:I85) -> 0 | J82: =SUM(J83:J85) -> 0 | K82: =SUM(K83:K85) -> 0
B83: ปวช.1 | C83: คน | G83: ='1.1 แบบชั้นเคลื่อน (ภาพรวม)'!E35 -> 0 | H83: 2000 | I83: =G83*H83 -> 0 | J83: =G83 -> 0 | K83: =I83 -> 0
B84: ปวช.2 | C84: คน | G84: ='1.1 แบบชั้นเคลื่อน (ภาพรวม)'!E36 -> 0 | H84: 2000 | I84: =G84*H84 -> 0 | J84: =G84 -> 0 | K84: =I84 -> 0
B85: ปวช.3 | C85: คน | G85: ='1.1 แบบชั้นเคลื่อน (ภาพรวม)'!E37 -> 0 | H85: 2000 | I85: =G85*H85 -> 0 | J85: =G85 -> 0 | K85: =I85 -> 0
A86: 3 | B86: ค่าอุปกรณ์การเรียน | C86: คน | D86: =D87+D91+D98+D102+D106 -> 0 | F86: =F87+F91+F98+F102+F106 -> 0 | G86: =G87+G91+G98+G102+G106 -> 0 | I86: =I87+I91+I98+I102+I106 -> 0 | J86: =J87+J91+J98+J102+J106 -> 0 | K86: =K87+K91+K98+K102+K106 -> 0
B87: 1.1 อนุบาลศึกษา | C87: คน | D87: =SUM(D88:D90) -> 0 | F87: =SUM(F88:F90) -> 0 | G87: =SUM(G88:G90) -> 0 | I87: =SUM(I88:I90) -> 0 | J87: =SUM(J88:J90) -> 0 | K87: =ROUNDUP(SUM(K88:K90),-2) -> 0
B88: อนุบาล 1 | C88: คน | D88: ='1.1 แบบชั้นเคลื่อน (ภาพรวม)'!D7 -> 0 | E88: 145 | F88: =D88*E88 -> 0 | G88: ='1.1 แบบชั้นเคลื่อน (ภาพรวม)'!E7 -> 0 | H88: 145 | I88: =G88*H88 -> 0 | J88: =G88 -> 0 | K88: =F88+I88 -> 0
B89: อนุบาล 2 | C89: คน | D89: ='1.1 แบบชั้นเคลื่อน (ภาพรวม)'!D8 -> 0 | E89: 145 | F89: =D89*E89 -> 0 | G89: ='1.1 แบบชั้นเคลื่อน (ภาพรวม)'!E8 -> 0 | H89: 145 | I89: =G89*H89 -> 0 | J89: =G89 -> 0 | K89: =F89+I89 -> 0
B90: อนุบาล 3 | C90: คน | D90: ='1.1 แบบชั้นเคลื่อน (ภาพรวม)'!D9 -> 0 | E90: 145 | F90: =D90*E90 -> 0 | G90: ='1.1 แบบชั้นเคลื่อน (ภาพรวม)'!E9 -> 0 | H90: 145 | I90: =G90*H90 -> 0 | J90: =G90 -> 0 | K90: =F90+I90 -> 0
B91: 1.2 ประถมศึกษา | C91: คน | D91: =SUM(D92:D97) -> 0 | F91: =SUM(F92:F97) -> 0 | G91: =SUM(G92:G97) -> 0 | I91: =SUM(I92:I97) -> 0 | J91: =SUM(J92:J97) -> 0 | K91: =ROUNDUP(SUM(K92:K97),-2) -> 0
B92: (1) ป.1 | C92: คน | D92: ='1.1 แบบชั้นเคลื่อน (ภาพรวม)'!D11 -> 0 | E92: 220 | F92: =D92*E92 -> 0 | G92: ='1.1 แบบชั้นเคลื่อน (ภาพรวม)'!E11 -> 0 | H92: 220 | I92: =G92*H92 -> 0 | J92: =G92 -> 0 | K92: =F92+I92 -> 0
B93: (2) ป.2 | C93: คน | D93: ='1.1 แบบชั้นเคลื่อน (ภาพรวม)'!D12 -> 0 | E93: 220 | F93: =D93*E93 -> 0 | G93: ='1.1 แบบชั้นเคลื่อน (ภาพรวม)'!E12 -> 0 | H93: 220 | I93: =G93*H93 -> 0 | J93: =G93 -> 0 | K93: =F93+I93 -> 0
B94: (3) ป.3 | C94: คน | D94: ='1.1 แบบชั้นเคลื่อน (ภาพรวม)'!D13 -> 0 | E94: 220 | F94: =D94*E94 -> 0 | G94: ='1.1 แบบชั้นเคลื่อน (ภาพรวม)'!E13 -> 0 | H94: 220 | I94: =G94*H94 -> 0 | J94: =G94 -> 0 | K94: =F94+I94 -> 0
B95: (4) ป.4 | C95: คน | D95: ='1.1 แบบชั้นเคลื่อน (ภาพรวม)'!D14 -> 0 | E95: 220 | F95: =D95*E95 -> 0 | G95: ='1.1 แบบชั้นเคลื่อน (ภาพรวม)'!E14 -> 0 | H95: 220 | I95: =G95*H95 -> 0 | J95: =G95 -> 0 | K95: =F95+I95 -> 0
B96: (5) ป.5 | C96: คน | D96: ='1.1 แบบชั้นเคลื่อน (ภาพรวม)'!D15 -> 0 | E96: 220 | F96: =D96*E96 -> 0 | G96: ='1.1 แบบชั้นเคลื่อน (ภาพรวม)'!E15 -> 0 | H96: 220 | I96: =G96*H96 -> 0 | J96: =G96 -> 0 | K96: =F96+I96 -> 0
B97: (6) ป.6 | C97: คน | D97: ='1.1 แบบชั้นเคลื่อน (ภาพรวม)'!D16 -> 0 | E97: 220 | F97: =D97*E97 -> 0 | G97: ='1.1 แบบชั้นเคลื่อน (ภาพรวม)'!E16 -> 0 | H97: 220 | I97: =G97*H97 -> 0 | J97: =G97 -> 0 | K97: =F97+I97 -> 0
B98: 1.3 มัธยมศึกษาตอนต้น | C98: คน | D98: =SUM(D99:D101) -> 0 | F98: =SUM(F99:F101) -> 0 | G98: =SUM(G99:G101) -> 0 | I98: =SUM(I99:I101) -> 0 | J98: =SUM(J99:J101) -> 0 | K98: =ROUNDUP(SUM(K99:K101),-2) -> 0
B99: (1) ม.1 | C99: คน | D99: ='1.1 แบบชั้นเคลื่อน (ภาพรวม)'!D18 -> 0 | E99: 260 | F99: =D99*E99 -> 0 | G99: ='1.1 แบบชั้นเคลื่อน (ภาพรวม)'!E18 -> 0 | H99: 260 | I99: =G99*H99 -> 0 | J99: =G99 -> 0 | K99: =F99+I99 -> 0
B100: (2) ม.2 | C100: คน | D100: ='1.1 แบบชั้นเคลื่อน (ภาพรวม)'!D19 -> 0 | E100: 260 | F100: =D100*E100 -> 0 | G100: ='1.1 แบบชั้นเคลื่อน (ภาพรวม)'!E19 -> 0 | H100: 260 | I100: =G100*H100 -> 0 | J100: =G100 -> 0 | K100: =F100+I100 -> 0
B101: (3) ม.3 | C101: คน | D101: ='1.1 แบบชั้นเคลื่อน (ภาพรวม)'!D20 -> 0 | E101: 260 | F101: =D101*E101 -> 0 | G101: ='1.1 แบบชั้นเคลื่อน (ภาพรวม)'!E20 -> 0 | H101: 260 | I101: =G101*H101 -> 0 | J101: =G101 -> 0 | K101: =F101+I101 -> 0
B102: 1.4 มัธยมศึกษาตอนปลาย | C102: คน | D102: =SUM(D103:D105) -> 0 | F102: =SUM(F103:F105) -> 0 | G102: =SUM(G103:G105) -> 0 | I102: =SUM(I103:I105) -> 0 | J102: =SUM(J103:J105) -> 0 | K102: =ROUNDUP(SUM(K103:K105),-2) -> 0
B103: (1) ม.4 | C103: คน | D103: ='1.1 แบบชั้นเคลื่อน (ภาพรวม)'!D22 -> 0 | E103: 260 | F103: =D103*E103 -> 0 | G103: ='1.1 แบบชั้นเคลื่อน (ภาพรวม)'!E22 -> 0 | H103: 260 | I103: =G103*H103 -> 0 | J103: =G103 -> 0 | K103: =F103+I103 -> 0
...

Sheet 1.1.1 รร. อปท. 1
A1: แบบฟอร์มประมาณการนักเรียนและแผนการรับนักเรียน (ชั้นเคลื่อน) | E1: แบบฟอร์ม 1.1.1 แบบชั้นเคลื่อน (โรงเรียน อปท. ปกติ)
A2: ประจำปีงบประมาณ พ.ศ. 2570
A3: ระดับชั้น | B3: งบประมาณปี 2569 | D3: งบประมาณปี 2570
B4: จำนวนนักเรียนรับจริง (ณ พฤศจิกายน 2568) | C4: ประมาณการนักเรียน | D4: ประมาณการนักเรียน | E4: ประมาณการนักเรียน
B5: ภาคเรียน 2/2568 | C5: ภาคเรียน 1/2569 | D5: ภาคเรียน 2/2569 | E5: ภาคเรียน 1/2570
B6: หน่วยนับ (คน) | C6: หน่วยนับ (คน) | D6: หน่วยนับ (คน) | E6: หน่วยนับ (คน)
A7: อนุบาล 1 | D7: =C7 -> 0 | F7: =IF(AND(B7>0,B8>0,B9>0),IF(OR(C7=0,E7=0)," <-----!!! กรอกข้อมูลยังไม่ครบถ้วนใน เซลล์ C7 และ E7",""),"")
A8: อนุบาล 2 | C8: =IF(B7>0,B7,B8) -> 0 | D8: =C8 -> 0 | E8: =IF(B7>0,D7,B8) -> 0
A9: อนุบาล 3 | C9: =IF(B9>0,B8,0) -> 0 | D9: =IF(B9>0,C9,0) -> 0 | E9: =IF(B9>0,D8,0) -> 0
A10: รวมระดับก่อนประถมศึกษา | B10: =SUM(B7:B9) -> 0 | C10: =SUM(C7:C9) -> 0 | D10: =SUM(D7:D9) -> 0 | E10: =SUM(E7:E9) -> 0
A11: ประถมศึกษาปีที่ 1 | D11: =C11 -> 0 | F11: =IF(AND(B11>0,B12>0,B13>0,B16>0),IF(OR(C11=0,E11=0)," <---- !!! กรอกข้อมูลยังไม่ครบถ้วนใน เซลล์ C11 และ E11",""),"")
A12: ประถมศึกษาปีที่ 2 | C12: =B11 -> 0 | D12: =C12 -> 0 | E12: =D11 -> 0
A13: ประถมศึกษาปีที่ 3 | C13: =B12 -> 0 | D13: =C13 -> 0 | E13: =D12 -> 0
A14: ประถมศึกษาปีที่ 4 | C14: =B13 -> 0 | D14: =C14 -> 0 | E14: =D13 -> 0
A15: ประถมศึกษาปีที่ 5 | C15: =B14 -> 0 | D15: =C15 -> 0 | E15: =D14 -> 0
A16: ประถมศึกษาปีที่ 6 | C16: =B15 -> 0 | D16: =C16 -> 0 | E16: =D15 -> 0
A17: รวมระดับประถมศึกษา | B17: =SUM(B11:B16) -> 0 | C17: =SUM(C11:C16) -> 0 | D17: =SUM(D11:D16) -> 0 | E17: =SUM(E11:E16) -> 0 | F17: =40%*E17 -> 0
A18: มัธยมศึกษาปีที่ 1 | D18: =C18 -> 0 | F18: =IF(AND(B18>0,B19>0,B20>0),IF(OR(C18=0,E18=0)," <-----!!! กรอกข้อมูลยังไม่ครบถ้วนใน เซลล์ C18 และ E18",""),"")
A19: มัธยมศึกษาปีที่ 2 | C19: =B18 -> 0 | D19: =C19 -> 0 | E19: =D18 -> 0
A20: มัธยมศึกษาปีที่ 3 | C20: =B19 -> 0 | D20: =C20 -> 0 | E20: =D19 -> 0
A21: รวมระดับมัธยมศึกษาตอนต้น | B21: =SUM(B18:B20) -> 0 | C21: =SUM(C18:C20) -> 0 | D21: =SUM(D18:D20) -> 0 | E21: =SUM(E18:E20) -> 0 | F21: =30%*E21 -> 0
A22: มัธยมศึกษาปีที่ 4 | D22: =C22 -> 0 | F22: =IF(AND(B22>0,B23>0,B24>0),IF(OR(C22=0,E22=0)," <-----!!! กรอกข้อมูลยังไม่ครบถ้วนใน เซลล์ C22 และ E22",""),"")
A23: มัธยมศึกษาปีที่ 5 | C23: =B22 -> 0 | D23: =C23 -> 0 | E23: =D22 -> 0
A24: มัธยมศึกษาปีที่ 6 | C24: =B23 -> 0 | D24: =C24 -> 0 | E24: =D23 -> 0
A25: รวมระดับมัธยมศึกษาตอนปลาย | B25: =SUM(B22:B24) -> 0 | C25: =SUM(C22:C24) -> 0 | D25: =SUM(D22:D24) -> 0 | E25: =SUM(E22:E24) -> 0
A26: สาขาช่าง | B26: =B27+B28+B29 -> 0 | C26: =C27+C28+C29 -> 0 | D26: =D27+D28+D29 -> 0 | E26: =E27+E28+E29 -> 0
A27: ปวช.1 | D27: =C27 -> 0 | F27: =IF(AND(B27>0,B28>0,B29>0),IF(OR(C27=0,E27=0)," <-----!!! กรอกข้อมูลยังไม่ครบถ้วนใน เซลล์ C27 และ E27",""),"")
A28: ปวช.2 | C28: =B27 -> 0 | D28: =C28 -> 0 | E28: =D27 -> 0
A29: ปวช.3 | C29: =B28 -> 0 | D29: =C29 -> 0 | E29: =D28 -> 0
A30: สาขาพาณิชยกรรม | B30: =B31+B32+B33 -> 0 | C30: =C31+C32+C33 -> 0 | D30: =D31+D32+D33 -> 0 | E30: =E31+E32+E33 -> 0
A31: ปวช.1 | D31: =C31 -> 0 | F31: =IF(AND(B31>0,B32>0,B33>0),IF(OR(C31=0,E31=0)," <-----!!! กรอกข้อมูลยังไม่ครบถ้วนใน เซลล์ C31 และ E31",""),"")
A32: ปวช.2 | C32: =B31 -> 0 | D32: =C32 -> 0 | E32: =D31 -> 0
A33: ปวช.3 | C33: =B32 -> 0 | D33: =C33 -> 0 | E33: =D32 -> 0
A34: สาขาคหกรรม | B34: =B35+B36+B37 -> 0 | C34: =C35+C36+C37 -> 0 | D34: =D35+D36+D37 -> 0 | E34: =E35+E36+E37 -> 0
A35: ปวช.1 | D35: =C35 -> 0 | F35: =IF(AND(B35>0,B36>0,B37>0),IF(OR(C35=0,E35=0)," <-----!!! กรอกข้อมูลยังไม่ครบถ้วนใน เซลล์ C35 และ E35",""),"")
A36: ปวช.2 | C36: =B35 -> 0 | D36: =C36 -> 0 | E36: =D35 -> 0
A37: ปวช.3 | C37: =B36 -> 0 | D37: =C37 -> 0 | E37: =D36 -> 0
A38: รวมระดับอาชีวศึกษา | B38: =B26+B30+B34 -> 0 | C38: =C26+C30+C34 -> 0 | D38: =D26+D30+D34 -> 0 | E38: =E26+E30+E34 -> 0
A39: รวมทุกระดับชั้น | B39: =SUM(B38,B25,B21,B17,B10) -> 0 | C39: =SUM(C38,C25,C21,C17,C10) -> 0 | D39: =SUM(D38,D25,D21,D17,D10) -> 0 | E39: =SUM(E38,E25,E21,E17,E10) -> 0
A41: โรงเรียนขนาดเล็ก ส่วนเพิ่ม (Top up)
A42: 1. ประถมศึกษา | D42: =IF(D17<=120,D17,0) -> 0 | E42: =IF(E17<=120,E17,0) -> 0
A43: 2. มัธยมศึกษาตอนต้น | D43: =IF(D21<=300,D21,0) -> 0 | E43: =IF(E21<=300,E21,0) -> 0
A44: หมายเหตุ :
A45: 1. ข้อมูลนักเรียนที่ใช้เป็นฐานในการคำนวณจะใช้นักเรียน ณ พฤศจิกายน 2568 2. ระดับอนุบาล เด็กของแต่ละโรงเรียนจะแตกต่างกันตามระดับชั้นที่เปิด ขอให้กรอกข้อมูลให้ถูกต้อง 1.อายุ 3 ปี คือ อนุบาล 1 2.อายุ 4 ปี คือ อนุบาล 2 และ 3. อายุ 5 ปี คือ อนุบาล 3

Sheet 1.1.1 รร. อปท. 2
A1: แบบฟอร์มประมาณการนักเรียนและแผนการรับนักเรียน (ชั้นเคลื่อน) | E1: แบบฟอร์ม 1.1.1 แบบชั้นเคลื่อน (โรงเรียน อปท. ปกติ)
A2: ประจำปีงบประมาณ พ.ศ. 2570
A3: ระดับชั้น | B3: งบประมาณปี 2569 | D3: งบประมาณปี 2570
B4: จำนวนนักเรียนรับจริง (ณ พฤศจิกายน 2568) | C4: ประมาณการนักเรียน | D4: ประมาณการนักเรียน | E4: ประมาณการนักเรียน
B5: ภาคเรียน 2/2568 | C5: ภาคเรียน 1/2569 | D5: ภาคเรียน 2/2569 | E5: ภาคเรียน 1/2570
B6: หน่วยนับ (คน) | C6: หน่วยนับ (คน) | D6: หน่วยนับ (คน) | E6: หน่วยนับ (คน)
A7: อนุบาล 1 | D7: =C7 -> 0 | F7: =IF(AND(B7>0,B8>0,B9>0),IF(OR(C7=0,E7=0)," <-----!!! กรอกข้อมูลยังไม่ครบถ้วนใน เซลล์ C7 และ E7",""),"")
A8: อนุบาล 2 | C8: =IF(B7>0,B7,B8) -> 0 | D8: =C8 -> 0 | E8: =IF(B7>0,D7,B8) -> 0
A9: อนุบาล 3 | C9: =IF(B9>0,B8,0) -> 0 | D9: =IF(B9>0,C9,0) -> 0 | E9: =IF(B9>0,D8,0) -> 0
A10: รวมระดับก่อนประถมศึกษา | B10: =SUM(B7:B9) -> 0 | C10: =SUM(C7:C9) -> 0 | D10: =SUM(D7:D9) -> 0 | E10: =SUM(E7:E9) -> 0
A11: ประถมศึกษาปีที่ 1 | D11: =C11 -> 0 | F11: =IF(AND(B11>0,B12>0,B13>0,B16>0),IF(OR(C11=0,E11=0)," <---- !!! กรอกข้อมูลยังไม่ครบถ้วนใน เซลล์ C11 และ E11",""),"")
A12: ประถมศึกษาปีที่ 2 | C12: =B11 -> 0 | D12: =C12 -> 0 | E12: =D11 -> 0
A13: ประถมศึกษาปีที่ 3 | C13: =B12 -> 0 | D13: =C13 -> 0 | E13: =D12 -> 0
A14: ประถมศึกษาปีที่ 4 | C14: =B13 -> 0 | D14: =C14 -> 0 | E14: =D13 -> 0
A15: ประถมศึกษาปีที่ 5 | C15: =B14 -> 0 | D15: =C15 -> 0 | E15: =D14 -> 0
A16: ประถมศึกษาปีที่ 6 | C16: =B15 -> 0 | D16: =C16 -> 0 | E16: =D15 -> 0
A17: รวมระดับประถมศึกษา | B17: =SUM(B11:B16) -> 0 | C17: =SUM(C11:C16) -> 0 | D17: =SUM(D11:D16) -> 0 | E17: =SUM(E11:E16) -> 0 | F17: =40%*E17 -> 0
A18: มัธยมศึกษาปีที่ 1 | D18: =C18 -> 0 | F18: =IF(AND(B18>0,B19>0,B20>0),IF(OR(C18=0,E18=0)," <-----!!! กรอกข้อมูลยังไม่ครบถ้วนใน เซลล์ C18 และ E18",""),"")
A19: มัธยมศึกษาปีที่ 2 | C19: =B18 -> 0 | D19: =C19 -> 0 | E19: =D18 -> 0
A20: มัธยมศึกษาปีที่ 3 | C20: =B19 -> 0 | D20: =C20 -> 0 | E20: =D19 -> 0
A21: รวมระดับมัธยมศึกษาตอนต้น | B21: =SUM(B18:B20) -> 0 | C21: =SUM(C18:C20) -> 0 | D21: =SUM(D18:D20) -> 0 | E21: =SUM(E18:E20) -> 0 | F21: =30%*E21 -> 0
A22: มัธยมศึกษาปีที่ 4 | D22: =C22 -> 0 | F22: =IF(AND(B22>0,B23>0,B24>0),IF(OR(C22=0,E22=0)," <-----!!! กรอกข้อมูลยังไม่ครบถ้วนใน เซลล์ C22 และ E22",""),"")
A23: มัธยมศึกษาปีที่ 5 | C23: =B22 -> 0 | D23: =C23 -> 0 | E23: =D22 -> 0
A24: มัธยมศึกษาปีที่ 6 | C24: =B23 -> 0 | D24: =C24 -> 0 | E24: =D23 -> 0
A25: รวมระดับมัธยมศึกษาตอนปลาย | B25: =SUM(B22:B24) -> 0 | C25: =SUM(C22:C24) -> 0 | D25: =SUM(D22:D24) -> 0 | E25: =SUM(E22:E24) -> 0
A26: สาขาช่าง | B26: =B27+B28+B29 -> 0 | C26: =C27+C28+C29 -> 0 | D26: =D27+D28+D29 -> 0 | E26: =E27+E28+E29 -> 0
A27: ปวช.1 | D27: =C27 -> 0 | F27: =IF(AND(B27>0,B28>0,B29>0),IF(OR(C27=0,E27=0)," <-----!!! กรอกข้อมูลยังไม่ครบถ้วนใน เซลล์ C27 และ E27",""),"")
A28: ปวช.2 | C28: =B27 -> 0 | D28: =C28 -> 0 | E28: =D27 -> 0
A29: ปวช.3 | C29: =B28 -> 0 | D29: =C29 -> 0 | E29: =D28 -> 0
A30: สาขาพาณิชยกรรม | B30: =B31+B32+B33 -> 0 | C30: =C31+C32+C33 -> 0 | D30: =D31+D32+D33 -> 0 | E30: =E31+E32+E33 -> 0
A31: ปวช.1 | D31: =C31 -> 0 | F31: =IF(AND(B31>0,B32>0,B33>0),IF(OR(C31=0,E31=0)," <-----!!! กรอกข้อมูลยังไม่ครบถ้วนใน เซลล์ C31 และ E31",""),"")
A32: ปวช.2 | C32: =B31 -> 0 | D32: =C32 -> 0 | E32: =D31 -> 0
A33: ปวช.3 | C33: =B32 -> 0 | D33: =C33 -> 0 | E33: =D32 -> 0
A34: สาขาคหกรรม | B34: =B35+B36+B37 -> 0 | C34: =C35+C36+C37 -> 0 | D34: =D35+D36+D37 -> 0 | E34: =E35+E36+E37 -> 0
A35: ปวช.1 | D35: =C35 -> 0 | F35: =IF(AND(B35>0,B36>0,B37>0),IF(OR(C35=0,E35=0)," <-----!!! กรอกข้อมูลยังไม่ครบถ้วนใน เซลล์ C35 และ E35",""),"")
A36: ปวช.2 | C36: =B35 -> 0 | D36: =C36 -> 0 | E36: =D35 -> 0
A37: ปวช.3 | C37: =B36 -> 0 | D37: =C37 -> 0 | E37: =D36 -> 0
A38: รวมระดับอาชีวศึกษา | B38: =B26+B30+B34 -> 0 | C38: =C26+C30+C34 -> 0 | D38: =D26+D30+D34 -> 0 | E38: =E26+E30+E34 -> 0
A39: รวมทุกระดับชั้น | B39: =SUM(B38,B25,B21,B17,B10) -> 0 | C39: =SUM(C38,C25,C21,C17,C10) -> 0 | D39: =SUM(D38,D25,D21,D17,D10) -> 0 | E39: =SUM(E38,E25,E21,E17,E10) -> 0
A41: โรงเรียนขนาดเล็ก ส่วนเพิ่ม (Top up)
A42: 1. ประถมศึกษา | D42: =IF(D17<=120,D17,0) -> 0 | E42: =IF(E17<=120,E17,0) -> 0
A43: 2. มัธยมศึกษาตอนต้น | D43: =IF(D21<=300,D21,0) -> 0 | E43: =IF(E21<=300,E21,0) -> 0
A44: หมายเหตุ :
A45: 1. ข้อมูลนักเรียนที่ใช้เป็นฐานในการคำนวณจะใช้นักเรียน ณ พฤศจิกายน 2568 2. ระดับอนุบาล เด็กของแต่ละโรงเรียนจะแตกต่างกันตามระดับชั้นที่เปิด ขอให้กรอกข้อมูลให้ถูกต้อง 1.อายุ 3 ปี คือ อนุบาล 1 2.อายุ 4 ปี คือ อนุบาล 2 และ 3. อายุ 5 ปี คือ อนุบาล 3

Sheet 1.1.1 รร. อปท. 3
A1: แบบฟอร์มประมาณการนักเรียนและแผนการรับนักเรียน (ชั้นเคลื่อน) | E1: แบบฟอร์ม 1.1.1 แบบชั้นเคลื่อน (โรงเรียน อปท. ปกติ)
A2: ประจำปีงบประมาณ พ.ศ. 2570
A3: ระดับชั้น | B3: งบประมาณปี 2569 | D3: งบประมาณปี 2570
B4: จำนวนนักเรียนรับจริง (ณ พฤศจิกายน 2568) | C4: ประมาณการนักเรียน | D4: ประมาณการนักเรียน | E4: ประมาณการนักเรียน
B5: ภาคเรียน 2/2568 | C5: ภาคเรียน 1/2569 | D5: ภาคเรียน 2/2569 | E5: ภาคเรียน 1/2570
B6: หน่วยนับ (คน) | C6: หน่วยนับ (คน) | D6: หน่วยนับ (คน) | E6: หน่วยนับ (คน)
A7: อนุบาล 1 | D7: =C7 -> 0 | F7: =IF(AND(B7>0,B8>0,B9>0),IF(OR(C7=0,E7=0)," <-----!!! กรอกข้อมูลยังไม่ครบถ้วนใน เซลล์ C7 และ E7",""),"")
A8: อนุบาล 2 | C8: =IF(B7>0,B7,B8) -> 0 | D8: =C8 -> 0 | E8: =IF(B7>0,D7,B8) -> 0
A9: อนุบาล 3 | C9: =IF(B9>0,B8,0) -> 0 | D9: =IF(B9>0,C9,0) -> 0 | E9: =IF(B9>0,D8,0) -> 0
A10: รวมระดับก่อนประถมศึกษา | B10: =SUM(B7:B9) -> 0 | C10: =SUM(C7:C9) -> 0 | D10: =SUM(D7:D9) -> 0 | E10: =SUM(E7:E9) -> 0
A11: ประถมศึกษาปีที่ 1 | D11: =C11 -> 0 | F11: =IF(AND(B11>0,B12>0,B13>0,B16>0),IF(OR(C11=0,E11=0)," <---- !!! กรอกข้อมูลยังไม่ครบถ้วนใน เซลล์ C11 และ E11",""),"")
A12: ประถมศึกษาปีที่ 2 | C12: =B11 -> 0 | D12: =C12 -> 0 | E12: =D11 -> 0
A13: ประถมศึกษาปีที่ 3 | C13: =B12 -> 0 | D13: =C13 -> 0 | E13: =D12 -> 0
A14: ประถมศึกษาปีที่ 4 | C14: =B13 -> 0 | D14: =C14 -> 0 | E14: =D13 -> 0
A15: ประถมศึกษาปีที่ 5 | C15: =B14 -> 0 | D15: =C15 -> 0 | E15: =D14 -> 0
A16: ประถมศึกษาปีที่ 6 | C16: =B15 -> 0 | D16: =C16 -> 0 | E16: =D15 -> 0
A17: รวมระดับประถมศึกษา | B17: =SUM(B11:B16) -> 0 | C17: =SUM(C11:C16) -> 0 | D17: =SUM(D11:D16) -> 0 | E17: =SUM(E11:E16) -> 0 | F17: =40%*E17 -> 0
A18: มัธยมศึกษาปีที่ 1 | D18: =C18 -> 0 | F18: =IF(AND(B18>0,B19>0,B20>0),IF(OR(C18=0,E18=0)," <-----!!! กรอกข้อมูลยังไม่ครบถ้วนใน เซลล์ C18 และ E18",""),"")
A19: มัธยมศึกษาปีที่ 2 | C19: =B18 -> 0 | D19: =C19 -> 0 | E19: =D18 -> 0
A20: มัธยมศึกษาปีที่ 3 | C20: =B19 -> 0 | D20: =C20 -> 0 | E20: =D19 -> 0
A21: รวมระดับมัธยมศึกษาตอนต้น | B21: =SUM(B18:B20) -> 0 | C21: =SUM(C18:C20) -> 0 | D21: =SUM(D18:D20) -> 0 | E21: =SUM(E18:E20) -> 0 | F21: =30%*E21 -> 0
A22: มัธยมศึกษาปีที่ 4 | D22: =C22 -> 0 | F22: =IF(AND(B22>0,B23>0,B24>0),IF(OR(C22=0,E22=0)," <-----!!! กรอกข้อมูลยังไม่ครบถ้วนใน เซลล์ C22 และ E22",""),"")
A23: มัธยมศึกษาปีที่ 5 | C23: =B22 -> 0 | D23: =C23 -> 0 | E23: =D22 -> 0
A24: มัธยมศึกษาปีที่ 6 | C24: =B23 -> 0 | D24: =C24 -> 0 | E24: =D23 -> 0
A25: รวมระดับมัธยมศึกษาตอนปลาย | B25: =SUM(B22:B24) -> 0 | C25: =SUM(C22:C24) -> 0 | D25: =SUM(D22:D24) -> 0 | E25: =SUM(E22:E24) -> 0
A26: สาขาช่าง | B26: =B27+B28+B29 -> 0 | C26: =C27+C28+C29 -> 0 | D26: =D27+D28+D29 -> 0 | E26: =E27+E28+E29 -> 0
A27: ปวช.1 | D27: =C27 -> 0 | F27: =IF(AND(B27>0,B28>0,B29>0),IF(OR(C27=0,E27=0)," <-----!!! กรอกข้อมูลยังไม่ครบถ้วนใน เซลล์ C27 และ E27",""),"")
A28: ปวช.2 | C28: =B27 -> 0 | D28: =C28 -> 0 | E28: =D27 -> 0
A29: ปวช.3 | C29: =B28 -> 0 | D29: =C29 -> 0 | E29: =D28 -> 0
A30: สาขาพาณิชยกรรม | B30: =B31+B32+B33 -> 0 | C30: =C31+C32+C33 -> 0 | D30: =D31+D32+D33 -> 0 | E30: =E31+E32+E33 -> 0
A31: ปวช.1 | D31: =C31 -> 0 | F31: =IF(AND(B31>0,B32>0,B33>0),IF(OR(C31=0,E31=0)," <-----!!! กรอกข้อมูลยังไม่ครบถ้วนใน เซลล์ C31 และ E31",""),"")
A32: ปวช.2 | C32: =B31 -> 0 | D32: =C32 -> 0 | E32: =D31 -> 0
A33: ปวช.3 | C33: =B32 -> 0 | D33: =C33 -> 0 | E33: =D32 -> 0
A34: สาขาคหกรรม | B34: =B35+B36+B37 -> 0 | C34: =C35+C36+C37 -> 0 | D34: =D35+D36+D37 -> 0 | E34: =E35+E36+E37 -> 0
A35: ปวช.1 | D35: =C35 -> 0 | F35: =IF(AND(B35>0,B36>0,B37>0),IF(OR(C35=0,E35=0)," <-----!!! กรอกข้อมูลยังไม่ครบถ้วนใน เซลล์ C35 และ E35",""),"")
A36: ปวช.2 | C36: =B35 -> 0 | D36: =C36 -> 0 | E36: =D35 -> 0
A37: ปวช.3 | C37: =B36 -> 0 | D37: =C37 -> 0 | E37: =D36 -> 0
A38: รวมระดับอาชีวศึกษา | B38: =B26+B30+B34 -> 0 | C38: =C26+C30+C34 -> 0 | D38: =D26+D30+D34 -> 0 | E38: =E26+E30+E34 -> 0
A39: รวมทุกระดับชั้น | B39: =SUM(B38,B25,B21,B17,B10) -> 0 | C39: =SUM(C38,C25,C21,C17,C10) -> 0 | D39: =SUM(D38,D25,D21,D17,D10) -> 0 | E39: =SUM(E38,E25,E21,E17,E10) -> 0
A41: โรงเรียนขนาดเล็ก ส่วนเพิ่ม (Top up)
A42: 1. ประถมศึกษา | D42: =IF(D17<=120,D17,0) -> 0 | E42: =IF(E17<=120,E17,0) -> 0
A43: 2. มัธยมศึกษาตอนต้น | D43: =IF(D21<=300,D21,0) -> 0 | E43: =IF(E21<=300,E21,0) -> 0
A44: หมายเหตุ :
A45: 1. ข้อมูลนักเรียนที่ใช้เป็นฐานในการคำนวณจะใช้นักเรียน ณ พฤศจิกายน 2568 2. ระดับอนุบาล เด็กของแต่ละโรงเรียนจะแตกต่างกันตามระดับชั้นที่เปิด ขอให้กรอกข้อมูลให้ถูกต้อง 1.อายุ 3 ปี คือ อนุบาล 1 2.อายุ 4 ปี คือ อนุบาล 2 และ 3. อายุ 5 ปี คือ อนุบาล 3

Sheet 1.1.1 รร. อปท. 4
A1: แบบฟอร์มประมาณการนักเรียนและแผนการรับนักเรียน (ชั้นเคลื่อน) | E1: แบบฟอร์ม 1.1.1 แบบชั้นเคลื่อน (โรงเรียน อปท. ปกติ)
A2: ประจำปีงบประมาณ พ.ศ. 2570
A3: ระดับชั้น | B3: งบประมาณปี 2569 | D3: งบประมาณปี 2570
B4: จำนวนนักเรียนรับจริง (ณ พฤศจิกายน 2568) | C4: ประมาณการนักเรียน | D4: ประมาณการนักเรียน | E4: ประมาณการนักเรียน
B5: ภาคเรียน 2/2568 | C5: ภาคเรียน 1/2569 | D5: ภาคเรียน 2/2569 | E5: ภาคเรียน 1/2570
B6: หน่วยนับ (คน) | C6: หน่วยนับ (คน) | D6: หน่วยนับ (คน) | E6: หน่วยนับ (คน)
A7: อนุบาล 1 | D7: =C7 -> 0 | F7: =IF(AND(B7>0,B8>0,B9>0),IF(OR(C7=0,E7=0)," <-----!!! กรอกข้อมูลยังไม่ครบถ้วนใน เซลล์ C7 และ E7",""),"")
A8: อนุบาล 2 | C8: =IF(B7>0,B7,B8) -> 0 | D8: =C8 -> 0 | E8: =IF(B7>0,D7,B8) -> 0
A9: อนุบาล 3 | C9: =IF(B9>0,B8,0) -> 0 | D9: =IF(B9>0,C9,0) -> 0 | E9: =IF(B9>0,D8,0) -> 0
A10: รวมระดับก่อนประถมศึกษา | B10: =SUM(B7:B9) -> 0 | C10: =SUM(C7:C9) -> 0 | D10: =SUM(D7:D9) -> 0 | E10: =SUM(E7:E9) -> 0
A11: ประถมศึกษาปีที่ 1 | D11: =C11 -> 0 | F11: =IF(AND(B11>0,B12>0,B13>0,B16>0),IF(OR(C11=0,E11=0)," <---- !!! กรอกข้อมูลยังไม่ครบถ้วนใน เซลล์ C11 และ E11",""),"")
A12: ประถมศึกษาปีที่ 2 | C12: =B11 -> 0 | D12: =C12 -> 0 | E12: =D11 -> 0
A13: ประถมศึกษาปีที่ 3 | C13: =B12 -> 0 | D13: =C13 -> 0 | E13: =D12 -> 0
A14: ประถมศึกษาปีที่ 4 | C14: =B13 -> 0 | D14: =C14 -> 0 | E14: =D13 -> 0
A15: ประถมศึกษาปีที่ 5 | C15: =B14 -> 0 | D15: =C15 -> 0 | E15: =D14 -> 0
A16: ประถมศึกษาปีที่ 6 | C16: =B15 -> 0 | D16: =C16 -> 0 | E16: =D15 -> 0
A17: รวมระดับประถมศึกษา | B17: =SUM(B11:B16) -> 0 | C17: =SUM(C11:C16) -> 0 | D17: =SUM(D11:D16) -> 0 | E17: =SUM(E11:E16) -> 0 | F17: =40%*E17 -> 0
A18: มัธยมศึกษาปีที่ 1 | D18: =C18 -> 0 | F18: =IF(AND(B18>0,B19>0,B20>0),IF(OR(C18=0,E18=0)," <-----!!! กรอกข้อมูลยังไม่ครบถ้วนใน เซลล์ C18 และ E18",""),"")
A19: มัธยมศึกษาปีที่ 2 | C19: =B18 -> 0 | D19: =C19 -> 0 | E19: =D18 -> 0
A20: มัธยมศึกษาปีที่ 3 | C20: =B19 -> 0 | D20: =C20 -> 0 | E20: =D19 -> 0
A21: รวมระดับมัธยมศึกษาตอนต้น | B21: =SUM(B18:B20) -> 0 | C21: =SUM(C18:C20) -> 0 | D21: =SUM(D18:D20) -> 0 | E21: =SUM(E18:E20) -> 0 | F21: =30%*E21 -> 0
A22: มัธยมศึกษาปีที่ 4 | D22: =C22 -> 0 | F22: =IF(AND(B22>0,B23>0,B24>0),IF(OR(C22=0,E22=0)," <-----!!! กรอกข้อมูลยังไม่ครบถ้วนใน เซลล์ C22 และ E22",""),"")
A23: มัธยมศึกษาปีที่ 5 | C23: =B22 -> 0 | D23: =C23 -> 0 | E23: =D22 -> 0
A24: มัธยมศึกษาปีที่ 6 | C24: =B23 -> 0 | D24: =C24 -> 0 | E24: =D23 -> 0
A25: รวมระดับมัธยมศึกษาตอนปลาย | B25: =SUM(B22:B24) -> 0 | C25: =SUM(C22:C24) -> 0 | D25: =SUM(D22:D24) -> 0 | E25: =SUM(E22:E24) -> 0
A26: สาขาช่าง | B26: =B27+B28+B29 -> 0 | C26: =C27+C28+C29 -> 0 | D26: =D27+D28+D29 -> 0 | E26: =E27+E28+E29 -> 0
A27: ปวช.1 | D27: =C27 -> 0 | F27: =IF(AND(B27>0,B28>0,B29>0),IF(OR(C27=0,E27=0)," <-----!!! กรอกข้อมูลยังไม่ครบถ้วนใน เซลล์ C27 และ E27",""),"")
A28: ปวช.2 | C28: =B27 -> 0 | D28: =C28 -> 0 | E28: =D27 -> 0
A29: ปวช.3 | C29: =B28 -> 0 | D29: =C29 -> 0 | E29: =D28 -> 0
A30: สาขาพาณิชยกรรม | B30: =B31+B32+B33 -> 0 | C30: =C31+C32+C33 -> 0 | D30: =D31+D32+D33 -> 0 | E30: =E31+E32+E33 -> 0
A31: ปวช.1 | D31: =C31 -> 0 | F31: =IF(AND(B31>0,B32>0,B33>0),IF(OR(C31=0,E31=0)," <-----!!! กรอกข้อมูลยังไม่ครบถ้วนใน เซลล์ C31 และ E31",""),"")
A32: ปวช.2 | C32: =B31 -> 0 | D32: =C32 -> 0 | E32: =D31 -> 0
A33: ปวช.3 | C33: =B32 -> 0 | D33: =C33 -> 0 | E33: =D32 -> 0
A34: สาขาคหกรรม | B34: =B35+B36+B37 -> 0 | C34: =C35+C36+C37 -> 0 | D34: =D35+D36+D37 -> 0 | E34: =E35+E36+E37 -> 0
A35: ปวช.1 | D35: =C35 -> 0 | F35: =IF(AND(B35>0,B36>0,B37>0),IF(OR(C35=0,E35=0)," <-----!!! กรอกข้อมูลยังไม่ครบถ้วนใน เซลล์ C35 และ E35",""),"")
A36: ปวช.2 | C36: =B35 -> 0 | D36: =C36 -> 0 | E36: =D35 -> 0
A37: ปวช.3 | C37: =B36 -> 0 | D37: =C37 -> 0 | E37: =D36 -> 0
A38: รวมระดับอาชีวศึกษา | B38: =B26+B30+B34 -> 0 | C38: =C26+C30+C34 -> 0 | D38: =D26+D30+D34 -> 0 | E38: =E26+E30+E34 -> 0
A39: รวมทุกระดับชั้น | B39: =SUM(B38,B25,B21,B17,B10) -> 0 | C39: =SUM(C38,C25,C21,C17,C10) -> 0 | D39: =SUM(D38,D25,D21,D17,D10) -> 0 | E39: =SUM(E38,E25,E21,E17,E10) -> 0
A41: โรงเรียนขนาดเล็ก ส่วนเพิ่ม (Top up)
A42: 1. ประถมศึกษา | D42: =IF(D17<=120,D17,0) -> 0 | E42: =IF(E17<=120,E17,0) -> 0
A43: 2. มัธยมศึกษาตอนต้น | D43: =IF(D21<=300,D21,0) -> 0 | E43: =IF(E21<=300,E21,0) -> 0
A44: หมายเหตุ :
A45: 1. ข้อมูลนักเรียนที่ใช้เป็นฐานในการคำนวณจะใช้นักเรียน ณ พฤศจิกายน 2568 2. ระดับอนุบาล เด็กของแต่ละโรงเรียนจะแตกต่างกันตามระดับชั้นที่เปิด ขอให้กรอกข้อมูลให้ถูกต้อง 1.อายุ 3 ปี คือ อนุบาล 1 2.อายุ 4 ปี คือ อนุบาล 2 และ 3. อายุ 5 ปี คือ อนุบาล 3

Sheet 1.1.1 รร. อปท. 5
A1: แบบฟอร์มประมาณการนักเรียนและแผนการรับนักเรียน (ชั้นเคลื่อน) | E1: แบบฟอร์ม 1.1.1 แบบชั้นเคลื่อน (โรงเรียน อปท. ปกติ)
A2: ประจำปีงบประมาณ พ.ศ. 2570
A3: ระดับชั้น | B3: งบประมาณปี 2569 | D3: งบประมาณปี 2570
B4: จำนวนนักเรียนรับจริง (ณ พฤศจิกายน 2568) | C4: ประมาณการนักเรียน | D4: ประมาณการนักเรียน | E4: ประมาณการนักเรียน
B5: ภาคเรียน 2/2568 | C5: ภาคเรียน 1/2569 | D5: ภาคเรียน 2/2569 | E5: ภาคเรียน 1/2570
B6: หน่วยนับ (คน) | C6: หน่วยนับ (คน) | D6: หน่วยนับ (คน) | E6: หน่วยนับ (คน)
A7: อนุบาล 1 | D7: =C7 -> 0 | F7: =IF(AND(B7>0,B8>0,B9>0),IF(OR(C7=0,E7=0)," <-----!!! กรอกข้อมูลยังไม่ครบถ้วนใน เซลล์ C7 และ E7",""),"")
A8: อนุบาล 2 | C8: =IF(B7>0,B7,B8) -> 0 | D8: =C8 -> 0 | E8: =IF(B7>0,D7,B8) -> 0
A9: อนุบาล 3 | C9: =IF(B9>0,B8,0) -> 0 | D9: =IF(B9>0,C9,0) -> 0 | E9: =IF(B9>0,D8,0) -> 0
A10: รวมระดับก่อนประถมศึกษา | B10: =SUM(B7:B9) -> 0 | C10: =SUM(C7:C9) -> 0 | D10: =SUM(D7:D9) -> 0 | E10: =SUM(E7:E9) -> 0
A11: ประถมศึกษาปีที่ 1 | D11: =C11 -> 0 | F11: =IF(AND(B11>0,B12>0,B13>0,B16>0),IF(OR(C11=0,E11=0)," <---- !!! กรอกข้อมูลยังไม่ครบถ้วนใน เซลล์ C11 และ E11",""),"")
A12: ประถมศึกษาปีที่ 2 | C12: =B11 -> 0 | D12: =C12 -> 0 | E12: =D11 -> 0
A13: ประถมศึกษาปีที่ 3 | C13: =B12 -> 0 | D13: =C13 -> 0 | E13: =D12 -> 0
A14: ประถมศึกษาปีที่ 4 | C14: =B13 -> 0 | D14: =C14 -> 0 | E14: =D13 -> 0
A15: ประถมศึกษาปีที่ 5 | C15: =B14 -> 0 | D15: =C15 -> 0 | E15: =D14 -> 0
A16: ประถมศึกษาปีที่ 6 | C16: =B15 -> 0 | D16: =C16 -> 0 | E16: =D15 -> 0
A17: รวมระดับประถมศึกษา | B17: =SUM(B11:B16) -> 0 | C17: =SUM(C11:C16) -> 0 | D17: =SUM(D11:D16) -> 0 | E17: =SUM(E11:E16) -> 0 | F17: =40%*E17 -> 0
A18: มัธยมศึกษาปีที่ 1 | D18: =C18 -> 0 | F18: =IF(AND(B18>0,B19>0,B20>0),IF(OR(C18=0,E18=0)," <-----!!! กรอกข้อมูลยังไม่ครบถ้วนใน เซลล์ C18 และ E18",""),"")
A19: มัธยมศึกษาปีที่ 2 | C19: =B18 -> 0 | D19: =C19 -> 0 | E19: =D18 -> 0
A20: มัธยมศึกษาปีที่ 3 | C20: =B19 -> 0 | D20: =C20 -> 0 | E20: =D19 -> 0
A21: รวมระดับมัธยมศึกษาตอนต้น | B21: =SUM(B18:B20) -> 0 | C21: =SUM(C18:C20) -> 0 | D21: =SUM(D18:D20) -> 0 | E21: =SUM(E18:E20) -> 0 | F21: =30%*E21 -> 0
A22: มัธยมศึกษาปีที่ 4 | D22: =C22 -> 0 | F22: =IF(AND(B22>0,B23>0,B24>0),IF(OR(C22=0,E22=0)," <-----!!! กรอกข้อมูลยังไม่ครบถ้วนใน เซลล์ C22 และ E22",""),"")
A23: มัธยมศึกษาปีที่ 5 | C23: =B22 -> 0 | D23: =C23 -> 0 | E23: =D22 -> 0
A24: มัธยมศึกษาปีที่ 6 | C24: =B23 -> 0 | D24: =C24 -> 0 | E24: =D23 -> 0
A25: รวมระดับมัธยมศึกษาตอนปลาย | B25: =SUM(B22:B24) -> 0 | C25: =SUM(C22:C24) -> 0 | D25: =SUM(D22:D24) -> 0 | E25: =SUM(E22:E24) -> 0
A26: สาขาช่าง | B26: =B27+B28+B29 -> 0 | C26: =C27+C28+C29 -> 0 | D26: =D27+D28+D29 -> 0 | E26: =E27+E28+E29 -> 0
A27: ปวช.1 | D27: =C27 -> 0 | F27: =IF(AND(B27>0,B28>0,B29>0),IF(OR(C27=0,E27=0)," <-----!!! กรอกข้อมูลยังไม่ครบถ้วนใน เซลล์ C27 และ E27",""),"")
A28: ปวช.2 | C28: =B27 -> 0 | D28: =C28 -> 0 | E28: =D27 -> 0
A29: ปวช.3 | C29: =B28 -> 0 | D29: =C29 -> 0 | E29: =D28 -> 0
A30: สาขาพาณิชยกรรม | B30: =B31+B32+B33 -> 0 | C30: =C31+C32+C33 -> 0 | D30: =D31+D32+D33 -> 0 | E30: =E31+E32+E33 -> 0
A31: ปวช.1 | D31: =C31 -> 0 | F31: =IF(AND(B31>0,B32>0,B33>0),IF(OR(C31=0,E31=0)," <-----!!! กรอกข้อมูลยังไม่ครบถ้วนใน เซลล์ C31 และ E31",""),"")
A32: ปวช.2 | C32: =B31 -> 0 | D32: =C32 -> 0 | E32: =D31 -> 0
A33: ปวช.3 | C33: =B32 -> 0 | D33: =C33 -> 0 | E33: =D32 -> 0
A34: สาขาคหกรรม | B34: =B35+B36+B37 -> 0 | C34: =C35+C36+C37 -> 0 | D34: =D35+D36+D37 -> 0 | E34: =E35+E36+E37 -> 0
A35: ปวช.1 | D35: =C35 -> 0 | F35: =IF(AND(B35>0,B36>0,B37>0),IF(OR(C35=0,E35=0)," <-----!!! กรอกข้อมูลยังไม่ครบถ้วนใน เซลล์ C35 และ E35",""),"")
A36: ปวช.2 | C36: =B35 -> 0 | D36: =C36 -> 0 | E36: =D35 -> 0
A37: ปวช.3 | C37: =B36 -> 0 | D37: =C37 -> 0 | E37: =D36 -> 0
A38: รวมระดับอาชีวศึกษา | B38: =B26+B30+B34 -> 0 | C38: =C26+C30+C34 -> 0 | D38: =D26+D30+D34 -> 0 | E38: =E26+E30+E34 -> 0
A39: รวมทุกระดับชั้น | B39: =SUM(B38,B25,B21,B17,B10) -> 0 | C39: =SUM(C38,C25,C21,C17,C10) -> 0 | D39: =SUM(D38,D25,D21,D17,D10) -> 0 | E39: =SUM(E38,E25,E21,E17,E10) -> 0
A41: โรงเรียนขนาดเล็ก ส่วนเพิ่ม (Top up)
A42: 1. ประถมศึกษา | D42: =IF(D17<=120,D17,0) -> 0 | E42: =IF(E17<=120,E17,0) -> 0
A43: 2. มัธยมศึกษาตอนต้น | D43: =IF(D21<=300,D21,0) -> 0 | E43: =IF(E21<=300,E21,0) -> 0
A44: หมายเหตุ :
A45: 1. ข้อมูลนักเรียนที่ใช้เป็นฐานในการคำนวณจะใช้นักเรียน ณ พฤศจิกายน 2568 2. ระดับอนุบาล เด็กของแต่ละโรงเรียนจะแตกต่างกันตามระดับชั้นที่เปิด ขอให้กรอกข้อมูลให้ถูกต้อง 1.อายุ 3 ปี คือ อนุบาล 1 2.อายุ 4 ปี คือ อนุบาล 2 และ 3. อายุ 5 ปี คือ อนุบาล 3

Sheet 1.1.1 รร. อปท. 6
A1: แบบฟอร์มประมาณการนักเรียนและแผนการรับนักเรียน (ชั้นเคลื่อน) | E1: แบบฟอร์ม 1.1.1 แบบชั้นเคลื่อน (โรงเรียน อปท. ปกติ)
A2: ประจำปีงบประมาณ พ.ศ. 2570
A3: ระดับชั้น | B3: งบประมาณปี 2569 | D3: งบประมาณปี 2570
B4: จำนวนนักเรียนรับจริง (ณ พฤศจิกายน 2568) | C4: ประมาณการนักเรียน | D4: ประมาณการนักเรียน | E4: ประมาณการนักเรียน
B5: ภาคเรียน 2/2568 | C5: ภาคเรียน 1/2569 | D5: ภาคเรียน 2/2569 | E5: ภาคเรียน 1/2570
B6: หน่วยนับ (คน) | C6: หน่วยนับ (คน) | D6: หน่วยนับ (คน) | E6: หน่วยนับ (คน)
A7: อนุบาล 1 | D7: =C7 -> 0 | F7: =IF(AND(B7>0,B8>0,B9>0),IF(OR(C7=0,E7=0)," <-----!!! กรอกข้อมูลยังไม่ครบถ้วนใน เซลล์ C7 และ E7",""),"")
A8: อนุบาล 2 | C8: =IF(B7>0,B7,B8) -> 0 | D8: =C8 -> 0 | E8: =IF(B7>0,D7,B8) -> 0
A9: อนุบาล 3 | C9: =IF(B9>0,B8,0) -> 0 | D9: =IF(B9>0,C9,0) -> 0 | E9: =IF(B9>0,D8,0) -> 0
A10: รวมระดับก่อนประถมศึกษา | B10: =SUM(B7:B9) -> 0 | C10: =SUM(C7:C9) -> 0 | D10: =SUM(D7:D9) -> 0 | E10: =SUM(E7:E9) -> 0
A11: ประถมศึกษาปีที่ 1 | D11: =C11 -> 0 | F11: =IF(AND(B11>0,B12>0,B13>0,B16>0),IF(OR(C11=0,E11=0)," <---- !!! กรอกข้อมูลยังไม่ครบถ้วนใน เซลล์ C11 และ E11",""),"")
A12: ประถมศึกษาปีที่ 2 | C12: =B11 -> 0 | D12: =C12 -> 0 | E12: =D11 -> 0
A13: ประถมศึกษาปีที่ 3 | C13: =B12 -> 0 | D13: =C13 -> 0 | E13: =D12 -> 0
A14: ประถมศึกษาปีที่ 4 | C14: =B13 -> 0 | D14: =C14 -> 0 | E14: =D13 -> 0
A15: ประถมศึกษาปีที่ 5 | C15: =B14 -> 0 | D15: =C15 -> 0 | E15: =D14 -> 0
A16: ประถมศึกษาปีที่ 6 | C16: =B15 -> 0 | D16: =C16 -> 0 | E16: =D15 -> 0
A17: รวมระดับประถมศึกษา | B17: =SUM(B11:B16) -> 0 | C17: =SUM(C11:C16) -> 0 | D17: =SUM(D11:D16) -> 0 | E17: =SUM(E11:E16) -> 0 | F17: =40%*E17 -> 0
A18: มัธยมศึกษาปีที่ 1 | D18: =C18 -> 0 | F18: =IF(AND(B18>0,B19>0,B20>0),IF(OR(C18=0,E18=0)," <-----!!! กรอกข้อมูลยังไม่ครบถ้วนใน เซลล์ C18 และ E18",""),"")
A19: มัธยมศึกษาปีที่ 2 | C19: =B18 -> 0 | D19: =C19 -> 0 | E19: =D18 -> 0
A20: มัธยมศึกษาปีที่ 3 | C20: =B19 -> 0 | D20: =C20 -> 0 | E20: =D19 -> 0
A21: รวมระดับมัธยมศึกษาตอนต้น | B21: =SUM(B18:B20) -> 0 | C21: =SUM(C18:C20) -> 0 | D21: =SUM(D18:D20) -> 0 | E21: =SUM(E18:E20) -> 0 | F21: =30%*E21 -> 0
A22: มัธยมศึกษาปีที่ 4 | D22: =C22 -> 0 | F22: =IF(AND(B22>0,B23>0,B24>0),IF(OR(C22=0,E22=0)," <-----!!! กรอกข้อมูลยังไม่ครบถ้วนใน เซลล์ C22 และ E22",""),"")
A23: มัธยมศึกษาปีที่ 5 | C23: =B22 -> 0 | D23: =C23 -> 0 | E23: =D22 -> 0
A24: มัธยมศึกษาปีที่ 6 | C24: =B23 -> 0 | D24: =C24 -> 0 | E24: =D23 -> 0
A25: รวมระดับมัธยมศึกษาตอนปลาย | B25: =SUM(B22:B24) -> 0 | C25: =SUM(C22:C24) -> 0 | D25: =SUM(D22:D24) -> 0 | E25: =SUM(E22:E24) -> 0
A26: สาขาช่าง | B26: =B27+B28+B29 -> 0 | C26: =C27+C28+C29 -> 0 | D26: =D27+D28+D29 -> 0 | E26: =E27+E28+E29 -> 0
A27: ปวช.1 | D27: =C27 -> 0 | F27: =IF(AND(B27>0,B28>0,B29>0),IF(OR(C27=0,E27=0)," <-----!!! กรอกข้อมูลยังไม่ครบถ้วนใน เซลล์ C27 และ E27",""),"")
A28: ปวช.2 | C28: =B27 -> 0 | D28: =C28 -> 0 | E28: =D27 -> 0
A29: ปวช.3 | C29: =B28 -> 0 | D29: =C29 -> 0 | E29: =D28 -> 0
A30: สาขาพาณิชยกรรม | B30: =B31+B32+B33 -> 0 | C30: =C31+C32+C33 -> 0 | D30: =D31+D32+D33 -> 0 | E30: =E31+E32+E33 -> 0
A31: ปวช.1 | D31: =C31 -> 0 | F31: =IF(AND(B31>0,B32>0,B33>0),IF(OR(C31=0,E31=0)," <-----!!! กรอกข้อมูลยังไม่ครบถ้วนใน เซลล์ C31 และ E31",""),"")
A32: ปวช.2 | C32: =B31 -> 0 | D32: =C32 -> 0 | E32: =D31 -> 0
A33: ปวช.3 | C33: =B32 -> 0 | D33: =C33 -> 0 | E33: =D32 -> 0
A34: สาขาคหกรรม | B34: =B35+B36+B37 -> 0 | C34: =C35+C36+C37 -> 0 | D34: =D35+D36+D37 -> 0 | E34: =E35+E36+E37 -> 0
A35: ปวช.1 | D35: =C35 -> 0 | F35: =IF(AND(B35>0,B36>0,B37>0),IF(OR(C35=0,E35=0)," <-----!!! กรอกข้อมูลยังไม่ครบถ้วนใน เซลล์ C35 และ E35",""),"")
A36: ปวช.2 | C36: =B35 -> 0 | D36: =C36 -> 0 | E36: =D35 -> 0
A37: ปวช.3 | C37: =B36 -> 0 | D37: =C37 -> 0 | E37: =D36 -> 0
A38: รวมระดับอาชีวศึกษา | B38: =B26+B30+B34 -> 0 | C38: =C26+C30+C34 -> 0 | D38: =D26+D30+D34 -> 0 | E38: =E26+E30+E34 -> 0
A39: รวมทุกระดับชั้น | B39: =SUM(B38,B25,B21,B17,B10) -> 0 | C39: =SUM(C38,C25,C21,C17,C10) -> 0 | D39: =SUM(D38,D25,D21,D17,D10) -> 0 | E39: =SUM(E38,E25,E21,E17,E10) -> 0
A41: โรงเรียนขนาดเล็ก ส่วนเพิ่ม (Top up)
A42: 1. ประถมศึกษา | D42: =IF(D17<=120,D17,0) -> 0 | E42: =IF(E17<=120,E17,0) -> 0
A43: 2. มัธยมศึกษาตอนต้น | D43: =IF(D21<=300,D21,0) -> 0 | E43: =IF(E21<=300,E21,0) -> 0
A44: หมายเหตุ :
A45: 1. ข้อมูลนักเรียนที่ใช้เป็นฐานในการคำนวณจะใช้นักเรียน ณ พฤศจิกายน 2568 2. ระดับอนุบาล เด็กของแต่ละโรงเรียนจะแตกต่างกันตามระดับชั้นที่เปิด ขอให้กรอกข้อมูลให้ถูกต้อง 1.อายุ 3 ปี คือ อนุบาล 1 2.อายุ 4 ปี คือ อนุบาล 2 และ 3. อายุ 5 ปี คือ อนุบาล 3

Sheet 1.1.1 รร. อปท. 7
A1: แบบฟอร์มประมาณการนักเรียนและแผนการรับนักเรียน (ชั้นเคลื่อน) | E1: แบบฟอร์ม 1.1.1 แบบชั้นเคลื่อน (โรงเรียน อปท. ปกติ)
A2: ประจำปีงบประมาณ พ.ศ. 2570
A3: ระดับชั้น | B3: งบประมาณปี 2569 | D3: งบประมาณปี 2570
B4: จำนวนนักเรียนรับจริง (ณ พฤศจิกายน 2568) | C4: ประมาณการนักเรียน | D4: ประมาณการนักเรียน | E4: ประมาณการนักเรียน
B5: ภาคเรียน 2/2568 | C5: ภาคเรียน 1/2569 | D5: ภาคเรียน 2/2569 | E5: ภาคเรียน 1/2570
B6: หน่วยนับ (คน) | C6: หน่วยนับ (คน) | D6: หน่วยนับ (คน) | E6: หน่วยนับ (คน)
A7: อนุบาล 1 | D7: =C7 -> 0 | F7: =IF(AND(B7>0,B8>0,B9>0),IF(OR(C7=0,E7=0)," <-----!!! กรอกข้อมูลยังไม่ครบถ้วนใน เซลล์ C7 และ E7",""),"")
A8: อนุบาล 2 | C8: =IF(B7>0,B7,B8) -> 0 | D8: =C8 -> 0 | E8: =IF(B7>0,D7,B8) -> 0
A9: อนุบาล 3 | C9: =IF(B9>0,B8,0) -> 0 | D9: =IF(B9>0,C9,0) -> 0 | E9: =IF(B9>0,D8,0) -> 0
A10: รวมระดับก่อนประถมศึกษา | B10: =SUM(B7:B9) -> 0 | C10: =SUM(C7:C9) -> 0 | D10: =SUM(D7:D9) -> 0 | E10: =SUM(E7:E9) -> 0
A11: ประถมศึกษาปีที่ 1 | D11: =C11 -> 0 | F11: =IF(AND(B11>0,B12>0,B13>0,B16>0),IF(OR(C11=0,E11=0)," <---- !!! กรอกข้อมูลยังไม่ครบถ้วนใน เซลล์ C11 และ E11",""),"")
A12: ประถมศึกษาปีที่ 2 | C12: =B11 -> 0 | D12: =C12 -> 0 | E12: =D11 -> 0
A13: ประถมศึกษาปีที่ 3 | C13: =B12 -> 0 | D13: =C13 -> 0 | E13: =D12 -> 0
A14: ประถมศึกษาปีที่ 4 | C14: =B13 -> 0 | D14: =C14 -> 0 | E14: =D13 -> 0
A15: ประถมศึกษาปีที่ 5 | C15: =B14 -> 0 | D15: =C15 -> 0 | E15: =D14 -> 0
A16: ประถมศึกษาปีที่ 6 | C16: =B15 -> 0 | D16: =C16 -> 0 | E16: =D15 -> 0
A17: รวมระดับประถมศึกษา | B17: =SUM(B11:B16) -> 0 | C17: =SUM(C11:C16) -> 0 | D17: =SUM(D11:D16) -> 0 | E17: =SUM(E11:E16) -> 0 | F17: =40%*E17 -> 0
A18: มัธยมศึกษาปีที่ 1 | D18: =C18 -> 0 | F18: =IF(AND(B18>0,B19>0,B20>0),IF(OR(C18=0,E18=0)," <-----!!! กรอกข้อมูลยังไม่ครบถ้วนใน เซลล์ C18 และ E18",""),"")
A19: มัธยมศึกษาปีที่ 2 | C19: =B18 -> 0 | D19: =C19 -> 0 | E19: =D18 -> 0
A20: มัธยมศึกษาปีที่ 3 | C20: =B19 -> 0 | D20: =C20 -> 0 | E20: =D19 -> 0
A21: รวมระดับมัธยมศึกษาตอนต้น | B21: =SUM(B18:B20) -> 0 | C21: =SUM(C18:C20) -> 0 | D21: =SUM(D18:D20) -> 0 | E21: =SUM(E18:E20) -> 0 | F21: =30%*E21 -> 0
A22: มัธยมศึกษาปีที่ 4 | D22: =C22 -> 0 | F22: =IF(AND(B22>0,B23>0,B24>0),IF(OR(C22=0,E22=0)," <-----!!! กรอกข้อมูลยังไม่ครบถ้วนใน เซลล์ C22 และ E22",""),"")
A23: มัธยมศึกษาปีที่ 5 | C23: =B22 -> 0 | D23: =C23 -> 0 | E23: =D22 -> 0
A24: มัธยมศึกษาปีที่ 6 | C24: =B23 -> 0 | D24: =C24 -> 0 | E24: =D23 -> 0
A25: รวมระดับมัธยมศึกษาตอนปลาย | B25: =SUM(B22:B24) -> 0 | C25: =SUM(C22:C24) -> 0 | D25: =SUM(D22:D24) -> 0 | E25: =SUM(E22:E24) -> 0
A26: สาขาช่าง | B26: =B27+B28+B29 -> 0 | C26: =C27+C28+C29 -> 0 | D26: =D27+D28+D29 -> 0 | E26: =E27+E28+E29 -> 0
A27: ปวช.1 | D27: =C27 -> 0 | F27: =IF(AND(B27>0,B28>0,B29>0),IF(OR(C27=0,E27=0)," <-----!!! กรอกข้อมูลยังไม่ครบถ้วนใน เซลล์ C27 และ E27",""),"")
A28: ปวช.2 | C28: =B27 -> 0 | D28: =C28 -> 0 | E28: =D27 -> 0
A29: ปวช.3 | C29: =B28 -> 0 | D29: =C29 -> 0 | E29: =D28 -> 0
A30: สาขาพาณิชยกรรม | B30: =B31+B32+B33 -> 0 | C30: =C31+C32+C33 -> 0 | D30: =D31+D32+D33 -> 0 | E30: =E31+E32+E33 -> 0
A31: ปวช.1 | D31: =C31 -> 0 | F31: =IF(AND(B31>0,B32>0,B33>0),IF(OR(C31=0,E31=0)," <-----!!! กรอกข้อมูลยังไม่ครบถ้วนใน เซลล์ C31 และ E31",""),"")
A32: ปวช.2 | C32: =B31 -> 0 | D32: =C32 -> 0 | E32: =D31 -> 0
A33: ปวช.3 | C33: =B32 -> 0 | D33: =C33 -> 0 | E33: =D32 -> 0
A34: สาขาคหกรรม | B34: =B35+B36+B37 -> 0 | C34: =C35+C36+C37 -> 0 | D34: =D35+D36+D37 -> 0 | E34: =E35+E36+E37 -> 0
A35: ปวช.1 | D35: =C35 -> 0 | F35: =IF(AND(B35>0,B36>0,B37>0),IF(OR(C35=0,E35=0)," <-----!!! กรอกข้อมูลยังไม่ครบถ้วนใน เซลล์ C35 และ E35",""),"")
A36: ปวช.2 | C36: =B35 -> 0 | D36: =C36 -> 0 | E36: =D35 -> 0
A37: ปวช.3 | C37: =B36 -> 0 | D37: =C37 -> 0 | E37: =D36 -> 0
A38: รวมระดับอาชีวศึกษา | B38: =B26+B30+B34 -> 0 | C38: =C26+C30+C34 -> 0 | D38: =D26+D30+D34 -> 0 | E38: =E26+E30+E34 -> 0
A39: รวมทุกระดับชั้น | B39: =SUM(B38,B25,B21,B17,B10) -> 0 | C39: =SUM(C38,C25,C21,C17,C10) -> 0 | D39: =SUM(D38,D25,D21,D17,D10) -> 0 | E39: =SUM(E38,E25,E21,E17,E10) -> 0
A41: โรงเรียนขนาดเล็ก ส่วนเพิ่ม (Top up)
A42: 1. ประถมศึกษา | D42: =IF(D17<=120,D17,0) -> 0 | E42: =IF(E17<=120,E17,0) -> 0
A43: 2. มัธยมศึกษาตอนต้น | D43: =IF(D21<=300,D21,0) -> 0 | E43: =IF(E21<=300,E21,0) -> 0
A44: หมายเหตุ :
A45: 1. ข้อมูลนักเรียนที่ใช้เป็นฐานในการคำนวณจะใช้นักเรียน ณ พฤศจิกายน 2568 2. ระดับอนุบาล เด็กของแต่ละโรงเรียนจะแตกต่างกันตามระดับชั้นที่เปิด ขอให้กรอกข้อมูลให้ถูกต้อง 1.อายุ 3 ปี คือ อนุบาล 1 2.อายุ 4 ปี คือ อนุบาล 2 และ 3. อายุ 5 ปี คือ อนุบาล 3

Sheet 1.1.1 รร. อปท. 8
A1: แบบฟอร์มประมาณการนักเรียนและแผนการรับนักเรียน (ชั้นเคลื่อน) | E1: แบบฟอร์ม 1.1.1 แบบชั้นเคลื่อน (โรงเรียน อปท. ปกติ)
A2: ประจำปีงบประมาณ พ.ศ. 2570
A3: ระดับชั้น | B3: งบประมาณปี 2569 | D3: งบประมาณปี 2570
B4: จำนวนนักเรียนรับจริง (ณ พฤศจิกายน 2568) | C4: ประมาณการนักเรียน | D4: ประมาณการนักเรียน | E4: ประมาณการนักเรียน
B5: ภาคเรียน 2/2568 | C5: ภาคเรียน 1/2569 | D5: ภาคเรียน 2/2569 | E5: ภาคเรียน 1/2570
B6: หน่วยนับ (คน) | C6: หน่วยนับ (คน) | D6: หน่วยนับ (คน) | E6: หน่วยนับ (คน)
A7: อนุบาล 1 | D7: =C7 -> 0 | F7: =IF(AND(B7>0,B8>0,B9>0),IF(OR(C7=0,E7=0)," <-----!!! กรอกข้อมูลยังไม่ครบถ้วนใน เซลล์ C7 และ E7",""),"")
A8: อนุบาล 2 | C8: =IF(B7>0,B7,B8) -> 0 | D8: =C8 -> 0 | E8: =IF(B7>0,D7,B8) -> 0
A9: อนุบาล 3 | C9: =IF(B9>0,B8,0) -> 0 | D9: =IF(B9>0,C9,0) -> 0 | E9: =IF(B9>0,D8,0) -> 0
A10: รวมระดับก่อนประถมศึกษา | B10: =SUM(B7:B9) -> 0 | C10: =SUM(C7:C9) -> 0 | D10: =SUM(D7:D9) -> 0 | E10: =SUM(E7:E9) -> 0
A11: ประถมศึกษาปีที่ 1 | D11: =C11 -> 0 | F11: =IF(AND(B11>0,B12>0,B13>0,B16>0),IF(OR(C11=0,E11=0)," <---- !!! กรอกข้อมูลยังไม่ครบถ้วนใน เซลล์ C11 และ E11",""),"")
A12: ประถมศึกษาปีที่ 2 | C12: =B11 -> 0 | D12: =C12 -> 0 | E12: =D11 -> 0
A13: ประถมศึกษาปีที่ 3 | C13: =B12 -> 0 | D13: =C13 -> 0 | E13: =D12 -> 0
A14: ประถมศึกษาปีที่ 4 | C14: =B13 -> 0 | D14: =C14 -> 0 | E14: =D13 -> 0
A15: ประถมศึกษาปีที่ 5 | C15: =B14 -> 0 | D15: =C15 -> 0 | E15: =D14 -> 0
A16: ประถมศึกษาปีที่ 6 | C16: =B15 -> 0 | D16: =C16 -> 0 | E16: =D15 -> 0
A17: รวมระดับประถมศึกษา | B17: =SUM(B11:B16) -> 0 | C17: =SUM(C11:C16) -> 0 | D17: =SUM(D11:D16) -> 0 | E17: =SUM(E11:E16) -> 0 | F17: =40%*E17 -> 0
A18: มัธยมศึกษาปีที่ 1 | D18: =C18 -> 0 | F18: =IF(AND(B18>0,B19>0,B20>0),IF(OR(C18=0,E18=0)," <-----!!! กรอกข้อมูลยังไม่ครบถ้วนใน เซลล์ C18 และ E18",""),"")
A19: มัธยมศึกษาปีที่ 2 | C19: =B18 -> 0 | D19: =C19 -> 0 | E19: =D18 -> 0
A20: มัธยมศึกษาปีที่ 3 | C20: =B19 -> 0 | D20: =C20 -> 0 | E20: =D19 -> 0
A21: รวมระดับมัธยมศึกษาตอนต้น | B21: =SUM(B18:B20) -> 0 | C21: =SUM(C18:C20) -> 0 | D21: =SUM(D18:D20) -> 0 | E21: =SUM(E18:E20) -> 0 | F21: =30%*E21 -> 0
A22: มัธยมศึกษาปีที่ 4 | D22: =C22 -> 0 | F22: =IF(AND(B22>0,B23>0,B24>0),IF(OR(C22=0,E22=0)," <-----!!! กรอกข้อมูลยังไม่ครบถ้วนใน เซลล์ C22 และ E22",""),"")
A23: มัธยมศึกษาปีที่ 5 | C23: =B22 -> 0 | D23: =C23 -> 0 | E23: =D22 -> 0
A24: มัธยมศึกษาปีที่ 6 | C24: =B23 -> 0 | D24: =C24 -> 0 | E24: =D23 -> 0
A25: รวมระดับมัธยมศึกษาตอนปลาย | B25: =SUM(B22:B24) -> 0 | C25: =SUM(C22:C24) -> 0 | D25: =SUM(D22:D24) -> 0 | E25: =SUM(E22:E24) -> 0
A26: สาขาช่าง | B26: =B27+B28+B29 -> 0 | C26: =C27+C28+C29 -> 0 | D26: =D27+D28+D29 -> 0 | E26: =E27+E28+E29 -> 0
A27: ปวช.1 | D27: =C27 -> 0 | F27: =IF(AND(B27>0,B28>0,B29>0),IF(OR(C27=0,E27=0)," <-----!!! กรอกข้อมูลยังไม่ครบถ้วนใน เซลล์ C27 และ E27",""),"")
A28: ปวช.2 | C28: =B27 -> 0 | D28: =C28 -> 0 | E28: =D27 -> 0
A29: ปวช.3 | C29: =B28 -> 0 | D29: =C29 -> 0 | E29: =D28 -> 0
A30: สาขาพาณิชยกรรม | B30: =B31+B32+B33 -> 0 | C30: =C31+C32+C33 -> 0 | D30: =D31+D32+D33 -> 0 | E30: =E31+E32+E33 -> 0
A31: ปวช.1 | D31: =C31 -> 0 | F31: =IF(AND(B31>0,B32>0,B33>0),IF(OR(C31=0,E31=0)," <-----!!! กรอกข้อมูลยังไม่ครบถ้วนใน เซลล์ C31 และ E31",""),"")
A32: ปวช.2 | C32: =B31 -> 0 | D32: =C32 -> 0 | E32: =D31 -> 0
A33: ปวช.3 | C33: =B32 -> 0 | D33: =C33 -> 0 | E33: =D32 -> 0
A34: สาขาคหกรรม | B34: =B35+B36+B37 -> 0 | C34: =C35+C36+C37 -> 0 | D34: =D35+D36+D37 -> 0 | E34: =E35+E36+E37 -> 0
A35: ปวช.1 | D35: =C35 -> 0 | F35: =IF(AND(B35>0,B36>0,B37>0),IF(OR(C35=0,E35=0)," <-----!!! กรอกข้อมูลยังไม่ครบถ้วนใน เซลล์ C35 และ E35",""),"")
A36: ปวช.2 | C36: =B35 -> 0 | D36: =C36 -> 0 | E36: =D35 -> 0
A37: ปวช.3 | C37: =B36 -> 0 | D37: =C37 -> 0 | E37: =D36 -> 0
A38: รวมระดับอาชีวศึกษา | B38: =B26+B30+B34 -> 0 | C38: =C26+C30+C34 -> 0 | D38: =D26+D30+D34 -> 0 | E38: =E26+E30+E34 -> 0
A39: รวมทุกระดับชั้น | B39: =SUM(B38,B25,B21,B17,B10) -> 0 | C39: =SUM(C38,C25,C21,C17,C10) -> 0 | D39: =SUM(D38,D25,D21,D17,D10) -> 0 | E39: =SUM(E38,E25,E21,E17,E10) -> 0
A41: โรงเรียนขนาดเล็ก ส่วนเพิ่ม (Top up)
A42: 1. ประถมศึกษา | D42: =IF(D17<=120,D17,0) -> 0 | E42: =IF(E17<=120,E17,0) -> 0
A43: 2. มัธยมศึกษาตอนต้น | D43: =IF(D21<=300,D21,0) -> 0 | E43: =IF(E21<=300,E21,0) -> 0
A44: หมายเหตุ :
A45: 1. ข้อมูลนักเรียนที่ใช้เป็นฐานในการคำนวณจะใช้นักเรียน ณ พฤศจิกายน 2568 2. ระดับอนุบาล เด็กของแต่ละโรงเรียนจะแตกต่างกันตามระดับชั้นที่เปิด ขอให้กรอกข้อมูลให้ถูกต้อง 1.อายุ 3 ปี คือ อนุบาล 1 2.อายุ 4 ปี คือ อนุบาล 2 และ 3. อายุ 5 ปี คือ อนุบาล 3

Sheet 1.1.1 รร. อปท. 9
A1: แบบฟอร์มประมาณการนักเรียนและแผนการรับนักเรียน (ชั้นเคลื่อน) | E1: แบบฟอร์ม 1.1.1 แบบชั้นเคลื่อน (โรงเรียน อปท. ปกติ)
A2: ประจำปีงบประมาณ พ.ศ. 2570
A3: ระดับชั้น | B3: งบประมาณปี 2569 | D3: งบประมาณปี 2570
B4: จำนวนนักเรียนรับจริง (ณ พฤศจิกายน 2568) | C4: ประมาณการนักเรียน | D4: ประมาณการนักเรียน | E4: ประมาณการนักเรียน
B5: ภาคเรียน 2/2568 | C5: ภาคเรียน 1/2569 | D5: ภาคเรียน 2/2569 | E5: ภาคเรียน 1/2570
B6: หน่วยนับ (คน) | C6: หน่วยนับ (คน) | D6: หน่วยนับ (คน) | E6: หน่วยนับ (คน)
A7: อนุบาล 1 | D7: =C7 -> 0 | F7: =IF(AND(B7>0,B8>0,B9>0),IF(OR(C7=0,E7=0)," <-----!!! กรอกข้อมูลยังไม่ครบถ้วนใน เซลล์ C7 และ E7",""),"")
A8: อนุบาล 2 | C8: =IF(B7>0,B7,B8) -> 0 | D8: =C8 -> 0 | E8: =IF(B7>0,D7,B8) -> 0
A9: อนุบาล 3 | C9: =IF(B9>0,B8,0) -> 0 | D9: =IF(B9>0,C9,0) -> 0 | E9: =IF(B9>0,D8,0) -> 0
A10: รวมระดับก่อนประถมศึกษา | B10: =SUM(B7:B9) -> 0 | C10: =SUM(C7:C9) -> 0 | D10: =SUM(D7:D9) -> 0 | E10: =SUM(E7:E9) -> 0
A11: ประถมศึกษาปีที่ 1 | D11: =C11 -> 0 | F11: =IF(AND(B11>0,B12>0,B13>0,B16>0),IF(OR(C11=0,E11=0)," <---- !!! กรอกข้อมูลยังไม่ครบถ้วนใน เซลล์ C11 และ E11",""),"")
A12: ประถมศึกษาปีที่ 2 | C12: =B11 -> 0 | D12: =C12 -> 0 | E12: =D11 -> 0
A13: ประถมศึกษาปีที่ 3 | C13: =B12 -> 0 | D13: =C13 -> 0 | E13: =D12 -> 0
A14: ประถมศึกษาปีที่ 4 | C14: =B13 -> 0 | D14: =C14 -> 0 | E14: =D13 -> 0
A15: ประถมศึกษาปีที่ 5 | C15: =B14 -> 0 | D15: =C15 -> 0 | E15: =D14 -> 0
A16: ประถมศึกษาปีที่ 6 | C16: =B15 -> 0 | D16: =C16 -> 0 | E16: =D15 -> 0
A17: รวมระดับประถมศึกษา | B17: =SUM(B11:B16) -> 0 | C17: =SUM(C11:C16) -> 0 | D17: =SUM(D11:D16) -> 0 | E17: =SUM(E11:E16) -> 0 | F17: =40%*E17 -> 0
A18: มัธยมศึกษาปีที่ 1 | D18: =C18 -> 0 | F18: =IF(AND(B18>0,B19>0,B20>0),IF(OR(C18=0,E18=0)," <-----!!! กรอกข้อมูลยังไม่ครบถ้วนใน เซลล์ C18 และ E18",""),"")
A19: มัธยมศึกษาปีที่ 2 | C19: =B18 -> 0 | D19: =C19 -> 0 | E19: =D18 -> 0
A20: มัธยมศึกษาปีที่ 3 | C20: =B19 -> 0 | D20: =C20 -> 0 | E20: =D19 -> 0
A21: รวมระดับมัธยมศึกษาตอนต้น | B21: =SUM(B18:B20) -> 0 | C21: =SUM(C18:C20) -> 0 | D21: =SUM(D18:D20) -> 0 | E21: =SUM(E18:E20) -> 0 | F21: =30%*E21 -> 0
A22: มัธยมศึกษาปีที่ 4 | D22: =C22 -> 0 | F22: =IF(AND(B22>0,B23>0,B24>0),IF(OR(C22=0,E22=0)," <-----!!! กรอกข้อมูลยังไม่ครบถ้วนใน เซลล์ C22 และ E22",""),"")
A23: มัธยมศึกษาปีที่ 5 | C23: =B22 -> 0 | D23: =C23 -> 0 | E23: =D22 -> 0
A24: มัธยมศึกษาปีที่ 6 | C24: =B23 -> 0 | D24: =C24 -> 0 | E24: =D23 -> 0
A25: รวมระดับมัธยมศึกษาตอนปลาย | B25: =SUM(B22:B24) -> 0 | C25: =SUM(C22:C24) -> 0 | D25: =SUM(D22:D24) -> 0 | E25: =SUM(E22:E24) -> 0
A26: สาขาช่าง | B26: =B27+B28+B29 -> 0 | C26: =C27+C28+C29 -> 0 | D26: =D27+D28+D29 -> 0 | E26: =E27+E28+E29 -> 0
A27: ปวช.1 | D27: =C27 -> 0 | F27: =IF(AND(B27>0,B28>0,B29>0),IF(OR(C27=0,E27=0)," <-----!!! กรอกข้อมูลยังไม่ครบถ้วนใน เซลล์ C27 และ E27",""),"")
A28: ปวช.2 | C28: =B27 -> 0 | D28: =C28 -> 0 | E28: =D27 -> 0
A29: ปวช.3 | C29: =B28 -> 0 | D29: =C29 -> 0 | E29: =D28 -> 0
A30: สาขาพาณิชยกรรม | B30: =B31+B32+B33 -> 0 | C30: =C31+C32+C33 -> 0 | D30: =D31+D32+D33 -> 0 | E30: =E31+E32+E33 -> 0
A31: ปวช.1 | D31: =C31 -> 0 | F31: =IF(AND(B31>0,B32>0,B33>0),IF(OR(C31=0,E31=0)," <-----!!! กรอกข้อมูลยังไม่ครบถ้วนใน เซลล์ C31 และ E31",""),"")
A32: ปวช.2 | C32: =B31 -> 0 | D32: =C32 -> 0 | E32: =D31 -> 0
A33: ปวช.3 | C33: =B32 -> 0 | D33: =C33 -> 0 | E33: =D32 -> 0
A34: สาขาคหกรรม | B34: =B35+B36+B37 -> 0 | C34: =C35+C36+C37 -> 0 | D34: =D35+D36+D37 -> 0 | E34: =E35+E36+E37 -> 0
A35: ปวช.1 | D35: =C35 -> 0 | F35: =IF(AND(B35>0,B36>0,B37>0),IF(OR(C35=0,E35=0)," <-----!!! กรอกข้อมูลยังไม่ครบถ้วนใน เซลล์ C35 และ E35",""),"")
A36: ปวช.2 | C36: =B35 -> 0 | D36: =C36 -> 0 | E36: =D35 -> 0
A37: ปวช.3 | C37: =B36 -> 0 | D37: =C37 -> 0 | E37: =D36 -> 0
A38: รวมระดับอาชีวศึกษา | B38: =B26+B30+B34 -> 0 | C38: =C26+C30+C34 -> 0 | D38: =D26+D30+D34 -> 0 | E38: =E26+E30+E34 -> 0
A39: รวมทุกระดับชั้น | B39: =SUM(B38,B25,B21,B17,B10) -> 0 | C39: =SUM(C38,C25,C21,C17,C10) -> 0 | D39: =SUM(D38,D25,D21,D17,D10) -> 0 | E39: =SUM(E38,E25,E21,E17,E10) -> 0
A41: โรงเรียนขนาดเล็ก ส่วนเพิ่ม (Top up)
A42: 1. ประถมศึกษา | D42: =IF(D17<=120,D17,0) -> 0 | E42: =IF(E17<=120,E17,0) -> 0
A43: 2. มัธยมศึกษาตอนต้น | D43: =IF(D21<=300,D21,0) -> 0 | E43: =IF(E21<=300,E21,0) -> 0
A44: หมายเหตุ :
A45: 1. ข้อมูลนักเรียนที่ใช้เป็นฐานในการคำนวณจะใช้นักเรียน ณ พฤศจิกายน 2568 2. ระดับอนุบาล เด็กของแต่ละโรงเรียนจะแตกต่างกันตามระดับชั้นที่เปิด ขอให้กรอกข้อมูลให้ถูกต้อง 1.อายุ 3 ปี คือ อนุบาล 1 2.อายุ 4 ปี คือ อนุบาล 2 และ 3. อายุ 5 ปี คือ อนุบาล 3

Sheet 1.1.1 รร. อปท. 10
A1: แบบฟอร์มประมาณการนักเรียนและแผนการรับนักเรียน (ชั้นเคลื่อน) | E1: แบบฟอร์ม 1.1.1 แบบชั้นเคลื่อน (โรงเรียน อปท. ปกติ)
A2: ประจำปีงบประมาณ พ.ศ. 2570
A3: ระดับชั้น | B3: งบประมาณปี 2569 | D3: งบประมาณปี 2570
B4: จำนวนนักเรียนรับจริง (ณ พฤศจิกายน 2568) | C4: ประมาณการนักเรียน | D4: ประมาณการนักเรียน | E4: ประมาณการนักเรียน
B5: ภาคเรียน 2/2568 | C5: ภาคเรียน 1/2569 | D5: ภาคเรียน 2/2569 | E5: ภาคเรียน 1/2570
B6: หน่วยนับ (คน) | C6: หน่วยนับ (คน) | D6: หน่วยนับ (คน) | E6: หน่วยนับ (คน)
A7: อนุบาล 1 | D7: =C7 -> 0 | F7: =IF(AND(B7>0,B8>0,B9>0),IF(OR(C7=0,E7=0)," <-----!!! กรอกข้อมูลยังไม่ครบถ้วนใน เซลล์ C7 และ E7",""),"")
A8: อนุบาล 2 | C8: =IF(B7>0,B7,B8) -> 0 | D8: =C8 -> 0 | E8: =IF(B7>0,D7,B8) -> 0
A9: อนุบาล 3 | C9: =IF(B9>0,B8,0) -> 0 | D9: =IF(B9>0,C9,0) -> 0 | E9: =IF(B9>0,D8,0) -> 0
A10: รวมระดับก่อนประถมศึกษา | B10: =SUM(B7:B9) -> 0 | C10: =SUM(C7:C9) -> 0 | D10: =SUM(D7:D9) -> 0 | E10: =SUM(E7:E9) -> 0
A11: ประถมศึกษาปีที่ 1 | D11: =C11 -> 0 | F11: =IF(AND(B11>0,B12>0,B13>0,B16>0),IF(OR(C11=0,E11=0)," <---- !!! กรอกข้อมูลยังไม่ครบถ้วนใน เซลล์ C11 และ E11",""),"")
A12: ประถมศึกษาปีที่ 2 | C12: =B11 -> 0 | D12: =C12 -> 0 | E12: =D11 -> 0
A13: ประถมศึกษาปีที่ 3 | C13: =B12 -> 0 | D13: =C13 -> 0 | E13: =D12 -> 0
A14: ประถมศึกษาปีที่ 4 | C14: =B13 -> 0 | D14: =C14 -> 0 | E14: =D13 -> 0
A15: ประถมศึกษาปีที่ 5 | C15: =B14 -> 0 | D15: =C15 -> 0 | E15: =D14 -> 0
A16: ประถมศึกษาปีที่ 6 | C16: =B15 -> 0 | D16: =C16 -> 0 | E16: =D15 -> 0
A17: รวมระดับประถมศึกษา | B17: =SUM(B11:B16) -> 0 | C17: =SUM(C11:C16) -> 0 | D17: =SUM(D11:D16) -> 0 | E17: =SUM(E11:E16) -> 0 | F17: =40%*E17 -> 0
A18: มัธยมศึกษาปีที่ 1 | D18: =C18 -> 0 | F18: =IF(AND(B18>0,B19>0,B20>0),IF(OR(C18=0,E18=0)," <-----!!! กรอกข้อมูลยังไม่ครบถ้วนใน เซลล์ C18 และ E18",""),"")
A19: มัธยมศึกษาปีที่ 2 | C19: =B18 -> 0 | D19: =C19 -> 0 | E19: =D18 -> 0
A20: มัธยมศึกษาปีที่ 3 | C20: =B19 -> 0 | D20: =C20 -> 0 | E20: =D19 -> 0
A21: รวมระดับมัธยมศึกษาตอนต้น | B21: =SUM(B18:B20) -> 0 | C21: =SUM(C18:C20) -> 0 | D21: =SUM(D18:D20) -> 0 | E21: =SUM(E18:E20) -> 0 | F21: =30%*E21 -> 0
A22: มัธยมศึกษาปีที่ 4 | D22: =C22 -> 0 | F22: =IF(AND(B22>0,B23>0,B24>0),IF(OR(C22=0,E22=0)," <-----!!! กรอกข้อมูลยังไม่ครบถ้วนใน เซลล์ C22 และ E22",""),"")
A23: มัธยมศึกษาปีที่ 5 | C23: =B22 -> 0 | D23: =C23 -> 0 | E23: =D22 -> 0
A24: มัธยมศึกษาปีที่ 6 | C24: =B23 -> 0 | D24: =C24 -> 0 | E24: =D23 -> 0
A25: รวมระดับมัธยมศึกษาตอนปลาย | B25: =SUM(B22:B24) -> 0 | C25: =SUM(C22:C24) -> 0 | D25: =SUM(D22:D24) -> 0 | E25: =SUM(E22:E24) -> 0
A26: สาขาช่าง | B26: =B27+B28+B29 -> 0 | C26: =C27+C28+C29 -> 0 | D26: =D27+D28+D29 -> 0 | E26: =E27+E28+E29 -> 0
A27: ปวช.1 | D27: =C27 -> 0 | F27: =IF(AND(B27>0,B28>0,B29>0),IF(OR(C27=0,E27=0)," <-----!!! กรอกข้อมูลยังไม่ครบถ้วนใน เซลล์ C27 และ E27",""),"")
A28: ปวช.2 | C28: =B27 -> 0 | D28: =C28 -> 0 | E28: =D27 -> 0
A29: ปวช.3 | C29: =B28 -> 0 | D29: =C29 -> 0 | E29: =D28 -> 0
A30: สาขาพาณิชยกรรม | B30: =B31+B32+B33 -> 0 | C30: =C31+C32+C33 -> 0 | D30: =D31+D32+D33 -> 0 | E30: =E31+E32+E33 -> 0
A31: ปวช.1 | D31: =C31 -> 0 | F31: =IF(AND(B31>0,B32>0,B33>0),IF(OR(C31=0,E31=0)," <-----!!! กรอกข้อมูลยังไม่ครบถ้วนใน เซลล์ C31 และ E31",""),"")
A32: ปวช.2 | C32: =B31 -> 0 | D32: =C32 -> 0 | E32: =D31 -> 0
A33: ปวช.3 | C33: =B32 -> 0 | D33: =C33 -> 0 | E33: =D32 -> 0
A34: สาขาคหกรรม | B34: =B35+B36+B37 -> 0 | C34: =C35+C36+C37 -> 0 | D34: =D35+D36+D37 -> 0 | E34: =E35+E36+E37 -> 0
A35: ปวช.1 | D35: =C35 -> 0 | F35: =IF(AND(B35>0,B36>0,B37>0),IF(OR(C35=0,E35=0)," <-----!!! กรอกข้อมูลยังไม่ครบถ้วนใน เซลล์ C35 และ E35",""),"")
A36: ปวช.2 | C36: =B35 -> 0 | D36: =C36 -> 0 | E36: =D35 -> 0
A37: ปวช.3 | C37: =B36 -> 0 | D37: =C37 -> 0 | E37: =D36 -> 0
A38: รวมระดับอาชีวศึกษา | B38: =B26+B30+B34 -> 0 | C38: =C26+C30+C34 -> 0 | D38: =D26+D30+D34 -> 0 | E38: =E26+E30+E34 -> 0
A39: รวมทุกระดับชั้น | B39: =SUM(B38,B25,B21,B17,B10) -> 0 | C39: =SUM(C38,C25,C21,C17,C10) -> 0 | D39: =SUM(D38,D25,D21,D17,D10) -> 0 | E39: =SUM(E38,E25,E21,E17,E10) -> 0
A41: โรงเรียนขนาดเล็ก ส่วนเพิ่ม (Top up)
A42: 1. ประถมศึกษา | D42: =IF(D17<=120,D17,0) -> 0 | E42: =IF(E17<=120,E17,0) -> 0
A43: 2. มัธยมศึกษาตอนต้น | D43: =IF(D21<=300,D21,0) -> 0 | E43: =IF(E21<=300,E21,0) -> 0
A44: หมายเหตุ :
A45: 1. ข้อมูลนักเรียนที่ใช้เป็นฐานในการคำนวณจะใช้นักเรียน ณ พฤศจิกายน 2568 2. ระดับอนุบาล เด็กของแต่ละโรงเรียนจะแตกต่างกันตามระดับชั้นที่เปิด ขอให้กรอกข้อมูลให้ถูกต้อง 1.อายุ 3 ปี คือ อนุบาล 1 2.อายุ 4 ปี คือ อนุบาล 2 และ 3. อายุ 5 ปี คือ อนุบาล 3

Sheet 1.1.1 รร. อปท. 11
A1: แบบฟอร์มประมาณการนักเรียนและแผนการรับนักเรียน (ชั้นเคลื่อน) | E1: แบบฟอร์ม 1.1.1 แบบชั้นเคลื่อน (โรงเรียน อปท. ปกติ)
A2: ประจำปีงบประมาณ พ.ศ. 2570
A3: ระดับชั้น | B3: งบประมาณปี 2569 | D3: งบประมาณปี 2570
B4: จำนวนนักเรียนรับจริง (ณ พฤศจิกายน 2568) | C4: ประมาณการนักเรียน | D4: ประมาณการนักเรียน | E4: ประมาณการนักเรียน
B5: ภาคเรียน 2/2568 | C5: ภาคเรียน 1/2569 | D5: ภาคเรียน 2/2569 | E5: ภาคเรียน 1/2570
B6: หน่วยนับ (คน) | C6: หน่วยนับ (คน) | D6: หน่วยนับ (คน) | E6: หน่วยนับ (คน)
A7: อนุบาล 1 | D7: =C7 -> 0 | F7: =IF(AND(B7>0,B8>0,B9>0),IF(OR(C7=0,E7=0)," <-----!!! กรอกข้อมูลยังไม่ครบถ้วนใน เซลล์ C7 และ E7",""),"")
A8: อนุบาล 2 | C8: =IF(B7>0,B7,B8) -> 0 | D8: =C8 -> 0 | E8: =IF(B7>0,D7,B8) -> 0
A9: อนุบาล 3 | C9: =IF(B9>0,B8,0) -> 0 | D9: =IF(B9>0,C9,0) -> 0 | E9: =IF(B9>0,D8,0) -> 0
A10: รวมระดับก่อนประถมศึกษา | B10: =SUM(B7:B9) -> 0 | C10: =SUM(C7:C9) -> 0 | D10: =SUM(D7:D9) -> 0 | E10: =SUM(E7:E9) -> 0
A11: ประถมศึกษาปีที่ 1 | D11: =C11 -> 0 | F11: =IF(AND(B11>0,B12>0,B13>0,B16>0),IF(OR(C11=0,E11=0)," <---- !!! กรอกข้อมูลยังไม่ครบถ้วนใน เซลล์ C11 และ E11",""),"")
A12: ประถมศึกษาปีที่ 2 | C12: =B11 -> 0 | D12: =C12 -> 0 | E12: =D11 -> 0
A13: ประถมศึกษาปีที่ 3 | C13: =B12 -> 0 | D13: =C13 -> 0 | E13: =D12 -> 0
A14: ประถมศึกษาปีที่ 4 | C14: =B13 -> 0 | D14: =C14 -> 0 | E14: =D13 -> 0
A15: ประถมศึกษาปีที่ 5 | C15: =B14 -> 0 | D15: =C15 -> 0 | E15: =D14 -> 0
A16: ประถมศึกษาปีที่ 6 | C16: =B15 -> 0 | D16: =C16 -> 0 | E16: =D15 -> 0
A17: รวมระดับประถมศึกษา | B17: =SUM(B11:B16) -> 0 | C17: =SUM(C11:C16) -> 0 | D17: =SUM(D11:D16) -> 0 | E17: =SUM(E11:E16) -> 0 | F17: =40%*E17 -> 0
A18: มัธยมศึกษาปีที่ 1 | D18: =C18 -> 0 | F18: =IF(AND(B18>0,B19>0,B20>0),IF(OR(C18=0,E18=0)," <-----!!! กรอกข้อมูลยังไม่ครบถ้วนใน เซลล์ C18 และ E18",""),"")
A19: มัธยมศึกษาปีที่ 2 | C19: =B18 -> 0 | D19: =C19 -> 0 | E19: =D18 -> 0
A20: มัธยมศึกษาปีที่ 3 | C20: =B19 -> 0 | D20: =C20 -> 0 | E20: =D19 -> 0
A21: รวมระดับมัธยมศึกษาตอนต้น | B21: =SUM(B18:B20) -> 0 | C21: =SUM(C18:C20) -> 0 | D21: =SUM(D18:D20) -> 0 | E21: =SUM(E18:E20) -> 0 | F21: =30%*E21 -> 0
A22: มัธยมศึกษาปีที่ 4 | D22: =C22 -> 0 | F22: =IF(AND(B22>0,B23>0,B24>0),IF(OR(C22=0,E22=0)," <-----!!! กรอกข้อมูลยังไม่ครบถ้วนใน เซลล์ C22 และ E22",""),"")
A23: มัธยมศึกษาปีที่ 5 | C23: =B22 -> 0 | D23: =C23 -> 0 | E23: =D22 -> 0
A24: มัธยมศึกษาปีที่ 6 | C24: =B23 -> 0 | D24: =C24 -> 0 | E24: =D23 -> 0
A25: รวมระดับมัธยมศึกษาตอนปลาย | B25: =SUM(B22:B24) -> 0 | C25: =SUM(C22:C24) -> 0 | D25: =SUM(D22:D24) -> 0 | E25: =SUM(E22:E24) -> 0
A26: สาขาช่าง | B26: =B27+B28+B29 -> 0 | C26: =C27+C28+C29 -> 0 | D26: =D27+D28+D29 -> 0 | E26: =E27+E28+E29 -> 0
A27: ปวช.1 | D27: =C27 -> 0 | F27: =IF(AND(B27>0,B28>0,B29>0),IF(OR(C27=0,E27=0)," <-----!!! กรอกข้อมูลยังไม่ครบถ้วนใน เซลล์ C27 และ E27",""),"")
A28: ปวช.2 | C28: =B27 -> 0 | D28: =C28 -> 0 | E28: =D27 -> 0
A29: ปวช.3 | C29: =B28 -> 0 | D29: =C29 -> 0 | E29: =D28 -> 0
A30: สาขาพาณิชยกรรม | B30: =B31+B32+B33 -> 0 | C30: =C31+C32+C33 -> 0 | D30: =D31+D32+D33 -> 0 | E30: =E31+E32+E33 -> 0
A31: ปวช.1 | D31: =C31 -> 0 | F31: =IF(AND(B31>0,B32>0,B33>0),IF(OR(C31=0,E31=0)," <-----!!! กรอกข้อมูลยังไม่ครบถ้วนใน เซลล์ C31 และ E31",""),"")
A32: ปวช.2 | C32: =B31 -> 0 | D32: =C32 -> 0 | E32: =D31 -> 0
A33: ปวช.3 | C33: =B32 -> 0 | D33: =C33 -> 0 | E33: =D32 -> 0
A34: สาขาคหกรรม | B34: =B35+B36+B37 -> 0 | C34: =C35+C36+C37 -> 0 | D34: =D35+D36+D37 -> 0 | E34: =E35+E36+E37 -> 0
A35: ปวช.1 | D35: =C35 -> 0 | F35: =IF(AND(B35>0,B36>0,B37>0),IF(OR(C35=0,E35=0)," <-----!!! กรอกข้อมูลยังไม่ครบถ้วนใน เซลล์ C35 และ E35",""),"")
A36: ปวช.2 | C36: =B35 -> 0 | D36: =C36 -> 0 | E36: =D35 -> 0
A37: ปวช.3 | C37: =B36 -> 0 | D37: =C37 -> 0 | E37: =D36 -> 0
A38: รวมระดับอาชีวศึกษา | B38: =B26+B30+B34 -> 0 | C38: =C26+C30+C34 -> 0 | D38: =D26+D30+D34 -> 0 | E38: =E26+E30+E34 -> 0
A39: รวมทุกระดับชั้น | B39: =SUM(B38,B25,B21,B17,B10) -> 0 | C39: =SUM(C38,C25,C21,C17,C10) -> 0 | D39: =SUM(D38,D25,D21,D17,D10) -> 0 | E39: =SUM(E38,E25,E21,E17,E10) -> 0
A41: โรงเรียนขนาดเล็ก ส่วนเพิ่ม (Top up)
A42: 1. ประถมศึกษา | D42: =IF(D17<=120,D17,0) -> 0 | E42: =IF(E17<=120,E17,0) -> 0
A43: 2. มัธยมศึกษาตอนต้น | D43: =IF(D21<=300,D21,0) -> 0 | E43: =IF(E21<=300,E21,0) -> 0
A44: หมายเหตุ :
A45: 1. ข้อมูลนักเรียนที่ใช้เป็นฐานในการคำนวณจะใช้นักเรียน ณ พฤศจิกายน 2568 2. ระดับอนุบาล เด็กของแต่ละโรงเรียนจะแตกต่างกันตามระดับชั้นที่เปิด ขอให้กรอกข้อมูลให้ถูกต้อง 1.อายุ 3 ปี คือ อนุบาล 1 2.อายุ 4 ปี คือ อนุบาล 2 และ 3. อายุ 5 ปี คือ อนุบาล 3

Sheet 1.1.1 รร. อปท. 12
A1: แบบฟอร์มประมาณการนักเรียนและแผนการรับนักเรียน (ชั้นเคลื่อน) | E1: แบบฟอร์ม 1.1.1 แบบชั้นเคลื่อน (โรงเรียน อปท. ปกติ)
A2: ประจำปีงบประมาณ พ.ศ. 2570
A3: ระดับชั้น | B3: งบประมาณปี 2569 | D3: งบประมาณปี 2570
B4: จำนวนนักเรียนรับจริง (ณ พฤศจิกายน 2568) | C4: ประมาณการนักเรียน | D4: ประมาณการนักเรียน | E4: ประมาณการนักเรียน
B5: ภาคเรียน 2/2568 | C5: ภาคเรียน 1/2569 | D5: ภาคเรียน 2/2569 | E5: ภาคเรียน 1/2570
B6: หน่วยนับ (คน) | C6: หน่วยนับ (คน) | D6: หน่วยนับ (คน) | E6: หน่วยนับ (คน)
A7: อนุบาล 1 | D7: =C7 -> 0 | F7: =IF(AND(B7>0,B8>0,B9>0),IF(OR(C7=0,E7=0)," <-----!!! กรอกข้อมูลยังไม่ครบถ้วนใน เซลล์ C7 และ E7",""),"")
A8: อนุบาล 2 | C8: =IF(B7>0,B7,B8) -> 0 | D8: =C8 -> 0 | E8: =IF(B7>0,D7,B8) -> 0
A9: อนุบาล 3 | C9: =IF(B9>0,B8,0) -> 0 | D9: =IF(B9>0,C9,0) -> 0 | E9: =IF(B9>0,D8,0) -> 0
A10: รวมระดับก่อนประถมศึกษา | B10: =SUM(B7:B9) -> 0 | C10: =SUM(C7:C9) -> 0 | D10: =SUM(D7:D9) -> 0 | E10: =SUM(E7:E9) -> 0
A11: ประถมศึกษาปีที่ 1 | D11: =C11 -> 0 | F11: =IF(AND(B11>0,B12>0,B13>0,B16>0),IF(OR(C11=0,E11=0)," <---- !!! กรอกข้อมูลยังไม่ครบถ้วนใน เซลล์ C11 และ E11",""),"")
A12: ประถมศึกษาปีที่ 2 | C12: =B11 -> 0 | D12: =C12 -> 0 | E12: =D11 -> 0
A13: ประถมศึกษาปีที่ 3 | C13: =B12 -> 0 | D13: =C13 -> 0 | E13: =D12 -> 0
A14: ประถมศึกษาปีที่ 4 | C14: =B13 -> 0 | D14: =C14 -> 0 | E14: =D13 -> 0
A15: ประถมศึกษาปีที่ 5 | C15: =B14 -> 0 | D15: =C15 -> 0 | E15: =D14 -> 0
A16: ประถมศึกษาปีที่ 6 | C16: =B15 -> 0 | D16: =C16 -> 0 | E16: =D15 -> 0
A17: รวมระดับประถมศึกษา | B17: =SUM(B11:B16) -> 0 | C17: =SUM(C11:C16) -> 0 | D17: =SUM(D11:D16) -> 0 | E17: =SUM(E11:E16) -> 0 | F17: =40%*E17 -> 0
A18: มัธยมศึกษาปีที่ 1 | D18: =C18 -> 0 | F18: =IF(AND(B18>0,B19>0,B20>0),IF(OR(C18=0,E18=0)," <-----!!! กรอกข้อมูลยังไม่ครบถ้วนใน เซลล์ C18 และ E18",""),"")
A19: มัธยมศึกษาปีที่ 2 | C19: =B18 -> 0 | D19: =C19 -> 0 | E19: =D18 -> 0
A20: มัธยมศึกษาปีที่ 3 | C20: =B19 -> 0 | D20: =C20 -> 0 | E20: =D19 -> 0
A21: รวมระดับมัธยมศึกษาตอนต้น | B21: =SUM(B18:B20) -> 0 | C21: =SUM(C18:C20) -> 0 | D21: =SUM(D18:D20) -> 0 | E21: =SUM(E18:E20) -> 0 | F21: =30%*E21 -> 0
A22: มัธยมศึกษาปีที่ 4 | D22: =C22 -> 0 | F22: =IF(AND(B22>0,B23>0,B24>0),IF(OR(C22=0,E22=0)," <-----!!! กรอกข้อมูลยังไม่ครบถ้วนใน เซลล์ C22 และ E22",""),"")
A23: มัธยมศึกษาปีที่ 5 | C23: =B22 -> 0 | D23: =C23 -> 0 | E23: =D22 -> 0
A24: มัธยมศึกษาปีที่ 6 | C24: =B23 -> 0 | D24: =C24 -> 0 | E24: =D23 -> 0
A25: รวมระดับมัธยมศึกษาตอนปลาย | B25: =SUM(B22:B24) -> 0 | C25: =SUM(C22:C24) -> 0 | D25: =SUM(D22:D24) -> 0 | E25: =SUM(E22:E24) -> 0
A26: สาขาช่าง | B26: =B27+B28+B29 -> 0 | C26: =C27+C28+C29 -> 0 | D26: =D27+D28+D29 -> 0 | E26: =E27+E28+E29 -> 0
A27: ปวช.1 | D27: =C27 -> 0 | F27: =IF(AND(B27>0,B28>0,B29>0),IF(OR(C27=0,E27=0)," <-----!!! กรอกข้อมูลยังไม่ครบถ้วนใน เซลล์ C27 และ E27",""),"")
A28: ปวช.2 | C28: =B27 -> 0 | D28: =C28 -> 0 | E28: =D27 -> 0
A29: ปวช.3 | C29: =B28 -> 0 | D29: =C29 -> 0 | E29: =D28 -> 0
A30: สาขาพาณิชยกรรม | B30: =B31+B32+B33 -> 0 | C30: =C31+C32+C33 -> 0 | D30: =D31+D32+D33 -> 0 | E30: =E31+E32+E33 -> 0
A31: ปวช.1 | D31: =C31 -> 0 | F31: =IF(AND(B31>0,B32>0,B33>0),IF(OR(C31=0,E31=0)," <-----!!! กรอกข้อมูลยังไม่ครบถ้วนใน เซลล์ C31 และ E31",""),"")
A32: ปวช.2 | C32: =B31 -> 0 | D32: =C32 -> 0 | E32: =D31 -> 0
A33: ปวช.3 | C33: =B32 -> 0 | D33: =C33 -> 0 | E33: =D32 -> 0
A34: สาขาคหกรรม | B34: =B35+B36+B37 -> 0 | C34: =C35+C36+C37 -> 0 | D34: =D35+D36+D37 -> 0 | E34: =E35+E36+E37 -> 0
A35: ปวช.1 | D35: =C35 -> 0 | F35: =IF(AND(B35>0,B36>0,B37>0),IF(OR(C35=0,E35=0)," <-----!!! กรอกข้อมูลยังไม่ครบถ้วนใน เซลล์ C35 และ E35",""),"")
A36: ปวช.2 | C36: =B35 -> 0 | D36: =C36 -> 0 | E36: =D35 -> 0
A37: ปวช.3 | C37: =B36 -> 0 | D37: =C37 -> 0 | E37: =D36 -> 0
A38: รวมระดับอาชีวศึกษา | B38: =B26+B30+B34 -> 0 | C38: =C26+C30+C34 -> 0 | D38: =D26+D30+D34 -> 0 | E38: =E26+E30+E34 -> 0
A39: รวมทุกระดับชั้น | B39: =SUM(B38,B25,B21,B17,B10) -> 0 | C39: =SUM(C38,C25,C21,C17,C10) -> 0 | D39: =SUM(D38,D25,D21,D17,D10) -> 0 | E39: =SUM(E38,E25,E21,E17,E10) -> 0
A41: โรงเรียนขนาดเล็ก ส่วนเพิ่ม (Top up)
A42: 1. ประถมศึกษา | D42: =IF(D17<=120,D17,0) -> 0 | E42: =IF(E17<=120,E17,0) -> 0
A43: 2. มัธยมศึกษาตอนต้น | D43: =IF(D21<=300,D21,0) -> 0 | E43: =IF(E21<=300,E21,0) -> 0
A44: หมายเหตุ :
A45: 1. ข้อมูลนักเรียนที่ใช้เป็นฐานในการคำนวณจะใช้นักเรียน ณ พฤศจิกายน 2568 2. ระดับอนุบาล เด็กของแต่ละโรงเรียนจะแตกต่างกันตามระดับชั้นที่เปิด ขอให้กรอกข้อมูลให้ถูกต้อง 1.อายุ 3 ปี คือ อนุบาล 1 2.อายุ 4 ปี คือ อนุบาล 2 และ 3. อายุ 5 ปี คือ อนุบาล 3

Sheet 1.1.1 รร. อปท. 13
A1: แบบฟอร์มประมาณการนักเรียนและแผนการรับนักเรียน (ชั้นเคลื่อน) | E1: แบบฟอร์ม 1.1.1 แบบชั้นเคลื่อน (โรงเรียน อปท. ปกติ)
A2: ประจำปีงบประมาณ พ.ศ. 2570
A3: ระดับชั้น | B3: งบประมาณปี 2569 | D3: งบประมาณปี 2570
B4: จำนวนนักเรียนรับจริง (ณ พฤศจิกายน 2568) | C4: ประมาณการนักเรียน | D4: ประมาณการนักเรียน | E4: ประมาณการนักเรียน
B5: ภาคเรียน 2/2568 | C5: ภาคเรียน 1/2569 | D5: ภาคเรียน 2/2569 | E5: ภาคเรียน 1/2570
B6: หน่วยนับ (คน) | C6: หน่วยนับ (คน) | D6: หน่วยนับ (คน) | E6: หน่วยนับ (คน)
A7: อนุบาล 1 | D7: =C7 -> 0 | F7: =IF(AND(B7>0,B8>0,B9>0),IF(OR(C7=0,E7=0)," <-----!!! กรอกข้อมูลยังไม่ครบถ้วนใน เซลล์ C7 และ E7",""),"")
A8: อนุบาล 2 | C8: =IF(B7>0,B7,B8) -> 0 | D8: =C8 -> 0 | E8: =IF(B7>0,D7,B8) -> 0
A9: อนุบาล 3 | C9: =IF(B9>0,B8,0) -> 0 | D9: =IF(B9>0,C9,0) -> 0 | E9: =IF(B9>0,D8,0) -> 0
A10: รวมระดับก่อนประถมศึกษา | B10: =SUM(B7:B9) -> 0 | C10: =SUM(C7:C9) -> 0 | D10: =SUM(D7:D9) -> 0 | E10: =SUM(E7:E9) -> 0
A11: ประถมศึกษาปีที่ 1 | D11: =C11 -> 0 | F11: =IF(AND(B11>0,B12>0,B13>0,B16>0),IF(OR(C11=0,E11=0)," <---- !!! กรอกข้อมูลยังไม่ครบถ้วนใน เซลล์ C11 และ E11",""),"")
A12: ประถมศึกษาปีที่ 2 | C12: =B11 -> 0 | D12: =C12 -> 0 | E12: =D11 -> 0
A13: ประถมศึกษาปีที่ 3 | C13: =B12 -> 0 | D13: =C13 -> 0 | E13: =D12 -> 0
A14: ประถมศึกษาปีที่ 4 | C14: =B13 -> 0 | D14: =C14 -> 0 | E14: =D13 -> 0
A15: ประถมศึกษาปีที่ 5 | C15: =B14 -> 0 | D15: =C15 -> 0 | E15: =D14 -> 0
A16: ประถมศึกษาปีที่ 6 | C16: =B15 -> 0 | D16: =C16 -> 0 | E16: =D15 -> 0
A17: รวมระดับประถมศึกษา | B17: =SUM(B11:B16) -> 0 | C17: =SUM(C11:C16) -> 0 | D17: =SUM(D11:D16) -> 0 | E17: =SUM(E11:E16) -> 0 | F17: =40%*E17 -> 0
A18: มัธยมศึกษาปีที่ 1 | D18: =C18 -> 0 | F18: =IF(AND(B18>0,B19>0,B20>0),IF(OR(C18=0,E18=0)," <-----!!! กรอกข้อมูลยังไม่ครบถ้วนใน เซลล์ C18 และ E18",""),"")
A19: มัธยมศึกษาปีที่ 2 | C19: =B18 -> 0 | D19: =C19 -> 0 | E19: =D18 -> 0
A20: มัธยมศึกษาปีที่ 3 | C20: =B19 -> 0 | D20: =C20 -> 0 | E20: =D19 -> 0
A21: รวมระดับมัธยมศึกษาตอนต้น | B21: =SUM(B18:B20) -> 0 | C21: =SUM(C18:C20) -> 0 | D21: =SUM(D18:D20) -> 0 | E21: =SUM(E18:E20) -> 0 | F21: =30%*E21 -> 0
A22: มัธยมศึกษาปีที่ 4 | D22: =C22 -> 0 | F22: =IF(AND(B22>0,B23>0,B24>0),IF(OR(C22=0,E22=0)," <-----!!! กรอกข้อมูลยังไม่ครบถ้วนใน เซลล์ C22 และ E22",""),"")
A23: มัธยมศึกษาปีที่ 5 | C23: =B22 -> 0 | D23: =C23 -> 0 | E23: =D22 -> 0
A24: มัธยมศึกษาปีที่ 6 | C24: =B23 -> 0 | D24: =C24 -> 0 | E24: =D23 -> 0
A25: รวมระดับมัธยมศึกษาตอนปลาย | B25: =SUM(B22:B24) -> 0 | C25: =SUM(C22:C24) -> 0 | D25: =SUM(D22:D24) -> 0 | E25: =SUM(E22:E24) -> 0
A26: สาขาช่าง | B26: =B27+B28+B29 -> 0 | C26: =C27+C28+C29 -> 0 | D26: =D27+D28+D29 -> 0 | E26: =E27+E28+E29 -> 0
A27: ปวช.1 | D27: =C27 -> 0 | F27: =IF(AND(B27>0,B28>0,B29>0),IF(OR(C27=0,E27=0)," <-----!!! กรอกข้อมูลยังไม่ครบถ้วนใน เซลล์ C27 และ E27",""),"")
A28: ปวช.2 | C28: =B27 -> 0 | D28: =C28 -> 0 | E28: =D27 -> 0
A29: ปวช.3 | C29: =B28 -> 0 | D29: =C29 -> 0 | E29: =D28 -> 0
A30: สาขาพาณิชยกรรม | B30: =B31+B32+B33 -> 0 | C30: =C31+C32+C33 -> 0 | D30: =D31+D32+D33 -> 0 | E30: =E31+E32+E33 -> 0
A31: ปวช.1 | D31: =C31 -> 0 | F31: =IF(AND(B31>0,B32>0,B33>0),IF(OR(C31=0,E31=0)," <-----!!! กรอกข้อมูลยังไม่ครบถ้วนใน เซลล์ C31 และ E31",""),"")
A32: ปวช.2 | C32: =B31 -> 0 | D32: =C32 -> 0 | E32: =D31 -> 0
A33: ปวช.3 | C33: =B32 -> 0 | D33: =C33 -> 0 | E33: =D32 -> 0
A34: สาขาคหกรรม | B34: =B35+B36+B37 -> 0 | C34: =C35+C36+C37 -> 0 | D34: =D35+D36+D37 -> 0 | E34: =E35+E36+E37 -> 0
A35: ปวช.1 | D35: =C35 -> 0 | F35: =IF(AND(B35>0,B36>0,B37>0),IF(OR(C35=0,E35=0)," <-----!!! กรอกข้อมูลยังไม่ครบถ้วนใน เซลล์ C35 และ E35",""),"")
A36: ปวช.2 | C36: =B35 -> 0 | D36: =C36 -> 0 | E36: =D35 -> 0
A37: ปวช.3 | C37: =B36 -> 0 | D37: =C37 -> 0 | E37: =D36 -> 0
A38: รวมระดับอาชีวศึกษา | B38: =B26+B30+B34 -> 0 | C38: =C26+C30+C34 -> 0 | D38: =D26+D30+D34 -> 0 | E38: =E26+E30+E34 -> 0
A39: รวมทุกระดับชั้น | B39: =SUM(B38,B25,B21,B17,B10) -> 0 | C39: =SUM(C38,C25,C21,C17,C10) -> 0 | D39: =SUM(D38,D25,D21,D17,D10) -> 0 | E39: =SUM(E38,E25,E21,E17,E10) -> 0
A41: โรงเรียนขนาดเล็ก ส่วนเพิ่ม (Top up)
A42: 1. ประถมศึกษา | D42: =IF(D17<=120,D17,0) -> 0 | E42: =IF(E17<=120,E17,0) -> 0
A43: 2. มัธยมศึกษาตอนต้น | D43: =IF(D21<=300,D21,0) -> 0 | E43: =IF(E21<=300,E21,0) -> 0
A44: หมายเหตุ :
A45: 1. ข้อมูลนักเรียนที่ใช้เป็นฐานในการคำนวณจะใช้นักเรียน ณ พฤศจิกายน 2568 2. ระดับอนุบาล เด็กของแต่ละโรงเรียนจะแตกต่างกันตามระดับชั้นที่เปิด ขอให้กรอกข้อมูลให้ถูกต้อง 1.อายุ 3 ปี คือ อนุบาล 1 2.อายุ 4 ปี คือ อนุบาล 2 และ 3. อายุ 5 ปี คือ อนุบาล 3

Sheet 1.1.1 รร. อปท. 14
A1: แบบฟอร์มประมาณการนักเรียนและแผนการรับนักเรียน (ชั้นเคลื่อน) | E1: แบบฟอร์ม 1.1.1 แบบชั้นเคลื่อน (โรงเรียน อปท. ปกติ)
A2: ประจำปีงบประมาณ พ.ศ. 2570
A3: ระดับชั้น | B3: งบประมาณปี 2569 | D3: งบประมาณปี 2570
B4: จำนวนนักเรียนรับจริง (ณ พฤศจิกายน 2568) | C4: ประมาณการนักเรียน | D4: ประมาณการนักเรียน | E4: ประมาณการนักเรียน
B5: ภาคเรียน 2/2568 | C5: ภาคเรียน 1/2569 | D5: ภาคเรียน 2/2569 | E5: ภาคเรียน 1/2570
B6: หน่วยนับ (คน) | C6: หน่วยนับ (คน) | D6: หน่วยนับ (คน) | E6: หน่วยนับ (คน)
A7: อนุบาล 1 | D7: =C7 -> 0 | F7: =IF(AND(B7>0,B8>0,B9>0),IF(OR(C7=0,E7=0)," <-----!!! กรอกข้อมูลยังไม่ครบถ้วนใน เซลล์ C7 และ E7",""),"")
A8: อนุบาล 2 | C8: =IF(B7>0,B7,B8) -> 0 | D8: =C8 -> 0 | E8: =IF(B7>0,D7,B8) -> 0
A9: อนุบาล 3 | C9: =IF(B9>0,B8,0) -> 0 | D9: =IF(B9>0,C9,0) -> 0 | E9: =IF(B9>0,D8,0) -> 0
A10: รวมระดับก่อนประถมศึกษา | B10: =SUM(B7:B9) -> 0 | C10: =SUM(C7:C9) -> 0 | D10: =SUM(D7:D9) -> 0 | E10: =SUM(E7:E9) -> 0
A11: ประถมศึกษาปีที่ 1 | D11: =C11 -> 0 | F11: =IF(AND(B11>0,B12>0,B13>0,B16>0),IF(OR(C11=0,E11=0)," <---- !!! กรอกข้อมูลยังไม่ครบถ้วนใน เซลล์ C11 และ E11",""),"")
A12: ประถมศึกษาปีที่ 2 | C12: =B11 -> 0 | D12: =C12 -> 0 | E12: =D11 -> 0
A13: ประถมศึกษาปีที่ 3 | C13: =B12 -> 0 | D13: =C13 -> 0 | E13: =D12 -> 0
A14: ประถมศึกษาปีที่ 4 | C14: =B13 -> 0 | D14: =C14 -> 0 | E14: =D13 -> 0
A15: ประถมศึกษาปีที่ 5 | C15: =B14 -> 0 | D15: =C15 -> 0 | E15: =D14 -> 0
A16: ประถมศึกษาปีที่ 6 | C16: =B15 -> 0 | D16: =C16 -> 0 | E16: =D15 -> 0
A17: รวมระดับประถมศึกษา | B17: =SUM(B11:B16) -> 0 | C17: =SUM(C11:C16) -> 0 | D17: =SUM(D11:D16) -> 0 | E17: =SUM(E11:E16) -> 0 | F17: =40%*E17 -> 0
A18: มัธยมศึกษาปีที่ 1 | D18: =C18 -> 0 | F18: =IF(AND(B18>0,B19>0,B20>0),IF(OR(C18=0,E18=0)," <-----!!! กรอกข้อมูลยังไม่ครบถ้วนใน เซลล์ C18 และ E18",""),"")
A19: มัธยมศึกษาปีที่ 2 | C19: =B18 -> 0 | D19: =C19 -> 0 | E19: =D18 -> 0
A20: มัธยมศึกษาปีที่ 3 | C20: =B19 -> 0 | D20: =C20 -> 0 | E20: =D19 -> 0
A21: รวมระดับมัธยมศึกษาตอนต้น | B21: =SUM(B18:B20) -> 0 | C21: =SUM(C18:C20) -> 0 | D21: =SUM(D18:D20) -> 0 | E21: =SUM(E18:E20) -> 0 | F21: =30%*E21 -> 0
A22: มัธยมศึกษาปีที่ 4 | D22: =C22 -> 0 | F22: =IF(AND(B22>0,B23>0,B24>0),IF(OR(C22=0,E22=0)," <-----!!! กรอกข้อมูลยังไม่ครบถ้วนใน เซลล์ C22 และ E22",""),"")
A23: มัธยมศึกษาปีที่ 5 | C23: =B22 -> 0 | D23: =C23 -> 0 | E23: =D22 -> 0
A24: มัธยมศึกษาปีที่ 6 | C24: =B23 -> 0 | D24: =C24 -> 0 | E24: =D23 -> 0
A25: รวมระดับมัธยมศึกษาตอนปลาย | B25: =SUM(B22:B24) -> 0 | C25: =SUM(C22:C24) -> 0 | D25: =SUM(D22:D24) -> 0 | E25: =SUM(E22:E24) -> 0
A26: สาขาช่าง | B26: =B27+B28+B29 -> 0 | C26: =C27+C28+C29 -> 0 | D26: =D27+D28+D29 -> 0 | E26: =E27+E28+E29 -> 0
A27: ปวช.1 | D27: =C27 -> 0 | F27: =IF(AND(B27>0,B28>0,B29>0),IF(OR(C27=0,E27=0)," <-----!!! กรอกข้อมูลยังไม่ครบถ้วนใน เซลล์ C27 และ E27",""),"")
A28: ปวช.2 | C28: =B27 -> 0 | D28: =C28 -> 0 | E28: =D27 -> 0
A29: ปวช.3 | C29: =B28 -> 0 | D29: =C29 -> 0 | E29: =D28 -> 0
A30: สาขาพาณิชยกรรม | B30: =B31+B32+B33 -> 0 | C30: =C31+C32+C33 -> 0 | D30: =D31+D32+D33 -> 0 | E30: =E31+E32+E33 -> 0
A31: ปวช.1 | D31: =C31 -> 0 | F31: =IF(AND(B31>0,B32>0,B33>0),IF(OR(C31=0,E31=0)," <-----!!! กรอกข้อมูลยังไม่ครบถ้วนใน เซลล์ C31 และ E31",""),"")
A32: ปวช.2 | C32: =B31 -> 0 | D32: =C32 -> 0 | E32: =D31 -> 0
A33: ปวช.3 | C33: =B32 -> 0 | D33: =C33 -> 0 | E33: =D32 -> 0
A34: สาขาคหกรรม | B34: =B35+B36+B37 -> 0 | C34: =C35+C36+C37 -> 0 | D34: =D35+D36+D37 -> 0 | E34: =E35+E36+E37 -> 0
A35: ปวช.1 | D35: =C35 -> 0 | F35: =IF(AND(B35>0,B36>0,B37>0),IF(OR(C35=0,E35=0)," <-----!!! กรอกข้อมูลยังไม่ครบถ้วนใน เซลล์ C35 และ E35",""),"")
A36: ปวช.2 | C36: =B35 -> 0 | D36: =C36 -> 0 | E36: =D35 -> 0
A37: ปวช.3 | C37: =B36 -> 0 | D37: =C37 -> 0 | E37: =D36 -> 0
A38: รวมระดับอาชีวศึกษา | B38: =B26+B30+B34 -> 0 | C38: =C26+C30+C34 -> 0 | D38: =D26+D30+D34 -> 0 | E38: =E26+E30+E34 -> 0
A39: รวมทุกระดับชั้น | B39: =SUM(B38,B25,B21,B17,B10) -> 0 | C39: =SUM(C38,C25,C21,C17,C10) -> 0 | D39: =SUM(D38,D25,D21,D17,D10) -> 0 | E39: =SUM(E38,E25,E21,E17,E10) -> 0
A41: โรงเรียนขนาดเล็ก ส่วนเพิ่ม (Top up)
A42: 1. ประถมศึกษา | D42: =IF(D17<=120,D17,0) -> 0 | E42: =IF(E17<=120,E17,0) -> 0
A43: 2. มัธยมศึกษาตอนต้น | D43: =IF(D21<=300,D21,0) -> 0 | E43: =IF(E21<=300,E21,0) -> 0
A44: หมายเหตุ :
A45: 1. ข้อมูลนักเรียนที่ใช้เป็นฐานในการคำนวณจะใช้นักเรียน ณ พฤศจิกายน 2568 2. ระดับอนุบาล เด็กของแต่ละโรงเรียนจะแตกต่างกันตามระดับชั้นที่เปิด ขอให้กรอกข้อมูลให้ถูกต้อง 1.อายุ 3 ปี คือ อนุบาล 1 2.อายุ 4 ปี คือ อนุบาล 2 และ 3. อายุ 5 ปี คือ อนุบาล 3

Sheet 1.1.1 รร. อปท. 15
A1: แบบฟอร์มประมาณการนักเรียนและแผนการรับนักเรียน (ชั้นเคลื่อน) | E1: แบบฟอร์ม 1.1.1 แบบชั้นเคลื่อน (โรงเรียน อปท. ปกติ)
A2: ประจำปีงบประมาณ พ.ศ. 2570
A3: ระดับชั้น | B3: งบประมาณปี 2569 | D3: งบประมาณปี 2570
B4: จำนวนนักเรียนรับจริง (ณ พฤศจิกายน 2568) | C4: ประมาณการนักเรียน | D4: ประมาณการนักเรียน | E4: ประมาณการนักเรียน
B5: ภาคเรียน 2/2568 | C5: ภาคเรียน 1/2569 | D5: ภาคเรียน 2/2569 | E5: ภาคเรียน 1/2570
B6: หน่วยนับ (คน) | C6: หน่วยนับ (คน) | D6: หน่วยนับ (คน) | E6: หน่วยนับ (คน)
A7: อนุบาล 1 | D7: =C7 -> 0 | F7: =IF(AND(B7>0,B8>0,B9>0),IF(OR(C7=0,E7=0)," <-----!!! กรอกข้อมูลยังไม่ครบถ้วนใน เซลล์ C7 และ E7",""),"")
A8: อนุบาล 2 | C8: =IF(B7>0,B7,B8) -> 0 | D8: =C8 -> 0 | E8: =IF(B7>0,D7,B8) -> 0
A9: อนุบาล 3 | C9: =IF(B9>0,B8,0) -> 0 | D9: =IF(B9>0,C9,0) -> 0 | E9: =IF(B9>0,D8,0) -> 0
A10: รวมระดับก่อนประถมศึกษา | B10: =SUM(B7:B9) -> 0 | C10: =SUM(C7:C9) -> 0 | D10: =SUM(D7:D9) -> 0 | E10: =SUM(E7:E9) -> 0
A11: ประถมศึกษาปีที่ 1 | D11: =C11 -> 0 | F11: =IF(AND(B11>0,B12>0,B13>0,B16>0),IF(OR(C11=0,E11=0)," <---- !!! กรอกข้อมูลยังไม่ครบถ้วนใน เซลล์ C11 และ E11",""),"")
A12: ประถมศึกษาปีที่ 2 | C12: =B11 -> 0 | D12: =C12 -> 0 | E12: =D11 -> 0
A13: ประถมศึกษาปีที่ 3 | C13: =B12 -> 0 | D13: =C13 -> 0 | E13: =D12 -> 0
A14: ประถมศึกษาปีที่ 4 | C14: =B13 -> 0 | D14: =C14 -> 0 | E14: =D13 -> 0
A15: ประถมศึกษาปีที่ 5 | C15: =B14 -> 0 | D15: =C15 -> 0 | E15: =D14 -> 0
A16: ประถมศึกษาปีที่ 6 | C16: =B15 -> 0 | D16: =C16 -> 0 | E16: =D15 -> 0
A17: รวมระดับประถมศึกษา | B17: =SUM(B11:B16) -> 0 | C17: =SUM(C11:C16) -> 0 | D17: =SUM(D11:D16) -> 0 | E17: =SUM(E11:E16) -> 0 | F17: =40%*E17 -> 0
A18: มัธยมศึกษาปีที่ 1 | D18: =C18 -> 0 | F18: =IF(AND(B18>0,B19>0,B20>0),IF(OR(C18=0,E18=0)," <-----!!! กรอกข้อมูลยังไม่ครบถ้วนใน เซลล์ C18 และ E18",""),"")
A19: มัธยมศึกษาปีที่ 2 | C19: =B18 -> 0 | D19: =C19 -> 0 | E19: =D18 -> 0
A20: มัธยมศึกษาปีที่ 3 | C20: =B19 -> 0 | D20: =C20 -> 0 | E20: =D19 -> 0
A21: รวมระดับมัธยมศึกษาตอนต้น | B21: =SUM(B18:B20) -> 0 | C21: =SUM(C18:C20) -> 0 | D21: =SUM(D18:D20) -> 0 | E21: =SUM(E18:E20) -> 0 | F21: =30%*E21 -> 0
A22: มัธยมศึกษาปีที่ 4 | D22: =C22 -> 0 | F22: =IF(AND(B22>0,B23>0,B24>0),IF(OR(C22=0,E22=0)," <-----!!! กรอกข้อมูลยังไม่ครบถ้วนใน เซลล์ C22 และ E22",""),"")
A23: มัธยมศึกษาปีที่ 5 | C23: =B22 -> 0 | D23: =C23 -> 0 | E23: =D22 -> 0
A24: มัธยมศึกษาปีที่ 6 | C24: =B23 -> 0 | D24: =C24 -> 0 | E24: =D23 -> 0
A25: รวมระดับมัธยมศึกษาตอนปลาย | B25: =SUM(B22:B24) -> 0 | C25: =SUM(C22:C24) -> 0 | D25: =SUM(D22:D24) -> 0 | E25: =SUM(E22:E24) -> 0
A26: สาขาช่าง | B26: =B27+B28+B29 -> 0 | C26: =C27+C28+C29 -> 0 | D26: =D27+D28+D29 -> 0 | E26: =E27+E28+E29 -> 0
A27: ปวช.1 | D27: =C27 -> 0 | F27: =IF(AND(B27>0,B28>0,B29>0),IF(OR(C27=0,E27=0)," <-----!!! กรอกข้อมูลยังไม่ครบถ้วนใน เซลล์ C27 และ E27",""),"")
A28: ปวช.2 | C28: =B27 -> 0 | D28: =C28 -> 0 | E28: =D27 -> 0
A29: ปวช.3 | C29: =B28 -> 0 | D29: =C29 -> 0 | E29: =D28 -> 0
A30: สาขาพาณิชยกรรม | B30: =B31+B32+B33 -> 0 | C30: =C31+C32+C33 -> 0 | D30: =D31+D32+D33 -> 0 | E30: =E31+E32+E33 -> 0
A31: ปวช.1 | D31: =C31 -> 0 | F31: =IF(AND(B31>0,B32>0,B33>0),IF(OR(C31=0,E31=0)," <-----!!! กรอกข้อมูลยังไม่ครบถ้วนใน เซลล์ C31 และ E31",""),"")
A32: ปวช.2 | C32: =B31 -> 0 | D32: =C32 -> 0 | E32: =D31 -> 0
A33: ปวช.3 | C33: =B32 -> 0 | D33: =C33 -> 0 | E33: =D32 -> 0
A34: สาขาคหกรรม | B34: =B35+B36+B37 -> 0 | C34: =C35+C36+C37 -> 0 | D34: =D35+D36+D37 -> 0 | E34: =E35+E36+E37 -> 0
A35: ปวช.1 | D35: =C35 -> 0 | F35: =IF(AND(B35>0,B36>0,B37>0),IF(OR(C35=0,E35=0)," <-----!!! กรอกข้อมูลยังไม่ครบถ้วนใน เซลล์ C35 และ E35",""),"")
A36: ปวช.2 | C36: =B35 -> 0 | D36: =C36 -> 0 | E36: =D35 -> 0
A37: ปวช.3 | C37: =B36 -> 0 | D37: =C37 -> 0 | E37: =D36 -> 0
A38: รวมระดับอาชีวศึกษา | B38: =B26+B30+B34 -> 0 | C38: =C26+C30+C34 -> 0 | D38: =D26+D30+D34 -> 0 | E38: =E26+E30+E34 -> 0
A39: รวมทุกระดับชั้น | B39: =SUM(B38,B25,B21,B17,B10) -> 0 | C39: =SUM(C38,C25,C21,C17,C10) -> 0 | D39: =SUM(D38,D25,D21,D17,D10) -> 0 | E39: =SUM(E38,E25,E21,E17,E10) -> 0
A41: โรงเรียนขนาดเล็ก ส่วนเพิ่ม (Top up)
A42: 1. ประถมศึกษา | D42: =IF(D17<=120,D17,0) -> 0 | E42: =IF(E17<=120,E17,0) -> 0
A43: 2. มัธยมศึกษาตอนต้น | D43: =IF(D21<=300,D21,0) -> 0 | E43: =IF(E21<=300,E21,0) -> 0
A44: หมายเหตุ :
A45: 1. ข้อมูลนักเรียนที่ใช้เป็นฐานในการคำนวณจะใช้นักเรียน ณ พฤศจิกายน 2568 2. ระดับอนุบาล เด็กของแต่ละโรงเรียนจะแตกต่างกันตามระดับชั้นที่เปิด ขอให้กรอกข้อมูลให้ถูกต้อง 1.อายุ 3 ปี คือ อนุบาล 1 2.อายุ 4 ปี คือ อนุบาล 2 และ 3. อายุ 5 ปี คือ อนุบาล 3

Sheet 1.1.1 รร. อปท. 16
A1: แบบฟอร์มประมาณการนักเรียนและแผนการรับนักเรียน (ชั้นเคลื่อน) | E1: แบบฟอร์ม 1.1.1 แบบชั้นเคลื่อน (โรงเรียน อปท. ปกติ)
A2: ประจำปีงบประมาณ พ.ศ. 2570
A3: ระดับชั้น | B3: งบประมาณปี 2569 | D3: งบประมาณปี 2570
B4: จำนวนนักเรียนรับจริง (ณ พฤศจิกายน 2568) | C4: ประมาณการนักเรียน | D4: ประมาณการนักเรียน | E4: ประมาณการนักเรียน
B5: ภาคเรียน 2/2568 | C5: ภาคเรียน 1/2569 | D5: ภาคเรียน 2/2569 | E5: ภาคเรียน 1/2570
B6: หน่วยนับ (คน) | C6: หน่วยนับ (คน) | D6: หน่วยนับ (คน) | E6: หน่วยนับ (คน)
A7: อนุบาล 1 | D7: =C7 -> 0 | F7: =IF(AND(B7>0,B8>0,B9>0),IF(OR(C7=0,E7=0)," <-----!!! กรอกข้อมูลยังไม่ครบถ้วนใน เซลล์ C7 และ E7",""),"")
A8: อนุบาล 2 | C8: =IF(B7>0,B7,B8) -> 0 | D8: =C8 -> 0 | E8: =IF(B7>0,D7,B8) -> 0
A9: อนุบาล 3 | C9: =IF(B9>0,B8,0) -> 0 | D9: =IF(B9>0,C9,0) -> 0 | E9: =IF(B9>0,D8,0) -> 0
A10: รวมระดับก่อนประถมศึกษา | B10: =SUM(B7:B9) -> 0 | C10: =SUM(C7:C9) -> 0 | D10: =SUM(D7:D9) -> 0 | E10: =SUM(E7:E9) -> 0
A11: ประถมศึกษาปีที่ 1 | D11: =C11 -> 0 | F11: =IF(AND(B11>0,B12>0,B13>0,B16>0),IF(OR(C11=0,E11=0)," <---- !!! กรอกข้อมูลยังไม่ครบถ้วนใน เซลล์ C11 และ E11",""),"")
A12: ประถมศึกษาปีที่ 2 | C12: =B11 -> 0 | D12: =C12 -> 0 | E12: =D11 -> 0
A13: ประถมศึกษาปีที่ 3 | C13: =B12 -> 0 | D13: =C13 -> 0 | E13: =D12 -> 0
A14: ประถมศึกษาปีที่ 4 | C14: =B13 -> 0 | D14: =C14 -> 0 | E14: =D13 -> 0
A15: ประถมศึกษาปีที่ 5 | C15: =B14 -> 0 | D15: =C15 -> 0 | E15: =D14 -> 0
A16: ประถมศึกษาปีที่ 6 | C16: =B15 -> 0 | D16: =C16 -> 0 | E16: =D15 -> 0
A17: รวมระดับประถมศึกษา | B17: =SUM(B11:B16) -> 0 | C17: =SUM(C11:C16) -> 0 | D17: =SUM(D11:D16) -> 0 | E17: =SUM(E11:E16) -> 0 | F17: =40%*E17 -> 0
A18: มัธยมศึกษาปีที่ 1 | D18: =C18 -> 0 | F18: =IF(AND(B18>0,B19>0,B20>0),IF(OR(C18=0,E18=0)," <-----!!! กรอกข้อมูลยังไม่ครบถ้วนใน เซลล์ C18 และ E18",""),"")
A19: มัธยมศึกษาปีที่ 2 | C19: =B18 -> 0 | D19: =C19 -> 0 | E19: =D18 -> 0
A20: มัธยมศึกษาปีที่ 3 | C20: =B19 -> 0 | D20: =C20 -> 0 | E20: =D19 -> 0
A21: รวมระดับมัธยมศึกษาตอนต้น | B21: =SUM(B18:B20) -> 0 | C21: =SUM(C18:C20) -> 0 | D21: =SUM(D18:D20) -> 0 | E21: =SUM(E18:E20) -> 0 | F21: =30%*E21 -> 0
A22: มัธยมศึกษาปีที่ 4 | D22: =C22 -> 0 | F22: =IF(AND(B22>0,B23>0,B24>0),IF(OR(C22=0,E22=0)," <-----!!! กรอกข้อมูลยังไม่ครบถ้วนใน เซลล์ C22 และ E22",""),"")
A23: มัธยมศึกษาปีที่ 5 | C23: =B22 -> 0 | D23: =C23 -> 0 | E23: =D22 -> 0
A24: มัธยมศึกษาปีที่ 6 | C24: =B23 -> 0 | D24: =C24 -> 0 | E24: =D23 -> 0
A25: รวมระดับมัธยมศึกษาตอนปลาย | B25: =SUM(B22:B24) -> 0 | C25: =SUM(C22:C24) -> 0 | D25: =SUM(D22:D24) -> 0 | E25: =SUM(E22:E24) -> 0
A26: สาขาช่าง | B26: =B27+B28+B29 -> 0 | C26: =C27+C28+C29 -> 0 | D26: =D27+D28+D29 -> 0 | E26: =E27+E28+E29 -> 0
A27: ปวช.1 | D27: =C27 -> 0 | F27: =IF(AND(B27>0,B28>0,B29>0),IF(OR(C27=0,E27=0)," <-----!!! กรอกข้อมูลยังไม่ครบถ้วนใน เซลล์ C27 และ E27",""),"")
A28: ปวช.2 | C28: =B27 -> 0 | D28: =C28 -> 0 | E28: =D27 -> 0
A29: ปวช.3 | C29: =B28 -> 0 | D29: =C29 -> 0 | E29: =D28 -> 0
A30: สาขาพาณิชยกรรม | B30: =B31+B32+B33 -> 0 | C30: =C31+C32+C33 -> 0 | D30: =D31+D32+D33 -> 0 | E30: =E31+E32+E33 -> 0
A31: ปวช.1 | D31: =C31 -> 0 | F31: =IF(AND(B31>0,B32>0,B33>0),IF(OR(C31=0,E31=0)," <-----!!! กรอกข้อมูลยังไม่ครบถ้วนใน เซลล์ C31 และ E31",""),"")
A32: ปวช.2 | C32: =B31 -> 0 | D32: =C32 -> 0 | E32: =D31 -> 0
A33: ปวช.3 | C33: =B32 -> 0 | D33: =C33 -> 0 | E33: =D32 -> 0
A34: สาขาคหกรรม | B34: =B35+B36+B37 -> 0 | C34: =C35+C36+C37 -> 0 | D34: =D35+D36+D37 -> 0 | E34: =E35+E36+E37 -> 0
A35: ปวช.1 | D35: =C35 -> 0 | F35: =IF(AND(B35>0,B36>0,B37>0),IF(OR(C35=0,E35=0)," <-----!!! กรอกข้อมูลยังไม่ครบถ้วนใน เซลล์ C35 และ E35",""),"")
A36: ปวช.2 | C36: =B35 -> 0 | D36: =C36 -> 0 | E36: =D35 -> 0
A37: ปวช.3 | C37: =B36 -> 0 | D37: =C37 -> 0 | E37: =D36 -> 0
A38: รวมระดับอาชีวศึกษา | B38: =B26+B30+B34 -> 0 | C38: =C26+C30+C34 -> 0 | D38: =D26+D30+D34 -> 0 | E38: =E26+E30+E34 -> 0
A39: รวมทุกระดับชั้น | B39: =SUM(B38,B25,B21,B17,B10) -> 0 | C39: =SUM(C38,C25,C21,C17,C10) -> 0 | D39: =SUM(D38,D25,D21,D17,D10) -> 0 | E39: =SUM(E38,E25,E21,E17,E10) -> 0
A41: โรงเรียนขนาดเล็ก ส่วนเพิ่ม (Top up)
A42: 1. ประถมศึกษา | D42: =IF(D17<=120,D17,0) -> 0 | E42: =IF(E17<=120,E17,0) -> 0
A43: 2. มัธยมศึกษาตอนต้น | D43: =IF(D21<=300,D21,0) -> 0 | E43: =IF(E21<=300,E21,0) -> 0
A44: หมายเหตุ :
A45: 1. ข้อมูลนักเรียนที่ใช้เป็นฐานในการคำนวณจะใช้นักเรียน ณ พฤศจิกายน 2568 2. ระดับอนุบาล เด็กของแต่ละโรงเรียนจะแตกต่างกันตามระดับชั้นที่เปิด ขอให้กรอกข้อมูลให้ถูกต้อง 1.อายุ 3 ปี คือ อนุบาล 1 2.อายุ 4 ปี คือ อนุบาล 2 และ 3. อายุ 5 ปี คือ อนุบาล 3

Sheet 1.1.1 รร. อปท. 17
A1: แบบฟอร์มประมาณการนักเรียนและแผนการรับนักเรียน (ชั้นเคลื่อน) | E1: แบบฟอร์ม 1.1.1 แบบชั้นเคลื่อน (โรงเรียน อปท. ปกติ)
A2: ประจำปีงบประมาณ พ.ศ. 2570
A3: ระดับชั้น | B3: งบประมาณปี 2569 | D3: งบประมาณปี 2570
B4: จำนวนนักเรียนรับจริง (ณ พฤศจิกายน 2568) | C4: ประมาณการนักเรียน | D4: ประมาณการนักเรียน | E4: ประมาณการนักเรียน
B5: ภาคเรียน 2/2568 | C5: ภาคเรียน 1/2569 | D5: ภาคเรียน 2/2569 | E5: ภาคเรียน 1/2570
B6: หน่วยนับ (คน) | C6: หน่วยนับ (คน) | D6: หน่วยนับ (คน) | E6: หน่วยนับ (คน)
A7: อนุบาล 1 | D7: =C7 -> 0 | F7: =IF(AND(B7>0,B8>0,B9>0),IF(OR(C7=0,E7=0)," <-----!!! กรอกข้อมูลยังไม่ครบถ้วนใน เซลล์ C7 และ E7",""),"")
A8: อนุบาล 2 | C8: =IF(B7>0,B7,B8) -> 0 | D8: =C8 -> 0 | E8: =IF(B7>0,D7,B8) -> 0
A9: อนุบาล 3 | C9: =IF(B9>0,B8,0) -> 0 | D9: =IF(B9>0,C9,0) -> 0 | E9: =IF(B9>0,D8,0) -> 0
A10: รวมระดับก่อนประถมศึกษา | B10: =SUM(B7:B9) -> 0 | C10: =SUM(C7:C9) -> 0 | D10: =SUM(D7:D9) -> 0 | E10: =SUM(E7:E9) -> 0
A11: ประถมศึกษาปีที่ 1 | D11: =C11 -> 0 | F11: =IF(AND(B11>0,B12>0,B13>0,B16>0),IF(OR(C11=0,E11=0)," <---- !!! กรอกข้อมูลยังไม่ครบถ้วนใน เซลล์ C11 และ E11",""),"")
A12: ประถมศึกษาปีที่ 2 | C12: =B11 -> 0 | D12: =C12 -> 0 | E12: =D11 -> 0
A13: ประถมศึกษาปีที่ 3 | C13: =B12 -> 0 | D13: =C13 -> 0 | E13: =D12 -> 0
A14: ประถมศึกษาปีที่ 4 | C14: =B13 -> 0 | D14: =C14 -> 0 | E14: =D13 -> 0
A15: ประถมศึกษาปีที่ 5 | C15: =B14 -> 0 | D15: =C15 -> 0 | E15: =D14 -> 0
A16: ประถมศึกษาปีที่ 6 | C16: =B15 -> 0 | D16: =C16 -> 0 | E16: =D15 -> 0
A17: รวมระดับประถมศึกษา | B17: =SUM(B11:B16) -> 0 | C17: =SUM(C11:C16) -> 0 | D17: =SUM(D11:D16) -> 0 | E17: =SUM(E11:E16) -> 0 | F17: =40%*E17 -> 0
A18: มัธยมศึกษาปีที่ 1 | D18: =C18 -> 0 | F18: =IF(AND(B18>0,B19>0,B20>0),IF(OR(C18=0,E18=0)," <-----!!! กรอกข้อมูลยังไม่ครบถ้วนใน เซลล์ C18 และ E18",""),"")
A19: มัธยมศึกษาปีที่ 2 | C19: =B18 -> 0 | D19: =C19 -> 0 | E19: =D18 -> 0
A20: มัธยมศึกษาปีที่ 3 | C20: =B19 -> 0 | D20: =C20 -> 0 | E20: =D19 -> 0
A21: รวมระดับมัธยมศึกษาตอนต้น | B21: =SUM(B18:B20) -> 0 | C21: =SUM(C18:C20) -> 0 | D21: =SUM(D18:D20) -> 0 | E21: =SUM(E18:E20) -> 0 | F21: =30%*E21 -> 0
A22: มัธยมศึกษาปีที่ 4 | D22: =C22 -> 0 | F22: =IF(AND(B22>0,B23>0,B24>0),IF(OR(C22=0,E22=0)," <-----!!! กรอกข้อมูลยังไม่ครบถ้วนใน เซลล์ C22 และ E22",""),"")
A23: มัธยมศึกษาปีที่ 5 | C23: =B22 -> 0 | D23: =C23 -> 0 | E23: =D22 -> 0
A24: มัธยมศึกษาปีที่ 6 | C24: =B23 -> 0 | D24: =C24 -> 0 | E24: =D23 -> 0
A25: รวมระดับมัธยมศึกษาตอนปลาย | B25: =SUM(B22:B24) -> 0 | C25: =SUM(C22:C24) -> 0 | D25: =SUM(D22:D24) -> 0 | E25: =SUM(E22:E24) -> 0
A26: สาขาช่าง | B26: =B27+B28+B29 -> 0 | C26: =C27+C28+C29 -> 0 | D26: =D27+D28+D29 -> 0 | E26: =E27+E28+E29 -> 0
A27: ปวช.1 | D27: =C27 -> 0 | F27: =IF(AND(B27>0,B28>0,B29>0),IF(OR(C27=0,E27=0)," <-----!!! กรอกข้อมูลยังไม่ครบถ้วนใน เซลล์ C27 และ E27",""),"")
A28: ปวช.2 | C28: =B27 -> 0 | D28: =C28 -> 0 | E28: =D27 -> 0
A29: ปวช.3 | C29: =B28 -> 0 | D29: =C29 -> 0 | E29: =D28 -> 0
A30: สาขาพาณิชยกรรม | B30: =B31+B32+B33 -> 0 | C30: =C31+C32+C33 -> 0 | D30: =D31+D32+D33 -> 0 | E30: =E31+E32+E33 -> 0
A31: ปวช.1 | D31: =C31 -> 0 | F31: =IF(AND(B31>0,B32>0,B33>0),IF(OR(C31=0,E31=0)," <-----!!! กรอกข้อมูลยังไม่ครบถ้วนใน เซลล์ C31 และ E31",""),"")
A32: ปวช.2 | C32: =B31 -> 0 | D32: =C32 -> 0 | E32: =D31 -> 0
A33: ปวช.3 | C33: =B32 -> 0 | D33: =C33 -> 0 | E33: =D32 -> 0
A34: สาขาคหกรรม | B34: =B35+B36+B37 -> 0 | C34: =C35+C36+C37 -> 0 | D34: =D35+D36+D37 -> 0 | E34: =E35+E36+E37 -> 0
A35: ปวช.1 | D35: =C35 -> 0 | F35: =IF(AND(B35>0,B36>0,B37>0),IF(OR(C35=0,E35=0)," <-----!!! กรอกข้อมูลยังไม่ครบถ้วนใน เซลล์ C35 และ E35",""),"")
A36: ปวช.2 | C36: =B35 -> 0 | D36: =C36 -> 0 | E36: =D35 -> 0
A37: ปวช.3 | C37: =B36 -> 0 | D37: =C37 -> 0 | E37: =D36 -> 0
A38: รวมระดับอาชีวศึกษา | B38: =B26+B30+B34 -> 0 | C38: =C26+C30+C34 -> 0 | D38: =D26+D30+D34 -> 0 | E38: =E26+E30+E34 -> 0
A39: รวมทุกระดับชั้น | B39: =SUM(B38,B25,B21,B17,B10) -> 0 | C39: =SUM(C38,C25,C21,C17,C10) -> 0 | D39: =SUM(D38,D25,D21,D17,D10) -> 0 | E39: =SUM(E38,E25,E21,E17,E10) -> 0
A41: โรงเรียนขนาดเล็ก ส่วนเพิ่ม (Top up)
A42: 1. ประถมศึกษา | D42: =IF(D17<=120,D17,0) -> 0 | E42: =IF(E17<=120,E17,0) -> 0
A43: 2. มัธยมศึกษาตอนต้น | D43: =IF(D21<=300,D21,0) -> 0 | E43: =IF(E21<=300,E21,0) -> 0
A44: หมายเหตุ :
A45: 1. ข้อมูลนักเรียนที่ใช้เป็นฐานในการคำนวณจะใช้นักเรียน ณ พฤศจิกายน 2568 2. ระดับอนุบาล เด็กของแต่ละโรงเรียนจะแตกต่างกันตามระดับชั้นที่เปิด ขอให้กรอกข้อมูลให้ถูกต้อง 1.อายุ 3 ปี คือ อนุบาล 1 2.อายุ 4 ปี คือ อนุบาล 2 และ 3. อายุ 5 ปี คือ อนุบาล 3

Sheet 1.1.1 รร. อปท. 18
A1: แบบฟอร์มประมาณการนักเรียนและแผนการรับนักเรียน (ชั้นเคลื่อน) | E1: แบบฟอร์ม 1.1.1 แบบชั้นเคลื่อน (โรงเรียน อปท. ปกติ)
A2: ประจำปีงบประมาณ พ.ศ. 2570
A3: ระดับชั้น | B3: งบประมาณปี 2569 | D3: งบประมาณปี 2570
B4: จำนวนนักเรียนรับจริง (ณ พฤศจิกายน 2568) | C4: ประมาณการนักเรียน | D4: ประมาณการนักเรียน | E4: ประมาณการนักเรียน
B5: ภาคเรียน 2/2568 | C5: ภาคเรียน 1/2569 | D5: ภาคเรียน 2/2569 | E5: ภาคเรียน 1/2570
B6: หน่วยนับ (คน) | C6: หน่วยนับ (คน) | D6: หน่วยนับ (คน) | E6: หน่วยนับ (คน)
A7: อนุบาล 1 | D7: =C7 -> 0 | F7: =IF(AND(B7>0,B8>0,B9>0),IF(OR(C7=0,E7=0)," <-----!!! กรอกข้อมูลยังไม่ครบถ้วนใน เซลล์ C7 และ E7",""),"")
A8: อนุบาล 2 | C8: =IF(B7>0,B7,B8) -> 0 | D8: =C8 -> 0 | E8: =IF(B7>0,D7,B8) -> 0
A9: อนุบาล 3 | C9: =IF(B9>0,B8,0) -> 0 | D9: =IF(B9>0,C9,0) -> 0 | E9: =IF(B9>0,D8,0) -> 0
A10: รวมระดับก่อนประถมศึกษา | B10: =SUM(B7:B9) -> 0 | C10: =SUM(C7:C9) -> 0 | D10: =SUM(D7:D9) -> 0 | E10: =SUM(E7:E9) -> 0
A11: ประถมศึกษาปีที่ 1 | D11: =C11 -> 0 | F11: =IF(AND(B11>0,B12>0,B13>0,B16>0),IF(OR(C11=0,E11=0)," <---- !!! กรอกข้อมูลยังไม่ครบถ้วนใน เซลล์ C11 และ E11",""),"")
A12: ประถมศึกษาปีที่ 2 | C12: =B11 -> 0 | D12: =C12 -> 0 | E12: =D11 -> 0
A13: ประถมศึกษาปีที่ 3 | C13: =B12 -> 0 | D13: =C13 -> 0 | E13: =D12 -> 0
A14: ประถมศึกษาปีที่ 4 | C14: =B13 -> 0 | D14: =C14 -> 0 | E14: =D13 -> 0
A15: ประถมศึกษาปีที่ 5 | C15: =B14 -> 0 | D15: =C15 -> 0 | E15: =D14 -> 0
A16: ประถมศึกษาปีที่ 6 | C16: =B15 -> 0 | D16: =C16 -> 0 | E16: =D15 -> 0
A17: รวมระดับประถมศึกษา | B17: =SUM(B11:B16) -> 0 | C17: =SUM(C11:C16) -> 0 | D17: =SUM(D11:D16) -> 0 | E17: =SUM(E11:E16) -> 0 | F17: =40%*E17 -> 0
A18: มัธยมศึกษาปีที่ 1 | D18: =C18 -> 0 | F18: =IF(AND(B18>0,B19>0,B20>0),IF(OR(C18=0,E18=0)," <-----!!! กรอกข้อมูลยังไม่ครบถ้วนใน เซลล์ C18 และ E18",""),"")
A19: มัธยมศึกษาปีที่ 2 | C19: =B18 -> 0 | D19: =C19 -> 0 | E19: =D18 -> 0
A20: มัธยมศึกษาปีที่ 3 | C20: =B19 -> 0 | D20: =C20 -> 0 | E20: =D19 -> 0
A21: รวมระดับมัธยมศึกษาตอนต้น | B21: =SUM(B18:B20) -> 0 | C21: =SUM(C18:C20) -> 0 | D21: =SUM(D18:D20) -> 0 | E21: =SUM(E18:E20) -> 0 | F21: =30%*E21 -> 0
A22: มัธยมศึกษาปีที่ 4 | D22: =C22 -> 0 | F22: =IF(AND(B22>0,B23>0,B24>0),IF(OR(C22=0,E22=0)," <-----!!! กรอกข้อมูลยังไม่ครบถ้วนใน เซลล์ C22 และ E22",""),"")
A23: มัธยมศึกษาปีที่ 5 | C23: =B22 -> 0 | D23: =C23 -> 0 | E23: =D22 -> 0
A24: มัธยมศึกษาปีที่ 6 | C24: =B23 -> 0 | D24: =C24 -> 0 | E24: =D23 -> 0
A25: รวมระดับมัธยมศึกษาตอนปลาย | B25: =SUM(B22:B24) -> 0 | C25: =SUM(C22:C24) -> 0 | D25: =SUM(D22:D24) -> 0 | E25: =SUM(E22:E24) -> 0
A26: สาขาช่าง | B26: =B27+B28+B29 -> 0 | C26: =C27+C28+C29 -> 0 | D26: =D27+D28+D29 -> 0 | E26: =E27+E28+E29 -> 0
A27: ปวช.1 | D27: =C27 -> 0 | F27: =IF(AND(B27>0,B28>0,B29>0),IF(OR(C27=0,E27=0)," <-----!!! กรอกข้อมูลยังไม่ครบถ้วนใน เซลล์ C27 และ E27",""),"")
A28: ปวช.2 | C28: =B27 -> 0 | D28: =C28 -> 0 | E28: =D27 -> 0
A29: ปวช.3 | C29: =B28 -> 0 | D29: =C29 -> 0 | E29: =D28 -> 0
A30: สาขาพาณิชยกรรม | B30: =B31+B32+B33 -> 0 | C30: =C31+C32+C33 -> 0 | D30: =D31+D32+D33 -> 0 | E30: =E31+E32+E33 -> 0
A31: ปวช.1 | D31: =C31 -> 0 | F31: =IF(AND(B31>0,B32>0,B33>0),IF(OR(C31=0,E31=0)," <-----!!! กรอกข้อมูลยังไม่ครบถ้วนใน เซลล์ C31 และ E31",""),"")
A32: ปวช.2 | C32: =B31 -> 0 | D32: =C32 -> 0 | E32: =D31 -> 0
A33: ปวช.3 | C33: =B32 -> 0 | D33: =C33 -> 0 | E33: =D32 -> 0
A34: สาขาคหกรรม | B34: =B35+B36+B37 -> 0 | C34: =C35+C36+C37 -> 0 | D34: =D35+D36+D37 -> 0 | E34: =E35+E36+E37 -> 0
A35: ปวช.1 | D35: =C35 -> 0 | F35: =IF(AND(B35>0,B36>0,B37>0),IF(OR(C35=0,E35=0)," <-----!!! กรอกข้อมูลยังไม่ครบถ้วนใน เซลล์ C35 และ E35",""),"")
A36: ปวช.2 | C36: =B35 -> 0 | D36: =C36 -> 0 | E36: =D35 -> 0
A37: ปวช.3 | C37: =B36 -> 0 | D37: =C37 -> 0 | E37: =D36 -> 0
A38: รวมระดับอาชีวศึกษา | B38: =B26+B30+B34 -> 0 | C38: =C26+C30+C34 -> 0 | D38: =D26+D30+D34 -> 0 | E38: =E26+E30+E34 -> 0
A39: รวมทุกระดับชั้น | B39: =SUM(B38,B25,B21,B17,B10) -> 0 | C39: =SUM(C38,C25,C21,C17,C10) -> 0 | D39: =SUM(D38,D25,D21,D17,D10) -> 0 | E39: =SUM(E38,E25,E21,E17,E10) -> 0
A41: โรงเรียนขนาดเล็ก ส่วนเพิ่ม (Top up)
A42: 1. ประถมศึกษา | D42: =IF(D17<=120,D17,0) -> 0 | E42: =IF(E17<=120,E17,0) -> 0
A43: 2. มัธยมศึกษาตอนต้น | D43: =IF(D21<=300,D21,0) -> 0 | E43: =IF(E21<=300,E21,0) -> 0
A44: หมายเหตุ :
A45: 1. ข้อมูลนักเรียนที่ใช้เป็นฐานในการคำนวณจะใช้นักเรียน ณ พฤศจิกายน 2568 2. ระดับอนุบาล เด็กของแต่ละโรงเรียนจะแตกต่างกันตามระดับชั้นที่เปิด ขอให้กรอกข้อมูลให้ถูกต้อง 1.อายุ 3 ปี คือ อนุบาล 1 2.อายุ 4 ปี คือ อนุบาล 2 และ 3. อายุ 5 ปี คือ อนุบาล 3

Sheet 1.1.1 รร. อปท. 19
A1: แบบฟอร์มประมาณการนักเรียนและแผนการรับนักเรียน (ชั้นเคลื่อน) | E1: แบบฟอร์ม 1.1.1 แบบชั้นเคลื่อน (โรงเรียน อปท. ปกติ)
A2: ประจำปีงบประมาณ พ.ศ. 2570
A3: ระดับชั้น | B3: งบประมาณปี 2569 | D3: งบประมาณปี 2570
B4: จำนวนนักเรียนรับจริง (ณ พฤศจิกายน 2568) | C4: ประมาณการนักเรียน | D4: ประมาณการนักเรียน | E4: ประมาณการนักเรียน
B5: ภาคเรียน 2/2568 | C5: ภาคเรียน 1/2569 | D5: ภาคเรียน 2/2569 | E5: ภาคเรียน 1/2570
B6: หน่วยนับ (คน) | C6: หน่วยนับ (คน) | D6: หน่วยนับ (คน) | E6: หน่วยนับ (คน)
A7: อนุบาล 1 | D7: =C7 -> 0 | F7: =IF(AND(B7>0,B8>0,B9>0),IF(OR(C7=0,E7=0)," <-----!!! กรอกข้อมูลยังไม่ครบถ้วนใน เซลล์ C7 และ E7",""),"")
A8: อนุบาล 2 | C8: =IF(B7>0,B7,B8) -> 0 | D8: =C8 -> 0 | E8: =IF(B7>0,D7,B8) -> 0
A9: อนุบาล 3 | C9: =IF(B9>0,B8,0) -> 0 | D9: =IF(B9>0,C9,0) -> 0 | E9: =IF(B9>0,D8,0) -> 0
A10: รวมระดับก่อนประถมศึกษา | B10: =SUM(B7:B9) -> 0 | C10: =SUM(C7:C9) -> 0 | D10: =SUM(D7:D9) -> 0 | E10: =SUM(E7:E9) -> 0
A11: ประถมศึกษาปีที่ 1 | D11: =C11 -> 0 | F11: =IF(AND(B11>0,B12>0,B13>0,B16>0),IF(OR(C11=0,E11=0)," <---- !!! กรอกข้อมูลยังไม่ครบถ้วนใน เซลล์ C11 และ E11",""),"")
A12: ประถมศึกษาปีที่ 2 | C12: =B11 -> 0 | D12: =C12 -> 0 | E12: =D11 -> 0
A13: ประถมศึกษาปีที่ 3 | C13: =B12 -> 0 | D13: =C13 -> 0 | E13: =D12 -> 0
A14: ประถมศึกษาปีที่ 4 | C14: =B13 -> 0 | D14: =C14 -> 0 | E14: =D13 -> 0
A15: ประถมศึกษาปีที่ 5 | C15: =B14 -> 0 | D15: =C15 -> 0 | E15: =D14 -> 0
A16: ประถมศึกษาปีที่ 6 | C16: =B15 -> 0 | D16: =C16 -> 0 | E16: =D15 -> 0
A17: รวมระดับประถมศึกษา | B17: =SUM(B11:B16) -> 0 | C17: =SUM(C11:C16) -> 0 | D17: =SUM(D11:D16) -> 0 | E17: =SUM(E11:E16) -> 0 | F17: =40%*E17 -> 0
A18: มัธยมศึกษาปีที่ 1 | D18: =C18 -> 0 | F18: =IF(AND(B18>0,B19>0,B20>0),IF(OR(C18=0,E18=0)," <-----!!! กรอกข้อมูลยังไม่ครบถ้วนใน เซลล์ C18 และ E18",""),"")
A19: มัธยมศึกษาปีที่ 2 | C19: =B18 -> 0 | D19: =C19 -> 0 | E19: =D18 -> 0
A20: มัธยมศึกษาปีที่ 3 | C20: =B19 -> 0 | D20: =C20 -> 0 | E20: =D19 -> 0
A21: รวมระดับมัธยมศึกษาตอนต้น | B21: =SUM(B18:B20) -> 0 | C21: =SUM(C18:C20) -> 0 | D21: =SUM(D18:D20) -> 0 | E21: =SUM(E18:E20) -> 0 | F21: =30%*E21 -> 0
A22: มัธยมศึกษาปีที่ 4 | D22: =C22 -> 0 | F22: =IF(AND(B22>0,B23>0,B24>0),IF(OR(C22=0,E22=0)," <-----!!! กรอกข้อมูลยังไม่ครบถ้วนใน เซลล์ C22 และ E22",""),"")
A23: มัธยมศึกษาปีที่ 5 | C23: =B22 -> 0 | D23: =C23 -> 0 | E23: =D22 -> 0
A24: มัธยมศึกษาปีที่ 6 | C24: =B23 -> 0 | D24: =C24 -> 0 | E24: =D23 -> 0
A25: รวมระดับมัธยมศึกษาตอนปลาย | B25: =SUM(B22:B24) -> 0 | C25: =SUM(C22:C24) -> 0 | D25: =SUM(D22:D24) -> 0 | E25: =SUM(E22:E24) -> 0
A26: สาขาช่าง | B26: =B27+B28+B29 -> 0 | C26: =C27+C28+C29 -> 0 | D26: =D27+D28+D29 -> 0 | E26: =E27+E28+E29 -> 0
A27: ปวช.1 | D27: =C27 -> 0 | F27: =IF(AND(B27>0,B28>0,B29>0),IF(OR(C27=0,E27=0)," <-----!!! กรอกข้อมูลยังไม่ครบถ้วนใน เซลล์ C27 และ E27",""),"")
A28: ปวช.2 | C28: =B27 -> 0 | D28: =C28 -> 0 | E28: =D27 -> 0
A29: ปวช.3 | C29: =B28 -> 0 | D29: =C29 -> 0 | E29: =D28 -> 0
A30: สาขาพาณิชยกรรม | B30: =B31+B32+B33 -> 0 | C30: =C31+C32+C33 -> 0 | D30: =D31+D32+D33 -> 0 | E30: =E31+E32+E33 -> 0
A31: ปวช.1 | D31: =C31 -> 0 | F31: =IF(AND(B31>0,B32>0,B33>0),IF(OR(C31=0,E31=0)," <-----!!! กรอกข้อมูลยังไม่ครบถ้วนใน เซลล์ C31 และ E31",""),"")
A32: ปวช.2 | C32: =B31 -> 0 | D32: =C32 -> 0 | E32: =D31 -> 0
A33: ปวช.3 | C33: =B32 -> 0 | D33: =C33 -> 0 | E33: =D32 -> 0
A34: สาขาคหกรรม | B34: =B35+B36+B37 -> 0 | C34: =C35+C36+C37 -> 0 | D34: =D35+D36+D37 -> 0 | E34: =E35+E36+E37 -> 0
A35: ปวช.1 | D35: =C35 -> 0 | F35: =IF(AND(B35>0,B36>0,B37>0),IF(OR(C35=0,E35=0)," <-----!!! กรอกข้อมูลยังไม่ครบถ้วนใน เซลล์ C35 และ E35",""),"")
A36: ปวช.2 | C36: =B35 -> 0 | D36: =C36 -> 0 | E36: =D35 -> 0
A37: ปวช.3 | C37: =B36 -> 0 | D37: =C37 -> 0 | E37: =D36 -> 0
A38: รวมระดับอาชีวศึกษา | B38: =B26+B30+B34 -> 0 | C38: =C26+C30+C34 -> 0 | D38: =D26+D30+D34 -> 0 | E38: =E26+E30+E34 -> 0
A39: รวมทุกระดับชั้น | B39: =SUM(B38,B25,B21,B17,B10) -> 0 | C39: =SUM(C38,C25,C21,C17,C10) -> 0 | D39: =SUM(D38,D25,D21,D17,D10) -> 0 | E39: =SUM(E38,E25,E21,E17,E10) -> 0
A41: โรงเรียนขนาดเล็ก ส่วนเพิ่ม (Top up)
A42: 1. ประถมศึกษา | D42: =IF(D17<=120,D17,0) -> 0 | E42: =IF(E17<=120,E17,0) -> 0
A43: 2. มัธยมศึกษาตอนต้น | D43: =IF(D21<=300,D21,0) -> 0 | E43: =IF(E21<=300,E21,0) -> 0
A44: หมายเหตุ :
A45: 1. ข้อมูลนักเรียนที่ใช้เป็นฐานในการคำนวณจะใช้นักเรียน ณ พฤศจิกายน 2568 2. ระดับอนุบาล เด็กของแต่ละโรงเรียนจะแตกต่างกันตามระดับชั้นที่เปิด ขอให้กรอกข้อมูลให้ถูกต้อง 1.อายุ 3 ปี คือ อนุบาล 1 2.อายุ 4 ปี คือ อนุบาล 2 และ 3. อายุ 5 ปี คือ อนุบาล 3

Sheet 1.1.1 รร. อปท. 20
A1: แบบฟอร์มประมาณการนักเรียนและแผนการรับนักเรียน (ชั้นเคลื่อน) | E1: แบบฟอร์ม 1.1.1 แบบชั้นเคลื่อน (โรงเรียน อปท. ปกติ)
A2: ประจำปีงบประมาณ พ.ศ. 2570
A3: ระดับชั้น | B3: งบประมาณปี 2569 | D3: งบประมาณปี 2570
B4: จำนวนนักเรียนรับจริง (ณ พฤศจิกายน 2568) | C4: ประมาณการนักเรียน | D4: ประมาณการนักเรียน | E4: ประมาณการนักเรียน
B5: ภาคเรียน 2/2568 | C5: ภาคเรียน 1/2569 | D5: ภาคเรียน 2/2569 | E5: ภาคเรียน 1/2570
B6: หน่วยนับ (คน) | C6: หน่วยนับ (คน) | D6: หน่วยนับ (คน) | E6: หน่วยนับ (คน)
A7: อนุบาล 1 | D7: =C7 -> 0 | F7: =IF(AND(B7>0,B8>0,B9>0),IF(OR(C7=0,E7=0)," <-----!!! กรอกข้อมูลยังไม่ครบถ้วนใน เซลล์ C7 และ E7",""),"")
A8: อนุบาล 2 | C8: =IF(B7>0,B7,B8) -> 0 | D8: =C8 -> 0 | E8: =IF(B7>0,D7,B8) -> 0
A9: อนุบาล 3 | C9: =IF(B9>0,B8,0) -> 0 | D9: =IF(B9>0,C9,0) -> 0 | E9: =IF(B9>0,D8,0) -> 0
A10: รวมระดับก่อนประถมศึกษา | B10: =SUM(B7:B9) -> 0 | C10: =SUM(C7:C9) -> 0 | D10: =SUM(D7:D9) -> 0 | E10: =SUM(E7:E9) -> 0
A11: ประถมศึกษาปีที่ 1 | D11: =C11 -> 0 | F11: =IF(AND(B11>0,B12>0,B13>0,B16>0),IF(OR(C11=0,E11=0)," <---- !!! กรอกข้อมูลยังไม่ครบถ้วนใน เซลล์ C11 และ E11",""),"")
A12: ประถมศึกษาปีที่ 2 | C12: =B11 -> 0 | D12: =C12 -> 0 | E12: =D11 -> 0
A13: ประถมศึกษาปีที่ 3 | C13: =B12 -> 0 | D13: =C13 -> 0 | E13: =D12 -> 0
A14: ประถมศึกษาปีที่ 4 | C14: =B13 -> 0 | D14: =C14 -> 0 | E14: =D13 -> 0
A15: ประถมศึกษาปีที่ 5 | C15: =B14 -> 0 | D15: =C15 -> 0 | E15: =D14 -> 0
A16: ประถมศึกษาปีที่ 6 | C16: =B15 -> 0 | D16: =C16 -> 0 | E16: =D15 -> 0
A17: รวมระดับประถมศึกษา | B17: =SUM(B11:B16) -> 0 | C17: =SUM(C11:C16) -> 0 | D17: =SUM(D11:D16) -> 0 | E17: =SUM(E11:E16) -> 0 | F17: =40%*E17 -> 0
A18: มัธยมศึกษาปีที่ 1 | D18: =C18 -> 0 | F18: =IF(AND(B18>0,B19>0,B20>0),IF(OR(C18=0,E18=0)," <-----!!! กรอกข้อมูลยังไม่ครบถ้วนใน เซลล์ C18 และ E18",""),"")
A19: มัธยมศึกษาปีที่ 2 | C19: =B18 -> 0 | D19: =C19 -> 0 | E19: =D18 -> 0
A20: มัธยมศึกษาปีที่ 3 | C20: =B19 -> 0 | D20: =C20 -> 0 | E20: =D19 -> 0
A21: รวมระดับมัธยมศึกษาตอนต้น | B21: =SUM(B18:B20) -> 0 | C21: =SUM(C18:C20) -> 0 | D21: =SUM(D18:D20) -> 0 | E21: =SUM(E18:E20) -> 0 | F21: =30%*E21 -> 0
A22: มัธยมศึกษาปีที่ 4 | D22: =C22 -> 0 | F22: =IF(AND(B22>0,B23>0,B24>0),IF(OR(C22=0,E22=0)," <-----!!! กรอกข้อมูลยังไม่ครบถ้วนใน เซลล์ C22 และ E22",""),"")
A23: มัธยมศึกษาปีที่ 5 | C23: =B22 -> 0 | D23: =C23 -> 0 | E23: =D22 -> 0
A24: มัธยมศึกษาปีที่ 6 | C24: =B23 -> 0 | D24: =C24 -> 0 | E24: =D23 -> 0
A25: รวมระดับมัธยมศึกษาตอนปลาย | B25: =SUM(B22:B24) -> 0 | C25: =SUM(C22:C24) -> 0 | D25: =SUM(D22:D24) -> 0 | E25: =SUM(E22:E24) -> 0
A26: สาขาช่าง | B26: =B27+B28+B29 -> 0 | C26: =C27+C28+C29 -> 0 | D26: =D27+D28+D29 -> 0 | E26: =E27+E28+E29 -> 0
A27: ปวช.1 | D27: =C27 -> 0 | F27: =IF(AND(B27>0,B28>0,B29>0),IF(OR(C27=0,E27=0)," <-----!!! กรอกข้อมูลยังไม่ครบถ้วนใน เซลล์ C27 และ E27",""),"")
A28: ปวช.2 | C28: =B27 -> 0 | D28: =C28 -> 0 | E28: =D27 -> 0
A29: ปวช.3 | C29: =B28 -> 0 | D29: =C29 -> 0 | E29: =D28 -> 0
A30: สาขาพาณิชยกรรม | B30: =B31+B32+B33 -> 0 | C30: =C31+C32+C33 -> 0 | D30: =D31+D32+D33 -> 0 | E30: =E31+E32+E33 -> 0
A31: ปวช.1 | D31: =C31 -> 0 | F31: =IF(AND(B31>0,B32>0,B33>0),IF(OR(C31=0,E31=0)," <-----!!! กรอกข้อมูลยังไม่ครบถ้วนใน เซลล์ C31 และ E31",""),"")
A32: ปวช.2 | C32: =B31 -> 0 | D32: =C32 -> 0 | E32: =D31 -> 0
A33: ปวช.3 | C33: =B32 -> 0 | D33: =C33 -> 0 | E33: =D32 -> 0
A34: สาขาคหกรรม | B34: =B35+B36+B37 -> 0 | C34: =C35+C36+C37 -> 0 | D34: =D35+D36+D37 -> 0 | E34: =E35+E36+E37 -> 0
A35: ปวช.1 | D35: =C35 -> 0 | F35: =IF(AND(B35>0,B36>0,B37>0),IF(OR(C35=0,E35=0)," <-----!!! กรอกข้อมูลยังไม่ครบถ้วนใน เซลล์ C35 และ E35",""),"")
A36: ปวช.2 | C36: =B35 -> 0 | D36: =C36 -> 0 | E36: =D35 -> 0
A37: ปวช.3 | C37: =B36 -> 0 | D37: =C37 -> 0 | E37: =D36 -> 0
A38: รวมระดับอาชีวศึกษา | B38: =B26+B30+B34 -> 0 | C38: =C26+C30+C34 -> 0 | D38: =D26+D30+D34 -> 0 | E38: =E26+E30+E34 -> 0
A39: รวมทุกระดับชั้น | B39: =SUM(B38,B25,B21,B17,B10) -> 0 | C39: =SUM(C38,C25,C21,C17,C10) -> 0 | D39: =SUM(D38,D25,D21,D17,D10) -> 0 | E39: =SUM(E38,E25,E21,E17,E10) -> 0
A41: โรงเรียนขนาดเล็ก ส่วนเพิ่ม (Top up)
A42: 1. ประถมศึกษา | D42: =IF(D17<=120,D17,0) -> 0 | E42: =IF(E17<=120,E17,0) -> 0
A43: 2. มัธยมศึกษาตอนต้น | D43: =IF(D21<=300,D21,0) -> 0 | E43: =IF(E21<=300,E21,0) -> 0
A44: หมายเหตุ :
A45: 1. ข้อมูลนักเรียนที่ใช้เป็นฐานในการคำนวณจะใช้นักเรียน ณ พฤศจิกายน 2568 2. ระดับอนุบาล เด็กของแต่ละโรงเรียนจะแตกต่างกันตามระดับชั้นที่เปิด ขอให้กรอกข้อมูลให้ถูกต้อง 1.อายุ 3 ปี คือ อนุบาล 1 2.อายุ 4 ปี คือ อนุบาล 2 และ 3. อายุ 5 ปี คือ อนุบาล 3

Sheet 1.1.1 รร. อปท. 21
A1: แบบฟอร์มประมาณการนักเรียนและแผนการรับนักเรียน (ชั้นเคลื่อน) | E1: แบบฟอร์ม 1.1.1 แบบชั้นเคลื่อน (โรงเรียน อปท. ปกติ)
A2: ประจำปีงบประมาณ พ.ศ. 2570
A3: ระดับชั้น | B3: งบประมาณปี 2569 | D3: งบประมาณปี 2570
B4: จำนวนนักเรียนรับจริง (ณ พฤศจิกายน 2568) | C4: ประมาณการนักเรียน | D4: ประมาณการนักเรียน | E4: ประมาณการนักเรียน
B5: ภาคเรียน 2/2568 | C5: ภาคเรียน 1/2569 | D5: ภาคเรียน 2/2569 | E5: ภาคเรียน 1/2570
B6: หน่วยนับ (คน) | C6: หน่วยนับ (คน) | D6: หน่วยนับ (คน) | E6: หน่วยนับ (คน)
A7: อนุบาล 1 | D7: =C7 -> 0 | F7: =IF(AND(B7>0,B8>0,B9>0),IF(OR(C7=0,E7=0)," <-----!!! กรอกข้อมูลยังไม่ครบถ้วนใน เซลล์ C7 และ E7",""),"")
A8: อนุบาล 2 | C8: =IF(B7>0,B7,B8) -> 0 | D8: =C8 -> 0 | E8: =IF(B7>0,D7,B8) -> 0
A9: อนุบาล 3 | C9: =IF(B9>0,B8,0) -> 0 | D9: =IF(B9>0,C9,0) -> 0 | E9: =IF(B9>0,D8,0) -> 0
A10: รวมระดับก่อนประถมศึกษา | B10: =SUM(B7:B9) -> 0 | C10: =SUM(C7:C9) -> 0 | D10: =SUM(D7:D9) -> 0 | E10: =SUM(E7:E9) -> 0
A11: ประถมศึกษาปีที่ 1 | D11: =C11 -> 0 | F11: =IF(AND(B11>0,B12>0,B13>0,B16>0),IF(OR(C11=0,E11=0)," <---- !!! กรอกข้อมูลยังไม่ครบถ้วนใน เซลล์ C11 และ E11",""),"")
A12: ประถมศึกษาปีที่ 2 | C12: =B11 -> 0 | D12: =C12 -> 0 | E12: =D11 -> 0
A13: ประถมศึกษาปีที่ 3 | C13: =B12 -> 0 | D13: =C13 -> 0 | E13: =D12 -> 0
A14: ประถมศึกษาปีที่ 4 | C14: =B13 -> 0 | D14: =C14 -> 0 | E14: =D13 -> 0
A15: ประถมศึกษาปีที่ 5 | C15: =B14 -> 0 | D15: =C15 -> 0 | E15: =D14 -> 0
A16: ประถมศึกษาปีที่ 6 | C16: =B15 -> 0 | D16: =C16 -> 0 | E16: =D15 -> 0
A17: รวมระดับประถมศึกษา | B17: =SUM(B11:B16) -> 0 | C17: =SUM(C11:C16) -> 0 | D17: =SUM(D11:D16) -> 0 | E17: =SUM(E11:E16) -> 0 | F17: =40%*E17 -> 0
A18: มัธยมศึกษาปีที่ 1 | D18: =C18 -> 0 | F18: =IF(AND(B18>0,B19>0,B20>0),IF(OR(C18=0,E18=0)," <-----!!! กรอกข้อมูลยังไม่ครบถ้วนใน เซลล์ C18 และ E18",""),"")
A19: มัธยมศึกษาปีที่ 2 | C19: =B18 -> 0 | D19: =C19 -> 0 | E19: =D18 -> 0
A20: มัธยมศึกษาปีที่ 3 | C20: =B19 -> 0 | D20: =C20 -> 0 | E20: =D19 -> 0
A21: รวมระดับมัธยมศึกษาตอนต้น | B21: =SUM(B18:B20) -> 0 | C21: =SUM(C18:C20) -> 0 | D21: =SUM(D18:D20) -> 0 | E21: =SUM(E18:E20) -> 0 | F21: =30%*E21 -> 0
A22: มัธยมศึกษาปีที่ 4 | D22: =C22 -> 0 | F22: =IF(AND(B22>0,B23>0,B24>0),IF(OR(C22=0,E22=0)," <-----!!! กรอกข้อมูลยังไม่ครบถ้วนใน เซลล์ C22 และ E22",""),"")
A23: มัธยมศึกษาปีที่ 5 | C23: =B22 -> 0 | D23: =C23 -> 0 | E23: =D22 -> 0
A24: มัธยมศึกษาปีที่ 6 | C24: =B23 -> 0 | D24: =C24 -> 0 | E24: =D23 -> 0
A25: รวมระดับมัธยมศึกษาตอนปลาย | B25: =SUM(B22:B24) -> 0 | C25: =SUM(C22:C24) -> 0 | D25: =SUM(D22:D24) -> 0 | E25: =SUM(E22:E24) -> 0
A26: สาขาช่าง | B26: =B27+B28+B29 -> 0 | C26: =C27+C28+C29 -> 0 | D26: =D27+D28+D29 -> 0 | E26: =E27+E28+E29 -> 0
A27: ปวช.1 | D27: =C27 -> 0 | F27: =IF(AND(B27>0,B28>0,B29>0),IF(OR(C27=0,E27=0)," <-----!!! กรอกข้อมูลยังไม่ครบถ้วนใน เซลล์ C27 และ E27",""),"")
A28: ปวช.2 | C28: =B27 -> 0 | D28: =C28 -> 0 | E28: =D27 -> 0
A29: ปวช.3 | C29: =B28 -> 0 | D29: =C29 -> 0 | E29: =D28 -> 0
A30: สาขาพาณิชยกรรม | B30: =B31+B32+B33 -> 0 | C30: =C31+C32+C33 -> 0 | D30: =D31+D32+D33 -> 0 | E30: =E31+E32+E33 -> 0
A31: ปวช.1 | D31: =C31 -> 0 | F31: =IF(AND(B31>0,B32>0,B33>0),IF(OR(C31=0,E31=0)," <-----!!! กรอกข้อมูลยังไม่ครบถ้วนใน เซลล์ C31 และ E31",""),"")
A32: ปวช.2 | C32: =B31 -> 0 | D32: =C32 -> 0 | E32: =D31 -> 0
A33: ปวช.3 | C33: =B32 -> 0 | D33: =C33 -> 0 | E33: =D32 -> 0
A34: สาขาคหกรรม | B34: =B35+B36+B37 -> 0 | C34: =C35+C36+C37 -> 0 | D34: =D35+D36+D37 -> 0 | E34: =E35+E36+E37 -> 0
A35: ปวช.1 | D35: =C35 -> 0 | F35: =IF(AND(B35>0,B36>0,B37>0),IF(OR(C35=0,E35=0)," <-----!!! กรอกข้อมูลยังไม่ครบถ้วนใน เซลล์ C35 และ E35",""),"")
A36: ปวช.2 | C36: =B35 -> 0 | D36: =C36 -> 0 | E36: =D35 -> 0
A37: ปวช.3 | C37: =B36 -> 0 | D37: =C37 -> 0 | E37: =D36 -> 0
A38: รวมระดับอาชีวศึกษา | B38: =B26+B30+B34 -> 0 | C38: =C26+C30+C34 -> 0 | D38: =D26+D30+D34 -> 0 | E38: =E26+E30+E34 -> 0
A39: รวมทุกระดับชั้น | B39: =SUM(B38,B25,B21,B17,B10) -> 0 | C39: =SUM(C38,C25,C21,C17,C10) -> 0 | D39: =SUM(D38,D25,D21,D17,D10) -> 0 | E39: =SUM(E38,E25,E21,E17,E10) -> 0
A41: โรงเรียนขนาดเล็ก ส่วนเพิ่ม (Top up)
A42: 1. ประถมศึกษา | D42: =IF(D17<=120,D17,0) -> 0 | E42: =IF(E17<=120,E17,0) -> 0
A43: 2. มัธยมศึกษาตอนต้น | D43: =IF(D21<=300,D21,0) -> 0 | E43: =IF(E21<=300,E21,0) -> 0
A44: หมายเหตุ :
A45: 1. ข้อมูลนักเรียนที่ใช้เป็นฐานในการคำนวณจะใช้นักเรียน ณ พฤศจิกายน 2568 2. ระดับอนุบาล เด็กของแต่ละโรงเรียนจะแตกต่างกันตามระดับชั้นที่เปิด ขอให้กรอกข้อมูลให้ถูกต้อง 1.อายุ 3 ปี คือ อนุบาล 1 2.อายุ 4 ปี คือ อนุบาล 2 และ 3. อายุ 5 ปี คือ อนุบาล 3

Sheet 1.1.1 รร. อปท. 22
A1: แบบฟอร์มประมาณการนักเรียนและแผนการรับนักเรียน (ชั้นเคลื่อน) | E1: แบบฟอร์ม 1.1.1 แบบชั้นเคลื่อน (โรงเรียน อปท. ปกติ)
A2: ประจำปีงบประมาณ พ.ศ. 2570
A3: ระดับชั้น | B3: งบประมาณปี 2569 | D3: งบประมาณปี 2570
B4: จำนวนนักเรียนรับจริง (ณ พฤศจิกายน 2568) | C4: ประมาณการนักเรียน | D4: ประมาณการนักเรียน | E4: ประมาณการนักเรียน
B5: ภาคเรียน 2/2568 | C5: ภาคเรียน 1/2569 | D5: ภาคเรียน 2/2569 | E5: ภาคเรียน 1/2570
B6: หน่วยนับ (คน) | C6: หน่วยนับ (คน) | D6: หน่วยนับ (คน) | E6: หน่วยนับ (คน)
A7: อนุบาล 1 | D7: =C7 -> 0 | F7: =IF(AND(B7>0,B8>0,B9>0),IF(OR(C7=0,E7=0)," <-----!!! กรอกข้อมูลยังไม่ครบถ้วนใน เซลล์ C7 และ E7",""),"")
A8: อนุบาล 2 | C8: =IF(B7>0,B7,B8) -> 0 | D8: =C8 -> 0 | E8: =IF(B7>0,D7,B8) -> 0
A9: อนุบาล 3 | C9: =IF(B9>0,B8,0) -> 0 | D9: =IF(B9>0,C9,0) -> 0 | E9: =IF(B9>0,D8,0) -> 0
A10: รวมระดับก่อนประถมศึกษา | B10: =SUM(B7:B9) -> 0 | C10: =SUM(C7:C9) -> 0 | D10: =SUM(D7:D9) -> 0 | E10: =SUM(E7:E9) -> 0
A11: ประถมศึกษาปีที่ 1 | D11: =C11 -> 0 | F11: =IF(AND(B11>0,B12>0,B13>0,B16>0),IF(OR(C11=0,E11=0)," <---- !!! กรอกข้อมูลยังไม่ครบถ้วนใน เซลล์ C11 และ E11",""),"")
A12: ประถมศึกษาปีที่ 2 | C12: =B11 -> 0 | D12: =C12 -> 0 | E12: =D11 -> 0
A13: ประถมศึกษาปีที่ 3 | C13: =B12 -> 0 | D13: =C13 -> 0 | E13: =D12 -> 0
A14: ประถมศึกษาปีที่ 4 | C14: =B13 -> 0 | D14: =C14 -> 0 | E14: =D13 -> 0
A15: ประถมศึกษาปีที่ 5 | C15: =B14 -> 0 | D15: =C15 -> 0 | E15: =D14 -> 0
A16: ประถมศึกษาปีที่ 6 | C16: =B15 -> 0 | D16: =C16 -> 0 | E16: =D15 -> 0
A17: รวมระดับประถมศึกษา | B17: =SUM(B11:B16) -> 0 | C17: =SUM(C11:C16) -> 0 | D17: =SUM(D11:D16) -> 0 | E17: =SUM(E11:E16) -> 0 | F17: =40%*E17 -> 0
A18: มัธยมศึกษาปีที่ 1 | D18: =C18 -> 0 | F18: =IF(AND(B18>0,B19>0,B20>0),IF(OR(C18=0,E18=0)," <-----!!! กรอกข้อมูลยังไม่ครบถ้วนใน เซลล์ C18 และ E18",""),"")
A19: มัธยมศึกษาปีที่ 2 | C19: =B18 -> 0 | D19: =C19 -> 0 | E19: =D18 -> 0
A20: มัธยมศึกษาปีที่ 3 | C20: =B19 -> 0 | D20: =C20 -> 0 | E20: =D19 -> 0
A21: รวมระดับมัธยมศึกษาตอนต้น | B21: =SUM(B18:B20) -> 0 | C21: =SUM(C18:C20) -> 0 | D21: =SUM(D18:D20) -> 0 | E21: =SUM(E18:E20) -> 0 | F21: =30%*E21 -> 0
A22: มัธยมศึกษาปีที่ 4 | D22: =C22 -> 0 | F22: =IF(AND(B22>0,B23>0,B24>0),IF(OR(C22=0,E22=0)," <-----!!! กรอกข้อมูลยังไม่ครบถ้วนใน เซลล์ C22 และ E22",""),"")
A23: มัธยมศึกษาปีที่ 5 | C23: =B22 -> 0 | D23: =C23 -> 0 | E23: =D22 -> 0
A24: มัธยมศึกษาปีที่ 6 | C24: =B23 -> 0 | D24: =C24 -> 0 | E24: =D23 -> 0
A25: รวมระดับมัธยมศึกษาตอนปลาย | B25: =SUM(B22:B24) -> 0 | C25: =SUM(C22:C24) -> 0 | D25: =SUM(D22:D24) -> 0 | E25: =SUM(E22:E24) -> 0
A26: สาขาช่าง | B26: =B27+B28+B29 -> 0 | C26: =C27+C28+C29 -> 0 | D26: =D27+D28+D29 -> 0 | E26: =E27+E28+E29 -> 0
A27: ปวช.1 | D27: =C27 -> 0 | F27: =IF(AND(B27>0,B28>0,B29>0),IF(OR(C27=0,E27=0)," <-----!!! กรอกข้อมูลยังไม่ครบถ้วนใน เซลล์ C27 และ E27",""),"")
A28: ปวช.2 | C28: =B27 -> 0 | D28: =C28 -> 0 | E28: =D27 -> 0
A29: ปวช.3 | C29: =B28 -> 0 | D29: =C29 -> 0 | E29: =D28 -> 0
A30: สาขาพาณิชยกรรม | B30: =B31+B32+B33 -> 0 | C30: =C31+C32+C33 -> 0 | D30: =D31+D32+D33 -> 0 | E30: =E31+E32+E33 -> 0
A31: ปวช.1 | D31: =C31 -> 0 | F31: =IF(AND(B31>0,B32>0,B33>0),IF(OR(C31=0,E31=0)," <-----!!! กรอกข้อมูลยังไม่ครบถ้วนใน เซลล์ C31 และ E31",""),"")
A32: ปวช.2 | C32: =B31 -> 0 | D32: =C32 -> 0 | E32: =D31 -> 0
A33: ปวช.3 | C33: =B32 -> 0 | D33: =C33 -> 0 | E33: =D32 -> 0
A34: สาขาคหกรรม | B34: =B35+B36+B37 -> 0 | C34: =C35+C36+C37 -> 0 | D34: =D35+D36+D37 -> 0 | E34: =E35+E36+E37 -> 0
A35: ปวช.1 | D35: =C35 -> 0 | F35: =IF(AND(B35>0,B36>0,B37>0),IF(OR(C35=0,E35=0)," <-----!!! กรอกข้อมูลยังไม่ครบถ้วนใน เซลล์ C35 และ E35",""),"")
A36: ปวช.2 | C36: =B35 -> 0 | D36: =C36 -> 0 | E36: =D35 -> 0
A37: ปวช.3 | C37: =B36 -> 0 | D37: =C37 -> 0 | E37: =D36 -> 0
A38: รวมระดับอาชีวศึกษา | B38: =B26+B30+B34 -> 0 | C38: =C26+C30+C34 -> 0 | D38: =D26+D30+D34 -> 0 | E38: =E26+E30+E34 -> 0
A39: รวมทุกระดับชั้น | B39: =SUM(B38,B25,B21,B17,B10) -> 0 | C39: =SUM(C38,C25,C21,C17,C10) -> 0 | D39: =SUM(D38,D25,D21,D17,D10) -> 0 | E39: =SUM(E38,E25,E21,E17,E10) -> 0
A41: โรงเรียนขนาดเล็ก ส่วนเพิ่ม (Top up)
A42: 1. ประถมศึกษา | D42: =IF(D17<=120,D17,0) -> 0 | E42: =IF(E17<=120,E17,0) -> 0
A43: 2. มัธยมศึกษาตอนต้น | D43: =IF(D21<=300,D21,0) -> 0 | E43: =IF(E21<=300,E21,0) -> 0
A44: หมายเหตุ :
A45: 1. ข้อมูลนักเรียนที่ใช้เป็นฐานในการคำนวณจะใช้นักเรียน ณ พฤศจิกายน 2568 2. ระดับอนุบาล เด็กของแต่ละโรงเรียนจะแตกต่างกันตามระดับชั้นที่เปิด ขอให้กรอกข้อมูลให้ถูกต้อง 1.อายุ 3 ปี คือ อนุบาล 1 2.อายุ 4 ปี คือ อนุบาล 2 และ 3. อายุ 5 ปี คือ อนุบาล 3

Sheet 1.1.1 รร. อปท. 23
A1: แบบฟอร์มประมาณการนักเรียนและแผนการรับนักเรียน (ชั้นเคลื่อน) | E1: แบบฟอร์ม 1.1.1 แบบชั้นเคลื่อน (โรงเรียน อปท. ปกติ)
A2: ประจำปีงบประมาณ พ.ศ. 2570
A3: ระดับชั้น | B3: งบประมาณปี 2569 | D3: งบประมาณปี 2570
B4: จำนวนนักเรียนรับจริง (ณ พฤศจิกายน 2568) | C4: ประมาณการนักเรียน | D4: ประมาณการนักเรียน | E4: ประมาณการนักเรียน
B5: ภาคเรียน 2/2568 | C5: ภาคเรียน 1/2569 | D5: ภาคเรียน 2/2569 | E5: ภาคเรียน 1/2570
B6: หน่วยนับ (คน) | C6: หน่วยนับ (คน) | D6: หน่วยนับ (คน) | E6: หน่วยนับ (คน)
A7: อนุบาล 1 | D7: =C7 -> 0 | F7: =IF(AND(B7>0,B8>0,B9>0),IF(OR(C7=0,E7=0)," <-----!!! กรอกข้อมูลยังไม่ครบถ้วนใน เซลล์ C7 และ E7",""),"")
A8: อนุบาล 2 | C8: =IF(B7>0,B7,B8) -> 0 | D8: =C8 -> 0 | E8: =IF(B7>0,D7,B8) -> 0
A9: อนุบาล 3 | C9: =IF(B9>0,B8,0) -> 0 | D9: =IF(B9>0,C9,0) -> 0 | E9: =IF(B9>0,D8,0) -> 0
A10: รวมระดับก่อนประถมศึกษา | B10: =SUM(B7:B9) -> 0 | C10: =SUM(C7:C9) -> 0 | D10: =SUM(D7:D9) -> 0 | E10: =SUM(E7:E9) -> 0
A11: ประถมศึกษาปีที่ 1 | D11: =C11 -> 0 | F11: =IF(AND(B11>0,B12>0,B13>0,B16>0),IF(OR(C11=0,E11=0)," <---- !!! กรอกข้อมูลยังไม่ครบถ้วนใน เซลล์ C11 และ E11",""),"")
A12: ประถมศึกษาปีที่ 2 | C12: =B11 -> 0 | D12: =C12 -> 0 | E12: =D11 -> 0
A13: ประถมศึกษาปีที่ 3 | C13: =B12 -> 0 | D13: =C13 -> 0 | E13: =D12 -> 0
A14: ประถมศึกษาปีที่ 4 | C14: =B13 -> 0 | D14: =C14 -> 0 | E14: =D13 -> 0
A15: ประถมศึกษาปีที่ 5 | C15: =B14 -> 0 | D15: =C15 -> 0 | E15: =D14 -> 0
A16: ประถมศึกษาปีที่ 6 | C16: =B15 -> 0 | D16: =C16 -> 0 | E16: =D15 -> 0
A17: รวมระดับประถมศึกษา | B17: =SUM(B11:B16) -> 0 | C17: =SUM(C11:C16) -> 0 | D17: =SUM(D11:D16) -> 0 | E17: =SUM(E11:E16) -> 0 | F17: =40%*E17 -> 0
A18: มัธยมศึกษาปีที่ 1 | D18: =C18 -> 0 | F18: =IF(AND(B18>0,B19>0,B20>0),IF(OR(C18=0,E18=0)," <-----!!! กรอกข้อมูลยังไม่ครบถ้วนใน เซลล์ C18 และ E18",""),"")
A19: มัธยมศึกษาปีที่ 2 | C19: =B18 -> 0 | D19: =C19 -> 0 | E19: =D18 -> 0
A20: มัธยมศึกษาปีที่ 3 | C20: =B19 -> 0 | D20: =C20 -> 0 | E20: =D19 -> 0
A21: รวมระดับมัธยมศึกษาตอนต้น | B21: =SUM(B18:B20) -> 0 | C21: =SUM(C18:C20) -> 0 | D21: =SUM(D18:D20) -> 0 | E21: =SUM(E18:E20) -> 0 | F21: =30%*E21 -> 0
A22: มัธยมศึกษาปีที่ 4 | D22: =C22 -> 0 | F22: =IF(AND(B22>0,B23>0,B24>0),IF(OR(C22=0,E22=0)," <-----!!! กรอกข้อมูลยังไม่ครบถ้วนใน เซลล์ C22 และ E22",""),"")
A23: มัธยมศึกษาปีที่ 5 | C23: =B22 -> 0 | D23: =C23 -> 0 | E23: =D22 -> 0
A24: มัธยมศึกษาปีที่ 6 | C24: =B23 -> 0 | D24: =C24 -> 0 | E24: =D23 -> 0
A25: รวมระดับมัธยมศึกษาตอนปลาย | B25: =SUM(B22:B24) -> 0 | C25: =SUM(C22:C24) -> 0 | D25: =SUM(D22:D24) -> 0 | E25: =SUM(E22:E24) -> 0
A26: สาขาช่าง | B26: =B27+B28+B29 -> 0 | C26: =C27+C28+C29 -> 0 | D26: =D27+D28+D29 -> 0 | E26: =E27+E28+E29 -> 0
A27: ปวช.1 | D27: =C27 -> 0 | F27: =IF(AND(B27>0,B28>0,B29>0),IF(OR(C27=0,E27=0)," <-----!!! กรอกข้อมูลยังไม่ครบถ้วนใน เซลล์ C27 และ E27",""),"")
A28: ปวช.2 | C28: =B27 -> 0 | D28: =C28 -> 0 | E28: =D27 -> 0
A29: ปวช.3 | C29: =B28 -> 0 | D29: =C29 -> 0 | E29: =D28 -> 0
A30: สาขาพาณิชยกรรม | B30: =B31+B32+B33 -> 0 | C30: =C31+C32+C33 -> 0 | D30: =D31+D32+D33 -> 0 | E30: =E31+E32+E33 -> 0
A31: ปวช.1 | D31: =C31 -> 0 | F31: =IF(AND(B31>0,B32>0,B33>0),IF(OR(C31=0,E31=0)," <-----!!! กรอกข้อมูลยังไม่ครบถ้วนใน เซลล์ C31 และ E31",""),"")
A32: ปวช.2 | C32: =B31 -> 0 | D32: =C32 -> 0 | E32: =D31 -> 0
A33: ปวช.3 | C33: =B32 -> 0 | D33: =C33 -> 0 | E33: =D32 -> 0
A34: สาขาคหกรรม | B34: =B35+B36+B37 -> 0 | C34: =C35+C36+C37 -> 0 | D34: =D35+D36+D37 -> 0 | E34: =E35+E36+E37 -> 0
A35: ปวช.1 | D35: =C35 -> 0 | F35: =IF(AND(B35>0,B36>0,B37>0),IF(OR(C35=0,E35=0)," <-----!!! กรอกข้อมูลยังไม่ครบถ้วนใน เซลล์ C35 และ E35",""),"")
A36: ปวช.2 | C36: =B35 -> 0 | D36: =C36 -> 0 | E36: =D35 -> 0
A37: ปวช.3 | C37: =B36 -> 0 | D37: =C37 -> 0 | E37: =D36 -> 0
A38: รวมระดับอาชีวศึกษา | B38: =B26+B30+B34 -> 0 | C38: =C26+C30+C34 -> 0 | D38: =D26+D30+D34 -> 0 | E38: =E26+E30+E34 -> 0
A39: รวมทุกระดับชั้น | B39: =SUM(B38,B25,B21,B17,B10) -> 0 | C39: =SUM(C38,C25,C21,C17,C10) -> 0 | D39: =SUM(D38,D25,D21,D17,D10) -> 0 | E39: =SUM(E38,E25,E21,E17,E10) -> 0
A41: โรงเรียนขนาดเล็ก ส่วนเพิ่ม (Top up)
A42: 1. ประถมศึกษา | D42: =IF(D17<=120,D17,0) -> 0 | E42: =IF(E17<=120,E17,0) -> 0
A43: 2. มัธยมศึกษาตอนต้น | D43: =IF(D21<=300,D21,0) -> 0 | E43: =IF(E21<=300,E21,0) -> 0
A44: หมายเหตุ :
A45: 1. ข้อมูลนักเรียนที่ใช้เป็นฐานในการคำนวณจะใช้นักเรียน ณ พฤศจิกายน 2568 2. ระดับอนุบาล เด็กของแต่ละโรงเรียนจะแตกต่างกันตามระดับชั้นที่เปิด ขอให้กรอกข้อมูลให้ถูกต้อง 1.อายุ 3 ปี คือ อนุบาล 1 2.อายุ 4 ปี คือ อนุบาล 2 และ 3. อายุ 5 ปี คือ อนุบาล 3

Sheet 1.1.1 รร. อปท. 24
A1: แบบฟอร์มประมาณการนักเรียนและแผนการรับนักเรียน (ชั้นเคลื่อน) | E1: แบบฟอร์ม 1.1.1 แบบชั้นเคลื่อน (โรงเรียน อปท. ปกติ)
A2: ประจำปีงบประมาณ พ.ศ. 2570
A3: ระดับชั้น | B3: งบประมาณปี 2569 | D3: งบประมาณปี 2570
B4: จำนวนนักเรียนรับจริง (ณ พฤศจิกายน 2568) | C4: ประมาณการนักเรียน | D4: ประมาณการนักเรียน | E4: ประมาณการนักเรียน
B5: ภาคเรียน 2/2568 | C5: ภาคเรียน 1/2569 | D5: ภาคเรียน 2/2569 | E5: ภาคเรียน 1/2570
B6: หน่วยนับ (คน) | C6: หน่วยนับ (คน) | D6: หน่วยนับ (คน) | E6: หน่วยนับ (คน)
A7: อนุบาล 1 | D7: =C7 -> 0 | F7: =IF(AND(B7>0,B8>0,B9>0),IF(OR(C7=0,E7=0)," <-----!!! กรอกข้อมูลยังไม่ครบถ้วนใน เซลล์ C7 และ E7",""),"")
A8: อนุบาล 2 | C8: =IF(B7>0,B7,B8) -> 0 | D8: =C8 -> 0 | E8: =IF(B7>0,D7,B8) -> 0
A9: อนุบาล 3 | C9: =IF(B9>0,B8,0) -> 0 | D9: =IF(B9>0,C9,0) -> 0 | E9: =IF(B9>0,D8,0) -> 0
A10: รวมระดับก่อนประถมศึกษา | B10: =SUM(B7:B9) -> 0 | C10: =SUM(C7:C9) -> 0 | D10: =SUM(D7:D9) -> 0 | E10: =SUM(E7:E9) -> 0
A11: ประถมศึกษาปีที่ 1 | D11: =C11 -> 0 | F11: =IF(AND(B11>0,B12>0,B13>0,B16>0),IF(OR(C11=0,E11=0)," <---- !!! กรอกข้อมูลยังไม่ครบถ้วนใน เซลล์ C11 และ E11",""),"")
A12: ประถมศึกษาปีที่ 2 | C12: =B11 -> 0 | D12: =C12 -> 0 | E12: =D11 -> 0
A13: ประถมศึกษาปีที่ 3 | C13: =B12 -> 0 | D13: =C13 -> 0 | E13: =D12 -> 0
A14: ประถมศึกษาปีที่ 4 | C14: =B13 -> 0 | D14: =C14 -> 0 | E14: =D13 -> 0
A15: ประถมศึกษาปีที่ 5 | C15: =B14 -> 0 | D15: =C15 -> 0 | E15: =D14 -> 0
A16: ประถมศึกษาปีที่ 6 | C16: =B15 -> 0 | D16: =C16 -> 0 | E16: =D15 -> 0
A17: รวมระดับประถมศึกษา | B17: =SUM(B11:B16) -> 0 | C17: =SUM(C11:C16) -> 0 | D17: =SUM(D11:D16) -> 0 | E17: =SUM(E11:E16) -> 0 | F17: =40%*E17 -> 0
A18: มัธยมศึกษาปีที่ 1 | D18: =C18 -> 0 | F18: =IF(AND(B18>0,B19>0,B20>0),IF(OR(C18=0,E18=0)," <-----!!! กรอกข้อมูลยังไม่ครบถ้วนใน เซลล์ C18 และ E18",""),"")
A19: มัธยมศึกษาปีที่ 2 | C19: =B18 -> 0 | D19: =C19 -> 0 | E19: =D18 -> 0
A20: มัธยมศึกษาปีที่ 3 | C20: =B19 -> 0 | D20: =C20 -> 0 | E20: =D19 -> 0
A21: รวมระดับมัธยมศึกษาตอนต้น | B21: =SUM(B18:B20) -> 0 | C21: =SUM(C18:C20) -> 0 | D21: =SUM(D18:D20) -> 0 | E21: =SUM(E18:E20) -> 0 | F21: =30%*E21 -> 0
A22: มัธยมศึกษาปีที่ 4 | D22: =C22 -> 0 | F22: =IF(AND(B22>0,B23>0,B24>0),IF(OR(C22=0,E22=0)," <-----!!! กรอกข้อมูลยังไม่ครบถ้วนใน เซลล์ C22 และ E22",""),"")
A23: มัธยมศึกษาปีที่ 5 | C23: =B22 -> 0 | D23: =C23 -> 0 | E23: =D22 -> 0
A24: มัธยมศึกษาปีที่ 6 | C24: =B23 -> 0 | D24: =C24 -> 0 | E24: =D23 -> 0
A25: รวมระดับมัธยมศึกษาตอนปลาย | B25: =SUM(B22:B24) -> 0 | C25: =SUM(C22:C24) -> 0 | D25: =SUM(D22:D24) -> 0 | E25: =SUM(E22:E24) -> 0
A26: สาขาช่าง | B26: =B27+B28+B29 -> 0 | C26: =C27+C28+C29 -> 0 | D26: =D27+D28+D29 -> 0 | E26: =E27+E28+E29 -> 0
A27: ปวช.1 | D27: =C27 -> 0 | F27: =IF(AND(B27>0,B28>0,B29>0),IF(OR(C27=0,E27=0)," <-----!!! กรอกข้อมูลยังไม่ครบถ้วนใน เซลล์ C27 และ E27",""),"")
A28: ปวช.2 | C28: =B27 -> 0 | D28: =C28 -> 0 | E28: =D27 -> 0
A29: ปวช.3 | C29: =B28 -> 0 | D29: =C29 -> 0 | E29: =D28 -> 0
A30: สาขาพาณิชยกรรม | B30: =B31+B32+B33 -> 0 | C30: =C31+C32+C33 -> 0 | D30: =D31+D32+D33 -> 0 | E30: =E31+E32+E33 -> 0
A31: ปวช.1 | D31: =C31 -> 0 | F31: =IF(AND(B31>0,B32>0,B33>0),IF(OR(C31=0,E31=0)," <-----!!! กรอกข้อมูลยังไม่ครบถ้วนใน เซลล์ C31 และ E31",""),"")
A32: ปวช.2 | C32: =B31 -> 0 | D32: =C32 -> 0 | E32: =D31 -> 0
A33: ปวช.3 | C33: =B32 -> 0 | D33: =C33 -> 0 | E33: =D32 -> 0
A34: สาขาคหกรรม | B34: =B35+B36+B37 -> 0 | C34: =C35+C36+C37 -> 0 | D34: =D35+D36+D37 -> 0 | E34: =E35+E36+E37 -> 0
A35: ปวช.1 | D35: =C35 -> 0 | F35: =IF(AND(B35>0,B36>0,B37>0),IF(OR(C35=0,E35=0)," <-----!!! กรอกข้อมูลยังไม่ครบถ้วนใน เซลล์ C35 และ E35",""),"")
A36: ปวช.2 | C36: =B35 -> 0 | D36: =C36 -> 0 | E36: =D35 -> 0
A37: ปวช.3 | C37: =B36 -> 0 | D37: =C37 -> 0 | E37: =D36 -> 0
A38: รวมระดับอาชีวศึกษา | B38: =B26+B30+B34 -> 0 | C38: =C26+C30+C34 -> 0 | D38: =D26+D30+D34 -> 0 | E38: =E26+E30+E34 -> 0
A39: รวมทุกระดับชั้น | B39: =SUM(B38,B25,B21,B17,B10) -> 0 | C39: =SUM(C38,C25,C21,C17,C10) -> 0 | D39: =SUM(D38,D25,D21,D17,D10) -> 0 | E39: =SUM(E38,E25,E21,E17,E10) -> 0
A41: โรงเรียนขนาดเล็ก ส่วนเพิ่ม (Top up)
A42: 1. ประถมศึกษา | D42: =IF(D17<=120,D17,0) -> 0 | E42: =IF(E17<=120,E17,0) -> 0
A43: 2. มัธยมศึกษาตอนต้น | D43: =IF(D21<=300,D21,0) -> 0 | E43: =IF(E21<=300,E21,0) -> 0
A44: หมายเหตุ :
A45: 1. ข้อมูลนักเรียนที่ใช้เป็นฐานในการคำนวณจะใช้นักเรียน ณ พฤศจิกายน 2568 2. ระดับอนุบาล เด็กของแต่ละโรงเรียนจะแตกต่างกันตามระดับชั้นที่เปิด ขอให้กรอกข้อมูลให้ถูกต้อง 1.อายุ 3 ปี คือ อนุบาล 1 2.อายุ 4 ปี คือ อนุบาล 2 และ 3. อายุ 5 ปี คือ อนุบาล 3

Sheet 1.1.1 รร. อปท. 25
A1: แบบฟอร์มประมาณการนักเรียนและแผนการรับนักเรียน (ชั้นเคลื่อน) | E1: แบบฟอร์ม 1.1.1 แบบชั้นเคลื่อน (โรงเรียน อปท. ปกติ)
A2: ประจำปีงบประมาณ พ.ศ. 2570
A3: ระดับชั้น | B3: งบประมาณปี 2569 | D3: งบประมาณปี 2570
B4: จำนวนนักเรียนรับจริง (ณ พฤศจิกายน 2568) | C4: ประมาณการนักเรียน | D4: ประมาณการนักเรียน | E4: ประมาณการนักเรียน
B5: ภาคเรียน 2/2568 | C5: ภาคเรียน 1/2569 | D5: ภาคเรียน 2/2569 | E5: ภาคเรียน 1/2570
B6: หน่วยนับ (คน) | C6: หน่วยนับ (คน) | D6: หน่วยนับ (คน) | E6: หน่วยนับ (คน)
A7: อนุบาล 1 | D7: =C7 -> 0 | F7: =IF(AND(B7>0,B8>0,B9>0),IF(OR(C7=0,E7=0)," <-----!!! กรอกข้อมูลยังไม่ครบถ้วนใน เซลล์ C7 และ E7",""),"")
A8: อนุบาล 2 | C8: =IF(B7>0,B7,B8) -> 0 | D8: =C8 -> 0 | E8: =IF(B7>0,D7,B8) -> 0
A9: อนุบาล 3 | C9: =IF(B9>0,B8,0) -> 0 | D9: =IF(B9>0,C9,0) -> 0 | E9: =IF(B9>0,D8,0) -> 0
A10: รวมระดับก่อนประถมศึกษา | B10: =SUM(B7:B9) -> 0 | C10: =SUM(C7:C9) -> 0 | D10: =SUM(D7:D9) -> 0 | E10: =SUM(E7:E9) -> 0
A11: ประถมศึกษาปีที่ 1 | D11: =C11 -> 0 | F11: =IF(AND(B11>0,B12>0,B13>0,B16>0),IF(OR(C11=0,E11=0)," <---- !!! กรอกข้อมูลยังไม่ครบถ้วนใน เซลล์ C11 และ E11",""),"")
A12: ประถมศึกษาปีที่ 2 | C12: =B11 -> 0 | D12: =C12 -> 0 | E12: =D11 -> 0
A13: ประถมศึกษาปีที่ 3 | C13: =B12 -> 0 | D13: =C13 -> 0 | E13: =D12 -> 0
A14: ประถมศึกษาปีที่ 4 | C14: =B13 -> 0 | D14: =C14 -> 0 | E14: =D13 -> 0
A15: ประถมศึกษาปีที่ 5 | C15: =B14 -> 0 | D15: =C15 -> 0 | E15: =D14 -> 0
A16: ประถมศึกษาปีที่ 6 | C16: =B15 -> 0 | D16: =C16 -> 0 | E16: =D15 -> 0
A17: รวมระดับประถมศึกษา | B17: =SUM(B11:B16) -> 0 | C17: =SUM(C11:C16) -> 0 | D17: =SUM(D11:D16) -> 0 | E17: =SUM(E11:E16) -> 0 | F17: =40%*E17 -> 0
A18: มัธยมศึกษาปีที่ 1 | D18: =C18 -> 0 | F18: =IF(AND(B18>0,B19>0,B20>0),IF(OR(C18=0,E18=0)," <-----!!! กรอกข้อมูลยังไม่ครบถ้วนใน เซลล์ C18 และ E18",""),"")
A19: มัธยมศึกษาปีที่ 2 | C19: =B18 -> 0 | D19: =C19 -> 0 | E19: =D18 -> 0
A20: มัธยมศึกษาปีที่ 3 | C20: =B19 -> 0 | D20: =C20 -> 0 | E20: =D19 -> 0
A21: รวมระดับมัธยมศึกษาตอนต้น | B21: =SUM(B18:B20) -> 0 | C21: =SUM(C18:C20) -> 0 | D21: =SUM(D18:D20) -> 0 | E21: =SUM(E18:E20) -> 0 | F21: =30%*E21 -> 0
A22: มัธยมศึกษาปีที่ 4 | D22: =C22 -> 0 | F22: =IF(AND(B22>0,B23>0,B24>0),IF(OR(C22=0,E22=0)," <-----!!! กรอกข้อมูลยังไม่ครบถ้วนใน เซลล์ C22 และ E22",""),"")
A23: มัธยมศึกษาปีที่ 5 | C23: =B22 -> 0 | D23: =C23 -> 0 | E23: =D22 -> 0
A24: มัธยมศึกษาปีที่ 6 | C24: =B23 -> 0 | D24: =C24 -> 0 | E24: =D23 -> 0
A25: รวมระดับมัธยมศึกษาตอนปลาย | B25: =SUM(B22:B24) -> 0 | C25: =SUM(C22:C24) -> 0 | D25: =SUM(D22:D24) -> 0 | E25: =SUM(E22:E24) -> 0
A26: สาขาช่าง | B26: =B27+B28+B29 -> 0 | C26: =C27+C28+C29 -> 0 | D26: =D27+D28+D29 -> 0 | E26: =E27+E28+E29 -> 0
A27: ปวช.1 | D27: =C27 -> 0 | F27: =IF(AND(B27>0,B28>0,B29>0),IF(OR(C27=0,E27=0)," <-----!!! กรอกข้อมูลยังไม่ครบถ้วนใน เซลล์ C27 และ E27",""),"")
A28: ปวช.2 | C28: =B27 -> 0 | D28: =C28 -> 0 | E28: =D27 -> 0
A29: ปวช.3 | C29: =B28 -> 0 | D29: =C29 -> 0 | E29: =D28 -> 0
A30: สาขาพาณิชยกรรม | B30: =B31+B32+B33 -> 0 | C30: =C31+C32+C33 -> 0 | D30: =D31+D32+D33 -> 0 | E30: =E31+E32+E33 -> 0
A31: ปวช.1 | D31: =C31 -> 0 | F31: =IF(AND(B31>0,B32>0,B33>0),IF(OR(C31=0,E31=0)," <-----!!! กรอกข้อมูลยังไม่ครบถ้วนใน เซลล์ C31 และ E31",""),"")
A32: ปวช.2 | C32: =B31 -> 0 | D32: =C32 -> 0 | E32: =D31 -> 0
A33: ปวช.3 | C33: =B32 -> 0 | D33: =C33 -> 0 | E33: =D32 -> 0
A34: สาขาคหกรรม | B34: =B35+B36+B37 -> 0 | C34: =C35+C36+C37 -> 0 | D34: =D35+D36+D37 -> 0 | E34: =E35+E36+E37 -> 0
A35: ปวช.1 | D35: =C35 -> 0 | F35: =IF(AND(B35>0,B36>0,B37>0),IF(OR(C35=0,E35=0)," <-----!!! กรอกข้อมูลยังไม่ครบถ้วนใน เซลล์ C35 และ E35",""),"")
A36: ปวช.2 | C36: =B35 -> 0 | D36: =C36 -> 0 | E36: =D35 -> 0
A37: ปวช.3 | C37: =B36 -> 0 | D37: =C37 -> 0 | E37: =D36 -> 0
A38: รวมระดับอาชีวศึกษา | B38: =B26+B30+B34 -> 0 | C38: =C26+C30+C34 -> 0 | D38: =D26+D30+D34 -> 0 | E38: =E26+E30+E34 -> 0
A39: รวมทุกระดับชั้น | B39: =SUM(B38,B25,B21,B17,B10) -> 0 | C39: =SUM(C38,C25,C21,C17,C10) -> 0 | D39: =SUM(D38,D25,D21,D17,D10) -> 0 | E39: =SUM(E38,E25,E21,E17,E10) -> 0
A41: โรงเรียนขนาดเล็ก ส่วนเพิ่ม (Top up)
A42: 1. ประถมศึกษา | D42: =IF(D17<=120,D17,0) -> 0 | E42: =IF(E17<=120,E17,0) -> 0
A43: 2. มัธยมศึกษาตอนต้น | D43: =IF(D21<=300,D21,0) -> 0 | E43: =IF(E21<=300,E21,0) -> 0
A44: หมายเหตุ :
A45: 1. ข้อมูลนักเรียนที่ใช้เป็นฐานในการคำนวณจะใช้นักเรียน ณ พฤศจิกายน 2568 2. ระดับอนุบาล เด็กของแต่ละโรงเรียนจะแตกต่างกันตามระดับชั้นที่เปิด ขอให้กรอกข้อมูลให้ถูกต้อง 1.อายุ 3 ปี คือ อนุบาล 1 2.อายุ 4 ปี คือ อนุบาล 2 และ 3. อายุ 5 ปี คือ อนุบาล 3

Sheet 1.1.1 รร. อปท. 26
A1: แบบฟอร์มประมาณการนักเรียนและแผนการรับนักเรียน (ชั้นเคลื่อน) | E1: แบบฟอร์ม 1.1.1 แบบชั้นเคลื่อน (โรงเรียน อปท. ปกติ)
A2: ประจำปีงบประมาณ พ.ศ. 2570
A3: ระดับชั้น | B3: งบประมาณปี 2569 | D3: งบประมาณปี 2570
B4: จำนวนนักเรียนรับจริง (ณ พฤศจิกายน 2568) | C4: ประมาณการนักเรียน | D4: ประมาณการนักเรียน | E4: ประมาณการนักเรียน
B5: ภาคเรียน 2/2568 | C5: ภาคเรียน 1/2569 | D5: ภาคเรียน 2/2569 | E5: ภาคเรียน 1/2570
B6: หน่วยนับ (คน) | C6: หน่วยนับ (คน) | D6: หน่วยนับ (คน) | E6: หน่วยนับ (คน)
A7: อนุบาล 1 | D7: =C7 -> 0 | F7: =IF(AND(B7>0,B8>0,B9>0),IF(OR(C7=0,E7=0)," <-----!!! กรอกข้อมูลยังไม่ครบถ้วนใน เซลล์ C7 และ E7",""),"")
A8: อนุบาล 2 | C8: =IF(B7>0,B7,B8) -> 0 | D8: =C8 -> 0 | E8: =IF(B7>0,D7,B8) -> 0
A9: อนุบาล 3 | C9: =IF(B9>0,B8,0) -> 0 | D9: =IF(B9>0,C9,0) -> 0 | E9: =IF(B9>0,D8,0) -> 0
A10: รวมระดับก่อนประถมศึกษา | B10: =SUM(B7:B9) -> 0 | C10: =SUM(C7:C9) -> 0 | D10: =SUM(D7:D9) -> 0 | E10: =SUM(E7:E9) -> 0
A11: ประถมศึกษาปีที่ 1 | D11: =C11 -> 0 | F11: =IF(AND(B11>0,B12>0,B13>0,B16>0),IF(OR(C11=0,E11=0)," <---- !!! กรอกข้อมูลยังไม่ครบถ้วนใน เซลล์ C11 และ E11",""),"")
A12: ประถมศึกษาปีที่ 2 | C12: =B11 -> 0 | D12: =C12 -> 0 | E12: =D11 -> 0
A13: ประถมศึกษาปีที่ 3 | C13: =B12 -> 0 | D13: =C13 -> 0 | E13: =D12 -> 0
A14: ประถมศึกษาปีที่ 4 | C14: =B13 -> 0 | D14: =C14 -> 0 | E14: =D13 -> 0
A15: ประถมศึกษาปีที่ 5 | C15: =B14 -> 0 | D15: =C15 -> 0 | E15: =D14 -> 0
A16: ประถมศึกษาปีที่ 6 | C16: =B15 -> 0 | D16: =C16 -> 0 | E16: =D15 -> 0
A17: รวมระดับประถมศึกษา | B17: =SUM(B11:B16) -> 0 | C17: =SUM(C11:C16) -> 0 | D17: =SUM(D11:D16) -> 0 | E17: =SUM(E11:E16) -> 0 | F17: =40%*E17 -> 0
A18: มัธยมศึกษาปีที่ 1 | D18: =C18 -> 0 | F18: =IF(AND(B18>0,B19>0,B20>0),IF(OR(C18=0,E18=0)," <-----!!! กรอกข้อมูลยังไม่ครบถ้วนใน เซลล์ C18 และ E18",""),"")
A19: มัธยมศึกษาปีที่ 2 | C19: =B18 -> 0 | D19: =C19 -> 0 | E19: =D18 -> 0
A20: มัธยมศึกษาปีที่ 3 | C20: =B19 -> 0 | D20: =C20 -> 0 | E20: =D19 -> 0
A21: รวมระดับมัธยมศึกษาตอนต้น | B21: =SUM(B18:B20) -> 0 | C21: =SUM(C18:C20) -> 0 | D21: =SUM(D18:D20) -> 0 | E21: =SUM(E18:E20) -> 0 | F21: =30%*E21 -> 0
A22: มัธยมศึกษาปีที่ 4 | D22: =C22 -> 0 | F22: =IF(AND(B22>0,B23>0,B24>0),IF(OR(C22=0,E22=0)," <-----!!! กรอกข้อมูลยังไม่ครบถ้วนใน เซลล์ C22 และ E22",""),"")
A23: มัธยมศึกษาปีที่ 5 | C23: =B22 -> 0 | D23: =C23 -> 0 | E23: =D22 -> 0
A24: มัธยมศึกษาปีที่ 6 | C24: =B23 -> 0 | D24: =C24 -> 0 | E24: =D23 -> 0
A25: รวมระดับมัธยมศึกษาตอนปลาย | B25: =SUM(B22:B24) -> 0 | C25: =SUM(C22:C24) -> 0 | D25: =SUM(D22:D24) -> 0 | E25: =SUM(E22:E24) -> 0
A26: สาขาช่าง | B26: =B27+B28+B29 -> 0 | C26: =C27+C28+C29 -> 0 | D26: =D27+D28+D29 -> 0 | E26: =E27+E28+E29 -> 0
A27: ปวช.1 | D27: =C27 -> 0 | F27: =IF(AND(B27>0,B28>0,B29>0),IF(OR(C27=0,E27=0)," <-----!!! กรอกข้อมูลยังไม่ครบถ้วนใน เซลล์ C27 และ E27",""),"")
A28: ปวช.2 | C28: =B27 -> 0 | D28: =C28 -> 0 | E28: =D27 -> 0
A29: ปวช.3 | C29: =B28 -> 0 | D29: =C29 -> 0 | E29: =D28 -> 0
A30: สาขาพาณิชยกรรม | B30: =B31+B32+B33 -> 0 | C30: =C31+C32+C33 -> 0 | D30: =D31+D32+D33 -> 0 | E30: =E31+E32+E33 -> 0
A31: ปวช.1 | D31: =C31 -> 0 | F31: =IF(AND(B31>0,B32>0,B33>0),IF(OR(C31=0,E31=0)," <-----!!! กรอกข้อมูลยังไม่ครบถ้วนใน เซลล์ C31 และ E31",""),"")
A32: ปวช.2 | C32: =B31 -> 0 | D32: =C32 -> 0 | E32: =D31 -> 0
A33: ปวช.3 | C33: =B32 -> 0 | D33: =C33 -> 0 | E33: =D32 -> 0
A34: สาขาคหกรรม | B34: =B35+B36+B37 -> 0 | C34: =C35+C36+C37 -> 0 | D34: =D35+D36+D37 -> 0 | E34: =E35+E36+E37 -> 0
A35: ปวช.1 | D35: =C35 -> 0 | F35: =IF(AND(B35>0,B36>0,B37>0),IF(OR(C35=0,E35=0)," <-----!!! กรอกข้อมูลยังไม่ครบถ้วนใน เซลล์ C35 และ E35",""),"")
A36: ปวช.2 | C36: =B35 -> 0 | D36: =C36 -> 0 | E36: =D35 -> 0
A37: ปวช.3 | C37: =B36 -> 0 | D37: =C37 -> 0 | E37: =D36 -> 0
A38: รวมระดับอาชีวศึกษา | B38: =B26+B30+B34 -> 0 | C38: =C26+C30+C34 -> 0 | D38: =D26+D30+D34 -> 0 | E38: =E26+E30+E34 -> 0
A39: รวมทุกระดับชั้น | B39: =SUM(B38,B25,B21,B17,B10) -> 0 | C39: =SUM(C38,C25,C21,C17,C10) -> 0 | D39: =SUM(D38,D25,D21,D17,D10) -> 0 | E39: =SUM(E38,E25,E21,E17,E10) -> 0
A41: โรงเรียนขนาดเล็ก ส่วนเพิ่ม (Top up)
A42: 1. ประถมศึกษา | D42: =IF(D17<=120,D17,0) -> 0 | E42: =IF(E17<=120,E17,0) -> 0
A43: 2. มัธยมศึกษาตอนต้น | D43: =IF(D21<=300,D21,0) -> 0 | E43: =IF(E21<=300,E21,0) -> 0
A44: หมายเหตุ :
A45: 1. ข้อมูลนักเรียนที่ใช้เป็นฐานในการคำนวณจะใช้นักเรียน ณ พฤศจิกายน 2568 2. ระดับอนุบาล เด็กของแต่ละโรงเรียนจะแตกต่างกันตามระดับชั้นที่เปิด ขอให้กรอกข้อมูลให้ถูกต้อง 1.อายุ 3 ปี คือ อนุบาล 1 2.อายุ 4 ปี คือ อนุบาล 2 และ 3. อายุ 5 ปี คือ อนุบาล 3

Sheet 1.1.1 รร. อปท. 27
A1: แบบฟอร์มประมาณการนักเรียนและแผนการรับนักเรียน (ชั้นเคลื่อน) | E1: แบบฟอร์ม 1.1.1 แบบชั้นเคลื่อน (โรงเรียน อปท. ปกติ)
A2: ประจำปีงบประมาณ พ.ศ. 2570
A3: ระดับชั้น | B3: งบประมาณปี 2569 | D3: งบประมาณปี 2570
B4: จำนวนนักเรียนรับจริง (ณ พฤศจิกายน 2568) | C4: ประมาณการนักเรียน | D4: ประมาณการนักเรียน | E4: ประมาณการนักเรียน
B5: ภาคเรียน 2/2568 | C5: ภาคเรียน 1/2569 | D5: ภาคเรียน 2/2569 | E5: ภาคเรียน 1/2570
B6: หน่วยนับ (คน) | C6: หน่วยนับ (คน) | D6: หน่วยนับ (คน) | E6: หน่วยนับ (คน)
A7: อนุบาล 1 | D7: =C7 -> 0 | F7: =IF(AND(B7>0,B8>0,B9>0),IF(OR(C7=0,E7=0)," <-----!!! กรอกข้อมูลยังไม่ครบถ้วนใน เซลล์ C7 และ E7",""),"")
A8: อนุบาล 2 | C8: =IF(B7>0,B7,B8) -> 0 | D8: =C8 -> 0 | E8: =IF(B7>0,D7,B8) -> 0
A9: อนุบาล 3 | C9: =IF(B9>0,B8,0) -> 0 | D9: =IF(B9>0,C9,0) -> 0 | E9: =IF(B9>0,D8,0) -> 0
A10: รวมระดับก่อนประถมศึกษา | B10: =SUM(B7:B9) -> 0 | C10: =SUM(C7:C9) -> 0 | D10: =SUM(D7:D9) -> 0 | E10: =SUM(E7:E9) -> 0
A11: ประถมศึกษาปีที่ 1 | D11: =C11 -> 0 | F11: =IF(AND(B11>0,B12>0,B13>0,B16>0),IF(OR(C11=0,E11=0)," <---- !!! กรอกข้อมูลยังไม่ครบถ้วนใน เซลล์ C11 และ E11",""),"")
A12: ประถมศึกษาปีที่ 2 | C12: =B11 -> 0 | D12: =C12 -> 0 | E12: =D11 -> 0
A13: ประถมศึกษาปีที่ 3 | C13: =B12 -> 0 | D13: =C13 -> 0 | E13: =D12 -> 0
A14: ประถมศึกษาปีที่ 4 | C14: =B13 -> 0 | D14: =C14 -> 0 | E14: =D13 -> 0
A15: ประถมศึกษาปีที่ 5 | C15: =B14 -> 0 | D15: =C15 -> 0 | E15: =D14 -> 0
A16: ประถมศึกษาปีที่ 6 | C16: =B15 -> 0 | D16: =C16 -> 0 | E16: =D15 -> 0
A17: รวมระดับประถมศึกษา | B17: =SUM(B11:B16) -> 0 | C17: =SUM(C11:C16) -> 0 | D17: =SUM(D11:D16) -> 0 | E17: =SUM(E11:E16) -> 0 | F17: =40%*E17 -> 0
A18: มัธยมศึกษาปีที่ 1 | D18: =C18 -> 0 | F18: =IF(AND(B18>0,B19>0,B20>0),IF(OR(C18=0,E18=0)," <-----!!! กรอกข้อมูลยังไม่ครบถ้วนใน เซลล์ C18 และ E18",""),"")
A19: มัธยมศึกษาปีที่ 2 | C19: =B18 -> 0 | D19: =C19 -> 0 | E19: =D18 -> 0
A20: มัธยมศึกษาปีที่ 3 | C20: =B19 -> 0 | D20: =C20 -> 0 | E20: =D19 -> 0
A21: รวมระดับมัธยมศึกษาตอนต้น | B21: =SUM(B18:B20) -> 0 | C21: =SUM(C18:C20) -> 0 | D21: =SUM(D18:D20) -> 0 | E21: =SUM(E18:E20) -> 0 | F21: =30%*E21 -> 0
A22: มัธยมศึกษาปีที่ 4 | D22: =C22 -> 0 | F22: =IF(AND(B22>0,B23>0,B24>0),IF(OR(C22=0,E22=0)," <-----!!! กรอกข้อมูลยังไม่ครบถ้วนใน เซลล์ C22 และ E22",""),"")
A23: มัธยมศึกษาปีที่ 5 | C23: =B22 -> 0 | D23: =C23 -> 0 | E23: =D22 -> 0
A24: มัธยมศึกษาปีที่ 6 | C24: =B23 -> 0 | D24: =C24 -> 0 | E24: =D23 -> 0
A25: รวมระดับมัธยมศึกษาตอนปลาย | B25: =SUM(B22:B24) -> 0 | C25: =SUM(C22:C24) -> 0 | D25: =SUM(D22:D24) -> 0 | E25: =SUM(E22:E24) -> 0
A26: สาขาช่าง | B26: =B27+B28+B29 -> 0 | C26: =C27+C28+C29 -> 0 | D26: =D27+D28+D29 -> 0 | E26: =E27+E28+E29 -> 0
A27: ปวช.1 | D27: =C27 -> 0 | F27: =IF(AND(B27>0,B28>0,B29>0),IF(OR(C27=0,E27=0)," <-----!!! กรอกข้อมูลยังไม่ครบถ้วนใน เซลล์ C27 และ E27",""),"")
A28: ปวช.2 | C28: =B27 -> 0 | D28: =C28 -> 0 | E28: =D27 -> 0
A29: ปวช.3 | C29: =B28 -> 0 | D29: =C29 -> 0 | E29: =D28 -> 0
A30: สาขาพาณิชยกรรม | B30: =B31+B32+B33 -> 0 | C30: =C31+C32+C33 -> 0 | D30: =D31+D32+D33 -> 0 | E30: =E31+E32+E33 -> 0
A31: ปวช.1 | D31: =C31 -> 0 | F31: =IF(AND(B31>0,B32>0,B33>0),IF(OR(C31=0,E31=0)," <-----!!! กรอกข้อมูลยังไม่ครบถ้วนใน เซลล์ C31 และ E31",""),"")
A32: ปวช.2 | C32: =B31 -> 0 | D32: =C32 -> 0 | E32: =D31 -> 0
A33: ปวช.3 | C33: =B32 -> 0 | D33: =C33 -> 0 | E33: =D32 -> 0
A34: สาขาคหกรรม | B34: =B35+B36+B37 -> 0 | C34: =C35+C36+C37 -> 0 | D34: =D35+D36+D37 -> 0 | E34: =E35+E36+E37 -> 0
A35: ปวช.1 | D35: =C35 -> 0 | F35: =IF(AND(B35>0,B36>0,B37>0),IF(OR(C35=0,E35=0)," <-----!!! กรอกข้อมูลยังไม่ครบถ้วนใน เซลล์ C35 และ E35",""),"")
A36: ปวช.2 | C36: =B35 -> 0 | D36: =C36 -> 0 | E36: =D35 -> 0
A37: ปวช.3 | C37: =B36 -> 0 | D37: =C37 -> 0 | E37: =D36 -> 0
A38: รวมระดับอาชีวศึกษา | B38: =B26+B30+B34 -> 0 | C38: =C26+C30+C34 -> 0 | D38: =D26+D30+D34 -> 0 | E38: =E26+E30+E34 -> 0
A39: รวมทุกระดับชั้น | B39: =SUM(B38,B25,B21,B17,B10) -> 0 | C39: =SUM(C38,C25,C21,C17,C10) -> 0 | D39: =SUM(D38,D25,D21,D17,D10) -> 0 | E39: =SUM(E38,E25,E21,E17,E10) -> 0
A41: โรงเรียนขนาดเล็ก ส่วนเพิ่ม (Top up)
A42: 1. ประถมศึกษา | D42: =IF(D17<=120,D17,0) -> 0 | E42: =IF(E17<=120,E17,0) -> 0
A43: 2. มัธยมศึกษาตอนต้น | D43: =IF(D21<=300,D21,0) -> 0 | E43: =IF(E21<=300,E21,0) -> 0
A44: หมายเหตุ :
A45: 1. ข้อมูลนักเรียนที่ใช้เป็นฐานในการคำนวณจะใช้นักเรียน ณ พฤศจิกายน 2568 2. ระดับอนุบาล เด็กของแต่ละโรงเรียนจะแตกต่างกันตามระดับชั้นที่เปิด ขอให้กรอกข้อมูลให้ถูกต้อง 1.อายุ 3 ปี คือ อนุบาล 1 2.อายุ 4 ปี คือ อนุบาล 2 และ 3. อายุ 5 ปี คือ อนุบาล 3

Sheet 1.1.1 รร. อปท. 28
A1: แบบฟอร์มประมาณการนักเรียนและแผนการรับนักเรียน (ชั้นเคลื่อน) | E1: แบบฟอร์ม 1.1.1 แบบชั้นเคลื่อน (โรงเรียน อปท. ปกติ)
A2: ประจำปีงบประมาณ พ.ศ. 2570
A3: ระดับชั้น | B3: งบประมาณปี 2569 | D3: งบประมาณปี 2570
B4: จำนวนนักเรียนรับจริง (ณ พฤศจิกายน 2568) | C4: ประมาณการนักเรียน | D4: ประมาณการนักเรียน | E4: ประมาณการนักเรียน
B5: ภาคเรียน 2/2568 | C5: ภาคเรียน 1/2569 | D5: ภาคเรียน 2/2569 | E5: ภาคเรียน 1/2570
B6: หน่วยนับ (คน) | C6: หน่วยนับ (คน) | D6: หน่วยนับ (คน) | E6: หน่วยนับ (คน)
A7: อนุบาล 1 | D7: =C7 -> 0 | F7: =IF(AND(B7>0,B8>0,B9>0),IF(OR(C7=0,E7=0)," <-----!!! กรอกข้อมูลยังไม่ครบถ้วนใน เซลล์ C7 และ E7",""),"")
A8: อนุบาล 2 | C8: =IF(B7>0,B7,B8) -> 0 | D8: =C8 -> 0 | E8: =IF(B7>0,D7,B8) -> 0
A9: อนุบาล 3 | C9: =IF(B9>0,B8,0) -> 0 | D9: =IF(B9>0,C9,0) -> 0 | E9: =IF(B9>0,D8,0) -> 0
A10: รวมระดับก่อนประถมศึกษา | B10: =SUM(B7:B9) -> 0 | C10: =SUM(C7:C9) -> 0 | D10: =SUM(D7:D9) -> 0 | E10: =SUM(E7:E9) -> 0
A11: ประถมศึกษาปีที่ 1 | D11: =C11 -> 0 | F11: =IF(AND(B11>0,B12>0,B13>0,B16>0),IF(OR(C11=0,E11=0)," <---- !!! กรอกข้อมูลยังไม่ครบถ้วนใน เซลล์ C11 และ E11",""),"")
A12: ประถมศึกษาปีที่ 2 | C12: =B11 -> 0 | D12: =C12 -> 0 | E12: =D11 -> 0
A13: ประถมศึกษาปีที่ 3 | C13: =B12 -> 0 | D13: =C13 -> 0 | E13: =D12 -> 0
A14: ประถมศึกษาปีที่ 4 | C14: =B13 -> 0 | D14: =C14 -> 0 | E14: =D13 -> 0
A15: ประถมศึกษาปีที่ 5 | C15: =B14 -> 0 | D15: =C15 -> 0 | E15: =D14 -> 0
A16: ประถมศึกษาปีที่ 6 | C16: =B15 -> 0 | D16: =C16 -> 0 | E16: =D15 -> 0
A17: รวมระดับประถมศึกษา | B17: =SUM(B11:B16) -> 0 | C17: =SUM(C11:C16) -> 0 | D17: =SUM(D11:D16) -> 0 | E17: =SUM(E11:E16) -> 0 | F17: =40%*E17 -> 0
A18: มัธยมศึกษาปีที่ 1 | D18: =C18 -> 0 | F18: =IF(AND(B18>0,B19>0,B20>0),IF(OR(C18=0,E18=0)," <-----!!! กรอกข้อมูลยังไม่ครบถ้วนใน เซลล์ C18 และ E18",""),"")
A19: มัธยมศึกษาปีที่ 2 | C19: =B18 -> 0 | D19: =C19 -> 0 | E19: =D18 -> 0
A20: มัธยมศึกษาปีที่ 3 | C20: =B19 -> 0 | D20: =C20 -> 0 | E20: =D19 -> 0
A21: รวมระดับมัธยมศึกษาตอนต้น | B21: =SUM(B18:B20) -> 0 | C21: =SUM(C18:C20) -> 0 | D21: =SUM(D18:D20) -> 0 | E21: =SUM(E18:E20) -> 0 | F21: =30%*E21 -> 0
A22: มัธยมศึกษาปีที่ 4 | D22: =C22 -> 0 | F22: =IF(AND(B22>0,B23>0,B24>0),IF(OR(C22=0,E22=0)," <-----!!! กรอกข้อมูลยังไม่ครบถ้วนใน เซลล์ C22 และ E22",""),"")
A23: มัธยมศึกษาปีที่ 5 | C23: =B22 -> 0 | D23: =C23 -> 0 | E23: =D22 -> 0
A24: มัธยมศึกษาปีที่ 6 | C24: =B23 -> 0 | D24: =C24 -> 0 | E24: =D23 -> 0
A25: รวมระดับมัธยมศึกษาตอนปลาย | B25: =SUM(B22:B24) -> 0 | C25: =SUM(C22:C24) -> 0 | D25: =SUM(D22:D24) -> 0 | E25: =SUM(E22:E24) -> 0
A26: สาขาช่าง | B26: =B27+B28+B29 -> 0 | C26: =C27+C28+C29 -> 0 | D26: =D27+D28+D29 -> 0 | E26: =E27+E28+E29 -> 0
A27: ปวช.1 | D27: =C27 -> 0 | F27: =IF(AND(B27>0,B28>0,B29>0),IF(OR(C27=0,E27=0)," <-----!!! กรอกข้อมูลยังไม่ครบถ้วนใน เซลล์ C27 และ E27",""),"")
A28: ปวช.2 | C28: =B27 -> 0 | D28: =C28 -> 0 | E28: =D27 -> 0
A29: ปวช.3 | C29: =B28 -> 0 | D29: =C29 -> 0 | E29: =D28 -> 0
A30: สาขาพาณิชยกรรม | B30: =B31+B32+B33 -> 0 | C30: =C31+C32+C33 -> 0 | D30: =D31+D32+D33 -> 0 | E30: =E31+E32+E33 -> 0
A31: ปวช.1 | D31: =C31 -> 0 | F31: =IF(AND(B31>0,B32>0,B33>0),IF(OR(C31=0,E31=0)," <-----!!! กรอกข้อมูลยังไม่ครบถ้วนใน เซลล์ C31 และ E31",""),"")
A32: ปวช.2 | C32: =B31 -> 0 | D32: =C32 -> 0 | E32: =D31 -> 0
A33: ปวช.3 | C33: =B32 -> 0 | D33: =C33 -> 0 | E33: =D32 -> 0
A34: สาขาคหกรรม | B34: =B35+B36+B37 -> 0 | C34: =C35+C36+C37 -> 0 | D34: =D35+D36+D37 -> 0 | E34: =E35+E36+E37 -> 0
A35: ปวช.1 | D35: =C35 -> 0 | F35: =IF(AND(B35>0,B36>0,B37>0),IF(OR(C35=0,E35=0)," <-----!!! กรอกข้อมูลยังไม่ครบถ้วนใน เซลล์ C35 และ E35",""),"")
A36: ปวช.2 | C36: =B35 -> 0 | D36: =C36 -> 0 | E36: =D35 -> 0
A37: ปวช.3 | C37: =B36 -> 0 | D37: =C37 -> 0 | E37: =D36 -> 0
A38: รวมระดับอาชีวศึกษา | B38: =B26+B30+B34 -> 0 | C38: =C26+C30+C34 -> 0 | D38: =D26+D30+D34 -> 0 | E38: =E26+E30+E34 -> 0
A39: รวมทุกระดับชั้น | B39: =SUM(B38,B25,B21,B17,B10) -> 0 | C39: =SUM(C38,C25,C21,C17,C10) -> 0 | D39: =SUM(D38,D25,D21,D17,D10) -> 0 | E39: =SUM(E38,E25,E21,E17,E10) -> 0
A41: โรงเรียนขนาดเล็ก ส่วนเพิ่ม (Top up)
A42: 1. ประถมศึกษา | D42: =IF(D17<=120,D17,0) -> 0 | E42: =IF(E17<=120,E17,0) -> 0
A43: 2. มัธยมศึกษาตอนต้น | D43: =IF(D21<=300,D21,0) -> 0 | E43: =IF(E21<=300,E21,0) -> 0
A44: หมายเหตุ :
A45: 1. ข้อมูลนักเรียนที่ใช้เป็นฐานในการคำนวณจะใช้นักเรียน ณ พฤศจิกายน 2568 2. ระดับอนุบาล เด็กของแต่ละโรงเรียนจะแตกต่างกันตามระดับชั้นที่เปิด ขอให้กรอกข้อมูลให้ถูกต้อง 1.อายุ 3 ปี คือ อนุบาล 1 2.อายุ 4 ปี คือ อนุบาล 2 และ 3. อายุ 5 ปี คือ อนุบาล 3

Sheet 1.1.1 รร. อปท. 29
A1: แบบฟอร์มประมาณการนักเรียนและแผนการรับนักเรียน (ชั้นเคลื่อน) | E1: แบบฟอร์ม 1.1.1 แบบชั้นเคลื่อน (โรงเรียน อปท. ปกติ)
A2: ประจำปีงบประมาณ พ.ศ. 2570
A3: ระดับชั้น | B3: งบประมาณปี 2569 | D3: งบประมาณปี 2570
B4: จำนวนนักเรียนรับจริง (ณ พฤศจิกายน 2568) | C4: ประมาณการนักเรียน | D4: ประมาณการนักเรียน | E4: ประมาณการนักเรียน
B5: ภาคเรียน 2/2568 | C5: ภาคเรียน 1/2569 | D5: ภาคเรียน 2/2569 | E5: ภาคเรียน 1/2570
B6: หน่วยนับ (คน) | C6: หน่วยนับ (คน) | D6: หน่วยนับ (คน) | E6: หน่วยนับ (คน)
A7: อนุบาล 1 | D7: =C7 -> 0 | F7: =IF(AND(B7>0,B8>0,B9>0),IF(OR(C7=0,E7=0)," <-----!!! กรอกข้อมูลยังไม่ครบถ้วนใน เซลล์ C7 และ E7",""),"")
A8: อนุบาล 2 | C8: =IF(B7>0,B7,B8) -> 0 | D8: =C8 -> 0 | E8: =IF(B7>0,D7,B8) -> 0
A9: อนุบาล 3 | C9: =IF(B9>0,B8,0) -> 0 | D9: =IF(B9>0,C9,0) -> 0 | E9: =IF(B9>0,D8,0) -> 0
A10: รวมระดับก่อนประถมศึกษา | B10: =SUM(B7:B9) -> 0 | C10: =SUM(C7:C9) -> 0 | D10: =SUM(D7:D9) -> 0 | E10: =SUM(E7:E9) -> 0
A11: ประถมศึกษาปีที่ 1 | D11: =C11 -> 0 | F11: =IF(AND(B11>0,B12>0,B13>0,B16>0),IF(OR(C11=0,E11=0)," <---- !!! กรอกข้อมูลยังไม่ครบถ้วนใน เซลล์ C11 และ E11",""),"")
A12: ประถมศึกษาปีที่ 2 | C12: =B11 -> 0 | D12: =C12 -> 0 | E12: =D11 -> 0
A13: ประถมศึกษาปีที่ 3 | C13: =B12 -> 0 | D13: =C13 -> 0 | E13: =D12 -> 0
A14: ประถมศึกษาปีที่ 4 | C14: =B13 -> 0 | D14: =C14 -> 0 | E14: =D13 -> 0
A15: ประถมศึกษาปีที่ 5 | C15: =B14 -> 0 | D15: =C15 -> 0 | E15: =D14 -> 0
A16: ประถมศึกษาปีที่ 6 | C16: =B15 -> 0 | D16: =C16 -> 0 | E16: =D15 -> 0
A17: รวมระดับประถมศึกษา | B17: =SUM(B11:B16) -> 0 | C17: =SUM(C11:C16) -> 0 | D17: =SUM(D11:D16) -> 0 | E17: =SUM(E11:E16) -> 0 | F17: =40%*E17 -> 0
A18: มัธยมศึกษาปีที่ 1 | D18: =C18 -> 0 | F18: =IF(AND(B18>0,B19>0,B20>0),IF(OR(C18=0,E18=0)," <-----!!! กรอกข้อมูลยังไม่ครบถ้วนใน เซลล์ C18 และ E18",""),"")
A19: มัธยมศึกษาปีที่ 2 | C19: =B18 -> 0 | D19: =C19 -> 0 | E19: =D18 -> 0
A20: มัธยมศึกษาปีที่ 3 | C20: =B19 -> 0 | D20: =C20 -> 0 | E20: =D19 -> 0
A21: รวมระดับมัธยมศึกษาตอนต้น | B21: =SUM(B18:B20) -> 0 | C21: =SUM(C18:C20) -> 0 | D21: =SUM(D18:D20) -> 0 | E21: =SUM(E18:E20) -> 0 | F21: =30%*E21 -> 0
A22: มัธยมศึกษาปีที่ 4 | D22: =C22 -> 0 | F22: =IF(AND(B22>0,B23>0,B24>0),IF(OR(C22=0,E22=0)," <-----!!! กรอกข้อมูลยังไม่ครบถ้วนใน เซลล์ C22 และ E22",""),"")
A23: มัธยมศึกษาปีที่ 5 | C23: =B22 -> 0 | D23: =C23 -> 0 | E23: =D22 -> 0
A24: มัธยมศึกษาปีที่ 6 | C24: =B23 -> 0 | D24: =C24 -> 0 | E24: =D23 -> 0
A25: รวมระดับมัธยมศึกษาตอนปลาย | B25: =SUM(B22:B24) -> 0 | C25: =SUM(C22:C24) -> 0 | D25: =SUM(D22:D24) -> 0 | E25: =SUM(E22:E24) -> 0
A26: สาขาช่าง | B26: =B27+B28+B29 -> 0 | C26: =C27+C28+C29 -> 0 | D26: =D27+D28+D29 -> 0 | E26: =E27+E28+E29 -> 0
A27: ปวช.1 | D27: =C27 -> 0 | F27: =IF(AND(B27>0,B28>0,B29>0),IF(OR(C27=0,E27=0)," <-----!!! กรอกข้อมูลยังไม่ครบถ้วนใน เซลล์ C27 และ E27",""),"")
A28: ปวช.2 | C28: =B27 -> 0 | D28: =C28 -> 0 | E28: =D27 -> 0
A29: ปวช.3 | C29: =B28 -> 0 | D29: =C29 -> 0 | E29: =D28 -> 0
A30: สาขาพาณิชยกรรม | B30: =B31+B32+B33 -> 0 | C30: =C31+C32+C33 -> 0 | D30: =D31+D32+D33 -> 0 | E30: =E31+E32+E33 -> 0
A31: ปวช.1 | D31: =C31 -> 0 | F31: =IF(AND(B31>0,B32>0,B33>0),IF(OR(C31=0,E31=0)," <-----!!! กรอกข้อมูลยังไม่ครบถ้วนใน เซลล์ C31 และ E31",""),"")
A32: ปวช.2 | C32: =B31 -> 0 | D32: =C32 -> 0 | E32: =D31 -> 0
A33: ปวช.3 | C33: =B32 -> 0 | D33: =C33 -> 0 | E33: =D32 -> 0
A34: สาขาคหกรรม | B34: =B35+B36+B37 -> 0 | C34: =C35+C36+C37 -> 0 | D34: =D35+D36+D37 -> 0 | E34: =E35+E36+E37 -> 0
A35: ปวช.1 | D35: =C35 -> 0 | F35: =IF(AND(B35>0,B36>0,B37>0),IF(OR(C35=0,E35=0)," <-----!!! กรอกข้อมูลยังไม่ครบถ้วนใน เซลล์ C35 และ E35",""),"")
A36: ปวช.2 | C36: =B35 -> 0 | D36: =C36 -> 0 | E36: =D35 -> 0
A37: ปวช.3 | C37: =B36 -> 0 | D37: =C37 -> 0 | E37: =D36 -> 0
A38: รวมระดับอาชีวศึกษา | B38: =B26+B30+B34 -> 0 | C38: =C26+C30+C34 -> 0 | D38: =D26+D30+D34 -> 0 | E38: =E26+E30+E34 -> 0
A39: รวมทุกระดับชั้น | B39: =SUM(B38,B25,B21,B17,B10) -> 0 | C39: =SUM(C38,C25,C21,C17,C10) -> 0 | D39: =SUM(D38,D25,D21,D17,D10) -> 0 | E39: =SUM(E38,E25,E21,E17,E10) -> 0
A41: โรงเรียนขนาดเล็ก ส่วนเพิ่ม (Top up)
A42: 1. ประถมศึกษา | D42: =IF(D17<=120,D17,0) -> 0 | E42: =IF(E17<=120,E17,0) -> 0
A43: 2. มัธยมศึกษาตอนต้น | D43: =IF(D21<=300,D21,0) -> 0 | E43: =IF(E21<=300,E21,0) -> 0
A44: หมายเหตุ :
A45: 1. ข้อมูลนักเรียนที่ใช้เป็นฐานในการคำนวณจะใช้นักเรียน ณ พฤศจิกายน 2568 2. ระดับอนุบาล เด็กของแต่ละโรงเรียนจะแตกต่างกันตามระดับชั้นที่เปิด ขอให้กรอกข้อมูลให้ถูกต้อง 1.อายุ 3 ปี คือ อนุบาล 1 2.อายุ 4 ปี คือ อนุบาล 2 และ 3. อายุ 5 ปี คือ อนุบาล 3

Sheet 1.1.1 รร. อปท. 30
A1: แบบฟอร์มประมาณการนักเรียนและแผนการรับนักเรียน (ชั้นเคลื่อน) | E1: แบบฟอร์ม 1.1.1 แบบชั้นเคลื่อน (โรงเรียน อปท. ปกติ)
A2: ประจำปีงบประมาณ พ.ศ. 2570
A3: ระดับชั้น | B3: งบประมาณปี 2569 | D3: งบประมาณปี 2570
B4: จำนวนนักเรียนรับจริง (ณ พฤศจิกายน 2568) | C4: ประมาณการนักเรียน | D4: ประมาณการนักเรียน | E4: ประมาณการนักเรียน
B5: ภาคเรียน 2/2568 | C5: ภาคเรียน 1/2569 | D5: ภาคเรียน 2/2569 | E5: ภาคเรียน 1/2570
B6: หน่วยนับ (คน) | C6: หน่วยนับ (คน) | D6: หน่วยนับ (คน) | E6: หน่วยนับ (คน)
A7: อนุบาล 1 | D7: =C7 -> 0 | F7: =IF(AND(B7>0,B8>0,B9>0),IF(OR(C7=0,E7=0)," <-----!!! กรอกข้อมูลยังไม่ครบถ้วนใน เซลล์ C7 และ E7",""),"")
A8: อนุบาล 2 | C8: =IF(B7>0,B7,B8) -> 0 | D8: =C8 -> 0 | E8: =IF(B7>0,D7,B8) -> 0
A9: อนุบาล 3 | C9: =IF(B9>0,B8,0) -> 0 | D9: =IF(B9>0,C9,0) -> 0 | E9: =IF(B9>0,D8,0) -> 0
A10: รวมระดับก่อนประถมศึกษา | B10: =SUM(B7:B9) -> 0 | C10: =SUM(C7:C9) -> 0 | D10: =SUM(D7:D9) -> 0 | E10: =SUM(E7:E9) -> 0
A11: ประถมศึกษาปีที่ 1 | D11: =C11 -> 0 | F11: =IF(AND(B11>0,B12>0,B13>0,B16>0),IF(OR(C11=0,E11=0)," <---- !!! กรอกข้อมูลยังไม่ครบถ้วนใน เซลล์ C11 และ E11",""),"")
A12: ประถมศึกษาปีที่ 2 | C12: =B11 -> 0 | D12: =C12 -> 0 | E12: =D11 -> 0
A13: ประถมศึกษาปีที่ 3 | C13: =B12 -> 0 | D13: =C13 -> 0 | E13: =D12 -> 0
A14: ประถมศึกษาปีที่ 4 | C14: =B13 -> 0 | D14: =C14 -> 0 | E14: =D13 -> 0
A15: ประถมศึกษาปีที่ 5 | C15: =B14 -> 0 | D15: =C15 -> 0 | E15: =D14 -> 0
A16: ประถมศึกษาปีที่ 6 | C16: =B15 -> 0 | D16: =C16 -> 0 | E16: =D15 -> 0
A17: รวมระดับประถมศึกษา | B17: =SUM(B11:B16) -> 0 | C17: =SUM(C11:C16) -> 0 | D17: =SUM(D11:D16) -> 0 | E17: =SUM(E11:E16) -> 0 | F17: =40%*E17 -> 0
A18: มัธยมศึกษาปีที่ 1 | D18: =C18 -> 0 | F18: =IF(AND(B18>0,B19>0,B20>0),IF(OR(C18=0,E18=0)," <-----!!! กรอกข้อมูลยังไม่ครบถ้วนใน เซลล์ C18 และ E18",""),"")
A19: มัธยมศึกษาปีที่ 2 | C19: =B18 -> 0 | D19: =C19 -> 0 | E19: =D18 -> 0
A20: มัธยมศึกษาปีที่ 3 | C20: =B19 -> 0 | D20: =C20 -> 0 | E20: =D19 -> 0
A21: รวมระดับมัธยมศึกษาตอนต้น | B21: =SUM(B18:B20) -> 0 | C21: =SUM(C18:C20) -> 0 | D21: =SUM(D18:D20) -> 0 | E21: =SUM(E18:E20) -> 0 | F21: =30%*E21 -> 0
A22: มัธยมศึกษาปีที่ 4 | D22: =C22 -> 0 | F22: =IF(AND(B22>0,B23>0,B24>0),IF(OR(C22=0,E22=0)," <-----!!! กรอกข้อมูลยังไม่ครบถ้วนใน เซลล์ C22 และ E22",""),"")
A23: มัธยมศึกษาปีที่ 5 | C23: =B22 -> 0 | D23: =C23 -> 0 | E23: =D22 -> 0
A24: มัธยมศึกษาปีที่ 6 | C24: =B23 -> 0 | D24: =C24 -> 0 | E24: =D23 -> 0
A25: รวมระดับมัธยมศึกษาตอนปลาย | B25: =SUM(B22:B24) -> 0 | C25: =SUM(C22:C24) -> 0 | D25: =SUM(D22:D24) -> 0 | E25: =SUM(E22:E24) -> 0
A26: สาขาช่าง | B26: =B27+B28+B29 -> 0 | C26: =C27+C28+C29 -> 0 | D26: =D27+D28+D29 -> 0 | E26: =E27+E28+E29 -> 0
A27: ปวช.1 | D27: =C27 -> 0 | F27: =IF(AND(B27>0,B28>0,B29>0),IF(OR(C27=0,E27=0)," <-----!!! กรอกข้อมูลยังไม่ครบถ้วนใน เซลล์ C27 และ E27",""),"")
A28: ปวช.2 | C28: =B27 -> 0 | D28: =C28 -> 0 | E28: =D27 -> 0
A29: ปวช.3 | C29: =B28 -> 0 | D29: =C29 -> 0 | E29: =D28 -> 0
A30: สาขาพาณิชยกรรม | B30: =B31+B32+B33 -> 0 | C30: =C31+C32+C33 -> 0 | D30: =D31+D32+D33 -> 0 | E30: =E31+E32+E33 -> 0
A31: ปวช.1 | D31: =C31 -> 0 | F31: =IF(AND(B31>0,B32>0,B33>0),IF(OR(C31=0,E31=0)," <-----!!! กรอกข้อมูลยังไม่ครบถ้วนใน เซลล์ C31 และ E31",""),"")
A32: ปวช.2 | C32: =B31 -> 0 | D32: =C32 -> 0 | E32: =D31 -> 0
A33: ปวช.3 | C33: =B32 -> 0 | D33: =C33 -> 0 | E33: =D32 -> 0
A34: สาขาคหกรรม | B34: =B35+B36+B37 -> 0 | C34: =C35+C36+C37 -> 0 | D34: =D35+D36+D37 -> 0 | E34: =E35+E36+E37 -> 0
A35: ปวช.1 | D35: =C35 -> 0 | F35: =IF(AND(B35>0,B36>0,B37>0),IF(OR(C35=0,E35=0)," <-----!!! กรอกข้อมูลยังไม่ครบถ้วนใน เซลล์ C35 และ E35",""),"")
A36: ปวช.2 | C36: =B35 -> 0 | D36: =C36 -> 0 | E36: =D35 -> 0
A37: ปวช.3 | C37: =B36 -> 0 | D37: =C37 -> 0 | E37: =D36 -> 0
A38: รวมระดับอาชีวศึกษา | B38: =B26+B30+B34 -> 0 | C38: =C26+C30+C34 -> 0 | D38: =D26+D30+D34 -> 0 | E38: =E26+E30+E34 -> 0
A39: รวมทุกระดับชั้น | B39: =SUM(B38,B25,B21,B17,B10) -> 0 | C39: =SUM(C38,C25,C21,C17,C10) -> 0 | D39: =SUM(D38,D25,D21,D17,D10) -> 0 | E39: =SUM(E38,E25,E21,E17,E10) -> 0
A41: โรงเรียนขนาดเล็ก ส่วนเพิ่ม (Top up)
A42: 1. ประถมศึกษา | D42: =IF(D17<=120,D17,0) -> 0 | E42: =IF(E17<=120,E17,0) -> 0
A43: 2. มัธยมศึกษาตอนต้น | D43: =IF(D21<=300,D21,0) -> 0 | E43: =IF(E21<=300,E21,0) -> 0
A44: หมายเหตุ :
A45: 1. ข้อมูลนักเรียนที่ใช้เป็นฐานในการคำนวณจะใช้นักเรียน ณ พฤศจิกายน 2568 2. ระดับอนุบาล เด็กของแต่ละโรงเรียนจะแตกต่างกันตามระดับชั้นที่เปิด ขอให้กรอกข้อมูลให้ถูกต้อง 1.อายุ 3 ปี คือ อนุบาล 1 2.อายุ 4 ปี คือ อนุบาล 2 และ 3. อายุ 5 ปี คือ อนุบาล 3

Sheet 1.1.1 รร. อปท. 31
A1: แบบฟอร์มประมาณการนักเรียนและแผนการรับนักเรียน (ชั้นเคลื่อน) | E1: แบบฟอร์ม 1.1.1 แบบชั้นเคลื่อน (โรงเรียน อปท. ปกติ)
A2: ประจำปีงบประมาณ พ.ศ. 2570
A3: ระดับชั้น | B3: งบประมาณปี 2569 | D3: งบประมาณปี 2570
B4: จำนวนนักเรียนรับจริง (ณ พฤศจิกายน 2568) | C4: ประมาณการนักเรียน | D4: ประมาณการนักเรียน | E4: ประมาณการนักเรียน
B5: ภาคเรียน 2/2568 | C5: ภาคเรียน 1/2569 | D5: ภาคเรียน 2/2569 | E5: ภาคเรียน 1/2570
B6: หน่วยนับ (คน) | C6: หน่วยนับ (คน) | D6: หน่วยนับ (คน) | E6: หน่วยนับ (คน)
A7: อนุบาล 1 | D7: =C7 -> 0 | F7: =IF(AND(B7>0,B8>0,B9>0),IF(OR(C7=0,E7=0)," <-----!!! กรอกข้อมูลยังไม่ครบถ้วนใน เซลล์ C7 และ E7",""),"")
A8: อนุบาล 2 | C8: =IF(B7>0,B7,B8) -> 0 | D8: =C8 -> 0 | E8: =IF(B7>0,D7,B8) -> 0
A9: อนุบาล 3 | C9: =IF(B9>0,B8,0) -> 0 | D9: =IF(B9>0,C9,0) -> 0 | E9: =IF(B9>0,D8,0) -> 0
A10: รวมระดับก่อนประถมศึกษา | B10: =SUM(B7:B9) -> 0 | C10: =SUM(C7:C9) -> 0 | D10: =SUM(D7:D9) -> 0 | E10: =SUM(E7:E9) -> 0
A11: ประถมศึกษาปีที่ 1 | D11: =C11 -> 0 | F11: =IF(AND(B11>0,B12>0,B13>0,B16>0),IF(OR(C11=0,E11=0)," <---- !!! กรอกข้อมูลยังไม่ครบถ้วนใน เซลล์ C11 และ E11",""),"")
A12: ประถมศึกษาปีที่ 2 | C12: =B11 -> 0 | D12: =C12 -> 0 | E12: =D11 -> 0
A13: ประถมศึกษาปีที่ 3 | C13: =B12 -> 0 | D13: =C13 -> 0 | E13: =D12 -> 0
A14: ประถมศึกษาปีที่ 4 | C14: =B13 -> 0 | D14: =C14 -> 0 | E14: =D13 -> 0
A15: ประถมศึกษาปีที่ 5 | C15: =B14 -> 0 | D15: =C15 -> 0 | E15: =D14 -> 0
A16: ประถมศึกษาปีที่ 6 | C16: =B15 -> 0 | D16: =C16 -> 0 | E16: =D15 -> 0
A17: รวมระดับประถมศึกษา | B17: =SUM(B11:B16) -> 0 | C17: =SUM(C11:C16) -> 0 | D17: =SUM(D11:D16) -> 0 | E17: =SUM(E11:E16) -> 0 | F17: =40%*E17 -> 0
A18: มัธยมศึกษาปีที่ 1 | D18: =C18 -> 0 | F18: =IF(AND(B18>0,B19>0,B20>0),IF(OR(C18=0,E18=0)," <-----!!! กรอกข้อมูลยังไม่ครบถ้วนใน เซลล์ C18 และ E18",""),"")
A19: มัธยมศึกษาปีที่ 2 | C19: =B18 -> 0 | D19: =C19 -> 0 | E19: =D18 -> 0
A20: มัธยมศึกษาปีที่ 3 | C20: =B19 -> 0 | D20: =C20 -> 0 | E20: =D19 -> 0
A21: รวมระดับมัธยมศึกษาตอนต้น | B21: =SUM(B18:B20) -> 0 | C21: =SUM(C18:C20) -> 0 | D21: =SUM(D18:D20) -> 0 | E21: =SUM(E18:E20) -> 0 | F21: =30%*E21 -> 0
A22: มัธยมศึกษาปีที่ 4 | D22: =C22 -> 0 | F22: =IF(AND(B22>0,B23>0,B24>0),IF(OR(C22=0,E22=0)," <-----!!! กรอกข้อมูลยังไม่ครบถ้วนใน เซลล์ C22 และ E22",""),"")
A23: มัธยมศึกษาปีที่ 5 | C23: =B22 -> 0 | D23: =C23 -> 0 | E23: =D22 -> 0
A24: มัธยมศึกษาปีที่ 6 | C24: =B23 -> 0 | D24: =C24 -> 0 | E24: =D23 -> 0
A25: รวมระดับมัธยมศึกษาตอนปลาย | B25: =SUM(B22:B24) -> 0 | C25: =SUM(C22:C24) -> 0 | D25: =SUM(D22:D24) -> 0 | E25: =SUM(E22:E24) -> 0
A26: สาขาช่าง | B26: =B27+B28+B29 -> 0 | C26: =C27+C28+C29 -> 0 | D26: =D27+D28+D29 -> 0 | E26: =E27+E28+E29 -> 0
A27: ปวช.1 | D27: =C27 -> 0 | F27: =IF(AND(B27>0,B28>0,B29>0),IF(OR(C27=0,E27=0)," <-----!!! กรอกข้อมูลยังไม่ครบถ้วนใน เซลล์ C27 และ E27",""),"")
A28: ปวช.2 | C28: =B27 -> 0 | D28: =C28 -> 0 | E28: =D27 -> 0
A29: ปวช.3 | C29: =B28 -> 0 | D29: =C29 -> 0 | E29: =D28 -> 0
A30: สาขาพาณิชยกรรม | B30: =B31+B32+B33 -> 0 | C30: =C31+C32+C33 -> 0 | D30: =D31+D32+D33 -> 0 | E30: =E31+E32+E33 -> 0
A31: ปวช.1 | D31: =C31 -> 0 | F31: =IF(AND(B31>0,B32>0,B33>0),IF(OR(C31=0,E31=0)," <-----!!! กรอกข้อมูลยังไม่ครบถ้วนใน เซลล์ C31 และ E31",""),"")
A32: ปวช.2 | C32: =B31 -> 0 | D32: =C32 -> 0 | E32: =D31 -> 0
A33: ปวช.3 | C33: =B32 -> 0 | D33: =C33 -> 0 | E33: =D32 -> 0
A34: สาขาคหกรรม | B34: =B35+B36+B37 -> 0 | C34: =C35+C36+C37 -> 0 | D34: =D35+D36+D37 -> 0 | E34: =E35+E36+E37 -> 0
A35: ปวช.1 | D35: =C35 -> 0 | F35: =IF(AND(B35>0,B36>0,B37>0),IF(OR(C35=0,E35=0)," <-----!!! กรอกข้อมูลยังไม่ครบถ้วนใน เซลล์ C35 และ E35",""),"")
A36: ปวช.2 | C36: =B35 -> 0 | D36: =C36 -> 0 | E36: =D35 -> 0
A37: ปวช.3 | C37: =B36 -> 0 | D37: =C37 -> 0 | E37: =D36 -> 0
A38: รวมระดับอาชีวศึกษา | B38: =B26+B30+B34 -> 0 | C38: =C26+C30+C34 -> 0 | D38: =D26+D30+D34 -> 0 | E38: =E26+E30+E34 -> 0
A39: รวมทุกระดับชั้น | B39: =SUM(B38,B25,B21,B17,B10) -> 0 | C39: =SUM(C38,C25,C21,C17,C10) -> 0 | D39: =SUM(D38,D25,D21,D17,D10) -> 0 | E39: =SUM(E38,E25,E21,E17,E10) -> 0
A41: โรงเรียนขนาดเล็ก ส่วนเพิ่ม (Top up)
A42: 1. ประถมศึกษา | D42: =IF(D17<=120,D17,0) -> 0 | E42: =IF(E17<=120,E17,0) -> 0
A43: 2. มัธยมศึกษาตอนต้น | D43: =IF(D21<=300,D21,0) -> 0 | E43: =IF(E21<=300,E21,0) -> 0
A44: หมายเหตุ :
A45: 1. ข้อมูลนักเรียนที่ใช้เป็นฐานในการคำนวณจะใช้นักเรียน ณ พฤศจิกายน 2568 2. ระดับอนุบาล เด็กของแต่ละโรงเรียนจะแตกต่างกันตามระดับชั้นที่เปิด ขอให้กรอกข้อมูลให้ถูกต้อง 1.อายุ 3 ปี คือ อนุบาล 1 2.อายุ 4 ปี คือ อนุบาล 2 และ 3. อายุ 5 ปี คือ อนุบาล 3

Sheet 1.1.1 รร. อปท. 32
A1: แบบฟอร์มประมาณการนักเรียนและแผนการรับนักเรียน (ชั้นเคลื่อน) | E1: แบบฟอร์ม 1.1.1 แบบชั้นเคลื่อน (โรงเรียน อปท. ปกติ)
A2: ประจำปีงบประมาณ พ.ศ. 2570
A3: ระดับชั้น | B3: งบประมาณปี 2569 | D3: งบประมาณปี 2570
B4: จำนวนนักเรียนรับจริง (ณ พฤศจิกายน 2568) | C4: ประมาณการนักเรียน | D4: ประมาณการนักเรียน | E4: ประมาณการนักเรียน
B5: ภาคเรียน 2/2568 | C5: ภาคเรียน 1/2569 | D5: ภาคเรียน 2/2569 | E5: ภาคเรียน 1/2570
B6: หน่วยนับ (คน) | C6: หน่วยนับ (คน) | D6: หน่วยนับ (คน) | E6: หน่วยนับ (คน)
A7: อนุบาล 1 | D7: =C7 -> 0 | F7: =IF(AND(B7>0,B8>0,B9>0),IF(OR(C7=0,E7=0)," <-----!!! กรอกข้อมูลยังไม่ครบถ้วนใน เซลล์ C7 และ E7",""),"")
A8: อนุบาล 2 | C8: =IF(B7>0,B7,B8) -> 0 | D8: =C8 -> 0 | E8: =IF(B7>0,D7,B8) -> 0
A9: อนุบาล 3 | C9: =IF(B9>0,B8,0) -> 0 | D9: =IF(B9>0,C9,0) -> 0 | E9: =IF(B9>0,D8,0) -> 0
A10: รวมระดับก่อนประถมศึกษา | B10: =SUM(B7:B9) -> 0 | C10: =SUM(C7:C9) -> 0 | D10: =SUM(D7:D9) -> 0 | E10: =SUM(E7:E9) -> 0
A11: ประถมศึกษาปีที่ 1 | D11: =C11 -> 0 | F11: =IF(AND(B11>0,B12>0,B13>0,B16>0),IF(OR(C11=0,E11=0)," <---- !!! กรอกข้อมูลยังไม่ครบถ้วนใน เซลล์ C11 และ E11",""),"")
A12: ประถมศึกษาปีที่ 2 | C12: =B11 -> 0 | D12: =C12 -> 0 | E12: =D11 -> 0
A13: ประถมศึกษาปีที่ 3 | C13: =B12 -> 0 | D13: =C13 -> 0 | E13: =D12 -> 0
A14: ประถมศึกษาปีที่ 4 | C14: =B13 -> 0 | D14: =C14 -> 0 | E14: =D13 -> 0
A15: ประถมศึกษาปีที่ 5 | C15: =B14 -> 0 | D15: =C15 -> 0 | E15: =D14 -> 0
A16: ประถมศึกษาปีที่ 6 | C16: =B15 -> 0 | D16: =C16 -> 0 | E16: =D15 -> 0
A17: รวมระดับประถมศึกษา | B17: =SUM(B11:B16) -> 0 | C17: =SUM(C11:C16) -> 0 | D17: =SUM(D11:D16) -> 0 | E17: =SUM(E11:E16) -> 0 | F17: =40%*E17 -> 0
A18: มัธยมศึกษาปีที่ 1 | D18: =C18 -> 0 | F18: =IF(AND(B18>0,B19>0,B20>0),IF(OR(C18=0,E18=0)," <-----!!! กรอกข้อมูลยังไม่ครบถ้วนใน เซลล์ C18 และ E18",""),"")
A19: มัธยมศึกษาปีที่ 2 | C19: =B18 -> 0 | D19: =C19 -> 0 | E19: =D18 -> 0
A20: มัธยมศึกษาปีที่ 3 | C20: =B19 -> 0 | D20: =C20 -> 0 | E20: =D19 -> 0
A21: รวมระดับมัธยมศึกษาตอนต้น | B21: =SUM(B18:B20) -> 0 | C21: =SUM(C18:C20) -> 0 | D21: =SUM(D18:D20) -> 0 | E21: =SUM(E18:E20) -> 0 | F21: =30%*E21 -> 0
A22: มัธยมศึกษาปีที่ 4 | D22: =C22 -> 0 | F22: =IF(AND(B22>0,B23>0,B24>0),IF(OR(C22=0,E22=0)," <-----!!! กรอกข้อมูลยังไม่ครบถ้วนใน เซลล์ C22 และ E22",""),"")
A23: มัธยมศึกษาปีที่ 5 | C23: =B22 -> 0 | D23: =C23 -> 0 | E23: =D22 -> 0
A24: มัธยมศึกษาปีที่ 6 | C24: =B23 -> 0 | D24: =C24 -> 0 | E24: =D23 -> 0
A25: รวมระดับมัธยมศึกษาตอนปลาย | B25: =SUM(B22:B24) -> 0 | C25: =SUM(C22:C24) -> 0 | D25: =SUM(D22:D24) -> 0 | E25: =SUM(E22:E24) -> 0
A26: สาขาช่าง | B26: =B27+B28+B29 -> 0 | C26: =C27+C28+C29 -> 0 | D26: =D27+D28+D29 -> 0 | E26: =E27+E28+E29 -> 0
A27: ปวช.1 | D27: =C27 -> 0 | F27: =IF(AND(B27>0,B28>0,B29>0),IF(OR(C27=0,E27=0)," <-----!!! กรอกข้อมูลยังไม่ครบถ้วนใน เซลล์ C27 และ E27",""),"")
A28: ปวช.2 | C28: =B27 -> 0 | D28: =C28 -> 0 | E28: =D27 -> 0
A29: ปวช.3 | C29: =B28 -> 0 | D29: =C29 -> 0 | E29: =D28 -> 0
A30: สาขาพาณิชยกรรม | B30: =B31+B32+B33 -> 0 | C30: =C31+C32+C33 -> 0 | D30: =D31+D32+D33 -> 0 | E30: =E31+E32+E33 -> 0
A31: ปวช.1 | D31: =C31 -> 0 | F31: =IF(AND(B31>0,B32>0,B33>0),IF(OR(C31=0,E31=0)," <-----!!! กรอกข้อมูลยังไม่ครบถ้วนใน เซลล์ C31 และ E31",""),"")
A32: ปวช.2 | C32: =B31 -> 0 | D32: =C32 -> 0 | E32: =D31 -> 0
A33: ปวช.3 | C33: =B32 -> 0 | D33: =C33 -> 0 | E33: =D32 -> 0
A34: สาขาคหกรรม | B34: =B35+B36+B37 -> 0 | C34: =C35+C36+C37 -> 0 | D34: =D35+D36+D37 -> 0 | E34: =E35+E36+E37 -> 0
A35: ปวช.1 | D35: =C35 -> 0 | F35: =IF(AND(B35>0,B36>0,B37>0),IF(OR(C35=0,E35=0)," <-----!!! กรอกข้อมูลยังไม่ครบถ้วนใน เซลล์ C35 และ E35",""),"")
A36: ปวช.2 | C36: =B35 -> 0 | D36: =C36 -> 0 | E36: =D35 -> 0
A37: ปวช.3 | C37: =B36 -> 0 | D37: =C37 -> 0 | E37: =D36 -> 0
A38: รวมระดับอาชีวศึกษา | B38: =B26+B30+B34 -> 0 | C38: =C26+C30+C34 -> 0 | D38: =D26+D30+D34 -> 0 | E38: =E26+E30+E34 -> 0
A39: รวมทุกระดับชั้น | B39: =SUM(B38,B25,B21,B17,B10) -> 0 | C39: =SUM(C38,C25,C21,C17,C10) -> 0 | D39: =SUM(D38,D25,D21,D17,D10) -> 0 | E39: =SUM(E38,E25,E21,E17,E10) -> 0
A41: โรงเรียนขนาดเล็ก ส่วนเพิ่ม (Top up)
A42: 1. ประถมศึกษา | D42: =IF(D17<=120,D17,0) -> 0 | E42: =IF(E17<=120,E17,0) -> 0
A43: 2. มัธยมศึกษาตอนต้น | D43: =IF(D21<=300,D21,0) -> 0 | E43: =IF(E21<=300,E21,0) -> 0
A44: หมายเหตุ :
A45: 1. ข้อมูลนักเรียนที่ใช้เป็นฐานในการคำนวณจะใช้นักเรียน ณ พฤศจิกายน 2568 2. ระดับอนุบาล เด็กของแต่ละโรงเรียนจะแตกต่างกันตามระดับชั้นที่เปิด ขอให้กรอกข้อมูลให้ถูกต้อง 1.อายุ 3 ปี คือ อนุบาล 1 2.อายุ 4 ปี คือ อนุบาล 2 และ 3. อายุ 5 ปี คือ อนุบาล 3

Sheet 1.1.1 รร. อปท. 33
A1: แบบฟอร์มประมาณการนักเรียนและแผนการรับนักเรียน (ชั้นเคลื่อน) | E1: แบบฟอร์ม 1.1.1 แบบชั้นเคลื่อน (โรงเรียน อปท. ปกติ)
A2: ประจำปีงบประมาณ พ.ศ. 2570
A3: ระดับชั้น | B3: งบประมาณปี 2569 | D3: งบประมาณปี 2570
B4: จำนวนนักเรียนรับจริง (ณ พฤศจิกายน 2568) | C4: ประมาณการนักเรียน | D4: ประมาณการนักเรียน | E4: ประมาณการนักเรียน
B5: ภาคเรียน 2/2568 | C5: ภาคเรียน 1/2569 | D5: ภาคเรียน 2/2569 | E5: ภาคเรียน 1/2570
B6: หน่วยนับ (คน) | C6: หน่วยนับ (คน) | D6: หน่วยนับ (คน) | E6: หน่วยนับ (คน)
A7: อนุบาล 1 | D7: =C7 -> 0 | F7: =IF(AND(B7>0,B8>0,B9>0),IF(OR(C7=0,E7=0)," <-----!!! กรอกข้อมูลยังไม่ครบถ้วนใน เซลล์ C7 และ E7",""),"")
A8: อนุบาล 2 | C8: =IF(B7>0,B7,B8) -> 0 | D8: =C8 -> 0 | E8: =IF(B7>0,D7,B8) -> 0
A9: อนุบาล 3 | C9: =IF(B9>0,B8,0) -> 0 | D9: =IF(B9>0,C9,0) -> 0 | E9: =IF(B9>0,D8,0) -> 0
A10: รวมระดับก่อนประถมศึกษา | B10: =SUM(B7:B9) -> 0 | C10: =SUM(C7:C9) -> 0 | D10: =SUM(D7:D9) -> 0 | E10: =SUM(E7:E9) -> 0
A11: ประถมศึกษาปีที่ 1 | D11: =C11 -> 0 | F11: =IF(AND(B11>0,B12>0,B13>0,B16>0),IF(OR(C11=0,E11=0)," <---- !!! กรอกข้อมูลยังไม่ครบถ้วนใน เซลล์ C11 และ E11",""),"")
A12: ประถมศึกษาปีที่ 2 | C12: =B11 -> 0 | D12: =C12 -> 0 | E12: =D11 -> 0
A13: ประถมศึกษาปีที่ 3 | C13: =B12 -> 0 | D13: =C13 -> 0 | E13: =D12 -> 0
A14: ประถมศึกษาปีที่ 4 | C14: =B13 -> 0 | D14: =C14 -> 0 | E14: =D13 -> 0
A15: ประถมศึกษาปีที่ 5 | C15: =B14 -> 0 | D15: =C15 -> 0 | E15: =D14 -> 0
A16: ประถมศึกษาปีที่ 6 | C16: =B15 -> 0 | D16: =C16 -> 0 | E16: =D15 -> 0
A17: รวมระดับประถมศึกษา | B17: =SUM(B11:B16) -> 0 | C17: =SUM(C11:C16) -> 0 | D17: =SUM(D11:D16) -> 0 | E17: =SUM(E11:E16) -> 0 | F17: =40%*E17 -> 0
A18: มัธยมศึกษาปีที่ 1 | D18: =C18 -> 0 | F18: =IF(AND(B18>0,B19>0,B20>0),IF(OR(C18=0,E18=0)," <-----!!! กรอกข้อมูลยังไม่ครบถ้วนใน เซลล์ C18 และ E18",""),"")
A19: มัธยมศึกษาปีที่ 2 | C19: =B18 -> 0 | D19: =C19 -> 0 | E19: =D18 -> 0
A20: มัธยมศึกษาปีที่ 3 | C20: =B19 -> 0 | D20: =C20 -> 0 | E20: =D19 -> 0
A21: รวมระดับมัธยมศึกษาตอนต้น | B21: =SUM(B18:B20) -> 0 | C21: =SUM(C18:C20) -> 0 | D21: =SUM(D18:D20) -> 0 | E21: =SUM(E18:E20) -> 0 | F21: =30%*E21 -> 0
A22: มัธยมศึกษาปีที่ 4 | D22: =C22 -> 0 | F22: =IF(AND(B22>0,B23>0,B24>0),IF(OR(C22=0,E22=0)," <-----!!! กรอกข้อมูลยังไม่ครบถ้วนใน เซลล์ C22 และ E22",""),"")
A23: มัธยมศึกษาปีที่ 5 | C23: =B22 -> 0 | D23: =C23 -> 0 | E23: =D22 -> 0
A24: มัธยมศึกษาปีที่ 6 | C24: =B23 -> 0 | D24: =C24 -> 0 | E24: =D23 -> 0
A25: รวมระดับมัธยมศึกษาตอนปลาย | B25: =SUM(B22:B24) -> 0 | C25: =SUM(C22:C24) -> 0 | D25: =SUM(D22:D24) -> 0 | E25: =SUM(E22:E24) -> 0
A26: สาขาช่าง | B26: =B27+B28+B29 -> 0 | C26: =C27+C28+C29 -> 0 | D26: =D27+D28+D29 -> 0 | E26: =E27+E28+E29 -> 0
A27: ปวช.1 | D27: =C27 -> 0 | F27: =IF(AND(B27>0,B28>0,B29>0),IF(OR(C27=0,E27=0)," <-----!!! กรอกข้อมูลยังไม่ครบถ้วนใน เซลล์ C27 และ E27",""),"")
A28: ปวช.2 | C28: =B27 -> 0 | D28: =C28 -> 0 | E28: =D27 -> 0
A29: ปวช.3 | C29: =B28 -> 0 | D29: =C29 -> 0 | E29: =D28 -> 0
A30: สาขาพาณิชยกรรม | B30: =B31+B32+B33 -> 0 | C30: =C31+C32+C33 -> 0 | D30: =D31+D32+D33 -> 0 | E30: =E31+E32+E33 -> 0
A31: ปวช.1 | D31: =C31 -> 0 | F31: =IF(AND(B31>0,B32>0,B33>0),IF(OR(C31=0,E31=0)," <-----!!! กรอกข้อมูลยังไม่ครบถ้วนใน เซลล์ C31 และ E31",""),"")
A32: ปวช.2 | C32: =B31 -> 0 | D32: =C32 -> 0 | E32: =D31 -> 0
A33: ปวช.3 | C33: =B32 -> 0 | D33: =C33 -> 0 | E33: =D32 -> 0
A34: สาขาคหกรรม | B34: =B35+B36+B37 -> 0 | C34: =C35+C36+C37 -> 0 | D34: =D35+D36+D37 -> 0 | E34: =E35+E36+E37 -> 0
A35: ปวช.1 | D35: =C35 -> 0 | F35: =IF(AND(B35>0,B36>0,B37>0),IF(OR(C35=0,E35=0)," <-----!!! กรอกข้อมูลยังไม่ครบถ้วนใน เซลล์ C35 และ E35",""),"")
A36: ปวช.2 | C36: =B35 -> 0 | D36: =C36 -> 0 | E36: =D35 -> 0
A37: ปวช.3 | C37: =B36 -> 0 | D37: =C37 -> 0 | E37: =D36 -> 0
A38: รวมระดับอาชีวศึกษา | B38: =B26+B30+B34 -> 0 | C38: =C26+C30+C34 -> 0 | D38: =D26+D30+D34 -> 0 | E38: =E26+E30+E34 -> 0
A39: รวมทุกระดับชั้น | B39: =SUM(B38,B25,B21,B17,B10) -> 0 | C39: =SUM(C38,C25,C21,C17,C10) -> 0 | D39: =SUM(D38,D25,D21,D17,D10) -> 0 | E39: =SUM(E38,E25,E21,E17,E10) -> 0
A41: โรงเรียนขนาดเล็ก ส่วนเพิ่ม (Top up)
A42: 1. ประถมศึกษา | D42: =IF(D17<=120,D17,0) -> 0 | E42: =IF(E17<=120,E17,0) -> 0
A43: 2. มัธยมศึกษาตอนต้น | D43: =IF(D21<=300,D21,0) -> 0 | E43: =IF(E21<=300,E21,0) -> 0
A44: หมายเหตุ :
A45: 1. ข้อมูลนักเรียนที่ใช้เป็นฐานในการคำนวณจะใช้นักเรียน ณ พฤศจิกายน 2568 2. ระดับอนุบาล เด็กของแต่ละโรงเรียนจะแตกต่างกันตามระดับชั้นที่เปิด ขอให้กรอกข้อมูลให้ถูกต้อง 1.อายุ 3 ปี คือ อนุบาล 1 2.อายุ 4 ปี คือ อนุบาล 2 และ 3. อายุ 5 ปี คือ อนุบาล 3

Sheet 1.1.1 รร. อปท. 34
A1: แบบฟอร์มประมาณการนักเรียนและแผนการรับนักเรียน (ชั้นเคลื่อน) | E1: แบบฟอร์ม 1.1.1 แบบชั้นเคลื่อน (โรงเรียน อปท. ปกติ)
A2: ประจำปีงบประมาณ พ.ศ. 2570
A3: ระดับชั้น | B3: งบประมาณปี 2569 | D3: งบประมาณปี 2570
B4: จำนวนนักเรียนรับจริง (ณ พฤศจิกายน 2568) | C4: ประมาณการนักเรียน | D4: ประมาณการนักเรียน | E4: ประมาณการนักเรียน
B5: ภาคเรียน 2/2568 | C5: ภาคเรียน 1/2569 | D5: ภาคเรียน 2/2569 | E5: ภาคเรียน 1/2570
B6: หน่วยนับ (คน) | C6: หน่วยนับ (คน) | D6: หน่วยนับ (คน) | E6: หน่วยนับ (คน)
A7: อนุบาล 1 | D7: =C7 -> 0 | F7: =IF(AND(B7>0,B8>0,B9>0),IF(OR(C7=0,E7=0)," <-----!!! กรอกข้อมูลยังไม่ครบถ้วนใน เซลล์ C7 และ E7",""),"")
A8: อนุบาล 2 | C8: =IF(B7>0,B7,B8) -> 0 | D8: =C8 -> 0 | E8: =IF(B7>0,D7,B8) -> 0
A9: อนุบาล 3 | C9: =IF(B9>0,B8,0) -> 0 | D9: =IF(B9>0,C9,0) -> 0 | E9: =IF(B9>0,D8,0) -> 0
A10: รวมระดับก่อนประถมศึกษา | B10: =SUM(B7:B9) -> 0 | C10: =SUM(C7:C9) -> 0 | D10: =SUM(D7:D9) -> 0 | E10: =SUM(E7:E9) -> 0
A11: ประถมศึกษาปีที่ 1 | D11: =C11 -> 0 | F11: =IF(AND(B11>0,B12>0,B13>0,B16>0),IF(OR(C11=0,E11=0)," <---- !!! กรอกข้อมูลยังไม่ครบถ้วนใน เซลล์ C11 และ E11",""),"")
A12: ประถมศึกษาปีที่ 2 | C12: =B11 -> 0 | D12: =C12 -> 0 | E12: =D11 -> 0
A13: ประถมศึกษาปีที่ 3 | C13: =B12 -> 0 | D13: =C13 -> 0 | E13: =D12 -> 0
A14: ประถมศึกษาปีที่ 4 | C14: =B13 -> 0 | D14: =C14 -> 0 | E14: =D13 -> 0
A15: ประถมศึกษาปีที่ 5 | C15: =B14 -> 0 | D15: =C15 -> 0 | E15: =D14 -> 0
A16: ประถมศึกษาปีที่ 6 | C16: =B15 -> 0 | D16: =C16 -> 0 | E16: =D15 -> 0
A17: รวมระดับประถมศึกษา | B17: =SUM(B11:B16) -> 0 | C17: =SUM(C11:C16) -> 0 | D17: =SUM(D11:D16) -> 0 | E17: =SUM(E11:E16) -> 0 | F17: =40%*E17 -> 0
A18: มัธยมศึกษาปีที่ 1 | D18: =C18 -> 0 | F18: =IF(AND(B18>0,B19>0,B20>0),IF(OR(C18=0,E18=0)," <-----!!! กรอกข้อมูลยังไม่ครบถ้วนใน เซลล์ C18 และ E18",""),"")
A19: มัธยมศึกษาปีที่ 2 | C19: =B18 -> 0 | D19: =C19 -> 0 | E19: =D18 -> 0
A20: มัธยมศึกษาปีที่ 3 | C20: =B19 -> 0 | D20: =C20 -> 0 | E20: =D19 -> 0
A21: รวมระดับมัธยมศึกษาตอนต้น | B21: =SUM(B18:B20) -> 0 | C21: =SUM(C18:C20) -> 0 | D21: =SUM(D18:D20) -> 0 | E21: =SUM(E18:E20) -> 0 | F21: =30%*E21 -> 0
A22: มัธยมศึกษาปีที่ 4 | D22: =C22 -> 0 | F22: =IF(AND(B22>0,B23>0,B24>0),IF(OR(C22=0,E22=0)," <-----!!! กรอกข้อมูลยังไม่ครบถ้วนใน เซลล์ C22 และ E22",""),"")
A23: มัธยมศึกษาปีที่ 5 | C23: =B22 -> 0 | D23: =C23 -> 0 | E23: =D22 -> 0
A24: มัธยมศึกษาปีที่ 6 | C24: =B23 -> 0 | D24: =C24 -> 0 | E24: =D23 -> 0
A25: รวมระดับมัธยมศึกษาตอนปลาย | B25: =SUM(B22:B24) -> 0 | C25: =SUM(C22:C24) -> 0 | D25: =SUM(D22:D24) -> 0 | E25: =SUM(E22:E24) -> 0
A26: สาขาช่าง | B26: =B27+B28+B29 -> 0 | C26: =C27+C28+C29 -> 0 | D26: =D27+D28+D29 -> 0 | E26: =E27+E28+E29 -> 0
A27: ปวช.1 | D27: =C27 -> 0 | F27: =IF(AND(B27>0,B28>0,B29>0),IF(OR(C27=0,E27=0)," <-----!!! กรอกข้อมูลยังไม่ครบถ้วนใน เซลล์ C27 และ E27",""),"")
A28: ปวช.2 | C28: =B27 -> 0 | D28: =C28 -> 0 | E28: =D27 -> 0
A29: ปวช.3 | C29: =B28 -> 0 | D29: =C29 -> 0 | E29: =D28 -> 0
A30: สาขาพาณิชยกรรม | B30: =B31+B32+B33 -> 0 | C30: =C31+C32+C33 -> 0 | D30: =D31+D32+D33 -> 0 | E30: =E31+E32+E33 -> 0
A31: ปวช.1 | D31: =C31 -> 0 | F31: =IF(AND(B31>0,B32>0,B33>0),IF(OR(C31=0,E31=0)," <-----!!! กรอกข้อมูลยังไม่ครบถ้วนใน เซลล์ C31 และ E31",""),"")
A32: ปวช.2 | C32: =B31 -> 0 | D32: =C32 -> 0 | E32: =D31 -> 0
A33: ปวช.3 | C33: =B32 -> 0 | D33: =C33 -> 0 | E33: =D32 -> 0
A34: สาขาคหกรรม | B34: =B35+B36+B37 -> 0 | C34: =C35+C36+C37 -> 0 | D34: =D35+D36+D37 -> 0 | E34: =E35+E36+E37 -> 0
A35: ปวช.1 | D35: =C35 -> 0 | F35: =IF(AND(B35>0,B36>0,B37>0),IF(OR(C35=0,E35=0)," <-----!!! กรอกข้อมูลยังไม่ครบถ้วนใน เซลล์ C35 และ E35",""),"")
A36: ปวช.2 | C36: =B35 -> 0 | D36: =C36 -> 0 | E36: =D35 -> 0
A37: ปวช.3 | C37: =B36 -> 0 | D37: =C37 -> 0 | E37: =D36 -> 0
A38: รวมระดับอาชีวศึกษา | B38: =B26+B30+B34 -> 0 | C38: =C26+C30+C34 -> 0 | D38: =D26+D30+D34 -> 0 | E38: =E26+E30+E34 -> 0
A39: รวมทุกระดับชั้น | B39: =SUM(B38,B25,B21,B17,B10) -> 0 | C39: =SUM(C38,C25,C21,C17,C10) -> 0 | D39: =SUM(D38,D25,D21,D17,D10) -> 0 | E39: =SUM(E38,E25,E21,E17,E10) -> 0
A41: โรงเรียนขนาดเล็ก ส่วนเพิ่ม (Top up)
A42: 1. ประถมศึกษา | D42: =IF(D17<=120,D17,0) -> 0 | E42: =IF(E17<=120,E17,0) -> 0
A43: 2. มัธยมศึกษาตอนต้น | D43: =IF(D21<=300,D21,0) -> 0 | E43: =IF(E21<=300,E21,0) -> 0
A44: หมายเหตุ :
A45: 1. ข้อมูลนักเรียนที่ใช้เป็นฐานในการคำนวณจะใช้นักเรียน ณ พฤศจิกายน 2568 2. ระดับอนุบาล เด็กของแต่ละโรงเรียนจะแตกต่างกันตามระดับชั้นที่เปิด ขอให้กรอกข้อมูลให้ถูกต้อง 1.อายุ 3 ปี คือ อนุบาล 1 2.อายุ 4 ปี คือ อนุบาล 2 และ 3. อายุ 5 ปี คือ อนุบาล 3

Sheet 1.1.1 รร. อปท. 35
A1: แบบฟอร์มประมาณการนักเรียนและแผนการรับนักเรียน (ชั้นเคลื่อน) | E1: แบบฟอร์ม 1.1.1 แบบชั้นเคลื่อน (โรงเรียน อปท. ปกติ)
A2: ประจำปีงบประมาณ พ.ศ. 2570
A3: ระดับชั้น | B3: งบประมาณปี 2569 | D3: งบประมาณปี 2570
B4: จำนวนนักเรียนรับจริง (ณ พฤศจิกายน 2568) | C4: ประมาณการนักเรียน | D4: ประมาณการนักเรียน | E4: ประมาณการนักเรียน
B5: ภาคเรียน 2/2568 | C5: ภาคเรียน 1/2569 | D5: ภาคเรียน 2/2569 | E5: ภาคเรียน 1/2570
B6: หน่วยนับ (คน) | C6: หน่วยนับ (คน) | D6: หน่วยนับ (คน) | E6: หน่วยนับ (คน)
A7: อนุบาล 1 | D7: =C7 -> 0 | F7: =IF(AND(B7>0,B8>0,B9>0),IF(OR(C7=0,E7=0)," <-----!!! กรอกข้อมูลยังไม่ครบถ้วนใน เซลล์ C7 และ E7",""),"")
A8: อนุบาล 2 | C8: =IF(B7>0,B7,B8) -> 0 | D8: =C8 -> 0 | E8: =IF(B7>0,D7,B8) -> 0
A9: อนุบาล 3 | C9: =IF(B9>0,B8,0) -> 0 | D9: =IF(B9>0,C9,0) -> 0 | E9: =IF(B9>0,D8,0) -> 0
A10: รวมระดับก่อนประถมศึกษา | B10: =SUM(B7:B9) -> 0 | C10: =SUM(C7:C9) -> 0 | D10: =SUM(D7:D9) -> 0 | E10: =SUM(E7:E9) -> 0
A11: ประถมศึกษาปีที่ 1 | D11: =C11 -> 0 | F11: =IF(AND(B11>0,B12>0,B13>0,B16>0),IF(OR(C11=0,E11=0)," <---- !!! กรอกข้อมูลยังไม่ครบถ้วนใน เซลล์ C11 และ E11",""),"")
A12: ประถมศึกษาปีที่ 2 | C12: =B11 -> 0 | D12: =C12 -> 0 | E12: =D11 -> 0
A13: ประถมศึกษาปีที่ 3 | C13: =B12 -> 0 | D13: =C13 -> 0 | E13: =D12 -> 0
A14: ประถมศึกษาปีที่ 4 | C14: =B13 -> 0 | D14: =C14 -> 0 | E14: =D13 -> 0
A15: ประถมศึกษาปีที่ 5 | C15: =B14 -> 0 | D15: =C15 -> 0 | E15: =D14 -> 0
A16: ประถมศึกษาปีที่ 6 | C16: =B15 -> 0 | D16: =C16 -> 0 | E16: =D15 -> 0
A17: รวมระดับประถมศึกษา | B17: =SUM(B11:B16) -> 0 | C17: =SUM(C11:C16) -> 0 | D17: =SUM(D11:D16) -> 0 | E17: =SUM(E11:E16) -> 0 | F17: =40%*E17 -> 0
A18: มัธยมศึกษาปีที่ 1 | D18: =C18 -> 0 | F18: =IF(AND(B18>0,B19>0,B20>0),IF(OR(C18=0,E18=0)," <-----!!! กรอกข้อมูลยังไม่ครบถ้วนใน เซลล์ C18 และ E18",""),"")
A19: มัธยมศึกษาปีที่ 2 | C19: =B18 -> 0 | D19: =C19 -> 0 | E19: =D18 -> 0
A20: มัธยมศึกษาปีที่ 3 | C20: =B19 -> 0 | D20: =C20 -> 0 | E20: =D19 -> 0
A21: รวมระดับมัธยมศึกษาตอนต้น | B21: =SUM(B18:B20) -> 0 | C21: =SUM(C18:C20) -> 0 | D21: =SUM(D18:D20) -> 0 | E21: =SUM(E18:E20) -> 0 | F21: =30%*E21 -> 0
A22: มัธยมศึกษาปีที่ 4 | D22: =C22 -> 0 | F22: =IF(AND(B22>0,B23>0,B24>0),IF(OR(C22=0,E22=0)," <-----!!! กรอกข้อมูลยังไม่ครบถ้วนใน เซลล์ C22 และ E22",""),"")
A23: มัธยมศึกษาปีที่ 5 | C23: =B22 -> 0 | D23: =C23 -> 0 | E23: =D22 -> 0
A24: มัธยมศึกษาปีที่ 6 | C24: =B23 -> 0 | D24: =C24 -> 0 | E24: =D23 -> 0
A25: รวมระดับมัธยมศึกษาตอนปลาย | B25: =SUM(B22:B24) -> 0 | C25: =SUM(C22:C24) -> 0 | D25: =SUM(D22:D24) -> 0 | E25: =SUM(E22:E24) -> 0
A26: สาขาช่าง | B26: =B27+B28+B29 -> 0 | C26: =C27+C28+C29 -> 0 | D26: =D27+D28+D29 -> 0 | E26: =E27+E28+E29 -> 0
A27: ปวช.1 | D27: =C27 -> 0 | F27: =IF(AND(B27>0,B28>0,B29>0),IF(OR(C27=0,E27=0)," <-----!!! กรอกข้อมูลยังไม่ครบถ้วนใน เซลล์ C27 และ E27",""),"")
A28: ปวช.2 | C28: =B27 -> 0 | D28: =C28 -> 0 | E28: =D27 -> 0
A29: ปวช.3 | C29: =B28 -> 0 | D29: =C29 -> 0 | E29: =D28 -> 0
A30: สาขาพาณิชยกรรม | B30: =B31+B32+B33 -> 0 | C30: =C31+C32+C33 -> 0 | D30: =D31+D32+D33 -> 0 | E30: =E31+E32+E33 -> 0
A31: ปวช.1 | D31: =C31 -> 0 | F31: =IF(AND(B31>0,B32>0,B33>0),IF(OR(C31=0,E31=0)," <-----!!! กรอกข้อมูลยังไม่ครบถ้วนใน เซลล์ C31 และ E31",""),"")
A32: ปวช.2 | C32: =B31 -> 0 | D32: =C32 -> 0 | E32: =D31 -> 0
A33: ปวช.3 | C33: =B32 -> 0 | D33: =C33 -> 0 | E33: =D32 -> 0
A34: สาขาคหกรรม | B34: =B35+B36+B37 -> 0 | C34: =C35+C36+C37 -> 0 | D34: =D35+D36+D37 -> 0 | E34: =E35+E36+E37 -> 0
A35: ปวช.1 | D35: =C35 -> 0 | F35: =IF(AND(B35>0,B36>0,B37>0),IF(OR(C35=0,E35=0)," <-----!!! กรอกข้อมูลยังไม่ครบถ้วนใน เซลล์ C35 และ E35",""),"")
A36: ปวช.2 | C36: =B35 -> 0 | D36: =C36 -> 0 | E36: =D35 -> 0
A37: ปวช.3 | C37: =B36 -> 0 | D37: =C37 -> 0 | E37: =D36 -> 0
A38: รวมระดับอาชีวศึกษา | B38: =B26+B30+B34 -> 0 | C38: =C26+C30+C34 -> 0 | D38: =D26+D30+D34 -> 0 | E38: =E26+E30+E34 -> 0
A39: รวมทุกระดับชั้น | B39: =SUM(B38,B25,B21,B17,B10) -> 0 | C39: =SUM(C38,C25,C21,C17,C10) -> 0 | D39: =SUM(D38,D25,D21,D17,D10) -> 0 | E39: =SUM(E38,E25,E21,E17,E10) -> 0
A41: โรงเรียนขนาดเล็ก ส่วนเพิ่ม (Top up)
A42: 1. ประถมศึกษา | D42: =IF(D17<=120,D17,0) -> 0 | E42: =IF(E17<=120,E17,0) -> 0
A43: 2. มัธยมศึกษาตอนต้น | D43: =IF(D21<=300,D21,0) -> 0 | E43: =IF(E21<=300,E21,0) -> 0
A44: หมายเหตุ :
A45: 1. ข้อมูลนักเรียนที่ใช้เป็นฐานในการคำนวณจะใช้นักเรียน ณ พฤศจิกายน 2568 2. ระดับอนุบาล เด็กของแต่ละโรงเรียนจะแตกต่างกันตามระดับชั้นที่เปิด ขอให้กรอกข้อมูลให้ถูกต้อง 1.อายุ 3 ปี คือ อนุบาล 1 2.อายุ 4 ปี คือ อนุบาล 2 และ 3. อายุ 5 ปี คือ อนุบาล 3

Sheet 1.1.1 รร. อปท. 36
A1: แบบฟอร์มประมาณการนักเรียนและแผนการรับนักเรียน (ชั้นเคลื่อน) | E1: แบบฟอร์ม 1.1.1 แบบชั้นเคลื่อน (โรงเรียน อปท. ปกติ)
A2: ประจำปีงบประมาณ พ.ศ. 2570
A3: ระดับชั้น | B3: งบประมาณปี 2569 | D3: งบประมาณปี 2570
B4: จำนวนนักเรียนรับจริง (ณ พฤศจิกายน 2568) | C4: ประมาณการนักเรียน | D4: ประมาณการนักเรียน | E4: ประมาณการนักเรียน
B5: ภาคเรียน 2/2568 | C5: ภาคเรียน 1/2569 | D5: ภาคเรียน 2/2569 | E5: ภาคเรียน 1/2570
B6: หน่วยนับ (คน) | C6: หน่วยนับ (คน) | D6: หน่วยนับ (คน) | E6: หน่วยนับ (คน)
A7: อนุบาล 1 | D7: =C7 -> 0 | F7: =IF(AND(B7>0,B8>0,B9>0),IF(OR(C7=0,E7=0)," <-----!!! กรอกข้อมูลยังไม่ครบถ้วนใน เซลล์ C7 และ E7",""),"")
A8: อนุบาล 2 | C8: =IF(B7>0,B7,B8) -> 0 | D8: =C8 -> 0 | E8: =IF(B7>0,D7,B8) -> 0
A9: อนุบาล 3 | C9: =IF(B9>0,B8,0) -> 0 | D9: =IF(B9>0,C9,0) -> 0 | E9: =IF(B9>0,D8,0) -> 0
A10: รวมระดับก่อนประถมศึกษา | B10: =SUM(B7:B9) -> 0 | C10: =SUM(C7:C9) -> 0 | D10: =SUM(D7:D9) -> 0 | E10: =SUM(E7:E9) -> 0
A11: ประถมศึกษาปีที่ 1 | D11: =C11 -> 0 | F11: =IF(AND(B11>0,B12>0,B13>0,B16>0),IF(OR(C11=0,E11=0)," <---- !!! กรอกข้อมูลยังไม่ครบถ้วนใน เซลล์ C11 และ E11",""),"")
A12: ประถมศึกษาปีที่ 2 | C12: =B11 -> 0 | D12: =C12 -> 0 | E12: =D11 -> 0
A13: ประถมศึกษาปีที่ 3 | C13: =B12 -> 0 | D13: =C13 -> 0 | E13: =D12 -> 0
A14: ประถมศึกษาปีที่ 4 | C14: =B13 -> 0 | D14: =C14 -> 0 | E14: =D13 -> 0
A15: ประถมศึกษาปีที่ 5 | C15: =B14 -> 0 | D15: =C15 -> 0 | E15: =D14 -> 0
A16: ประถมศึกษาปีที่ 6 | C16: =B15 -> 0 | D16: =C16 -> 0 | E16: =D15 -> 0
A17: รวมระดับประถมศึกษา | B17: =SUM(B11:B16) -> 0 | C17: =SUM(C11:C16) -> 0 | D17: =SUM(D11:D16) -> 0 | E17: =SUM(E11:E16) -> 0 | F17: =40%*E17 -> 0
A18: มัธยมศึกษาปีที่ 1 | D18: =C18 -> 0 | F18: =IF(AND(B18>0,B19>0,B20>0),IF(OR(C18=0,E18=0)," <-----!!! กรอกข้อมูลยังไม่ครบถ้วนใน เซลล์ C18 และ E18",""),"")
A19: มัธยมศึกษาปีที่ 2 | C19: =B18 -> 0 | D19: =C19 -> 0 | E19: =D18 -> 0
A20: มัธยมศึกษาปีที่ 3 | C20: =B19 -> 0 | D20: =C20 -> 0 | E20: =D19 -> 0
A21: รวมระดับมัธยมศึกษาตอนต้น | B21: =SUM(B18:B20) -> 0 | C21: =SUM(C18:C20) -> 0 | D21: =SUM(D18:D20) -> 0 | E21: =SUM(E18:E20) -> 0 | F21: =30%*E21 -> 0
A22: มัธยมศึกษาปีที่ 4 | D22: =C22 -> 0 | F22: =IF(AND(B22>0,B23>0,B24>0),IF(OR(C22=0,E22=0)," <-----!!! กรอกข้อมูลยังไม่ครบถ้วนใน เซลล์ C22 และ E22",""),"")
A23: มัธยมศึกษาปีที่ 5 | C23: =B22 -> 0 | D23: =C23 -> 0 | E23: =D22 -> 0
A24: มัธยมศึกษาปีที่ 6 | C24: =B23 -> 0 | D24: =C24 -> 0 | E24: =D23 -> 0
A25: รวมระดับมัธยมศึกษาตอนปลาย | B25: =SUM(B22:B24) -> 0 | C25: =SUM(C22:C24) -> 0 | D25: =SUM(D22:D24) -> 0 | E25: =SUM(E22:E24) -> 0
A26: สาขาช่าง | B26: =B27+B28+B29 -> 0 | C26: =C27+C28+C29 -> 0 | D26: =D27+D28+D29 -> 0 | E26: =E27+E28+E29 -> 0
A27: ปวช.1 | D27: =C27 -> 0 | F27: =IF(AND(B27>0,B28>0,B29>0),IF(OR(C27=0,E27=0)," <-----!!! กรอกข้อมูลยังไม่ครบถ้วนใน เซลล์ C27 และ E27",""),"")
A28: ปวช.2 | C28: =B27 -> 0 | D28: =C28 -> 0 | E28: =D27 -> 0
A29: ปวช.3 | C29: =B28 -> 0 | D29: =C29 -> 0 | E29: =D28 -> 0
A30: สาขาพาณิชยกรรม | B30: =B31+B32+B33 -> 0 | C30: =C31+C32+C33 -> 0 | D30: =D31+D32+D33 -> 0 | E30: =E31+E32+E33 -> 0
A31: ปวช.1 | D31: =C31 -> 0 | F31: =IF(AND(B31>0,B32>0,B33>0),IF(OR(C31=0,E31=0)," <-----!!! กรอกข้อมูลยังไม่ครบถ้วนใน เซลล์ C31 และ E31",""),"")
A32: ปวช.2 | C32: =B31 -> 0 | D32: =C32 -> 0 | E32: =D31 -> 0
A33: ปวช.3 | C33: =B32 -> 0 | D33: =C33 -> 0 | E33: =D32 -> 0
A34: สาขาคหกรรม | B34: =B35+B36+B37 -> 0 | C34: =C35+C36+C37 -> 0 | D34: =D35+D36+D37 -> 0 | E34: =E35+E36+E37 -> 0
A35: ปวช.1 | D35: =C35 -> 0 | F35: =IF(AND(B35>0,B36>0,B37>0),IF(OR(C35=0,E35=0)," <-----!!! กรอกข้อมูลยังไม่ครบถ้วนใน เซลล์ C35 และ E35",""),"")
A36: ปวช.2 | C36: =B35 -> 0 | D36: =C36 -> 0 | E36: =D35 -> 0
A37: ปวช.3 | C37: =B36 -> 0 | D37: =C37 -> 0 | E37: =D36 -> 0
A38: รวมระดับอาชีวศึกษา | B38: =B26+B30+B34 -> 0 | C38: =C26+C30+C34 -> 0 | D38: =D26+D30+D34 -> 0 | E38: =E26+E30+E34 -> 0
A39: รวมทุกระดับชั้น | B39: =SUM(B38,B25,B21,B17,B10) -> 0 | C39: =SUM(C38,C25,C21,C17,C10) -> 0 | D39: =SUM(D38,D25,D21,D17,D10) -> 0 | E39: =SUM(E38,E25,E21,E17,E10) -> 0
A41: โรงเรียนขนาดเล็ก ส่วนเพิ่ม (Top up)
A42: 1. ประถมศึกษา | D42: =IF(D17<=120,D17,0) -> 0 | E42: =IF(E17<=120,E17,0) -> 0
A43: 2. มัธยมศึกษาตอนต้น | D43: =IF(D21<=300,D21,0) -> 0 | E43: =IF(E21<=300,E21,0) -> 0
A44: หมายเหตุ :
A45: 1. ข้อมูลนักเรียนที่ใช้เป็นฐานในการคำนวณจะใช้นักเรียน ณ พฤศจิกายน 2568 2. ระดับอนุบาล เด็กของแต่ละโรงเรียนจะแตกต่างกันตามระดับชั้นที่เปิด ขอให้กรอกข้อมูลให้ถูกต้อง 1.อายุ 3 ปี คือ อนุบาล 1 2.อายุ 4 ปี คือ อนุบาล 2 และ 3. อายุ 5 ปี คือ อนุบาล 3

Sheet 1.1.1 รร. อปท. 37
A1: แบบฟอร์มประมาณการนักเรียนและแผนการรับนักเรียน (ชั้นเคลื่อน) | E1: แบบฟอร์ม 1.1.1 แบบชั้นเคลื่อน (โรงเรียน อปท. ปกติ)
A2: ประจำปีงบประมาณ พ.ศ. 2570
A3: ระดับชั้น | B3: งบประมาณปี 2569 | D3: งบประมาณปี 2570
B4: จำนวนนักเรียนรับจริง (ณ พฤศจิกายน 2568) | C4: ประมาณการนักเรียน | D4: ประมาณการนักเรียน | E4: ประมาณการนักเรียน
B5: ภาคเรียน 2/2568 | C5: ภาคเรียน 1/2569 | D5: ภาคเรียน 2/2569 | E5: ภาคเรียน 1/2570
B6: หน่วยนับ (คน) | C6: หน่วยนับ (คน) | D6: หน่วยนับ (คน) | E6: หน่วยนับ (คน)
A7: อนุบาล 1 | D7: =C7 -> 0 | F7: =IF(AND(B7>0,B8>0,B9>0),IF(OR(C7=0,E7=0)," <-----!!! กรอกข้อมูลยังไม่ครบถ้วนใน เซลล์ C7 และ E7",""),"")
A8: อนุบาล 2 | C8: =IF(B7>0,B7,B8) -> 0 | D8: =C8 -> 0 | E8: =IF(B7>0,D7,B8) -> 0
A9: อนุบาล 3 | C9: =IF(B9>0,B8,0) -> 0 | D9: =IF(B9>0,C9,0) -> 0 | E9: =IF(B9>0,D8,0) -> 0
A10: รวมระดับก่อนประถมศึกษา | B10: =SUM(B7:B9) -> 0 | C10: =SUM(C7:C9) -> 0 | D10: =SUM(D7:D9) -> 0 | E10: =SUM(E7:E9) -> 0
A11: ประถมศึกษาปีที่ 1 | D11: =C11 -> 0 | F11: =IF(AND(B11>0,B12>0,B13>0,B16>0),IF(OR(C11=0,E11=0)," <---- !!! กรอกข้อมูลยังไม่ครบถ้วนใน เซลล์ C11 และ E11",""),"")
A12: ประถมศึกษาปีที่ 2 | C12: =B11 -> 0 | D12: =C12 -> 0 | E12: =D11 -> 0
A13: ประถมศึกษาปีที่ 3 | C13: =B12 -> 0 | D13: =C13 -> 0 | E13: =D12 -> 0
A14: ประถมศึกษาปีที่ 4 | C14: =B13 -> 0 | D14: =C14 -> 0 | E14: =D13 -> 0
A15: ประถมศึกษาปีที่ 5 | C15: =B14 -> 0 | D15: =C15 -> 0 | E15: =D14 -> 0
A16: ประถมศึกษาปีที่ 6 | C16: =B15 -> 0 | D16: =C16 -> 0 | E16: =D15 -> 0
A17: รวมระดับประถมศึกษา | B17: =SUM(B11:B16) -> 0 | C17: =SUM(C11:C16) -> 0 | D17: =SUM(D11:D16) -> 0 | E17: =SUM(E11:E16) -> 0 | F17: =40%*E17 -> 0
A18: มัธยมศึกษาปีที่ 1 | D18: =C18 -> 0 | F18: =IF(AND(B18>0,B19>0,B20>0),IF(OR(C18=0,E18=0)," <-----!!! กรอกข้อมูลยังไม่ครบถ้วนใน เซลล์ C18 และ E18",""),"")
A19: มัธยมศึกษาปีที่ 2 | C19: =B18 -> 0 | D19: =C19 -> 0 | E19: =D18 -> 0
A20: มัธยมศึกษาปีที่ 3 | C20: =B19 -> 0 | D20: =C20 -> 0 | E20: =D19 -> 0
A21: รวมระดับมัธยมศึกษาตอนต้น | B21: =SUM(B18:B20) -> 0 | C21: =SUM(C18:C20) -> 0 | D21: =SUM(D18:D20) -> 0 | E21: =SUM(E18:E20) -> 0 | F21: =30%*E21 -> 0
A22: มัธยมศึกษาปีที่ 4 | D22: =C22 -> 0 | F22: =IF(AND(B22>0,B23>0,B24>0),IF(OR(C22=0,E22=0)," <-----!!! กรอกข้อมูลยังไม่ครบถ้วนใน เซลล์ C22 และ E22",""),"")
A23: มัธยมศึกษาปีที่ 5 | C23: =B22 -> 0 | D23: =C23 -> 0 | E23: =D22 -> 0
A24: มัธยมศึกษาปีที่ 6 | C24: =B23 -> 0 | D24: =C24 -> 0 | E24: =D23 -> 0
A25: รวมระดับมัธยมศึกษาตอนปลาย | B25: =SUM(B22:B24) -> 0 | C25: =SUM(C22:C24) -> 0 | D25: =SUM(D22:D24) -> 0 | E25: =SUM(E22:E24) -> 0
A26: สาขาช่าง | B26: =B27+B28+B29 -> 0 | C26: =C27+C28+C29 -> 0 | D26: =D27+D28+D29 -> 0 | E26: =E27+E28+E29 -> 0
A27: ปวช.1 | D27: =C27 -> 0 | F27: =IF(AND(B27>0,B28>0,B29>0),IF(OR(C27=0,E27=0)," <-----!!! กรอกข้อมูลยังไม่ครบถ้วนใน เซลล์ C27 และ E27",""),"")
A28: ปวช.2 | C28: =B27 -> 0 | D28: =C28 -> 0 | E28: =D27 -> 0
A29: ปวช.3 | C29: =B28 -> 0 | D29: =C29 -> 0 | E29: =D28 -> 0
